{"text_format":"1","workbook":"xlsx","n_sheets":24,"sheets":["Macros Instructions","Instructions","EMCI","1st milking (BR1)","1st milking (BR2) ","1st milking (D)","1st milking (DF)","1st milking (DO)","1st milking (DO2)","2nd milking (D)","2nd milking (DF)","2nd milking (DO)","2nd milking (DO2)","3rd milking (D)","3rd milking (DF)","3rd milking (DO)","3rd milking (DO2)","4th milking (D)","4th milking (DF)","4th milking (DO)","ControlSheet","4th milking (DO2)","Sheet1","Sheet2"],"not_rendered":{"charts":18,"images":1,"macros":1,"external_links":0,"defined_names":4,"comments":0,"pivot_tables":0},"unopened":[],"bounds":{"document_bytes":16777216,"sheet_cells":100000,"rows_first":2000,"rows_last":500,"rows_between":2000,"halvings":0,"cell_chars":16384,"cell_head_chars":4096},"cells_cut":0,"cells_raw":0,"read":"whole","date_system":"1900"}

{"sheet":"Macros Instructions","index":0,"n_rows":18,"n_cols":2,"rows_kept":18,"cut":false,"hidden":false,"merged":[]}
[]
[]
[]
[]
[]
[]
[]
[null,"Important information: download this Excel file to a computer desktop or document folder and enable the macros. \n\nIf the macros are not enabled, follow these steps:"]
[null,"• Close the file."]
[null,"• Find the file in the saved location/folder."]
[null,"• Right click on the file and select Properties."]
[null,"• At the bottom of the General tab, tick the Unblock checkbox and select Apply and then OK."]
[null,"• Open the file."]
[]
[null,"If the above did not enable the macros, follow these steps:"]
[null,"• Open the file."]
[null,"• Go to File > Options > Trust Center > Trust Center Settings > Trusted Locations."]
[null,"• Add the saved location/folder (this tells Excel that it is safe to run macros from that location)."]

{"sheet":"Instructions","index":1,"n_rows":59,"n_cols":3,"rows_kept":59,"cut":false,"hidden":false,"merged":[[58,2,61,16],[7,2,9,16],[18,2,23,16],[27,2,30,16],[52,2,54,16],[13,2,14,16],[34,2,37,16],[44,2,48,16]]}
[]
[null,"How to use EMCI"]
[]
[null,"Entering information:"]
[]
[null,null,"1) Milking event (1 to 4)"]
[]
[null,null,"Choose the last milking event. The first milk that goes into the vat  is considered to be the first milking.  Additional milkings in the vat are considered second, third and fourth, respectively. The model assumes that the maximum milk load in the vat is four milkings (skip-a-day operation). The model assumes that there is a 12 hour period between milking events and that the milk tempearture is 5◦C during storage."]
[]
[]
[]
[null,null,"2) Time-from-milking (in hours)"]
[]
[null,null,"Insert the time elapsed since milking has finished. The model is set to allow time points between 0.05 to 2.35 hours. After 2.35 hours the milk temperature should be 5◦C.  If the time is unkown,  delete any information and leave the cell blank. To recover time options press the \"Default\" button."]
[]
[]
[null,null,"3) Milk temperature"]
[]
[null,null,"Insert the milk temperautre at the time of early collection. The milk temperature selection range differs among milking events and milking volume. The lowest milk temperature assumed in the model is 5◦C. The model assumes that the pre-cooling systems (inline coolers) will cool down the milk to 25◦C before it enters the vat. For the first milking event, the highest temeprature is set to 25◦C. For the second milking event, the highest temperature is set to 15◦C (it assumes that milk will be mixing with cold milk already present in the vat). For the third and fourth milking events, the highest temperature depends on the selection of different or constant milking volume. For different milking volume, the highest mik temperature is 15◦C during the third and fourth milking events. For constant milking volume, the highest milk temperature is 11.7◦C for the third and 10◦C for the fourth milking event. "]
[]
[]
[]
[]
[]
[]
[null,null,"4) Microorganism levels (log cfu/ml):"]
[]
[null,null,"Insert information regarding the bacterial concentration in log10 units. The first column is used for the initial level. The second column is used for the Nominated Maximum Tolerable Level (NMTL). The NMTL is the recommended highest bacterial concentration used for growth predictions. The model is set with a default 1 log B. cereus and Pseudomonas/ ml and 2 log S. aureus/ ml, as the initial levels. For NMTL, the model is set with a default of 5 log S. aureus and B. cereus/ ml and 6 log Pseudomonas/ ml. Press the \"Default\" button to reset to the described default values. "]
[]
[]
[]
[]
[null,null,"5) Calculations based on (S: S.aureus, B: B.cereus, P: Pseudomonas, A: all) or Food Safety (FS: B. cereus and S. aureus)"]
[]
[null,null,"Choose the bacteria of interest to calculate predicted times to reach the NMTL. The model is set to allow individual microorganisms by selecting \"S\" for S. aureus, \"B\" for B. cereus and \"P\" for Pseudomonas. The model can also be set to predict time to reach the NMTL based on all microorganisms (B. cereus, S. aureus and Pseudomonas) by selecting \"A\" or micoorganisms relevant to food safety (B. cereus and S. aureus) by selecting \"FS\". When more than one microorganism is selected the model assumes the worst-case scenario and predicts times based on the faster growing microorganism."]
[]
[]
[]
[]
[]
[null,"Outcome information:"]
[]
[null,null,"Time to reach the NMTL (in hours):"]
[]
[null,null,"The model predicts the time to reach the Nominated Maximum Tolerable Level (NMTL) in hours based on the information entered by the user. The outcome appears in green and indicating \"within range\" for time-temperature profiles covered by the milk cooling curve. The outcome appears in orange and indicating \"assess risk\" for time-temperature combinations outside the milk cooling curve. The outcome appears in red and indicating \"breakdown\"for time-temperature combinations above the maximum initial temperature set by the milk cooling curve. Calculations for the predicted time to reach the NMTL are different for each type of outcome."]
[]
[]
[]
[]
[]
[null,null,"Graphical representation:"]
[]
[null,null,"The milk cooling model is represented with a blue line in the graph and the entered information regarding time and temperature is represented with a yellow circle."]
[]
[]
[]
[null,null,"Disclaimer"]
[]
[null,null,"This tool was designed as a research and instructional tool for estimating the survival and growth of bacteria in cow milk stored in a functional milk vat. Although every care has been taken during its development, the final conditions of its use are outside the control of the developers. Expert interpretation is required and users must determine if they have the necessary skills for themselves. In case of doubt please consult an expert food microbiologist."]

{"sheet":"EMCI","index":2,"n_rows":85,"n_cols":37,"rows_kept":85,"cut":false,"hidden":false,"merged":[]}
[]
[]
[null,null,"Early Milk Collection Index (EMCI)",null,null,null,null,null,null,null,null,null,null,null,null,null,null,null,null,null,null,null,null,null,null,null,null,null,"Graph"]
[null,null,null,null,null,null,null,null,null,null,null,null,null,null,null,null,null,null,null,null,null,null,null,null,null,null,null,null,"Milk T","Time","NMTL",null,"Milk T","Time","NMTL","ENTRY TIME"]
[null,null,null,null,null,1,null,null,null,null,null,null,null,null,null,null,null,null,null,null,null,null,null,null,null,null,null,null,{"$f":"IF(AND($F$9=1),'1st milking (D)'!E23, '2nd milking (D)'!E23)","v":25},{"$f":"IF(AND($F$9=1),'1st milking (D)'!F23, '2nd milking (D)'!F23)","v":0},{"$f":"IF(AND($F$9=1,$F$31=\"C\"),#REF!,IF(AND($F$9=2,$F$31=\"C\"),#REF!,IF(AND($F$9=3,$F$31=\"C\"),#REF!,IF(AND($F$9=4,$F$31=\"C\"),#REF!,IF(AND($F$9=1,$F$31=\"d\"),'1st milking (D)'!AL23, IF(AND($F$9=2,$F$31=\"d\"),'2nd milking (D)'!AL23, IF(AND($F$9=3,$F$31=\"D\"),'3rd milking (D)'!AL23,IF(AND($F$9=4,$F$31=\"D\"),'4th milking (D)'!AL23))))))))","v":false},null,{"$f":"IF(AC5=0,AG4,AC5)","v":25},{"$f":"AD5","v":0},false,{"$f":"IF(F11=\"\",AK5,F11/60)","v":0.5},{"$f":"IF(F9=1, ((F13-25)/-8.5),((F13-15)/-4.25))","v":0.58823529411764708}]
[null,null,"Please enter information:",null,null,2,null,null,null,null,null,null,null,null,null,null,null,null,null,null,null,null,null,null,null,null,null,null,{"$f":"IF(AND($F$9=1),'1st milking (D)'!E24, '2nd milking (D)'!E24)","v":24.75},{"$f":"IF(AND($F$9=1),'1st milking (D)'!F24, '2nd milking (D)'!F24)","v":2.9411764705882353E-2},{"$f":"IF(AND($F$9=1,$F$31=\"C\"),#REF!,IF(AND($F$9=2,$F$31=\"C\"),#REF!,IF(AND($F$9=3,$F$31=\"C\"),#REF!,IF(AND($F$9=4,$F$31=\"C\"),#REF!,IF(AND($F$9=1,$F$31=\"d\"),'1st milking (D)'!AL24, IF(AND($F$9=2,$F$31=\"d\"),'2nd milking (D)'!AL24, IF(AND($F$9=3,$F$31=\"D\"),'3rd milking (D)'!AL24,IF(AND($F$9=4,$F$31=\"D\"),'4th milking (D)'!AL24))))))))","v":false},null,24.75,2.9411764705882353E-2,false]
[null,null,null,null,null,3,null,null,null,null,null,null,null,null,null,null,null,null,null,null,null,null,null,null,null,null,null,null,{"$f":"IF(AND($F$9=1),'1st milking (D)'!E25, '2nd milking (D)'!E25)","v":24.5},{"$f":"IF(AND($F$9=1),'1st milking (D)'!F25, '2nd milking (D)'!F25)","v":5.8823529411764705E-2},{"$f":"IF(AND($F$9=1,$F$31=\"C\"),#REF!,IF(AND($F$9=2,$F$31=\"C\"),#REF!,IF(AND($F$9=3,$F$31=\"C\"),#REF!,IF(AND($F$9=4,$F$31=\"C\"),#REF!,IF(AND($F$9=1,$F$31=\"d\"),'1st milking (D)'!AL25, IF(AND($F$9=2,$F$31=\"d\"),'2nd milking (D)'!AL25, IF(AND($F$9=3,$F$31=\"D\"),'3rd milking (D)'!AL25,IF(AND($F$9=4,$F$31=\"D\"),'4th milking (D)'!AL25))))))))","v":false},null,24.5,5.8823529411764705E-2,false]
[null,null,null,null,null,4,null,null,null,null,null,null,null,null,null,null,null,null,null,null,null,null,null,null,null,null,null,null,{"$f":"IF(AND($F$9=1),'1st milking (D)'!E26, '2nd milking (D)'!E26)","v":24.25},{"$f":"IF(AND($F$9=1),'1st milking (D)'!F26, '2nd milking (D)'!F26)","v":8.8235294117647065E-2},{"$f":"IF(AND($F$9=1,$F$31=\"C\"),#REF!,IF(AND($F$9=2,$F$31=\"C\"),#REF!,IF(AND($F$9=3,$F$31=\"C\"),#REF!,IF(AND($F$9=4,$F$31=\"C\"),#REF!,IF(AND($F$9=1,$F$31=\"d\"),'1st milking (D)'!AL26, IF(AND($F$9=2,$F$31=\"d\"),'2nd milking (D)'!AL26, IF(AND($F$9=3,$F$31=\"D\"),'3rd milking (D)'!AL26,IF(AND($F$9=4,$F$31=\"D\"),'4th milking (D)'!AL26))))))))","v":false},null,24.25,8.8235294117647065E-2,false]
[null,null,"1) Milking event (1 to 4)",null,null,1,null,null,null,null,null,null,null,null,null,null,null,null,null,null,null,null,null,null,null,null,null,null,{"$f":"IF(AND($F$9=1),'1st milking (D)'!E27, '2nd milking (D)'!E27)","v":24},{"$f":"IF(AND($F$9=1),'1st milking (D)'!F27, '2nd milking (D)'!F27)","v":0.11764705882352941},{"$f":"IF(AND($F$9=1,$F$31=\"C\"),#REF!,IF(AND($F$9=2,$F$31=\"C\"),#REF!,IF(AND($F$9=3,$F$31=\"C\"),#REF!,IF(AND($F$9=4,$F$31=\"C\"),#REF!,IF(AND($F$9=1,$F$31=\"d\"),'1st milking (D)'!AL27, IF(AND($F$9=2,$F$31=\"d\"),'2nd milking (D)'!AL27, IF(AND($F$9=3,$F$31=\"D\"),'3rd milking (D)'!AL27,IF(AND($F$9=4,$F$31=\"D\"),'4th milking (D)'!AL27))))))))","v":false},null,24,0.11764705882352941,false]
[null,null,null,null,null,null,null,null,null,null,null,null,null,null,null,null,null,null,null,null,null,null,null,null,null,null,null,null,{"$f":"IF(AND($F$9=1),'1st milking (D)'!E28, '2nd milking (D)'!E28)","v":23.75},{"$f":"IF(AND($F$9=1),'1st milking (D)'!F28, '2nd milking (D)'!F28)","v":0.14705882352941177},{"$f":"IF(AND($F$9=1,$F$31=\"C\"),#REF!,IF(AND($F$9=2,$F$31=\"C\"),#REF!,IF(AND($F$9=3,$F$31=\"C\"),#REF!,IF(AND($F$9=4,$F$31=\"C\"),#REF!,IF(AND($F$9=1,$F$31=\"d\"),'1st milking (D)'!AL28, IF(AND($F$9=2,$F$31=\"d\"),'2nd milking (D)'!AL28, IF(AND($F$9=3,$F$31=\"D\"),'3rd milking (D)'!AL28,IF(AND($F$9=4,$F$31=\"D\"),'4th milking (D)'!AL28))))))))","v":false},null,{"$f":"IF(AC10=0,AG9,AC10)","v":23.75},{"$f":"IF(AD10=0,AH9,AD10)","v":0.14705882352941177},{"$f":"IF(AE10=0,AI9,AE10)","v":false}]
[null,null,"2) Time from milking (in minutes)",null,null,30,null,null,null,null,null,null,null,null,null,null,null,null,null,null,null,null,null,null,null,null,null,null,{"$f":"IF(AND($F$9=1),'1st milking (D)'!E29, '2nd milking (D)'!E29)","v":23.5},{"$f":"IF(AND($F$9=1),'1st milking (D)'!F29, '2nd milking (D)'!F29)","v":0.17647058823529413},{"$f":"IF(AND($F$9=1,$F$31=\"C\"),#REF!,IF(AND($F$9=2,$F$31=\"C\"),#REF!,IF(AND($F$9=3,$F$31=\"C\"),#REF!,IF(AND($F$9=4,$F$31=\"C\"),#REF!,IF(AND($F$9=1,$F$31=\"d\"),'1st milking (D)'!AL29, IF(AND($F$9=2,$F$31=\"d\"),'2nd milking (D)'!AL29, IF(AND($F$9=3,$F$31=\"D\"),'3rd milking (D)'!AL29,IF(AND($F$9=4,$F$31=\"D\"),'4th milking (D)'!AL29))))))))","v":false},null,23.5,0.17647058823529413,false]
[null,null,null,null,null,null,null,null,null,null,null,null,null,null,null,null,null,null,null,null,null,null,null,null,null,null,null,null,{"$f":"IF(AND($F$9=1),'1st milking (D)'!E30, '2nd milking (D)'!E30)","v":23.25},{"$f":"IF(AND($F$9=1),'1st milking (D)'!F30, '2nd milking (D)'!F30)","v":0.20588235294117646},{"$f":"IF(AND($F$9=1,$F$31=\"C\"),#REF!,IF(AND($F$9=2,$F$31=\"C\"),#REF!,IF(AND($F$9=3,$F$31=\"C\"),#REF!,IF(AND($F$9=4,$F$31=\"C\"),#REF!,IF(AND($F$9=1,$F$31=\"d\"),'1st milking (D)'!AL30, IF(AND($F$9=2,$F$31=\"d\"),'2nd milking (D)'!AL30, IF(AND($F$9=3,$F$31=\"D\"),'3rd milking (D)'!AL30,IF(AND($F$9=4,$F$31=\"D\"),'4th milking (D)'!AL30))))))))","v":false},null,23.25,0.20588235294117646,false]
[null,null,"3) Milk temperature",null,null,20,null,null,null,null,null,null,null,null,null,null,null,null,null,null,null,null,null,null,null,null,null,null,{"$f":"IF(AND($F$9=1),'1st milking (D)'!E31, '2nd milking (D)'!E31)","v":23},{"$f":"IF(AND($F$9=1),'1st milking (D)'!F31, '2nd milking (D)'!F31)","v":0.23529411764705882},{"$f":"IF(AND($F$9=1,$F$31=\"C\"),#REF!,IF(AND($F$9=2,$F$31=\"C\"),#REF!,IF(AND($F$9=3,$F$31=\"C\"),#REF!,IF(AND($F$9=4,$F$31=\"C\"),#REF!,IF(AND($F$9=1,$F$31=\"d\"),'1st milking (D)'!AL31, IF(AND($F$9=2,$F$31=\"d\"),'2nd milking (D)'!AL31, IF(AND($F$9=3,$F$31=\"D\"),'3rd milking (D)'!AL31,IF(AND($F$9=4,$F$31=\"D\"),'4th milking (D)'!AL31))))))))","v":false},null,23,0.23529411764705882,false]
[null,null,null,null,null,null,null,null,null,null,null,null,null,null,null,null,null,null,null,null,null,null,null,null,null,null,null,null,{"$f":"IF(AND($F$9=1),'1st milking (D)'!E32, '2nd milking (D)'!E32)","v":22.75},{"$f":"IF(AND($F$9=1),'1st milking (D)'!F32, '2nd milking (D)'!F32)","v":0.26470588235294118},{"$f":"IF(AND($F$9=1,$F$31=\"C\"),#REF!,IF(AND($F$9=2,$F$31=\"C\"),#REF!,IF(AND($F$9=3,$F$31=\"C\"),#REF!,IF(AND($F$9=4,$F$31=\"C\"),#REF!,IF(AND($F$9=1,$F$31=\"d\"),'1st milking (D)'!AL32, IF(AND($F$9=2,$F$31=\"d\"),'2nd milking (D)'!AL32, IF(AND($F$9=3,$F$31=\"D\"),'3rd milking (D)'!AL32,IF(AND($F$9=4,$F$31=\"D\"),'4th milking (D)'!AL32))))))))","v":false},null,22.75,0.26470588235294118,false]
[null,null,null,null,null,null,null,null,null,null,null,null,null,null,null,null,null,null,null,null,null,null,null,null,null,null,null,null,{"$f":"IF(AND($F$9=1),'1st milking (D)'!E33, '2nd milking (D)'!E33)","v":22.5},{"$f":"IF(AND($F$9=1),'1st milking (D)'!F33, '2nd milking (D)'!F33)","v":0.29411764705882354},{"$f":"IF(AND($F$9=1,$F$31=\"C\"),#REF!,IF(AND($F$9=2,$F$31=\"C\"),#REF!,IF(AND($F$9=3,$F$31=\"C\"),#REF!,IF(AND($F$9=4,$F$31=\"C\"),#REF!,IF(AND($F$9=1,$F$31=\"d\"),'1st milking (D)'!AL33, IF(AND($F$9=2,$F$31=\"d\"),'2nd milking (D)'!AL33, IF(AND($F$9=3,$F$31=\"D\"),'3rd milking (D)'!AL33,IF(AND($F$9=4,$F$31=\"D\"),'4th milking (D)'!AL33))))))))","v":false},null,22.5,0.29411764705882354,false]
[null,null,"4) Microorganism levels (log cfu/ml):",null,null,null,null,null,null,null,null,null,null,null,null,null,null,null,null,null,null,null,null,null,null,null,null,null,{"$f":"IF(AND($F$9=1),'1st milking (D)'!E34, '2nd milking (D)'!E34)","v":22.25},{"$f":"IF(AND($F$9=1),'1st milking (D)'!F34, '2nd milking (D)'!F34)","v":0.3235294117647059},{"$f":"IF(AND($F$9=1,$F$31=\"C\"),#REF!,IF(AND($F$9=2,$F$31=\"C\"),#REF!,IF(AND($F$9=3,$F$31=\"C\"),#REF!,IF(AND($F$9=4,$F$31=\"C\"),#REF!,IF(AND($F$9=1,$F$31=\"d\"),'1st milking (D)'!AL34, IF(AND($F$9=2,$F$31=\"d\"),'2nd milking (D)'!AL34, IF(AND($F$9=3,$F$31=\"D\"),'3rd milking (D)'!AL34,IF(AND($F$9=4,$F$31=\"D\"),'4th milking (D)'!AL34))))))))","v":false},null,22.25,0.3235294117647059,false]
[null,null,"S",null,null,null,null,null,null,null,null,null,null,null,null,null,null,null,null,null,null,null,null,null,null,null,null,null,{"$f":"IF(AND($F$9=1),'1st milking (D)'!E35, '2nd milking (D)'!E35)","v":22},{"$f":"IF(AND($F$9=1),'1st milking (D)'!F35, '2nd milking (D)'!F35)","v":0.35294117647058826},{"$f":"IF(AND($F$9=1,$F$31=\"C\"),#REF!,IF(AND($F$9=2,$F$31=\"C\"),#REF!,IF(AND($F$9=3,$F$31=\"C\"),#REF!,IF(AND($F$9=4,$F$31=\"C\"),#REF!,IF(AND($F$9=1,$F$31=\"d\"),'1st milking (D)'!AL35, IF(AND($F$9=2,$F$31=\"d\"),'2nd milking (D)'!AL35, IF(AND($F$9=3,$F$31=\"D\"),'3rd milking (D)'!AL35,IF(AND($F$9=4,$F$31=\"D\"),'4th milking (D)'!AL35))))))))","v":false},null,22,0.35294117647058826,false]
[null,null,"B",null,null,"Initial","NMTL",null,null,null,null,null,null,null,null,null,null,null,null,null,null,null,null,null,null,null,null,null,{"$f":"IF(AND($F$9=1),'1st milking (D)'!E36, '2nd milking (D)'!E36)","v":21.75},{"$f":"IF(AND($F$9=1),'1st milking (D)'!F36, '2nd milking (D)'!F36)","v":0.38235294117647056},{"$f":"IF(AND($F$9=1,$F$31=\"C\"),#REF!,IF(AND($F$9=2,$F$31=\"C\"),#REF!,IF(AND($F$9=3,$F$31=\"C\"),#REF!,IF(AND($F$9=4,$F$31=\"C\"),#REF!,IF(AND($F$9=1,$F$31=\"d\"),'1st milking (D)'!AL36, IF(AND($F$9=2,$F$31=\"d\"),'2nd milking (D)'!AL36, IF(AND($F$9=3,$F$31=\"D\"),'3rd milking (D)'!AL36,IF(AND($F$9=4,$F$31=\"D\"),'4th milking (D)'!AL36))))))))","v":false},null,21.75,0.38235294117647056,false]
[null,null,"P","S. aureus",null,2,5,null,null,null,null,null,null,null,null,null,null,null,null,null,null,null,null,null,null,null,null,null,{"$f":"IF(AND($F$9=1),'1st milking (D)'!E37, '2nd milking (D)'!E37)","v":21.5},{"$f":"IF(AND($F$9=1),'1st milking (D)'!F37, '2nd milking (D)'!F37)","v":0.41176470588235292},{"$f":"IF(AND($F$9=1,$F$31=\"C\"),#REF!,IF(AND($F$9=2,$F$31=\"C\"),#REF!,IF(AND($F$9=3,$F$31=\"C\"),#REF!,IF(AND($F$9=4,$F$31=\"C\"),#REF!,IF(AND($F$9=1,$F$31=\"d\"),'1st milking (D)'!AL37, IF(AND($F$9=2,$F$31=\"d\"),'2nd milking (D)'!AL37, IF(AND($F$9=3,$F$31=\"D\"),'3rd milking (D)'!AL37,IF(AND($F$9=4,$F$31=\"D\"),'4th milking (D)'!AL37))))))))","v":false},null,21.5,0.41176470588235292,false]
[null,null,"A","B. cereus",null,1,5,null,null,null,null,null,null,null,null,null,null,null,null,null,null,null,null,null,null,null,null,null,{"$f":"IF(AND($F$9=1),'1st milking (D)'!E38, '2nd milking (D)'!E38)","v":21.25},{"$f":"IF(AND($F$9=1),'1st milking (D)'!F38, '2nd milking (D)'!F38)","v":0.44117647058823528},{"$f":"IF(AND($F$9=1,$F$31=\"C\"),#REF!,IF(AND($F$9=2,$F$31=\"C\"),#REF!,IF(AND($F$9=3,$F$31=\"C\"),#REF!,IF(AND($F$9=4,$F$31=\"C\"),#REF!,IF(AND($F$9=1,$F$31=\"d\"),'1st milking (D)'!AL38, IF(AND($F$9=2,$F$31=\"d\"),'2nd milking (D)'!AL38, IF(AND($F$9=3,$F$31=\"D\"),'3rd milking (D)'!AL38,IF(AND($F$9=4,$F$31=\"D\"),'4th milking (D)'!AL38))))))))","v":false},null,21.25,0.44117647058823528,false]
[null,null,"FS","Pseudomonas",null,1,6,null,null,null,null,null,null,null,null,null,null,null,null,null,null,null,null,null,null,null,null,null,{"$f":"IF(AND($F$9=1),'1st milking (D)'!E39, '2nd milking (D)'!E39)","v":21},{"$f":"IF(AND($F$9=1),'1st milking (D)'!F39, '2nd milking (D)'!F39)","v":0.47058823529411764},{"$f":"IF(AND($F$9=1,$F$31=\"C\"),#REF!,IF(AND($F$9=2,$F$31=\"C\"),#REF!,IF(AND($F$9=3,$F$31=\"C\"),#REF!,IF(AND($F$9=4,$F$31=\"C\"),#REF!,IF(AND($F$9=1,$F$31=\"d\"),'1st milking (D)'!AL39, IF(AND($F$9=2,$F$31=\"d\"),'2nd milking (D)'!AL39, IF(AND($F$9=3,$F$31=\"D\"),'3rd milking (D)'!AL39,IF(AND($F$9=4,$F$31=\"D\"),'4th milking (D)'!AL39))))))))","v":false},null,21,0.47058823529411764,false]
[null,null,null,null,null,null,null,null,null,null,null,null,null,null,null,null,null,null,null,null,null,null,null,null,null,null,null,null,{"$f":"IF(AND($F$9=1),'1st milking (D)'!E40, '2nd milking (D)'!E40)","v":20.75},{"$f":"IF(AND($F$9=1),'1st milking (D)'!F40, '2nd milking (D)'!F40)","v":0.5},{"$f":"IF(AND($F$9=1,$F$31=\"C\"),#REF!,IF(AND($F$9=2,$F$31=\"C\"),#REF!,IF(AND($F$9=3,$F$31=\"C\"),#REF!,IF(AND($F$9=4,$F$31=\"C\"),#REF!,IF(AND($F$9=1,$F$31=\"d\"),'1st milking (D)'!AL40, IF(AND($F$9=2,$F$31=\"d\"),'2nd milking (D)'!AL40, IF(AND($F$9=3,$F$31=\"D\"),'3rd milking (D)'!AL40,IF(AND($F$9=4,$F$31=\"D\"),'4th milking (D)'!AL40))))))))","v":false},null,20.75,0.5,false]
[null,null,null,null,null,null,null,null,null,null,null,null,null,null,null,null,null,null,null,null,null,null,null,null,null,null,null,null,{"$f":"IF(AND($F$9=1),'1st milking (D)'!E41, '2nd milking (D)'!E41)","v":20.5},{"$f":"IF(AND($F$9=1),'1st milking (D)'!F41, '2nd milking (D)'!F41)","v":0.52941176470588236},{"$f":"IF(AND($F$9=1,$F$31=\"C\"),#REF!,IF(AND($F$9=2,$F$31=\"C\"),#REF!,IF(AND($F$9=3,$F$31=\"C\"),#REF!,IF(AND($F$9=4,$F$31=\"C\"),#REF!,IF(AND($F$9=1,$F$31=\"d\"),'1st milking (D)'!AL41, IF(AND($F$9=2,$F$31=\"d\"),'2nd milking (D)'!AL41, IF(AND($F$9=3,$F$31=\"D\"),'3rd milking (D)'!AL41,IF(AND($F$9=4,$F$31=\"D\"),'4th milking (D)'!AL41))))))))","v":false},null,20.5,0.52941176470588236,false]
[null,null,"5) Calculations based on (S: S.aureus, B: B.cereus, P:Pseudo, A:all)",null,null,null,null,null,null,null,null,null,null,null,null,null,null,null,null,null,null,null,null,null,null,null,null,null,{"$f":"IF(AND($F$9=1),'1st milking (D)'!E42, '2nd milking (D)'!E42)","v":20.25},{"$f":"IF(AND($F$9=1),'1st milking (D)'!F42, '2nd milking (D)'!F42)","v":0.55882352941176472},{"$f":"IF(AND($F$9=1,$F$31=\"C\"),#REF!,IF(AND($F$9=2,$F$31=\"C\"),#REF!,IF(AND($F$9=3,$F$31=\"C\"),#REF!,IF(AND($F$9=4,$F$31=\"C\"),#REF!,IF(AND($F$9=1,$F$31=\"d\"),'1st milking (D)'!AL42, IF(AND($F$9=2,$F$31=\"d\"),'2nd milking (D)'!AL42, IF(AND($F$9=3,$F$31=\"D\"),'3rd milking (D)'!AL42,IF(AND($F$9=4,$F$31=\"D\"),'4th milking (D)'!AL42))))))))","v":false},null,20.25,0.55882352941176472,false]
[null,null,"     or Food Safety (FS: S. aureus and B.cereus)",null,null,null,null,null,null,null,null,null,null,null,null,null,null,null,null,null,null,null,null,null,null,null,null,null,{"$f":"IF(AND($F$9=1),'1st milking (D)'!E43, '2nd milking (D)'!E43)","v":20},{"$f":"IF(AND($F$9=1),'1st milking (D)'!F43, '2nd milking (D)'!F43)","v":0.58823529411764708},{"$f":"IF(AND($F$9=1,$F$31=\"C\"),#REF!,IF(AND($F$9=2,$F$31=\"C\"),#REF!,IF(AND($F$9=3,$F$31=\"C\"),#REF!,IF(AND($F$9=4,$F$31=\"C\"),#REF!,IF(AND($F$9=1,$F$31=\"d\"),'1st milking (D)'!AL43, IF(AND($F$9=2,$F$31=\"d\"),'2nd milking (D)'!AL43, IF(AND($F$9=3,$F$31=\"D\"),'3rd milking (D)'!AL43,IF(AND($F$9=4,$F$31=\"D\"),'4th milking (D)'!AL43))))))))","v":false},null,20,0.58823529411764708,false]
[null,null,null,null,null,null,null,null,null,null,null,null,null,null,null,null,null,null,null,null,null,null,null,null,null,null,null,null,{"$f":"IF(AND($F$9=1),'1st milking (D)'!E44, '2nd milking (D)'!E44)","v":19.75},{"$f":"IF(AND($F$9=1),'1st milking (D)'!F44, '2nd milking (D)'!F44)","v":0.61764705882352944},{"$f":"IF(AND($F$9=1,$F$31=\"C\"),#REF!,IF(AND($F$9=2,$F$31=\"C\"),#REF!,IF(AND($F$9=3,$F$31=\"C\"),#REF!,IF(AND($F$9=4,$F$31=\"C\"),#REF!,IF(AND($F$9=1,$F$31=\"d\"),'1st milking (D)'!AL44, IF(AND($F$9=2,$F$31=\"d\"),'2nd milking (D)'!AL44, IF(AND($F$9=3,$F$31=\"D\"),'3rd milking (D)'!AL44,IF(AND($F$9=4,$F$31=\"D\"),'4th milking (D)'!AL44))))))))","v":false},null,19.75,0.61764705882352944,false]
[null,null,null,"Microorganism",null,"FS",null,null,null,null,null,null,null,null,null,null,null,null,null,null,null,null,null,null,null,null,null,null,{"$f":"IF(AND($F$9=1),'1st milking (D)'!E45, '2nd milking (D)'!E45)","v":19.5},{"$f":"IF(AND($F$9=1),'1st milking (D)'!F45, '2nd milking (D)'!F45)","v":0.6470588235294118},{"$f":"IF(AND($F$9=1,$F$31=\"C\"),#REF!,IF(AND($F$9=2,$F$31=\"C\"),#REF!,IF(AND($F$9=3,$F$31=\"C\"),#REF!,IF(AND($F$9=4,$F$31=\"C\"),#REF!,IF(AND($F$9=1,$F$31=\"d\"),'1st milking (D)'!AL45, IF(AND($F$9=2,$F$31=\"d\"),'2nd milking (D)'!AL45, IF(AND($F$9=3,$F$31=\"D\"),'3rd milking (D)'!AL45,IF(AND($F$9=4,$F$31=\"D\"),'4th milking (D)'!AL45))))))))","v":false},null,19.5,0.6470588235294118,false]
[null,null,null,null,null,null,null,null,null,null,null,null,null,null,null,null,null,null,null,null,null,null,null,null,null,null,null,null,{"$f":"IF(AND($F$9=1),'1st milking (D)'!E46, '2nd milking (D)'!E46)","v":19.25},{"$f":"IF(AND($F$9=1),'1st milking (D)'!F46, '2nd milking (D)'!F46)","v":0.67647058823529416},{"$f":"IF(AND($F$9=1,$F$31=\"C\"),#REF!,IF(AND($F$9=2,$F$31=\"C\"),#REF!,IF(AND($F$9=3,$F$31=\"C\"),#REF!,IF(AND($F$9=4,$F$31=\"C\"),#REF!,IF(AND($F$9=1,$F$31=\"d\"),'1st milking (D)'!AL46, IF(AND($F$9=2,$F$31=\"d\"),'2nd milking (D)'!AL46, IF(AND($F$9=3,$F$31=\"D\"),'3rd milking (D)'!AL46,IF(AND($F$9=4,$F$31=\"D\"),'4th milking (D)'!AL46))))))))","v":false},null,19.25,0.67647058823529416,false]
[null,null,null,null,null,null,null,null,null,null,null,null,null,null,null,null,null,null,null,null,null,null,null,null,null,null,null,null,{"$f":"IF(AND($F$9=1),'1st milking (D)'!E47, '2nd milking (D)'!E47)","v":19},{"$f":"IF(AND($F$9=1),'1st milking (D)'!F47, '2nd milking (D)'!F47)","v":0.70588235294117652},{"$f":"IF(AND($F$9=1,$F$31=\"C\"),#REF!,IF(AND($F$9=2,$F$31=\"C\"),#REF!,IF(AND($F$9=3,$F$31=\"C\"),#REF!,IF(AND($F$9=4,$F$31=\"C\"),#REF!,IF(AND($F$9=1,$F$31=\"d\"),'1st milking (D)'!AL47, IF(AND($F$9=2,$F$31=\"d\"),'2nd milking (D)'!AL47, IF(AND($F$9=3,$F$31=\"D\"),'3rd milking (D)'!AL47,IF(AND($F$9=4,$F$31=\"D\"),'4th milking (D)'!AL47))))))))","v":false},null,19,0.70588235294117652,false]
[null,null,null,null,null,null,null,null,null,null,null,null,null,null,null,null,null,null,null,null,null,null,null,null,null,null,null,null,{"$f":"IF(AND($F$9=1),'1st milking (D)'!E48, '2nd milking (D)'!E48)","v":18.75},{"$f":"IF(AND($F$9=1),'1st milking (D)'!F48, '2nd milking (D)'!F48)","v":0.73529411764705888},{"$f":"IF(AND($F$9=1,$F$31=\"C\"),#REF!,IF(AND($F$9=2,$F$31=\"C\"),#REF!,IF(AND($F$9=3,$F$31=\"C\"),#REF!,IF(AND($F$9=4,$F$31=\"C\"),#REF!,IF(AND($F$9=1,$F$31=\"d\"),'1st milking (D)'!AL48, IF(AND($F$9=2,$F$31=\"d\"),'2nd milking (D)'!AL48, IF(AND($F$9=3,$F$31=\"D\"),'3rd milking (D)'!AL48,IF(AND($F$9=4,$F$31=\"D\"),'4th milking (D)'!AL48))))))))","v":false},null,18.75,0.73529411764705888,false]
[null,null,null,null,null,null,null,null,null,null,null,null,null,null,null,null,null,null,null,null,null,null,null,null,null,null,null,null,{"$f":"IF(AND($F$9=1),'1st milking (D)'!E49, '2nd milking (D)'!E49)","v":18.5},{"$f":"IF(AND($F$9=1),'1st milking (D)'!F49, '2nd milking (D)'!F49)","v":0.76470588235294112},{"$f":"IF(AND($F$9=1,$F$31=\"C\"),#REF!,IF(AND($F$9=2,$F$31=\"C\"),#REF!,IF(AND($F$9=3,$F$31=\"C\"),#REF!,IF(AND($F$9=4,$F$31=\"C\"),#REF!,IF(AND($F$9=1,$F$31=\"d\"),'1st milking (D)'!AL49, IF(AND($F$9=2,$F$31=\"d\"),'2nd milking (D)'!AL49, IF(AND($F$9=3,$F$31=\"D\"),'3rd milking (D)'!AL49,IF(AND($F$9=4,$F$31=\"D\"),'4th milking (D)'!AL49))))))))","v":false},null,18.5,0.76470588235294112,false]
[null,null,null,null,null,null,null,null,"Time to reach the NMTL (in hours):",null,null,{"$f":"IF(L45<0,0,L45)","v":11.056422453955689},{"$f":"+IF(F11=\"\",\"WITHIN THE RANGE\",M45)","v":"WITHIN THE RANGE"},null,null,null,null,null,null,null,null,null,null,null,null,null,null,null,{"$f":"IF(AND($F$9=1),'1st milking (D)'!E50, '2nd milking (D)'!E50)","v":18.25},{"$f":"IF(AND($F$9=1),'1st milking (D)'!F50, '2nd milking (D)'!F50)","v":0.79411764705882348},{"$f":"IF(AND($F$9=1,$F$31=\"C\"),#REF!,IF(AND($F$9=2,$F$31=\"C\"),#REF!,IF(AND($F$9=3,$F$31=\"C\"),#REF!,IF(AND($F$9=4,$F$31=\"C\"),#REF!,IF(AND($F$9=1,$F$31=\"d\"),'1st milking (D)'!AL50, IF(AND($F$9=2,$F$31=\"d\"),'2nd milking (D)'!AL50, IF(AND($F$9=3,$F$31=\"D\"),'3rd milking (D)'!AL50,IF(AND($F$9=4,$F$31=\"D\"),'4th milking (D)'!AL50))))))))","v":false},null,18.25,0.79411764705882348,false]
[null,null,null,null,null,null,null,null,null,null,null,null,null,null,null,null,null,null,null,null,null,null,null,null,null,null,null,null,{"$f":"IF(AND($F$9=1),'1st milking (D)'!E51, '2nd milking (D)'!E51)","v":18},{"$f":"IF(AND($F$9=1),'1st milking (D)'!F51, '2nd milking (D)'!F51)","v":0.82352941176470584},{"$f":"IF(AND($F$9=1,$F$31=\"C\"),#REF!,IF(AND($F$9=2,$F$31=\"C\"),#REF!,IF(AND($F$9=3,$F$31=\"C\"),#REF!,IF(AND($F$9=4,$F$31=\"C\"),#REF!,IF(AND($F$9=1,$F$31=\"d\"),'1st milking (D)'!AL51, IF(AND($F$9=2,$F$31=\"d\"),'2nd milking (D)'!AL51, IF(AND($F$9=3,$F$31=\"D\"),'3rd milking (D)'!AL51,IF(AND($F$9=4,$F$31=\"D\"),'4th milking (D)'!AL51))))))))","v":false},null,18,0.82352941176470584,false]
[null,null,null,null,null,null,null,null,null,null,null,null,null,null,null,null,null,null,null,null,null,null,null,null,null,null,null,null,{"$f":"IF(AND($F$9=1),'1st milking (D)'!E52, '2nd milking (D)'!E52)","v":17.75},{"$f":"IF(AND($F$9=1),'1st milking (D)'!F52, '2nd milking (D)'!F52)","v":0.8529411764705882},{"$f":"IF(AND($F$9=1,$F$31=\"C\"),#REF!,IF(AND($F$9=2,$F$31=\"C\"),#REF!,IF(AND($F$9=3,$F$31=\"C\"),#REF!,IF(AND($F$9=4,$F$31=\"C\"),#REF!,IF(AND($F$9=1,$F$31=\"d\"),'1st milking (D)'!AL52, IF(AND($F$9=2,$F$31=\"d\"),'2nd milking (D)'!AL52, IF(AND($F$9=3,$F$31=\"D\"),'3rd milking (D)'!AL52,IF(AND($F$9=4,$F$31=\"D\"),'4th milking (D)'!AL52))))))))","v":false},null,17.75,0.8529411764705882,false]
[null,null,null,null,null,null,null,null,null,null,null,null,null,null,null,null,null,null,null,null,null,null,null,null,null,null,null,null,{"$f":"IF(AND($F$9=1),'1st milking (D)'!E53, '2nd milking (D)'!E53)","v":17.5},{"$f":"IF(AND($F$9=1),'1st milking (D)'!F53, '2nd milking (D)'!F53)","v":0.88235294117647056},{"$f":"IF(AND($F$9=1,$F$31=\"C\"),#REF!,IF(AND($F$9=2,$F$31=\"C\"),#REF!,IF(AND($F$9=3,$F$31=\"C\"),#REF!,IF(AND($F$9=4,$F$31=\"C\"),#REF!,IF(AND($F$9=1,$F$31=\"d\"),'1st milking (D)'!AL53, IF(AND($F$9=2,$F$31=\"d\"),'2nd milking (D)'!AL53, IF(AND($F$9=3,$F$31=\"D\"),'3rd milking (D)'!AL53,IF(AND($F$9=4,$F$31=\"D\"),'4th milking (D)'!AL53))))))))","v":false},null,17.5,0.88235294117647056,false]
[null,null,null,null,null,null,null,null,null,null,null,null,null,null,null,null,null,null,null,null,null,null,null,null,null,null,null,null,{"$f":"IF(AND($F$9=1),'1st milking (D)'!E54, '2nd milking (D)'!E54)","v":17.25},{"$f":"IF(AND($F$9=1),'1st milking (D)'!F54, '2nd milking (D)'!F54)","v":0.91176470588235292},{"$f":"IF(AND($F$9=1,$F$31=\"C\"),#REF!,IF(AND($F$9=2,$F$31=\"C\"),#REF!,IF(AND($F$9=3,$F$31=\"C\"),#REF!,IF(AND($F$9=4,$F$31=\"C\"),#REF!,IF(AND($F$9=1,$F$31=\"d\"),'1st milking (D)'!AL54, IF(AND($F$9=2,$F$31=\"d\"),'2nd milking (D)'!AL54, IF(AND($F$9=3,$F$31=\"D\"),'3rd milking (D)'!AL54,IF(AND($F$9=4,$F$31=\"D\"),'4th milking (D)'!AL54))))))))","v":false},null,17.25,0.91176470588235292,false]
[null,null,null,null,null,null,null,null,null,null,null,null,null,null,null,null,null,null,null,null,null,null,null,null,null,null,null,null,{"$f":"IF(AND($F$9=1),'1st milking (D)'!E55, '2nd milking (D)'!E55)","v":17},{"$f":"IF(AND($F$9=1),'1st milking (D)'!F55, '2nd milking (D)'!F55)","v":0.94117647058823528},{"$f":"IF(AND($F$9=1,$F$31=\"C\"),#REF!,IF(AND($F$9=2,$F$31=\"C\"),#REF!,IF(AND($F$9=3,$F$31=\"C\"),#REF!,IF(AND($F$9=4,$F$31=\"C\"),#REF!,IF(AND($F$9=1,$F$31=\"d\"),'1st milking (D)'!AL55, IF(AND($F$9=2,$F$31=\"d\"),'2nd milking (D)'!AL55, IF(AND($F$9=3,$F$31=\"D\"),'3rd milking (D)'!AL55,IF(AND($F$9=4,$F$31=\"D\"),'4th milking (D)'!AL55))))))))","v":false},null,17,0.94117647058823528,false]
[null,null,null,null,null,null,null,null,null,null,null,null,null,null,null,null,null,null,null,null,null,null,null,null,null,null,null,null,{"$f":"IF(AND($F$9=1),'1st milking (D)'!E56, '2nd milking (D)'!E56)","v":16.75},{"$f":"IF(AND($F$9=1),'1st milking (D)'!F56, '2nd milking (D)'!F56)","v":0.97058823529411764},{"$f":"IF(AND($F$9=1,$F$31=\"C\"),#REF!,IF(AND($F$9=2,$F$31=\"C\"),#REF!,IF(AND($F$9=3,$F$31=\"C\"),#REF!,IF(AND($F$9=4,$F$31=\"C\"),#REF!,IF(AND($F$9=1,$F$31=\"d\"),'1st milking (D)'!AL56, IF(AND($F$9=2,$F$31=\"d\"),'2nd milking (D)'!AL56, IF(AND($F$9=3,$F$31=\"D\"),'3rd milking (D)'!AL56,IF(AND($F$9=4,$F$31=\"D\"),'4th milking (D)'!AL56))))))))","v":false},null,16.75,0.97058823529411764,false]
[null,null,null,null,null,null,null,null,null,null,null,null,null,null,null,null,null,null,null,null,null,null,null,null,null,null,null,null,{"$f":"IF(AND($F$9=1),'1st milking (D)'!E57, '2nd milking (D)'!E57)","v":16.5},{"$f":"IF(AND($F$9=1),'1st milking (D)'!F57, '2nd milking (D)'!F57)","v":1},{"$f":"IF(AND($F$9=1,$F$31=\"C\"),#REF!,IF(AND($F$9=2,$F$31=\"C\"),#REF!,IF(AND($F$9=3,$F$31=\"C\"),#REF!,IF(AND($F$9=4,$F$31=\"C\"),#REF!,IF(AND($F$9=1,$F$31=\"d\"),'1st milking (D)'!AL57, IF(AND($F$9=2,$F$31=\"d\"),'2nd milking (D)'!AL57, IF(AND($F$9=3,$F$31=\"D\"),'3rd milking (D)'!AL57,IF(AND($F$9=4,$F$31=\"D\"),'4th milking (D)'!AL57))))))))","v":false},null,16.5,1,false]
[null,null,null,null,null,null,null,null,null,null,null,null,null,null,null,null,null,null,null,null,null,null,null,null,null,null,null,null,{"$f":"IF(AND($F$9=1),'1st milking (D)'!E58, '2nd milking (D)'!E58)","v":16.25},{"$f":"IF(AND($F$9=1),'1st milking (D)'!F58, '2nd milking (D)'!F58)","v":1.0294117647058822},{"$f":"IF(AND($F$9=1,$F$31=\"C\"),#REF!,IF(AND($F$9=2,$F$31=\"C\"),#REF!,IF(AND($F$9=3,$F$31=\"C\"),#REF!,IF(AND($F$9=4,$F$31=\"C\"),#REF!,IF(AND($F$9=1,$F$31=\"d\"),'1st milking (D)'!AL58, IF(AND($F$9=2,$F$31=\"d\"),'2nd milking (D)'!AL58, IF(AND($F$9=3,$F$31=\"D\"),'3rd milking (D)'!AL58,IF(AND($F$9=4,$F$31=\"D\"),'4th milking (D)'!AL58))))))))","v":false},null,16.25,1.0294117647058822,false]
[null,null,null,null,null,null,null,null,null,null,null,null,null,null,null,null,null,null,null,null,null,null,null,null,null,null,null,null,{"$f":"IF(AND($F$9=1),'1st milking (D)'!E59, '2nd milking (D)'!E59)","v":16},{"$f":"IF(AND($F$9=1),'1st milking (D)'!F59, '2nd milking (D)'!F59)","v":1.0588235294117647},{"$f":"IF(AND($F$9=1,$F$31=\"C\"),#REF!,IF(AND($F$9=2,$F$31=\"C\"),#REF!,IF(AND($F$9=3,$F$31=\"C\"),#REF!,IF(AND($F$9=4,$F$31=\"C\"),#REF!,IF(AND($F$9=1,$F$31=\"d\"),'1st milking (D)'!AL59, IF(AND($F$9=2,$F$31=\"d\"),'2nd milking (D)'!AL59, IF(AND($F$9=3,$F$31=\"D\"),'3rd milking (D)'!AL59,IF(AND($F$9=4,$F$31=\"D\"),'4th milking (D)'!AL59))))))))","v":false},null,16,1.0588235294117647,false]
[null,null,null,null,null,null,null,null,null,null,null,null,null,null,null,null,null,null,null,null,null,null,null,null,null,null,null,null,{"$f":"IF(AND($F$9=1),'1st milking (D)'!E60, '2nd milking (D)'!E60)","v":15.75},{"$f":"IF(AND($F$9=1),'1st milking (D)'!F60, '2nd milking (D)'!F60)","v":1.088235294117647},{"$f":"IF(AND($F$9=1,$F$31=\"C\"),#REF!,IF(AND($F$9=2,$F$31=\"C\"),#REF!,IF(AND($F$9=3,$F$31=\"C\"),#REF!,IF(AND($F$9=4,$F$31=\"C\"),#REF!,IF(AND($F$9=1,$F$31=\"d\"),'1st milking (D)'!AL60, IF(AND($F$9=2,$F$31=\"d\"),'2nd milking (D)'!AL60, IF(AND($F$9=3,$F$31=\"D\"),'3rd milking (D)'!AL60,IF(AND($F$9=4,$F$31=\"D\"),'4th milking (D)'!AL60))))))))","v":false},null,{"$f":"IF(AC42=0,AG41,AC42)","v":15.75},{"$f":"IF(AD42=0,AH41,AD42)","v":1.088235294117647},{"$f":"IF(AE42=0,AI41,AE42)","v":false}]
[null,null,null,null,null,null,null,null,null,null,null,null,null,null,null,null,null,null,null,null,null,null,null,null,null,null,null,null,{"$f":"IF(AND($F$9=1),'1st milking (D)'!E61, '2nd milking (D)'!E61)","v":15.5},{"$f":"IF(AND($F$9=1),'1st milking (D)'!F61, '2nd milking (D)'!F61)","v":1.1176470588235294},{"$f":"IF(AND($F$9=1,$F$31=\"C\"),#REF!,IF(AND($F$9=2,$F$31=\"C\"),#REF!,IF(AND($F$9=3,$F$31=\"C\"),#REF!,IF(AND($F$9=4,$F$31=\"C\"),#REF!,IF(AND($F$9=1,$F$31=\"d\"),'1st milking (D)'!AL61, IF(AND($F$9=2,$F$31=\"d\"),'2nd milking (D)'!AL61, IF(AND($F$9=3,$F$31=\"D\"),'3rd milking (D)'!AL61,IF(AND($F$9=4,$F$31=\"D\"),'4th milking (D)'!AL61))))))))","v":false},null,15.5,1.1176470588235294,false]
[null,null,null,null,null,null,null,null,null,null,null,null,null,null,null,null,null,null,null,null,null,null,null,null,null,null,null,null,{"$f":"IF(AND($F$9=1),'1st milking (D)'!E62, '2nd milking (D)'!E62)","v":15.25},{"$f":"IF(AND($F$9=1),'1st milking (D)'!F62, '2nd milking (D)'!F62)","v":1.1470588235294117},{"$f":"IF(AND($F$9=1,$F$31=\"C\"),#REF!,IF(AND($F$9=2,$F$31=\"C\"),#REF!,IF(AND($F$9=3,$F$31=\"C\"),#REF!,IF(AND($F$9=4,$F$31=\"C\"),#REF!,IF(AND($F$9=1,$F$31=\"d\"),'1st milking (D)'!AL62, IF(AND($F$9=2,$F$31=\"d\"),'2nd milking (D)'!AL62, IF(AND($F$9=3,$F$31=\"D\"),'3rd milking (D)'!AL62,IF(AND($F$9=4,$F$31=\"D\"),'4th milking (D)'!AL62))))))))","v":false},null,15.25,1.1470588235294117,false]
[null,null,null,{"$f":"IF(AND($F$9=1),'1st milking (D)'!B10,IF(AND($F$9=2),'2nd milking (D)'!B10,IF(AND($F$9=3),'3rd milking (D)'!B10,IF(AND($F$9=4),'4th milking (D)'!B10))))","v":10.942204051288039},{"$f":"IF(AND($F$9=1,F13<=25,F11<=141),'1st milking (DF)'!B10, IF(AND($F$9=2),'2nd milking (DF)'!B10, IF(AND($F$9=3),'3rd milking (DF)'!B10,IF(AND($F$9=4),'4th milking (DF)'!B10))))","v":11.056422453955689},{"$f":"IF(AND($F$9=1),'1st milking (DO)'!B10, IF(AND($F$9=2),'2nd milking (DO)'!B10, IF(AND($F$9=3),'3rd milking (DO)'!B10,IF(AND($F$9=4),'4th milking (DO)'!B10))))","v":11.084540800852919},{"$f":"IF(AND(F9=1,F13>25,F13<35),'1st milking (BR2) '!B10, IF(AND(F9=1,F13=35),'1st milking (BR1)'!B9,\"NO\"))","v":"NO"},{"$f":"IF(AND(F9=2,F11>141,F13>5),'2nd milking (DO2)'!B10,IF(AND(F9=3,F11>141,F13>5),'3rd milking (DO2)'!B10,IF(AND(F9=4,F11>141,F13>5),'4th milking (DO2)'!B10,\"out\")))","v":"out"},"",null,null,{"$f":"+IF(F11=\"\",D45,L46)","v":11.056422453955689},{"$f":"IF(AND(F9=1,F13>25,F13<35),\"BREAKDOWN\",IF(F13=35,\"BREAKDOWN\",IF(AND(F9=2,F13>15),\"BREAKDOWN\",IF(AND(F9=3,F13>15),\"BREAKDOWN\", IF(AND(F9=4,F13>15),\"BREAKDOWN\",IF(OR(F13=5,F13<5),\"WITHIN RANGE\",IF(OR(E47=\"out\",F11>141),\"ASSESS RISK\",\"WITHIN THE RANGE\")))))))","v":"WITHIN THE RANGE"},null,null,null,null,null,null,null,null,null,null,null,null,null,null,null,{"$f":"IF(AND($F$9=1),'1st milking (D)'!E63, '2nd milking (D)'!E63)","v":15},{"$f":"IF(AND($F$9=1),'1st milking (D)'!F63, '2nd milking (D)'!F63)","v":1.1764705882352942},{"$f":"IF(AND($F$9=1,$F$31=\"C\"),#REF!,IF(AND($F$9=2,$F$31=\"C\"),#REF!,IF(AND($F$9=3,$F$31=\"C\"),#REF!,IF(AND($F$9=4,$F$31=\"C\"),#REF!,IF(AND($F$9=1,$F$31=\"d\"),'1st milking (D)'!AL63, IF(AND($F$9=2,$F$31=\"d\"),'2nd milking (D)'!AL63, IF(AND($F$9=3,$F$31=\"D\"),'3rd milking (D)'!AL63,IF(AND($F$9=4,$F$31=\"D\"),'4th milking (D)'!AL63))))))))","v":false},null,15,1.1764705882352942,false]
[null,null,null,"No time","Flexible","Out","Breakdown","Out 2,3,4th","5C or below",null,null,{"$f":"IF(AND(F9=1,F13>25,F13<35),G45,IF(AND(F9=1,F13=35),G45,IF(AND(F9=2,F13>15),\"out\",IF(AND(F9=3,F13>15),\"out\",IF(AND(F9=4,F13>15),\"out\",IF(AND(F9>1,F11>141,F13>5),H45,IF(OR(F13=5,F13<5),I45,IF(OR(E47=\"out\",F11>141),F45,E45))))))))","v":11.056422453955689},null,null,null,null,null,null,null,null,null,null,null,null,null,null,null,null,{"$f":"IF(AND($F$9=1),'1st milking (D)'!E64, '2nd milking (D)'!E64)","v":14.75},{"$f":"IF(AND($F$9=1),'1st milking (D)'!F64, '2nd milking (D)'!F64)","v":1.2058823529411764},{"$f":"IF(AND($F$9=1,$F$31=\"C\"),#REF!,IF(AND($F$9=2,$F$31=\"C\"),#REF!,IF(AND($F$9=3,$F$31=\"C\"),#REF!,IF(AND($F$9=4,$F$31=\"C\"),#REF!,IF(AND($F$9=1,$F$31=\"d\"),'1st milking (D)'!AL64, IF(AND($F$9=2,$F$31=\"d\"),'2nd milking (D)'!AL64, IF(AND($F$9=3,$F$31=\"D\"),'3rd milking (D)'!AL64,IF(AND($F$9=4,$F$31=\"D\"),'4th milking (D)'!AL64))))))))","v":false},null,14.75,1.2058823529411764,false]
[null,null,null,null,{"$f":"E45","v":11.056422453955689},null,null,null,null,null,null,null,null,null,null,null,null,null,null,null,null,null,null,null,null,null,null,null,{"$f":"IF(AND($F$9=1),'1st milking (D)'!E65, '2nd milking (D)'!E65)","v":14.5},{"$f":"IF(AND($F$9=1),'1st milking (D)'!F65, '2nd milking (D)'!F65)","v":1.2352941176470589},{"$f":"IF(AND($F$9=1,$F$31=\"C\"),#REF!,IF(AND($F$9=2,$F$31=\"C\"),#REF!,IF(AND($F$9=3,$F$31=\"C\"),#REF!,IF(AND($F$9=4,$F$31=\"C\"),#REF!,IF(AND($F$9=1,$F$31=\"d\"),'1st milking (D)'!AL65, IF(AND($F$9=2,$F$31=\"d\"),'2nd milking (D)'!AL65, IF(AND($F$9=3,$F$31=\"D\"),'3rd milking (D)'!AL65,IF(AND($F$9=4,$F$31=\"D\"),'4th milking (D)'!AL65))))))))","v":false},null,14.5,1.2352941176470589,false]
[null,null,null,null,null,null,null,null,null,null,null,null,null,null,null,null,null,null,null,null,null,null,null,null,null,null,null,null,{"$f":"IF(AND($F$9=1),'1st milking (D)'!E66, '2nd milking (D)'!E66)","v":14.25},{"$f":"IF(AND($F$9=1),'1st milking (D)'!F66, '2nd milking (D)'!F66)","v":1.2647058823529411},{"$f":"IF(AND($F$9=1,$F$31=\"C\"),#REF!,IF(AND($F$9=2,$F$31=\"C\"),#REF!,IF(AND($F$9=3,$F$31=\"C\"),#REF!,IF(AND($F$9=4,$F$31=\"C\"),#REF!,IF(AND($F$9=1,$F$31=\"d\"),'1st milking (D)'!AL66, IF(AND($F$9=2,$F$31=\"d\"),'2nd milking (D)'!AL66, IF(AND($F$9=3,$F$31=\"D\"),'3rd milking (D)'!AL66,IF(AND($F$9=4,$F$31=\"D\"),'4th milking (D)'!AL66))))))))","v":false},null,14.25,1.2647058823529411,false]
[null,null,null,null,null,null,null,null,null,null,null,null,null,null,null,null,null,null,null,null,null,null,null,null,null,null,null,null,{"$f":"IF(AND($F$9=1),'1st milking (D)'!E67, '2nd milking (D)'!E67)","v":14},{"$f":"IF(AND($F$9=1),'1st milking (D)'!F67, '2nd milking (D)'!F67)","v":1.2941176470588236},{"$f":"IF(AND($F$9=1,$F$31=\"C\"),#REF!,IF(AND($F$9=2,$F$31=\"C\"),#REF!,IF(AND($F$9=3,$F$31=\"C\"),#REF!,IF(AND($F$9=4,$F$31=\"C\"),#REF!,IF(AND($F$9=1,$F$31=\"d\"),'1st milking (D)'!AL67, IF(AND($F$9=2,$F$31=\"d\"),'2nd milking (D)'!AL67, IF(AND($F$9=3,$F$31=\"D\"),'3rd milking (D)'!AL67,IF(AND($F$9=4,$F$31=\"D\"),'4th milking (D)'!AL67))))))))","v":false},null,14,1.2941176470588236,false]
[null,null,null,null,null,null,null,null,null,null,null,null,null,null,null,null,null,null,null,null,null,null,null,null,null,null,null,null,{"$f":"IF(AND($F$9=1),'1st milking (D)'!E68, '2nd milking (D)'!E68)","v":13.75},{"$f":"IF(AND($F$9=1),'1st milking (D)'!F68, '2nd milking (D)'!F68)","v":1.3235294117647058},{"$f":"IF(AND($F$9=1,$F$31=\"C\"),#REF!,IF(AND($F$9=2,$F$31=\"C\"),#REF!,IF(AND($F$9=3,$F$31=\"C\"),#REF!,IF(AND($F$9=4,$F$31=\"C\"),#REF!,IF(AND($F$9=1,$F$31=\"d\"),'1st milking (D)'!AL68, IF(AND($F$9=2,$F$31=\"d\"),'2nd milking (D)'!AL68, IF(AND($F$9=3,$F$31=\"D\"),'3rd milking (D)'!AL68,IF(AND($F$9=4,$F$31=\"D\"),'4th milking (D)'!AL68))))))))","v":false},null,13.75,1.3235294117647058,false]
[null,null,null,null,null,null,null,null,null,null,null,null,null,null,null,null,null,null,null,null,null,null,null,null,null,null,null,null,{"$f":"IF(AND($F$9=1),'1st milking (D)'!E69, '2nd milking (D)'!E69)","v":13.5},{"$f":"IF(AND($F$9=1),'1st milking (D)'!F69, '2nd milking (D)'!F69)","v":1.3529411764705883},{"$f":"IF(AND($F$9=1,$F$31=\"C\"),#REF!,IF(AND($F$9=2,$F$31=\"C\"),#REF!,IF(AND($F$9=3,$F$31=\"C\"),#REF!,IF(AND($F$9=4,$F$31=\"C\"),#REF!,IF(AND($F$9=1,$F$31=\"d\"),'1st milking (D)'!AL69, IF(AND($F$9=2,$F$31=\"d\"),'2nd milking (D)'!AL69, IF(AND($F$9=3,$F$31=\"D\"),'3rd milking (D)'!AL69,IF(AND($F$9=4,$F$31=\"D\"),'4th milking (D)'!AL69))))))))","v":false},null,13.5,1.3529411764705883,false]
[null,null,null,null,null,null,null,null,null,null,null,null,null,null,null,null,null,null,null,null,null,null,null,null,null,null,null,null,{"$f":"IF(AND($F$9=1),'1st milking (D)'!E70, '2nd milking (D)'!E70)","v":13.25},{"$f":"IF(AND($F$9=1),'1st milking (D)'!F70, '2nd milking (D)'!F70)","v":1.3823529411764706},{"$f":"IF(AND($F$9=1,$F$31=\"C\"),#REF!,IF(AND($F$9=2,$F$31=\"C\"),#REF!,IF(AND($F$9=3,$F$31=\"C\"),#REF!,IF(AND($F$9=4,$F$31=\"C\"),#REF!,IF(AND($F$9=1,$F$31=\"d\"),'1st milking (D)'!AL70, IF(AND($F$9=2,$F$31=\"d\"),'2nd milking (D)'!AL70, IF(AND($F$9=3,$F$31=\"D\"),'3rd milking (D)'!AL70,IF(AND($F$9=4,$F$31=\"D\"),'4th milking (D)'!AL70))))))))","v":false},null,13.25,1.3823529411764706,false]
[null,null,null,null,null,null,null,null,null,null,null,null,null,null,null,null,null,null,null,null,null,null,null,null,null,null,null,null,{"$f":"IF(AND($F$9=1),'1st milking (D)'!E71, '2nd milking (D)'!E71)","v":13},{"$f":"IF(AND($F$9=1),'1st milking (D)'!F71, '2nd milking (D)'!F71)","v":1.411764705882353},{"$f":"IF(AND($F$9=1,$F$31=\"C\"),#REF!,IF(AND($F$9=2,$F$31=\"C\"),#REF!,IF(AND($F$9=3,$F$31=\"C\"),#REF!,IF(AND($F$9=4,$F$31=\"C\"),#REF!,IF(AND($F$9=1,$F$31=\"d\"),'1st milking (D)'!AL71, IF(AND($F$9=2,$F$31=\"d\"),'2nd milking (D)'!AL71, IF(AND($F$9=3,$F$31=\"D\"),'3rd milking (D)'!AL71,IF(AND($F$9=4,$F$31=\"D\"),'4th milking (D)'!AL71))))))))","v":false},null,13,1.411764705882353,false]
[null,null,null,null,null,null,null,null,null,null,null,null,null,null,null,null,null,null,null,null,null,null,null,null,null,null,null,null,{"$f":"IF(AND($F$9=1),'1st milking (D)'!E72, '2nd milking (D)'!E72)","v":12.75},{"$f":"IF(AND($F$9=1),'1st milking (D)'!F72, '2nd milking (D)'!F72)","v":1.4411764705882353},{"$f":"IF(AND($F$9=1,$F$31=\"C\"),#REF!,IF(AND($F$9=2,$F$31=\"C\"),#REF!,IF(AND($F$9=3,$F$31=\"C\"),#REF!,IF(AND($F$9=4,$F$31=\"C\"),#REF!,IF(AND($F$9=1,$F$31=\"d\"),'1st milking (D)'!AL72, IF(AND($F$9=2,$F$31=\"d\"),'2nd milking (D)'!AL72, IF(AND($F$9=3,$F$31=\"D\"),'3rd milking (D)'!AL72,IF(AND($F$9=4,$F$31=\"D\"),'4th milking (D)'!AL72))))))))","v":false},null,12.75,1.4411764705882353,false]
[null,null,null,null,null,null,null,null,null,null,null,null,null,null,null,null,null,null,null,null,null,null,null,null,null,null,null,null,{"$f":"IF(AND($F$9=1),'1st milking (D)'!E73, '2nd milking (D)'!E73)","v":12.5},{"$f":"IF(AND($F$9=1),'1st milking (D)'!F73, '2nd milking (D)'!F73)","v":1.4705882352941178},{"$f":"IF(AND($F$9=1,$F$31=\"C\"),#REF!,IF(AND($F$9=2,$F$31=\"C\"),#REF!,IF(AND($F$9=3,$F$31=\"C\"),#REF!,IF(AND($F$9=4,$F$31=\"C\"),#REF!,IF(AND($F$9=1,$F$31=\"d\"),'1st milking (D)'!AL73, IF(AND($F$9=2,$F$31=\"d\"),'2nd milking (D)'!AL73, IF(AND($F$9=3,$F$31=\"D\"),'3rd milking (D)'!AL73,IF(AND($F$9=4,$F$31=\"D\"),'4th milking (D)'!AL73))))))))","v":false},null,12.5,1.4705882352941178,false]
[null,null,null,null,null,null,null,null,null,null,null,null,null,null,null,null,null,null,null,null,null,null,null,null,null,null,null,null,{"$f":"IF(AND($F$9=1),'1st milking (D)'!E74, '2nd milking (D)'!E74)","v":12.25},{"$f":"IF(AND($F$9=1),'1st milking (D)'!F74, '2nd milking (D)'!F74)","v":1.5},{"$f":"IF(AND($F$9=1,$F$31=\"C\"),#REF!,IF(AND($F$9=2,$F$31=\"C\"),#REF!,IF(AND($F$9=3,$F$31=\"C\"),#REF!,IF(AND($F$9=4,$F$31=\"C\"),#REF!,IF(AND($F$9=1,$F$31=\"d\"),'1st milking (D)'!AL74, IF(AND($F$9=2,$F$31=\"d\"),'2nd milking (D)'!AL74, IF(AND($F$9=3,$F$31=\"D\"),'3rd milking (D)'!AL74,IF(AND($F$9=4,$F$31=\"D\"),'4th milking (D)'!AL74))))))))","v":false},null,12.25,1.5,false]
[null,null,null,null,null,null,null,null,null,null,null,null,null,null,null,null,null,null,null,null,null,null,null,null,null,null,null,null,{"$f":"IF(AND($F$9=1),'1st milking (D)'!E75, '2nd milking (D)'!E75)","v":12},{"$f":"IF(AND($F$9=1),'1st milking (D)'!F75, '2nd milking (D)'!F75)","v":1.5294117647058822},{"$f":"IF(AND($F$9=1,$F$31=\"C\"),#REF!,IF(AND($F$9=2,$F$31=\"C\"),#REF!,IF(AND($F$9=3,$F$31=\"C\"),#REF!,IF(AND($F$9=4,$F$31=\"C\"),#REF!,IF(AND($F$9=1,$F$31=\"d\"),'1st milking (D)'!AL75, IF(AND($F$9=2,$F$31=\"d\"),'2nd milking (D)'!AL75, IF(AND($F$9=3,$F$31=\"D\"),'3rd milking (D)'!AL75,IF(AND($F$9=4,$F$31=\"D\"),'4th milking (D)'!AL75))))))))","v":false},null,12,1.5294117647058822,false]
[null,null,null,null,null,null,null,null,null,null,null,null,null,null,null,null,null,null,null,null,null,null,null,null,null,null,null,null,{"$f":"IF(AND($F$9=1),'1st milking (D)'!E76, '2nd milking (D)'!E76)","v":11.75},{"$f":"IF(AND($F$9=1),'1st milking (D)'!F76, '2nd milking (D)'!F76)","v":1.5588235294117647},{"$f":"IF(AND($F$9=1,$F$31=\"C\"),#REF!,IF(AND($F$9=2,$F$31=\"C\"),#REF!,IF(AND($F$9=3,$F$31=\"C\"),#REF!,IF(AND($F$9=4,$F$31=\"C\"),#REF!,IF(AND($F$9=1,$F$31=\"d\"),'1st milking (D)'!AL76, IF(AND($F$9=2,$F$31=\"d\"),'2nd milking (D)'!AL76, IF(AND($F$9=3,$F$31=\"D\"),'3rd milking (D)'!AL76,IF(AND($F$9=4,$F$31=\"D\"),'4th milking (D)'!AL76))))))))","v":false},null,11.75,1.5588235294117647,false]
[null,null,null,null,null,null,null,null,null,null,null,null,null,null,null,null,null,null,null,null,null,null,null,null,null,null,null,null,{"$f":"IF(AND($F$9=1),'1st milking (D)'!E77, '2nd milking (D)'!E77)","v":11.5},{"$f":"IF(AND($F$9=1),'1st milking (D)'!F77, '2nd milking (D)'!F77)","v":1.588235294117647},{"$f":"IF(AND($F$9=1,$F$31=\"C\"),#REF!,IF(AND($F$9=2,$F$31=\"C\"),#REF!,IF(AND($F$9=3,$F$31=\"C\"),#REF!,IF(AND($F$9=4,$F$31=\"C\"),#REF!,IF(AND($F$9=1,$F$31=\"d\"),'1st milking (D)'!AL77, IF(AND($F$9=2,$F$31=\"d\"),'2nd milking (D)'!AL77, IF(AND($F$9=3,$F$31=\"D\"),'3rd milking (D)'!AL77,IF(AND($F$9=4,$F$31=\"D\"),'4th milking (D)'!AL77))))))))","v":false},null,11.5,1.588235294117647,false]
[null,null,null,null,null,null,null,null,null,null,null,null,null,null,null,null,null,null,null,null,null,null,null,null,null,null,null,null,{"$f":"IF(AND($F$9=1),'1st milking (D)'!E78, '2nd milking (D)'!E78)","v":11.25},{"$f":"IF(AND($F$9=1),'1st milking (D)'!F78, '2nd milking (D)'!F78)","v":1.6176470588235294},{"$f":"IF(AND($F$9=1,$F$31=\"C\"),#REF!,IF(AND($F$9=2,$F$31=\"C\"),#REF!,IF(AND($F$9=3,$F$31=\"C\"),#REF!,IF(AND($F$9=4,$F$31=\"C\"),#REF!,IF(AND($F$9=1,$F$31=\"d\"),'1st milking (D)'!AL78, IF(AND($F$9=2,$F$31=\"d\"),'2nd milking (D)'!AL78, IF(AND($F$9=3,$F$31=\"D\"),'3rd milking (D)'!AL78,IF(AND($F$9=4,$F$31=\"D\"),'4th milking (D)'!AL78))))))))","v":false},null,11.25,1.6176470588235294,false]
[null,null,null,null,null,null,null,null,null,null,null,null,null,null,null,null,null,null,null,null,null,null,null,null,null,null,null,null,{"$f":"IF(AND($F$9=1),'1st milking (D)'!E79, '2nd milking (D)'!E79)","v":11},{"$f":"IF(AND($F$9=1),'1st milking (D)'!F79, '2nd milking (D)'!F79)","v":1.6470588235294117},{"$f":"IF(AND($F$9=1,$F$31=\"C\"),#REF!,IF(AND($F$9=2,$F$31=\"C\"),#REF!,IF(AND($F$9=3,$F$31=\"C\"),#REF!,IF(AND($F$9=4,$F$31=\"C\"),#REF!,IF(AND($F$9=1,$F$31=\"d\"),'1st milking (D)'!AL79, IF(AND($F$9=2,$F$31=\"d\"),'2nd milking (D)'!AL79, IF(AND($F$9=3,$F$31=\"D\"),'3rd milking (D)'!AL79,IF(AND($F$9=4,$F$31=\"D\"),'4th milking (D)'!AL79))))))))","v":false},null,11,1.6470588235294117,false]
[null,null,null,null,null,null,null,null,null,null,null,null,null,null,null,null,null,null,null,null,null,null,null,null,null,null,null,null,{"$f":"IF(AND($F$9=1),'1st milking (D)'!E80, '2nd milking (D)'!E80)","v":10.75},{"$f":"IF(AND($F$9=1),'1st milking (D)'!F80, '2nd milking (D)'!F80)","v":1.6764705882352942},{"$f":"IF(AND($F$9=1,$F$31=\"C\"),#REF!,IF(AND($F$9=2,$F$31=\"C\"),#REF!,IF(AND($F$9=3,$F$31=\"C\"),#REF!,IF(AND($F$9=4,$F$31=\"C\"),#REF!,IF(AND($F$9=1,$F$31=\"d\"),'1st milking (D)'!AL80, IF(AND($F$9=2,$F$31=\"d\"),'2nd milking (D)'!AL80, IF(AND($F$9=3,$F$31=\"D\"),'3rd milking (D)'!AL80,IF(AND($F$9=4,$F$31=\"D\"),'4th milking (D)'!AL80))))))))","v":false},null,10.75,1.6764705882352942,false]
[null,null,null,null,null,null,null,null,null,null,null,null,null,null,null,null,null,null,null,null,null,null,null,null,null,null,null,null,{"$f":"IF(AND($F$9=1),'1st milking (D)'!E81, '2nd milking (D)'!E81)","v":10.5},{"$f":"IF(AND($F$9=1),'1st milking (D)'!F81, '2nd milking (D)'!F81)","v":1.7058823529411764},{"$f":"IF(AND($F$9=1,$F$31=\"C\"),#REF!,IF(AND($F$9=2,$F$31=\"C\"),#REF!,IF(AND($F$9=3,$F$31=\"C\"),#REF!,IF(AND($F$9=4,$F$31=\"C\"),#REF!,IF(AND($F$9=1,$F$31=\"d\"),'1st milking (D)'!AL81, IF(AND($F$9=2,$F$31=\"d\"),'2nd milking (D)'!AL81, IF(AND($F$9=3,$F$31=\"D\"),'3rd milking (D)'!AL81,IF(AND($F$9=4,$F$31=\"D\"),'4th milking (D)'!AL81))))))))","v":false},null,10.5,1.7058823529411764,false]
[null,null,null,null,null,null,null,null,null,null,null,null,null,null,null,null,null,null,null,null,null,null,null,null,null,null,null,null,{"$f":"IF(AND($F$9=1),'1st milking (D)'!E82, '2nd milking (D)'!E82)","v":10.25},{"$f":"IF(AND($F$9=1),'1st milking (D)'!F82, '2nd milking (D)'!F82)","v":1.7352941176470589},{"$f":"IF(AND($F$9=1,$F$31=\"C\"),#REF!,IF(AND($F$9=2,$F$31=\"C\"),#REF!,IF(AND($F$9=3,$F$31=\"C\"),#REF!,IF(AND($F$9=4,$F$31=\"C\"),#REF!,IF(AND($F$9=1,$F$31=\"d\"),'1st milking (D)'!AL82, IF(AND($F$9=2,$F$31=\"d\"),'2nd milking (D)'!AL82, IF(AND($F$9=3,$F$31=\"D\"),'3rd milking (D)'!AL82,IF(AND($F$9=4,$F$31=\"D\"),'4th milking (D)'!AL82))))))))","v":false},null,{"$f":"IF(AC64=0,AG63,AC64)","v":10.25},1.7352941176470589,false]
[null,null,null,null,null,null,null,null,null,null,null,null,null,null,null,null,null,null,null,null,null,null,null,null,null,null,null,null,{"$f":"IF(AND($F$9=1),'1st milking (D)'!E83, '2nd milking (D)'!E83)","v":10},{"$f":"IF(AND($F$9=1),'1st milking (D)'!F83, '2nd milking (D)'!F83)","v":1.7647058823529411},{"$f":"IF(AND($F$9=1,$F$31=\"C\"),#REF!,IF(AND($F$9=2,$F$31=\"C\"),#REF!,IF(AND($F$9=3,$F$31=\"C\"),#REF!,IF(AND($F$9=4,$F$31=\"C\"),#REF!,IF(AND($F$9=1,$F$31=\"d\"),'1st milking (D)'!AL83, IF(AND($F$9=2,$F$31=\"d\"),'2nd milking (D)'!AL83, IF(AND($F$9=3,$F$31=\"D\"),'3rd milking (D)'!AL83,IF(AND($F$9=4,$F$31=\"D\"),'4th milking (D)'!AL83))))))))","v":false},null,10,1.7647058823529411,false]
[null,null,null,null,null,null,null,null,null,null,null,null,null,null,null,null,null,null,null,null,null,null,null,null,null,null,null,null,{"$f":"IF(AND($F$9=1),'1st milking (D)'!E84, '2nd milking (D)'!E84)","v":9.75},{"$f":"IF(AND($F$9=1),'1st milking (D)'!F84, '2nd milking (D)'!F84)","v":1.7941176470588236},{"$f":"IF(AND($F$9=1,$F$31=\"C\"),#REF!,IF(AND($F$9=2,$F$31=\"C\"),#REF!,IF(AND($F$9=3,$F$31=\"C\"),#REF!,IF(AND($F$9=4,$F$31=\"C\"),#REF!,IF(AND($F$9=1,$F$31=\"d\"),'1st milking (D)'!AL84, IF(AND($F$9=2,$F$31=\"d\"),'2nd milking (D)'!AL84, IF(AND($F$9=3,$F$31=\"D\"),'3rd milking (D)'!AL84,IF(AND($F$9=4,$F$31=\"D\"),'4th milking (D)'!AL84))))))))","v":false},null,9.75,1.7941176470588236,false]
[null,null,null,null,null,null,null,null,null,null,null,null,null,null,null,null,null,null,null,null,null,null,null,null,null,null,null,null,{"$f":"IF(AND($F$9=1),'1st milking (D)'!E85, '2nd milking (D)'!E85)","v":9.5},{"$f":"IF(AND($F$9=1),'1st milking (D)'!F85, '2nd milking (D)'!F85)","v":1.8235294117647058},{"$f":"IF(AND($F$9=1,$F$31=\"C\"),#REF!,IF(AND($F$9=2,$F$31=\"C\"),#REF!,IF(AND($F$9=3,$F$31=\"C\"),#REF!,IF(AND($F$9=4,$F$31=\"C\"),#REF!,IF(AND($F$9=1,$F$31=\"d\"),'1st milking (D)'!AL85, IF(AND($F$9=2,$F$31=\"d\"),'2nd milking (D)'!AL85, IF(AND($F$9=3,$F$31=\"D\"),'3rd milking (D)'!AL85,IF(AND($F$9=4,$F$31=\"D\"),'4th milking (D)'!AL85))))))))","v":false},null,9.5,1.8235294117647058,false]
[null,null,null,null,null,null,null,null,null,null,null,null,null,null,null,null,null,null,null,null,null,null,null,null,null,null,null,null,{"$f":"IF(AND($F$9=1),'1st milking (D)'!E86, '2nd milking (D)'!E86)","v":9.25},{"$f":"IF(AND($F$9=1),'1st milking (D)'!F86, '2nd milking (D)'!F86)","v":1.8529411764705883},{"$f":"IF(AND($F$9=1,$F$31=\"C\"),#REF!,IF(AND($F$9=2,$F$31=\"C\"),#REF!,IF(AND($F$9=3,$F$31=\"C\"),#REF!,IF(AND($F$9=4,$F$31=\"C\"),#REF!,IF(AND($F$9=1,$F$31=\"d\"),'1st milking (D)'!AL86, IF(AND($F$9=2,$F$31=\"d\"),'2nd milking (D)'!AL86, IF(AND($F$9=3,$F$31=\"D\"),'3rd milking (D)'!AL86,IF(AND($F$9=4,$F$31=\"D\"),'4th milking (D)'!AL86))))))))","v":false},null,9.25,1.8529411764705883,false]
[null,null,null,null,null,null,null,null,null,null,null,null,null,null,null,null,null,null,null,null,null,null,null,null,null,null,null,null,{"$f":"IF(AND($F$9=1),'1st milking (D)'!E87, '2nd milking (D)'!E87)","v":9},{"$f":"IF(AND($F$9=1),'1st milking (D)'!F87, '2nd milking (D)'!F87)","v":1.8823529411764706},{"$f":"IF(AND($F$9=1,$F$31=\"C\"),#REF!,IF(AND($F$9=2,$F$31=\"C\"),#REF!,IF(AND($F$9=3,$F$31=\"C\"),#REF!,IF(AND($F$9=4,$F$31=\"C\"),#REF!,IF(AND($F$9=1,$F$31=\"d\"),'1st milking (D)'!AL87, IF(AND($F$9=2,$F$31=\"d\"),'2nd milking (D)'!AL87, IF(AND($F$9=3,$F$31=\"D\"),'3rd milking (D)'!AL87,IF(AND($F$9=4,$F$31=\"D\"),'4th milking (D)'!AL87))))))))","v":false},null,9,1.8823529411764706,false]
[null,null,null,null,null,null,null,null,null,null,null,null,null,null,null,null,null,null,null,null,null,null,null,null,null,null,null,null,{"$f":"IF(AND($F$9=1),'1st milking (D)'!E88, '2nd milking (D)'!E88)","v":8.75},{"$f":"IF(AND($F$9=1),'1st milking (D)'!F88, '2nd milking (D)'!F88)","v":1.911764705882353},{"$f":"IF(AND($F$9=1,$F$31=\"C\"),#REF!,IF(AND($F$9=2,$F$31=\"C\"),#REF!,IF(AND($F$9=3,$F$31=\"C\"),#REF!,IF(AND($F$9=4,$F$31=\"C\"),#REF!,IF(AND($F$9=1,$F$31=\"d\"),'1st milking (D)'!AL88, IF(AND($F$9=2,$F$31=\"d\"),'2nd milking (D)'!AL88, IF(AND($F$9=3,$F$31=\"D\"),'3rd milking (D)'!AL88,IF(AND($F$9=4,$F$31=\"D\"),'4th milking (D)'!AL88))))))))","v":false},null,8.75,1.911764705882353,false]
[null,null,null,null,null,null,null,null,null,null,null,null,null,null,null,null,null,null,null,null,null,null,null,null,null,null,null,null,{"$f":"IF(AND($F$9=1),'1st milking (D)'!E89, '2nd milking (D)'!E89)","v":8.5},{"$f":"IF(AND($F$9=1),'1st milking (D)'!F89, '2nd milking (D)'!F89)","v":1.9411764705882353},{"$f":"IF(AND($F$9=1,$F$31=\"C\"),#REF!,IF(AND($F$9=2,$F$31=\"C\"),#REF!,IF(AND($F$9=3,$F$31=\"C\"),#REF!,IF(AND($F$9=4,$F$31=\"C\"),#REF!,IF(AND($F$9=1,$F$31=\"d\"),'1st milking (D)'!AL89, IF(AND($F$9=2,$F$31=\"d\"),'2nd milking (D)'!AL89, IF(AND($F$9=3,$F$31=\"D\"),'3rd milking (D)'!AL89,IF(AND($F$9=4,$F$31=\"D\"),'4th milking (D)'!AL89))))))))","v":false},null,8.5,1.9411764705882353,false]
[null,null,null,null,null,null,null,null,null,null,null,null,null,null,null,null,null,null,null,null,null,null,null,null,null,null,null,null,{"$f":"IF(AND($F$9=1),'1st milking (D)'!E90, '2nd milking (D)'!E90)","v":8.25},{"$f":"IF(AND($F$9=1),'1st milking (D)'!F90, '2nd milking (D)'!F90)","v":1.9705882352941178},{"$f":"IF(AND($F$9=1,$F$31=\"C\"),#REF!,IF(AND($F$9=2,$F$31=\"C\"),#REF!,IF(AND($F$9=3,$F$31=\"C\"),#REF!,IF(AND($F$9=4,$F$31=\"C\"),#REF!,IF(AND($F$9=1,$F$31=\"d\"),'1st milking (D)'!AL90, IF(AND($F$9=2,$F$31=\"d\"),'2nd milking (D)'!AL90, IF(AND($F$9=3,$F$31=\"D\"),'3rd milking (D)'!AL90,IF(AND($F$9=4,$F$31=\"D\"),'4th milking (D)'!AL90))))))))","v":false},null,8.25,1.9705882352941178,false]
[null,null,null,null,null,null,null,null,null,null,null,null,null,null,null,null,null,null,null,null,null,null,null,null,null,null,null,null,{"$f":"IF(AND($F$9=1),'1st milking (D)'!E91, '2nd milking (D)'!E91)","v":8},{"$f":"IF(AND($F$9=1),'1st milking (D)'!F91, '2nd milking (D)'!F91)","v":2},{"$f":"IF(AND($F$9=1,$F$31=\"C\"),#REF!,IF(AND($F$9=2,$F$31=\"C\"),#REF!,IF(AND($F$9=3,$F$31=\"C\"),#REF!,IF(AND($F$9=4,$F$31=\"C\"),#REF!,IF(AND($F$9=1,$F$31=\"d\"),'1st milking (D)'!AL91, IF(AND($F$9=2,$F$31=\"d\"),'2nd milking (D)'!AL91, IF(AND($F$9=3,$F$31=\"D\"),'3rd milking (D)'!AL91,IF(AND($F$9=4,$F$31=\"D\"),'4th milking (D)'!AL91))))))))","v":false},null,8,2,false]
[null,null,null,null,null,null,null,null,null,null,null,null,null,null,null,null,null,null,null,null,null,null,null,null,null,null,null,null,{"$f":"IF(AND($F$9=1),'1st milking (D)'!E92, '2nd milking (D)'!E92)","v":7.75},{"$f":"IF(AND($F$9=1),'1st milking (D)'!F92, '2nd milking (D)'!F92)","v":2.0294117647058822},{"$f":"IF(AND($F$9=1,$F$31=\"C\"),#REF!,IF(AND($F$9=2,$F$31=\"C\"),#REF!,IF(AND($F$9=3,$F$31=\"C\"),#REF!,IF(AND($F$9=4,$F$31=\"C\"),#REF!,IF(AND($F$9=1,$F$31=\"d\"),'1st milking (D)'!AL92, IF(AND($F$9=2,$F$31=\"d\"),'2nd milking (D)'!AL92, IF(AND($F$9=3,$F$31=\"D\"),'3rd milking (D)'!AL92,IF(AND($F$9=4,$F$31=\"D\"),'4th milking (D)'!AL92))))))))","v":false},null,7.75,2.0294117647058822,false]
[null,null,null,null,null,null,null,null,null,null,null,null,null,null,null,null,null,null,null,null,null,null,null,null,null,null,null,null,{"$f":"IF(AND($F$9=1),'1st milking (D)'!E93, '2nd milking (D)'!E93)","v":7.5},{"$f":"IF(AND($F$9=1),'1st milking (D)'!F93, '2nd milking (D)'!F93)","v":2.0588235294117645},{"$f":"IF(AND($F$9=1,$F$31=\"C\"),#REF!,IF(AND($F$9=2,$F$31=\"C\"),#REF!,IF(AND($F$9=3,$F$31=\"C\"),#REF!,IF(AND($F$9=4,$F$31=\"C\"),#REF!,IF(AND($F$9=1,$F$31=\"d\"),'1st milking (D)'!AL93, IF(AND($F$9=2,$F$31=\"d\"),'2nd milking (D)'!AL93, IF(AND($F$9=3,$F$31=\"D\"),'3rd milking (D)'!AL93,IF(AND($F$9=4,$F$31=\"D\"),'4th milking (D)'!AL93))))))))","v":false},null,7.5,2.0588235294117645,false]
[null,null,null,null,null,null,null,null,null,null,null,null,null,null,null,null,null,null,null,null,null,null,null,null,null,null,null,null,{"$f":"IF(AND($F$9=1),'1st milking (D)'!E94, '2nd milking (D)'!E94)","v":7.25},{"$f":"IF(AND($F$9=1),'1st milking (D)'!F94, '2nd milking (D)'!F94)","v":2.0882352941176472},{"$f":"IF(AND($F$9=1,$F$31=\"C\"),#REF!,IF(AND($F$9=2,$F$31=\"C\"),#REF!,IF(AND($F$9=3,$F$31=\"C\"),#REF!,IF(AND($F$9=4,$F$31=\"C\"),#REF!,IF(AND($F$9=1,$F$31=\"d\"),'1st milking (D)'!AL94, IF(AND($F$9=2,$F$31=\"d\"),'2nd milking (D)'!AL94, IF(AND($F$9=3,$F$31=\"D\"),'3rd milking (D)'!AL94,IF(AND($F$9=4,$F$31=\"D\"),'4th milking (D)'!AL94))))))))","v":false},null,7.25,2.0882352941176472,false]
[null,null,null,null,null,null,null,null,null,null,null,null,null,null,null,null,null,null,null,null,null,null,null,null,null,null,null,null,{"$f":"IF(AND($F$9=1),'1st milking (D)'!E95, '2nd milking (D)'!E95)","v":7},{"$f":"IF(AND($F$9=1),'1st milking (D)'!F95, '2nd milking (D)'!F95)","v":2.1176470588235294},{"$f":"IF(AND($F$9=1,$F$31=\"C\"),#REF!,IF(AND($F$9=2,$F$31=\"C\"),#REF!,IF(AND($F$9=3,$F$31=\"C\"),#REF!,IF(AND($F$9=4,$F$31=\"C\"),#REF!,IF(AND($F$9=1,$F$31=\"d\"),'1st milking (D)'!AL95, IF(AND($F$9=2,$F$31=\"d\"),'2nd milking (D)'!AL95, IF(AND($F$9=3,$F$31=\"D\"),'3rd milking (D)'!AL95,IF(AND($F$9=4,$F$31=\"D\"),'4th milking (D)'!AL95))))))))","v":false},null,7,2.1176470588235294,false]
[null,null,null,null,null,null,null,null,null,null,null,null,null,null,null,null,null,null,null,null,null,null,null,null,null,null,null,null,{"$f":"IF(AND($F$9=1),'1st milking (D)'!E96, '2nd milking (D)'!E96)","v":6.75},{"$f":"IF(AND($F$9=1),'1st milking (D)'!F96, '2nd milking (D)'!F96)","v":2.1470588235294117},{"$f":"IF(AND($F$9=1,$F$31=\"C\"),#REF!,IF(AND($F$9=2,$F$31=\"C\"),#REF!,IF(AND($F$9=3,$F$31=\"C\"),#REF!,IF(AND($F$9=4,$F$31=\"C\"),#REF!,IF(AND($F$9=1,$F$31=\"d\"),'1st milking (D)'!AL96, IF(AND($F$9=2,$F$31=\"d\"),'2nd milking (D)'!AL96, IF(AND($F$9=3,$F$31=\"D\"),'3rd milking (D)'!AL96,IF(AND($F$9=4,$F$31=\"D\"),'4th milking (D)'!AL96))))))))","v":false},null,6.75,2.1470588235294117,false]
[null,null,null,null,null,null,null,null,null,null,null,null,null,null,null,null,null,null,null,null,null,null,null,null,null,null,null,null,{"$f":"IF(AND($F$9=1),'1st milking (D)'!E97, '2nd milking (D)'!E97)","v":6.5},{"$f":"IF(AND($F$9=1),'1st milking (D)'!F97, '2nd milking (D)'!F97)","v":2.1764705882352939},{"$f":"IF(AND($F$9=1,$F$31=\"C\"),#REF!,IF(AND($F$9=2,$F$31=\"C\"),#REF!,IF(AND($F$9=3,$F$31=\"C\"),#REF!,IF(AND($F$9=4,$F$31=\"C\"),#REF!,IF(AND($F$9=1,$F$31=\"d\"),'1st milking (D)'!AL97, IF(AND($F$9=2,$F$31=\"d\"),'2nd milking (D)'!AL97, IF(AND($F$9=3,$F$31=\"D\"),'3rd milking (D)'!AL97,IF(AND($F$9=4,$F$31=\"D\"),'4th milking (D)'!AL97))))))))","v":false},null,6.5,2.1764705882352939,false]
[null,null,null,null,null,null,null,null,null,null,null,null,null,null,null,null,null,null,null,null,null,null,null,null,null,null,null,null,{"$f":"IF(AND($F$9=1),'1st milking (D)'!E98, '2nd milking (D)'!E98)","v":6.25},{"$f":"IF(AND($F$9=1),'1st milking (D)'!F98, '2nd milking (D)'!F98)","v":2.2058823529411766},{"$f":"IF(AND($F$9=1,$F$31=\"C\"),#REF!,IF(AND($F$9=2,$F$31=\"C\"),#REF!,IF(AND($F$9=3,$F$31=\"C\"),#REF!,IF(AND($F$9=4,$F$31=\"C\"),#REF!,IF(AND($F$9=1,$F$31=\"d\"),'1st milking (D)'!AL98, IF(AND($F$9=2,$F$31=\"d\"),'2nd milking (D)'!AL98, IF(AND($F$9=3,$F$31=\"D\"),'3rd milking (D)'!AL98,IF(AND($F$9=4,$F$31=\"D\"),'4th milking (D)'!AL98))))))))","v":false},null,6.25,2.2058823529411766,false]
[null,null,null,null,null,null,null,null,null,null,null,null,null,null,null,null,null,null,null,null,null,null,null,null,null,null,null,null,{"$f":"IF(AND($F$9=1),'1st milking (D)'!E99, '2nd milking (D)'!E99)","v":6},{"$f":"IF(AND($F$9=1),'1st milking (D)'!F99, '2nd milking (D)'!F99)","v":2.2352941176470589},{"$f":"IF(AND($F$9=1,$F$31=\"C\"),#REF!,IF(AND($F$9=2,$F$31=\"C\"),#REF!,IF(AND($F$9=3,$F$31=\"C\"),#REF!,IF(AND($F$9=4,$F$31=\"C\"),#REF!,IF(AND($F$9=1,$F$31=\"d\"),'1st milking (D)'!AL99, IF(AND($F$9=2,$F$31=\"d\"),'2nd milking (D)'!AL99, IF(AND($F$9=3,$F$31=\"D\"),'3rd milking (D)'!AL99,IF(AND($F$9=4,$F$31=\"D\"),'4th milking (D)'!AL99))))))))","v":false},null,6,2.2352941176470589,false]
[null,null,null,null,null,null,null,null,null,null,null,null,null,null,null,null,null,null,null,null,null,null,null,null,null,null,null,null,{"$f":"IF(AND($F$9=1),'1st milking (D)'!E100, '2nd milking (D)'!E100)","v":5.75},{"$f":"IF(AND($F$9=1),'1st milking (D)'!F100, '2nd milking (D)'!F100)","v":2.2647058823529411},{"$f":"IF(AND($F$9=1,$F$31=\"C\"),#REF!,IF(AND($F$9=2,$F$31=\"C\"),#REF!,IF(AND($F$9=3,$F$31=\"C\"),#REF!,IF(AND($F$9=4,$F$31=\"C\"),#REF!,IF(AND($F$9=1,$F$31=\"d\"),'1st milking (D)'!AL100, IF(AND($F$9=2,$F$31=\"d\"),'2nd milking (D)'!AL100, IF(AND($F$9=3,$F$31=\"D\"),'3rd milking (D)'!AL100,IF(AND($F$9=4,$F$31=\"D\"),'4th milking (D)'!AL100))))))))","v":false},null,5.75,2.2647058823529411,false]
[null,null,null,null,null,null,null,null,null,null,null,null,null,null,null,null,null,null,null,null,null,null,null,null,null,null,null,null,{"$f":"IF(AND($F$9=1),'1st milking (D)'!E101, '2nd milking (D)'!E101)","v":5.5},{"$f":"IF(AND($F$9=1),'1st milking (D)'!F101, '2nd milking (D)'!F101)","v":2.2941176470588234},{"$f":"IF(AND($F$9=1,$F$31=\"C\"),#REF!,IF(AND($F$9=2,$F$31=\"C\"),#REF!,IF(AND($F$9=3,$F$31=\"C\"),#REF!,IF(AND($F$9=4,$F$31=\"C\"),#REF!,IF(AND($F$9=1,$F$31=\"d\"),'1st milking (D)'!AL101, IF(AND($F$9=2,$F$31=\"d\"),'2nd milking (D)'!AL101, IF(AND($F$9=3,$F$31=\"D\"),'3rd milking (D)'!AL101,IF(AND($F$9=4,$F$31=\"D\"),'4th milking (D)'!AL101))))))))","v":false},null,5.5,2.2941176470588234,false]
[null,null,null,null,null,null,null,null,null,null,null,null,null,null,null,null,null,null,null,null,null,null,null,null,null,null,null,null,{"$f":"IF(AND($F$9=1),'1st milking (D)'!E102, '2nd milking (D)'!E102)","v":5.25},{"$f":"IF(AND($F$9=1),'1st milking (D)'!F102, '2nd milking (D)'!F102)","v":2.3235294117647061},{"$f":"IF(AND($F$9=1,$F$31=\"C\"),#REF!,IF(AND($F$9=2,$F$31=\"C\"),#REF!,IF(AND($F$9=3,$F$31=\"C\"),#REF!,IF(AND($F$9=4,$F$31=\"C\"),#REF!,IF(AND($F$9=1,$F$31=\"d\"),'1st milking (D)'!AL102, IF(AND($F$9=2,$F$31=\"d\"),'2nd milking (D)'!AL102, IF(AND($F$9=3,$F$31=\"D\"),'3rd milking (D)'!AL102,IF(AND($F$9=4,$F$31=\"D\"),'4th milking (D)'!AL102))))))))","v":false},null,5.25,2.3235294117647061,false]
[null,null,null,null,null,null,null,null,null,null,null,null,null,null,null,null,null,null,null,null,null,null,null,null,null,null,null,null,{"$f":"IF(AND($F$9=1),'1st milking (D)'!E103, '2nd milking (D)'!E103)","v":5},{"$f":"IF(AND($F$9=1),'1st milking (D)'!F103, '2nd milking (D)'!F103)","v":2.3529411764705883},{"$f":"IF(AND($F$9=1,$F$31=\"C\"),#REF!,IF(AND($F$9=2,$F$31=\"C\"),#REF!,IF(AND($F$9=3,$F$31=\"C\"),#REF!,IF(AND($F$9=4,$F$31=\"C\"),#REF!,IF(AND($F$9=1,$F$31=\"d\"),'1st milking (D)'!AL103, IF(AND($F$9=2,$F$31=\"d\"),'2nd milking (D)'!AL103, IF(AND($F$9=3,$F$31=\"D\"),'3rd milking (D)'!AL103,IF(AND($F$9=4,$F$31=\"D\"),'4th milking (D)'!AL103))))))))","v":false},null,5,2.3529411764705883,false]

{"sheet":"1st milking (BR1)","index":3,"n_rows":20,"n_cols":48,"rows_kept":20,"cut":false,"hidden":false,"merged":[[17,36,17,39],[17,9,17,12],[17,14,17,17],[17,20,17,23],[17,25,17,28],[17,31,17,34]]}
[]
["Entry"]
[]
["Milking",1]
["Time",{"$f":"EMCI!F11/60","v":0.5}]
["Milk T",35]
["Volume","D"]
[]
["Outcome",{"$f":"IF(B5>10,\"out\",AV20)","v":2.8135726105896084}]
[]
[null,"No (logs)","Nf (logs)","Tmin"]
["S aureus",{"$f":"EMCI!F19","v":2},{"$f":"EMCI!G19","v":5},5.6]
["B cereus",{"$f":"EMCI!F20","v":1},{"$f":"EMCI!G20","v":5},1.5]
["Pseudo",{"$f":"EMCI!F21","v":1},{"$f":"EMCI!G21","v":6},-6.1]
[]
[]
[]
["Cooling curve profile",null,null,null,"Growth (log/h)",null,null,null,"Saureus","Growth accumulated",null,null,null,null,"Time to NMTL (depending on initial logs)",null,null,null,null,"B cereus","Growth accumulated",null,null,null,null,"Time to NMTL (depending on initial logs)",null,null,null,null,"Pseudo","Growth accumulated",null,null,null,null,"Time to NMTL (depending on initial logs)",null,null,null,null,"NMTL","NMTL","NMTL","NMTL","NMTL",null,"NMTL"]
["Temp","Time","Time interval",null,"S. aureus","B.cereus","Pseudo",null,"Growth interval",{"$f":"B12","v":2},{"$f":"J19+1","v":3},{"$f":"K19+1","v":4},{"$f":"L19+1","v":5},null,{"$f":"J19","v":2},{"$f":"K19","v":3},{"$f":"L19","v":4},{"$f":"M19","v":5},null,"Growth interval",{"$f":"B13","v":1},{"$f":"U19+1","v":2},{"$f":"V19+1","v":3},{"$f":"W19+1","v":4},null,{"$f":"U19","v":1},{"$f":"V19","v":2},{"$f":"W19","v":3},{"$f":"X19","v":4},null,"Growth interval",{"$f":"B14","v":1},{"$f":"AF19+1","v":2},{"$f":"AG19+1","v":3},{"$f":"AH19+1","v":4},null,{"$f":"AF19","v":1},{"$f":"AG19","v":2},{"$f":"AH19","v":3},{"$f":"AI19","v":4},null,"Shorter of 3 microorganisms","B. cereus","S. aureus","Pseudo","Food Safety",null,"Entry"]
[{"$f":"B6","v":35},{"$f":"B5","v":0.5},{"$f":"B5","v":0.5},null,{"$f":"IF(A20>D12,(0.00033*(A20-5.6)*((6.5-2.8)*(1-EXP(0.5*(6.5-9.8)))*(36.7-0.9324)*(1-EXP(0.42*(-5-0.9324)))))^2,0)","v":0.90536721314405955},{"$f":"IF(A20>$D$13,(((0.175*(A20-1.5)*SQRT(0.995-0.92)*(1-EXP(0.4395*(A20-45)))))^2)/2.3,0)","v":1.093238843604089},{"$f":"IF(A20>$D$14,((0.1709*(A20+6.1)*SQRT(0.995-0.947)*(1-EXP(0.1723*(A20-41.2))))^2)/2.3,0)","v":0.44361941559383611},null,{"$f":"C20*E20","v":0.45268360657202977},{"$f":"J19+$I$20","v":2.4526836065720299},{"$f":"K19+$I$20","v":3.4526836065720299},4.4526836065720294,5.4526836065720294,null,{"$f":"($C$12-J20)/E20","v":2.8135726105896084},{"$f":"($C$12-K20)/E20","v":1.7090484070597389},{"$f":"($C$12-L20)/E20","v":0.60452420352986991},{"$f":"($C$12-M20)/E20","v":-0.49999999999999961},null,{"$f":"C20*F20","v":0.54661942180204448},{"$f":"U19+$T$20","v":1.5466194218020446},{"$f":"V19+$T$20","v":2.5466194218020446},3.5466194218020446,4.5466194218020446,null,{"$f":"($C$13-U20)/F20","v":3.1588527963506756},{"$f":"($C$13-V20)/F20","v":2.2441395972630067},{"$f":"($C$13-W20)/F20","v":1.3294263981753378},{"$f":"($C$13-X20)/F20","v":0.41471319908766885},null,{"$f":"C20*G20","v":0.22180970779691805},{"$f":"AF19+$AE$20","v":1.2218097077969181},{"$f":"AG19+$AE$20","v":2.2218097077969179},3.2218097077969179,4.2218097077969183,null,{"$f":"($C$14-AF20)/G20","v":10.770922381309481},{"$f":"($C$14-AG20)/G20","v":8.5167379050475862},{"$f":"($C$14-AH20)/G20","v":6.2625534287856892},{"$f":"($C$14-AI20)/G20","v":4.0083689525237922},null,{"$f":"+MIN(AQ20:AS20)","v":2.8135726105896084},{"$f":"Z20","v":3.1588527963506756},{"$f":"O20","v":2.8135726105896084},{"$f":"AK20","v":10.770922381309481},{"$f":"MIN(AQ20:AR20)","v":2.8135726105896084},null,{"$f":"IF(EMCI!F27=\"A\",'1st milking (BR1)'!AP20,IF(EMCI!F27=\"B\",'1st milking (BR1)'!AQ20,IF(EMCI!F27=\"S\",'1st milking (BR1)'!AR20,IF(EMCI!F27=\"P\",'1st milking (BR1)'!AS20,IF(EMCI!F27=\"FS\",'1st milking (BR1)'!AT20,\"error\")))))","v":2.8135726105896084}]

{"sheet":"1st milking (BR2) ","index":4,"n_rows":103,"n_cols":38,"rows_kept":103,"cut":false,"hidden":false,"merged":[]}
[]
["Entry",null,null,null,"Milk cooling curve (1st milking)",null,null,null,null,null,null,null,null,null,"Entry: ","Temp","Time"]
[null,null,null,null,null,null,null,null,null,null,null,null,null,null,null,{"$f":"E5","v":35},{"$f":"F5","v":0}]
["Milking",1,1,null,"T","t",null,null,null,null,null,null,null,null,null,{"$f":"E6","v":20},{"$f":"F6","v":0.5}]
["Time",{"$f":"EMCI!F11/60","v":0.5},"F",null,35,0]
["Milk T",{"$f":"EMCI!F13","v":20},null,null,{"$f":"B6","v":20},{"$f":"B5","v":0.5}]
["Volume","D",null,null,null,null,null,null,null,null,null,null,null,null,null,"x","y","xy","xx"]
[null,null,null,null,null,null,null,null,null,null,null,null,null,null,null,{"$f":"Q3","v":0},{"$f":"P3","v":35},{"$f":"P8*Q8","v":0},{"$f":"P8*P8","v":0}]
[null,null,null,null,null,null,"Flexible",null,null,null,null,null,null,null,null,{"$f":"Q4","v":0.5},{"$f":"P4","v":20},{"$f":"P9*Q9","v":10},{"$f":"P9*P9","v":0.25}]
["Outcome",{"$f":"IF(OR(B6>35,B6<=25),\"out\",LOOKUP(B6,A23:A103,B23:B103))","v":"out"},null,null,"slope ",-8.5,{"$f":"P12","v":-30},null,null,null,null,null,null,null,"sum",{"$f":"SUM(P8:P9)","v":0.5},{"$f":"SUM(Q8:Q9)","v":55},10,0.25]
[null,null,null,null,"intercept",25,{"$f":"P13","v":35}]
[null,null,null,null,null,null,null,null,null,null,null,null,null,null,"slope",{"$f":"(2*R10-P10*Q10)/(2*S10-(P10^2))","v":-30}]
[null,null,null,null,null,null,null,null,null,null,null,null,null,null,"intercept",{"$f":"(Q10-P12*P10)/2","v":35}]
[null,null,null,null,null,"No (logs)","Nf (logs)","Tmin"]
[null,null,null,null,"S aureus",{"$f":"EMCI!F19","v":2},{"$f":"EMCI!G19","v":5},5.6]
[null,null,null,null,"B cereus",{"$f":"EMCI!F20","v":1},{"$f":"EMCI!G20","v":5},1.5]
[null,null,null,null,"Pseudo",{"$f":"EMCI!F21","v":1},{"$f":"EMCI!G21","v":6},-6.1]
[]
[]
[]
["Lookup function",null,null,null,"Cooling curve profile",null,null,null,"Growth (log/h) during cooling",null,null,null,"Growth (log/h) to calc NMTL",null,null,null,"Saureus","Growth acc",null,"Time to NMTL (depending on initial logs)",null,"B cereus","Growth acc",null,"Time to NMTL (depending on initial logs)",null,"Pseudo","Growth acc",null,"Time to NMTL (depending on initial logs)",null,"NMTL","NMTL","NMTL","NMTL","NMTL",null,"NMTL"]
[{"$f":"E22","v":"Temp"},"NMTL",null,null,"Temp","Time","Time interval",null,"S. aureus","B.cereus","Pseudo",null,"S. aureus","B.cereus","Pseudo",null,"Growth interval",{"$f":"F15","v":2},null,{"$f":"R22","v":2},null,"Growth interval",{"$f":"F16","v":1},null,{"$f":"W22","v":1},null,"Growth interval",{"$f":"F17","v":1},null,{"$f":"AB22","v":1},null,"Shorter of 3 microorganisms","B. cereus","S. aureus","Pseudo","Food Safety",null,"Entry"]
[{"$f":"E103","v":15},{"$f":"AL103","v":19.845802958827456},null,null,{"$f":"E5","v":35},{"$f":"(E23-$G$11)/$G$10","v":0},{"$f":"F23","v":0},null,{"$f":"IF(E23>H15,(0.00033*(E23-5.6)*((6.5-2.8)*(1-EXP(0.5*(6.5-9.8)))*(36.7-0.9324)*(1-EXP(0.42*(-5-0.9324)))))^2,0)","v":0.90536721314405955},{"$f":"IF(E23>$H$16,(((0.175*(E23-1.5)*SQRT(0.995-0.92)*(1-EXP(0.4395*(E23-45)))))^2)/2.3,0)","v":1.093238843604089},{"$f":"IF(E23>$H$17,((0.1709*(E23+6.1)*SQRT(0.995-0.947)*(1-EXP(0.1723*(E23-41.2))))^2)/2.3,0)","v":0.44361941559383611},null,{"$f":"IF(E23>$H$15,(0.00033*(E23-5.6)*((6.5-2.8)*(1-EXP(0.5*(6.5-9.8)))*(36.7-0.9324)*(1-EXP(0.42*(-5-0.9324)))))^2,0)","v":0.90536721314405955},{"$f":"IF(E23>$H$16,(((0.175*(E23-1.5)*SQRT(0.995-0.92)*(1-EXP(0.4395*(E23-45)))))^2)/2.3,0)","v":1.093238843604089},{"$f":"IF(E23>$H$17,((0.1709*(E23+6.1)*SQRT(0.995-0.947)*(1-EXP(0.1723*(E23-41.2))))^2)/2.3,0)","v":0.44361941559383611},null,{"$f":"G23*I23","v":0},{"$f":"R22","v":2},null,{"$f":"($G$15-R23)/M23","v":3.3135726105896084},null,{"$f":"G23*J23","v":0},{"$f":"W22","v":1},null,{"$f":"($G$16-W23)/N23","v":3.6588527963506756},null,{"$f":"G23*K23","v":0},{"$f":"AB22","v":1},null,{"$f":"($G$17-AB23)/O23","v":11.270922381309482},null,{"$f":"+MIN(AG23:AI23)","v":3.3135726105896084},{"$f":"Y23","v":3.6588527963506756},{"$f":"T23","v":3.3135726105896084},{"$f":"AD23","v":11.270922381309482},{"$f":"MIN(AG23:AH23)","v":3.3135726105896084},null,{"$f":"IF(EMCI!$F$27=\"A\",$AF23,IF(EMCI!$F$27=\"B\",$AG23,IF(EMCI!$F$27=\"S\",$AH23,IF(EMCI!$F$27=\"P\",$AI23,IF(EMCI!$F$27=\"FS\",$AJ23,\"error\")))))","v":3.3135726105896084}]
[{"$f":"E102","v":15.25},{"$f":"AL102","v":19.138888849101548},null,null,{"$f":"E23-0.25","v":34.75},{"$f":"(E24-$G$11)/$G$10","v":8.3333333333333332E-3},{"$f":"F24-F23","v":8.3333333333333332E-3},null,{"$f":"IF(E24>$H$15,(0.00033*(((E24+E23)/2)-5.6)*((6.5-2.8)*(1-EXP(0.5*(6.5-9.8)))*(36.7-0.9324)*(1-EXP(0.42*(-5-0.9324)))))^2,0)","v":0.89768487863771573},{"$f":"IF(E24>$H$16,(((0.175*(((E24+E23)/2)-1.5)*SQRT(0.995-0.92)*(1-EXP(0.4395*(((E24+E23)/2)-45)))))^2)/2.3,0)","v":1.0865453546833577},{"$f":"IF(E24>$H$17,((0.1709*(((E24+E23)/2)+6.1)*SQRT(0.995-0.947)*(1-EXP(0.1723*(((E24+E23)/2)-41.2))))^2)/2.3,0)","v":0.45081593720737395},null,{"$f":"IF(E24>$H$15,(0.00033*(E24-5.6)*((6.5-2.8)*(1-EXP(0.5*(6.5-9.8)))*(36.7-0.9324)*(1-EXP(0.42*(-5-0.9324)))))^2,0)","v":0.89003527670276661},{"$f":"IF(E24>$H$16,(((0.175*(E24-1.5)*SQRT(0.995-0.92)*(1-EXP(0.4395*(E24-45)))))^2)/2.3,0)","v":1.0797845938652324},{"$f":"IF(E24>$H$17,((0.1709*(E24+6.1)*SQRT(0.995-0.947)*(1-EXP(0.1723*(E24-41.2))))^2)/2.3,0)","v":0.45779627384130134},null,7.4807073219809641E-3,{"$f":"R23+Q24","v":2.0074807073219811},null,{"$f":"($G$15-R24)/M24","v":3.3622479591641974},null,9.054544622361313E-3,{"$f":"W23+V24","v":1.0090545446223613},null,{"$f":"($G$16-W24)/N24","v":3.6960570451292689},null,3.7567994767281161E-3,{"$f":"AB23+AA24","v":1.003756799476728},null,{"$f":"($G$17-AB24)/O24","v":10.913682539616431},null,{"$f":"+MIN(AG24:AI24)","v":3.3622479591641974},3.6960570451292689,3.3622479591641974,10.913682539616431,{"$f":"MIN(AG24:AH24)","v":3.3622479591641974},null,{"$f":"IF(EMCI!$F$27=\"A\",$AF24,IF(EMCI!$F$27=\"B\",$AG24,IF(EMCI!$F$27=\"S\",$AH24,IF(EMCI!$F$27=\"P\",$AI24,IF(EMCI!$F$27=\"FS\",$AJ24,\"error\")))))","v":3.3622479591641974}]
[{"$f":"E101","v":15.5},{"$f":"AL101","v":18.469654247906618},null,null,{"$f":"E24-0.25","v":34.5},{"$f":"(E25-$G$11)/$G$10","v":1.6666666666666666E-2},{"$f":"F25-F24","v":8.3333333333333332E-3},null,{"$f":"IF(E25>$H$15,(0.00033*(((E25+E24)/2)-5.6)*((6.5-2.8)*(1-EXP(0.5*(6.5-9.8)))*(36.7-0.9324)*(1-EXP(0.42*(-5-0.9324)))))^2,0)","v":0.88241840733921206},{"$f":"IF(E25>$H$16,(((0.175*(((E25+E24)/2)-1.5)*SQRT(0.995-0.92)*(1-EXP(0.4395*(((E25+E24)/2)-45)))))^2)/2.3,0)","v":1.0729623376310258},{"$f":"IF(E25>$H$17,((0.1709*(((E25+E24)/2)+6.1)*SQRT(0.995-0.947)*(1-EXP(0.1723*(((E25+E24)/2)-41.2))))^2)/2.3,0)","v":0.46456065795629897},null,0.87483427054705243,1.0660840310403212,0.47110959735057406,null,7.353486727826767E-3,{"$f":"R24+Q25","v":2.0148341940498078},null,3.4122643641789487,null,8.941352813591881E-3,{"$f":"W24+V25","v":1.0179958974359533},null,3.7351690735656842,null,3.8713388163024915E-3,{"$f":"AB24+AA25","v":1.0076281382930306},null,10.59704979432189,null,3.4122643641789487,3.7351690735656842,3.4122643641789487,10.59704979432189,3.4122643641789487,null,{"$f":"IF(EMCI!$F$27=\"A\",$AF25,IF(EMCI!$F$27=\"B\",$AG25,IF(EMCI!$F$27=\"S\",$AH25,IF(EMCI!$F$27=\"P\",$AI25,IF(EMCI!$F$27=\"FS\",$AJ25,\"error\")))))","v":3.4122643641789487}]
[{"$f":"E100","v":15.75},{"$f":"AL100","v":17.835478392537343},null,null,34.25,2.5000000000000001E-2,8.333333333333335E-3,null,0.86728286632628715,1.0591548060262248,0.47744385490355873,null,0.859764194676917,1.0521794987567197,0.48356442944950923,null,7.2273572193857277E-3,2.0220615512691937,null,3.4636688375349927,null,8.8262900502185417E-3,1.0268221874861718,null,3.7761406843686176,null,3.9786987908629898E-3,1.0116068370838935,null,10.3158811093589,null,3.4636688375349927,3.7761406843686176,3.4636688375349927,10.3158811093589,3.4636688375349927,null,{"$f":"IF(EMCI!$F$27=\"A\",$AF26,IF(EMCI!$F$27=\"B\",$AG26,IF(EMCI!$F$27=\"S\",$AH26,IF(EMCI!$F$27=\"P\",$AI26,IF(EMCI!$F$27=\"FS\",$AJ26,\"error\")))))","v":3.4636688375349927}]
[{"$f":"E99","v":16},{"$f":"AL99","v":17.233964490856717},null,null,34,3.3333333333333333E-2,8.3333333333333315E-3,null,0.85227825559894155,1.0451626661011855,0.48947253772396759,null,0.84482504909236067,1.0381086012405434,0.495169597328804,null,7.1023187966578446E-3,2.0291638700658514,null,3.5165104693875633,null,8.7096888841765429E-3,1.0355318763703483,null,3.8189338946735423,null,4.0789378143663959E-3,1.01568577489826,null,10.065872888783277,null,3.5165104693875633,3.8189338946735423,3.5165104693875633,10.065872888783277,3.5165104693875633,null,{"$f":"IF(EMCI!$F$27=\"A\",$AF27,IF(EMCI!$F$27=\"B\",$AG27,IF(EMCI!$F$27=\"S\",$AH27,IF(EMCI!$F$27=\"P\",$AI27,IF(EMCI!$F$27=\"FS\",$AJ27,\"error\")))))","v":3.5165104693875633}]
[{"$f":"E98","v":16.25},{"$f":"AL98","v":16.662917140770254},null,null,33.75,4.1666666666666664E-2,8.3333333333333315E-3,null,0.83740457515717426,1.0310213484588158,0.50065721066416735,null,0.83001683379338298,1.0239047171530165,0.50593714977817372,null,6.9783714596431175E-3,2.0361422415254946,null,3.5708405393767011,null,8.5918445704901286E-3,1.0441237209408385,null,3.8635199279660895,null,4.1721434222013933E-3,1.0198579183204612,null,9.8434006750899066,null,3.5708405393767011,3.8635199279660895,3.5708405393767011,9.8434006750899066,3.5708405393767011,null,{"$f":"IF(EMCI!$F$27=\"A\",$AF28,IF(EMCI!$F$27=\"B\",$AG28,IF(EMCI!$F$27=\"S\",$AH28,IF(EMCI!$F$27=\"P\",$AI28,IF(EMCI!$F$27=\"FS\",$AJ28,\"error\")))))","v":3.5708405393767011}]
[{"$f":"E97","v":16.5},{"$f":"AL97","v":16.120322361903668},null,null,33.5,0.05,8.3333333333333384E-3,null,0.8226618250009865,1.0167622950973627,0.51101134208753796,null,0.81533954877998482,1.0095974609967842,0.51588185692461863,null,6.8555152083415579E-3,2.0429977567338362,null,3.6267126348658154,null,8.4730191258113614E-3,1.0525967400666498,null,3.9098783549198362,null,4.2584278507294855E-3,1.0241163461711906,null,9.6453937796767537,null,3.6267126348658154,3.9098783549198362,3.6267126348658154,9.6453937796767537,3.6267126348658154,null,{"$f":"IF(EMCI!$F$27=\"A\",$AF29,IF(EMCI!$F$27=\"B\",$AG29,IF(EMCI!$F$27=\"S\",$AH29,IF(EMCI!$F$27=\"P\",$AI29,IF(EMCI!$F$27=\"FS\",$AJ29,\"error\")))))","v":3.6267126348658154}]
[{"$f":"E96","v":16.75},{"$f":"AL96","v":15.604329899766462},null,null,33.25,5.8333333333333334E-2,8.3333333333333315E-3,null,0.8080500051303775,1.0024133963636102,0.52055089286850487,null,0.80079319405216487,{"$f":"IF(E30>$H$16,(((0.175*(E30-1.5)*SQRT(0.995-0.92)*(1-EXP(0.4395*(E30-45)))))^2)/2.3,0)","v":0.99521309675020686},{"$f":"IF(E30>$H$17,((0.1709*(E30+6.1)*SQRT(0.995-0.947)*(1-EXP(0.1723*(E30-41.2))))^2)/2.3,0)","v":0.52502076581983581},null,6.7337500427531441E-3,2.0497315067765896,null,3.6841827766973072,null,8.3534449696967498E-3,1.0609501850363465,null,3.9579963606049029,null,4.33792410723754E-3,1.0284542702784281,null,9.4692363681241307,null,3.6841827766973072,3.9579963606049029,3.6841827766973072,9.4692363681241307,3.6841827766973072,null,{"$f":"IF(EMCI!$F$27=\"A\",$AF30,IF(EMCI!$F$27=\"B\",$AG30,IF(EMCI!$F$27=\"S\",$AH30,IF(EMCI!$F$27=\"P\",$AI30,IF(EMCI!$F$27=\"FS\",$AJ30,\"error\")))))","v":3.6841827766973072}]
[{"$f":"E95","v":17},{"$f":"AL95","v":15.113237511593013},null,null,33,6.6666666666666666E-2,8.3333333333333315E-3,null,0.79356911554534726,0.98799938236918472,0.52929389778099345,null,0.78637776960992445,0.98077490813161727,0.5333728063051919,null,6.6130759628778924E-3,2.0563445827394675,null,3.7433095530163651,null,8.23332818640987E-3,1.0691835132227563,null,4.0078681195723851,null,4.4107824815082779E-3,1.0328650527599363,null,9.3126887770088285,null,3.7433095530163651,4.0078681195723851,3.7433095530163651,9.3126887770088285,3.7433095530163651,null,{"$f":"IF(EMCI!$F$27=\"A\",$AF31,IF(EMCI!$F$27=\"B\",$AG31,IF(EMCI!$F$27=\"S\",$AH31,IF(EMCI!$F$27=\"P\",$AI31,IF(EMCI!$F$27=\"FS\",$AJ31,\"error\")))))","v":3.7433095530163651}]
[{"$f":"E94","v":17.25},{"$f":"AL94","v":14.645476984261402},null,null,32.75,7.4999999999999997E-2,8.3333333333333315E-3,null,0.77921915624589633,0.97354217313255487,0.53726009457974566,null,0.77209327545326256,0.96630352961192501,0.54095844211051958,null,6.4934929687158012E-3,2.0628380757081834,null,3.8041542617600648,null,8.1128514427712892E-3,1.0772963646655276,null,4.0594942635776778,null,4.4771674548312133E-3,1.0373422202147675,null,9.1738244446721193,null,3.8041542617600648,4.0594942635776778,3.8041542617600648,9.1738244446721193,3.8041542617600648,null,{"$f":"IF(EMCI!$F$27=\"A\",$AF32,IF(EMCI!$F$27=\"B\",$AG32,IF(EMCI!$F$27=\"S\",$AH32,IF(EMCI!$F$27=\"P\",$AI32,IF(EMCI!$F$27=\"FS\",$AJ32,\"error\")))))","v":3.8041542617600648}]
[{"$f":"E93","v":17.5},{"$f":"AL93","v":14.199601669511889},null,null,32.5,8.3333333333333329E-2,8.3333333333333315E-3,null,0.76500012723202382,0.95906119141777124,0.54447059597614622,null,0.75793971158217988,0.9518172419976062,0.54779936262217055,null,6.3750010602668635E-3,2.0692130767684502,null,3.8667810624589212,null,7.9921765951480924E-3,1.0852885412606756,null,4.1128814293418419,null,4.5372549664678841E-3,1.0418794751812355,null,9.050978995458399,null,3.8667810624589212,4.1128814293418419,3.8667810624589212,9.050978995458399,3.8667810624589212,null,{"$f":"IF(EMCI!$F$27=\"A\",$AF33,IF(EMCI!$F$27=\"B\",$AG33,IF(EMCI!$F$27=\"S\",$AH33,IF(EMCI!$F$27=\"P\",$AI33,IF(EMCI!$F$27=\"FS\",$AJ33,\"error\")))))","v":3.8667810624589212}]
[{"$f":"E92","v":17.75},{"$f":"AL92","v":13.774275351193541},null,null,32.25,9.166666666666666E-2,8.3333333333333315E-3,null,0.75091202850373073,0.94457364194254634,0.55094760016671362,null,0.74391707799667628,0.93733223610779248,0.55391821119066487,null,6.257600237531088E-3,2.0754706770059812,null,3.9312571380530739,null,7.8714470161878845E-3,1.0931599882768634,null,4.168041875894529,null,4.5912300013892793E-3,1.0464707051826247,null,8.942708859796479,null,3.9312571380530739,4.168041875894529,3.9312571380530739,8.942708859796479,3.9312571380530739,null,{"$f":"IF(EMCI!$F$27=\"A\",$AF34,IF(EMCI!$F$27=\"B\",$AG34,IF(EMCI!$F$27=\"S\",$AH34,IF(EMCI!$F$27=\"P\",$AI34,IF(EMCI!$F$27=\"FS\",$AJ34,\"error\")))))","v":3.9312571380530739}]
[{"$f":"E91","v":18},{"$f":"AL91","v":13.368262284338112},null,null,32,0.1,8.3333333333333454E-3,null,0.73695486006101618,0.93009476033191552,0.55671413598673514,null,0.73002537469675111,0.9228628477763996,0.55933834624296197,null,6.1412905005084773E-3,2.0816119675064897,null,3.9976528674853173,null,7.7507896694326405E-3,1.1009107779462961,null,4.2249931627959674,null,4.6392844665561327E-3,1.0511099896491809,null,8.8477574326741237,null,3.9976528674853173,4.2249931627959674,3.9976528674853173,8.8477574326741237,3.9976528674853173,null,{"$f":"IF(EMCI!$F$27=\"A\",$AF35,IF(EMCI!$F$27=\"B\",$AG35,IF(EMCI!$F$27=\"S\",$AH35,IF(EMCI!$F$27=\"P\",$AI35,IF(EMCI!$F$27=\"FS\",$AJ35,\"error\")))))","v":3.9976528674853173}]
[{"$f":"E90","v":18.25},{"$f":"AL90","v":12.980418267217763},null,null,31.75,0.10833333333333334,8.3333333333333315E-3,null,0.72312862190388083,0.91563803490584539,0.5617938391374786,null,0.71626460168240536,0.90842176712826428,0.56408363182249022,null,6.0260718491990054E-3,2.0876380393556886,null,4.0660420098991077,null,7.6303169575487103E-3,1.1085410949038448,null,4.2837578819780768,null,4.681615326145654E-3,1.0557916049753266,null,8.7650272337286168,null,4.0660420098991077,4.2837578819780768,4.0660420098991077,8.7650272337286168,4.0660420098991077,null,{"$f":"IF(EMCI!$F$27=\"A\",$AF36,IF(EMCI!$F$27=\"B\",$AG36,IF(EMCI!$F$27=\"S\",$AH36,IF(EMCI!$F$27=\"P\",$AI36,IF(EMCI!$F$27=\"FS\",$AJ36,\"error\")))))","v":4.0660420098991077}]
[{"$f":"E89","v":18.5},{"$f":"AL89","v":12.609682625783771},null,null,31.5,0.11666666666666667,8.3333333333333315E-3,null,0.70943331403232412,0.90121540411395629,0.56621075627650985,null,0.70263475895363814,0.89402022481052357,0.56817825450493475,null,5.9119442836027001E-3,2.0935499836392912,null,4.1365019013420099,null,7.5101283676163007E-3,1.116051223271461,null,4.3443634371377824,null,4.7184229689709147E-3,1.0605100279442976,null,8.6935568774267509,null,4.1365019013420099,4.3443634371377824,4.1365019013420099,8.6935568774267509,4.1365019013420099,null,{"$f":"IF(EMCI!$F$27=\"A\",$AF37,IF(EMCI!$F$27=\"B\",$AG37,IF(EMCI!$F$27=\"S\",$AH37,IF(EMCI!$F$27=\"P\",$AI37,IF(EMCI!$F$27=\"FS\",$AJ37,\"error\")))))","v":4.1365019013420099}]
[{"$f":"E88","v":18.75},{"$f":"AL88","v":12.255071005499628},null,null,31.25,0.125,8.3333333333333315E-3,null,0.69586893644634662,0.88683743217072364,0.56998917407004634,null,0.68913584651045012,0.87966815760898986,0.57164656393245061,null,5.7989078037195543E-3,2.099348891443011,null,4.2091136649543062,null,7.3903119347560288E-3,1.123441535206217,null,4.4068418656082615,null,4.749909783917052E-3,1.0652599377282146,null,8.6325019227350861,null,4.2091136649543062,4.4068418656082615,4.2091136649543062,8.6325019227350861,4.2091136649543062,null,{"$f":"IF(EMCI!$F$27=\"A\",$AF38,IF(EMCI!$F$27=\"B\",$AG38,IF(EMCI!$F$27=\"S\",$AH38,IF(EMCI!$F$27=\"P\",$AI38,IF(EMCI!$F$27=\"FS\",$AJ38,\"error\")))))","v":4.2091136649543062}]
[{"$f":"E87","v":19},{"$f":"AL87","v":11.915668878984478},null,null,31,0.13333333333333333,8.3333333333333315E-3,null,0.6824354891459482,0.87251346520166284,0.57315347058688471,null,0.67576786435284075,0.86537435564518206,0.57451293447616492,null,5.6869624095495673E-3,2.1050358538525606,null,4.2839624357098502,null,7.2709455433471884E-3,1.1307124807495643,null,4.4712296984646356,null,4.7762789215573713E-3,1.0700362166497719,null,8.5811188704486163,null,4.2839624357098502,4.4712296984646356,4.2839624357098502,8.5811188704486163,4.2839624357098502,null,{"$f":"IF(EMCI!$F$27=\"A\",$AF39,IF(EMCI!$F$27=\"B\",$AG39,IF(EMCI!$F$27=\"S\",$AH39,IF(EMCI!$F$27=\"P\",$AI39,IF(EMCI!$F$27=\"FS\",$AJ39,\"error\")))))","v":4.2839624357098502}]
[{"$f":"E86","v":19.25},{"$f":"AL86","v":11.590625689410782},null,null,30.75,0.14166666666666666,8.3333333333333315E-3,null,0.66913297213112843,0.8582517699857507,0.5757279866678664,null,0.66253081248081058,0.85114659313328511,0.57680164577910276,null,5.5761081010927355E-3,2.1106119619536532,null,4.3611376008720111,null,7.152098083214588E-3,1.1378645788327788,null,4.5375678553205834,null,4.7977332222322189E-3,1.0748339498720041,null,8.5387517288988164,null,4.3611376008720111,4.5375678553205834,4.3611376008720111,8.5387517288988164,4.3611376008720111,null,{"$f":"IF(EMCI!$F$27=\"A\",$AF40,IF(EMCI!$F$27=\"B\",$AG40,IF(EMCI!$F$27=\"S\",$AH40,IF(EMCI!$F$27=\"P\",$AI40,IF(EMCI!$F$27=\"FS\",$AJ40,\"error\")))))","v":4.3611376008720111}]
[{"$f":"E85","v":19.5},{"$f":"AL85","v":11.279149559539025},null,null,30.5,0.15,8.3333333333333315E-3,null,0.65596138540188764,0.84405965717176556,0.57773691513551184,null,0.6494246908943595,0.83699174447747682,0.57853678015125587,null,5.4663448783490625E-3,2.1160783068320024,null,4.4407330574333193,null,7.0338304764313783E-3,1.1448984093092103,null,4.6059015708661262,null,4.8144742927959307E-3,1.0796484241648001,null,8.5048206866792402,null,4.4407330574333193,4.6059015708661262,4.4407330574333193,8.5048206866792402,4.4407330574333193,null,{"$f":"IF(EMCI!$F$27=\"A\",$AF41,IF(EMCI!$F$27=\"B\",$AG41,IF(EMCI!$F$27=\"S\",$AH41,IF(EMCI!$F$27=\"P\",$AI41,IF(EMCI!$F$27=\"FS\",$AJ41,\"error\")))))","v":4.4407330574333193}]
[{"$f":"E84","v":19.75},{"$f":"AL84","v":10.980502504859192},null,null,30.25,0.15833333333333333,8.3333333333333315E-3,null,0.64292072895822572,0.82994359065600032,0.57920420591750654,null,0.63644949959348707,0.82291588730823784,0.57974213498754124,null,5.3576727413185464E-3,2.1214359795733211,null,4.5228474879236682,null,6.9161965888000013E-3,1.1518146058980103,null,4.6762803507044008,null,4.8267017159792204E-3,1.0844751258807794,null,8.4788125227862849,null,4.5228474879236682,4.6762803507044008,4.5228474879236682,8.4788125227862849,4.5228474879236682,null,{"$f":"IF(EMCI!$F$27=\"A\",$AF42,IF(EMCI!$F$27=\"B\",$AG42,IF(EMCI!$F$27=\"S\",$AH42,IF(EMCI!$F$27=\"P\",$AI42,IF(EMCI!$F$27=\"FS\",$AJ42,\"error\")))))","v":4.5228474879236682}]
[{"$f":"E83","v":20},{"$f":"AL83","v":10.693996096743749},null,null,30,0.16666666666666666,8.3333333333333315E-3,null,0.63001100280014288,0.81590928463519274,0.58015348534715405,null,0.62360523857819361,0.80892439389069282,0.58044114855968898,null,5.2500916900011891E-3,2.1266860712633222,null,4.6075846561003422,null,6.7992440386266048E-3,1.158613849936637,null,4.7487579544825005,null,4.834612377892949E-3,1.0893097382586723,null,8.4602724564355096,null,4.6075846561003422,4.7487579544825005,4.6075846561003422,8.4602724564355096,4.6075846561003422,null,{"$f":"IF(EMCI!$F$27=\"A\",$AF43,IF(EMCI!$F$27=\"B\",$AG43,IF(EMCI!$F$27=\"S\",$AH43,IF(EMCI!$F$27=\"P\",$AI43,IF(EMCI!$F$27=\"FS\",$AJ43,\"error\")))))","v":4.6075846561003422}]
[{"$f":"E82","v":20.25},{"$f":"AL82","v":10.418987527967305},null,null,29.75,0.17499999999999999,8.3333333333333315E-3,null,0.6172322069276388,0.80196178969075338,0.58060798807553426,null,0.61089190784847902,0.79502201218778301,0.58065683769643972,null,5.1436017243969888E-3,2.1318296729877191,null,4.6950537241748505,null,6.6830149140896097E-3,1.1652968648507265,null,4.8233924046917105,null,4.8383999006294514E-3,1.0941481381593017,null,8.4487971954364856,null,4.6950537241748505,4.8233924046917105,4.6950537241748505,8.4487971954364856,4.6950537241748505,null,{"$f":"IF(EMCI!$F$27=\"A\",$AF44,IF(EMCI!$F$27=\"B\",$AG44,IF(EMCI!$F$27=\"S\",$AH44,IF(EMCI!$F$27=\"P\",$AI44,IF(EMCI!$F$27=\"FS\",$AJ44,\"error\")))))","v":4.6950537241748505}]
[{"$f":"E81","v":20.5},{"$f":"AL81","v":10.15487603855629},null,null,29.5,0.18333333333333332,8.3333333333333315E-3,null,0.60458434134071393,0.78810556911739305,0.58059050018552916,null,0.59830950740434352,0.78121293772513534,0.58041174601433143,null,5.0382028445059481E-3,2.136867875832225,null,4.7853695933881291,null,6.5675464093116077E-3,1.171864411260038,null,4.9002460198462137,null,4.8382541682127416E-3,1.0989863923275145,null,8.4440289868831684,null,4.7853695933881291,4.9002460198462137,4.7853695933881291,8.4440289868831684,4.7853695933881291,null,{"$f":"IF(EMCI!$F$27=\"A\",$AF45,IF(EMCI!$F$27=\"B\",$AG45,IF(EMCI!$F$27=\"S\",$AH45,IF(EMCI!$F$27=\"P\",$AI45,IF(EMCI!$F$27=\"FS\",$AJ45,\"error\")))))","v":4.7853695933881291}]
[{"$f":"E80","v":20.75},{"$f":"AL80","v":9.901099664816579},null,null,29.25,0.19166666666666668,8.3333333333333592E-3,null,0.59206740603936792,0.7743445665800881,0.58012331223861868,null,0.58585803724578689,0.7675008772818207,0.57972790149526576,null,4.9338950503280809E-3,2.141801770882553,null,4.8786532699189342,null,6.4528713881674207E-3,1.1783172826482056,null,4.9793854710455276,null,4.8343609353218376E-3,1.1038207532628364,null,8.445650509676474,null,4.8786532699189342,4.9793854710455276,4.8786532699189342,8.445650509676474,4.8786532699189342,null,{"$f":"IF(EMCI!$F$27=\"A\",$AF46,IF(EMCI!$F$27=\"B\",$AG46,IF(EMCI!$F$27=\"S\",$AH46,IF(EMCI!$F$27=\"P\",$AI46,IF(EMCI!$F$27=\"FS\",$AJ46,\"error\")))))","v":4.8786532699189342}]
[{"$f":"E79","v":21},{"$f":"AL79","v":9.6571322786501526},null,null,29,0.2,8.3333333333333315E-3,null,0.57968140102360066,0.76068226606690059,0.57922818111273999,null,0.57353749737280924,0.75388910532076348,0.57862678232823239,null,4.8306783418633377E-3,2.1466324492244162,null,4.9750322583021029,null,6.3390188838908365E-3,1.1846563015320963,null,5.0608818611917163,null,4.826901509272832E-3,1.1086476547721091,null,8.4533804770433481,null,4.9750322583021029,5.0608818611917163,4.9750322583021029,8.4533804770433481,4.9750322583021029,null,{"$f":"IF(EMCI!$F$27=\"A\",$AF47,IF(EMCI!$F$27=\"B\",$AG47,IF(EMCI!$F$27=\"S\",$AH47,IF(EMCI!$F$27=\"P\",$AI47,IF(EMCI!$F$27=\"FS\",$AJ47,\"error\")))))","v":4.9750322583021029}]
[{"$f":"E78","v":21.25},{"$f":"AL78","v":9.4224808879992903},null,null,28.75,0.20833333333333334,8.3333333333333315E-3,null,0.56742632629341228,0.74712174500043427,0.5779262996047988,null,0.56134788778541034,0.74038051397328442,0.57712929004222968,null,4.728552719111768E-3,2.1513610019435281,null,5.0746409847460532,null,6.2260145416702843E-3,1.1908823160737667,null,5.1448108263741803,null,4.8160524967066553E-3,1.1134637072688158,null,8.4669698402824558,null,5.0746409847460532,5.1448108263741803,5.0746409847460532,8.4669698402824558,5.0746409847460532,null,{"$f":"IF(EMCI!$F$27=\"A\",$AF48,IF(EMCI!$F$27=\"B\",$AG48,IF(EMCI!$F$27=\"S\",$AH48,IF(EMCI!$F$27=\"P\",$AI48,IF(EMCI!$F$27=\"FS\",$AJ48,\"error\")))))","v":5.0746409847460532}]
[{"$f":"E77","v":21.5},{"$f":"AL77","v":9.1966831725216451},null,null,28.5,0.21666666666666667,8.3333333333333315E-3,null,0.55530218184880298,0.73366572127669516,0.57623827287570684,null,0.54928920848359053,0.72697765730325659,0.57525572905660993,null,4.627518182073357E-3,2.1559885201256015,null,5.1776212529748991,null,6.1138810106391248E-3,1.1969961970844059,null,5.2312526591572839,null,4.8019856072975559E-3,1.1182656928761134,null,8.4861985036284331,null,5.1776212529748991,5.2312526591572839,5.1776212529748991,8.4861985036284331,5.1776212529748991,null,{"$f":"IF(EMCI!$F$27=\"A\",$AF49,IF(EMCI!$F$27=\"B\",$AG49,IF(EMCI!$F$27=\"S\",$AH49,IF(EMCI!$F$27=\"P\",$AI49,IF(EMCI!$F$27=\"FS\",$AJ49,\"error\")))))","v":5.1776212529748991}]
[{"$f":"E76","v":21.75},{"$f":"AL76","v":8.9793052314645756},null,null,28.25,0.22500000000000001,8.3333333333333315E-3,null,0.54330896768977288,0.72031659491582756,0.57418410091014693,null,0.53736145946734959,0.71368279049656147,0.57302579186476144,null,4.5275747307481065E-3,2.1605160948563498,null,5.2841227354828169,null,6.0026382909652287E-3,1.2029988353753711,null,5.3202924537143126,null,4.7848675075845568E-3,1.123050560383698,null,8.5108724752956668,null,5.2841227354828169,5.3202924537143126,5.2841227354828169,8.5108724752956668,5.2841227354828169,null,{"$f":"IF(EMCI!$F$27=\"A\",$AF50,IF(EMCI!$F$27=\"B\",$AG50,IF(EMCI!$F$27=\"S\",$AH50,IF(EMCI!$F$27=\"P\",$AI50,IF(EMCI!$F$27=\"FS\",$AJ50,\"error\")))))","v":5.2841227354828169}]
[{"$f":"E75","v":22},{"$f":"AL75","v":8.7699395232254194},null,null,28,0.23333333333333334,8.3333333333333315E-3,null,0.53144668381632132,0.70707648493376296,0.5717831662485402,null,0.52556464073668763,0.70049790455020455,0.57045854914811089,null,4.4287223651360104E-3,2.1649448172214858,null,5.3943035033799029,null,5.8923040411146899E-3,1.2088911394164858,null,5.4120202729483058,null,4.7648597187378338E-3,1.1278154201024357,null,8.5408213921474179,null,5.3943035033799029,5.4120202729483058,5.3943035033799029,8.5408213921474179,5.3943035033799029,null,{"$f":"IF(EMCI!$F$27=\"A\",$AF51,IF(EMCI!$F$27=\"B\",$AG51,IF(EMCI!$F$27=\"S\",$AH51,IF(EMCI!$F$27=\"P\",$AI51,IF(EMCI!$F$27=\"FS\",$AJ51,\"error\")))))","v":5.3943035033799029}]
[{"$f":"E74","v":22.25},{"$f":"AL74","v":8.5682029783019651},null,null,27.75,0.24166666666666667,8.3333333333333315E-3,null,0.51971533022844885,0.69394726197634693,0.56905422632575087,null,0.51389875229160464,0.68742475697168637,0.56757244419067743,null,4.330961085237073E-3,2.1692757783067229,null,5.5083305983335453,null,5.7828938498028894E-3,1.2146740332662886,null,5.5065313379302996,null,4.7421185527145894E-3,1.1325575386551503,null,8.5758963655917384,null,5.5065313379302996,5.5065313379302996,5.5083305983335453,8.5758963655917384,5.5065313379302996,null,{"$f":"IF(EMCI!$F$27=\"A\",$AF52,IF(EMCI!$F$27=\"B\",$AG52,IF(EMCI!$F$27=\"S\",$AH52,IF(EMCI!$F$27=\"P\",$AI52,IF(EMCI!$F$27=\"FS\",$AJ52,\"error\")))))","v":5.5065313379302996}]
[{"$f":"E73","v":22.5},{"$f":"AL73","v":8.3737352692931015},null,null,27.5,0.25,{"$f":"F53-F52","v":8.3333333333333315E-3},null,0.50811490692615524,0.68093057719727779,0.56601540982069232,null,0.50236379413210064,0.67446489894231254,0.56438529103058133,null,4.2342908910512926E-3,2.173510069197774,null,5.6263806504713543,null,5.6744214766439802E-3,1.2203484547429326,null,5.6039262401709413,null,4.7167950818391017E-3,1.1372743337369895,null,8.6159681046675658,null,5.6039262401709413,5.6039262401709413,5.6263806504713543,8.6159681046675658,5.6039262401709413,null,{"$f":"IF(EMCI!$F$27=\"A\",$AF53,IF(EMCI!$F$27=\"B\",$AG53,IF(EMCI!$F$27=\"S\",$AH53,IF(EMCI!$F$27=\"P\",$AI53,IF(EMCI!$F$27=\"FS\",$AJ53,\"error\")))))","v":5.6039262401709413}]
[{"$f":"E72","v":22.75},{"$f":"AL72","v":8.1861972233377518},null,null,{"$f":"E53-0.25","v":27.25},0.25833333333333336,8.3333333333333592E-3,null,0.49664541390944061,0.66802788780743638,0.56268421648385814,null,0.4909597662581755,0.66161969934737963,0.56091427584463183,null,4.1387117825786848E-3,{"$f":"R53+Q54","v":2.1776487809803529},null,5.7486405465157588,null,5.5668990650619872E-3,{"$f":"W53+V54","v":1.2259153538079945},null,5.7043111774252715,null,4.6890351373654994E-3,{"$f":"AB53+AA54","v":1.1419633688743549},null,8.6609252791977038,null,5.7043111774252715,5.7043111774252715,5.7486405465157588,8.6609252791977038,5.7043111774252715,null,{"$f":"IF(EMCI!$F$27=\"A\",$AF54,IF(EMCI!$F$27=\"B\",$AG54,IF(EMCI!$F$27=\"S\",$AH54,IF(EMCI!$F$27=\"P\",$AI54,IF(EMCI!$F$27=\"FS\",$AJ54,\"error\")))))","v":5.7043111774252715}]
[{"$f":"E71","v":23},{"$f":"AL71","v":8.0052693639092087},null,null,27,0.26666666666666666,8.3333333333333037E-3,null,0.48530685117830497,0.65524047967527466,0.55907751996656363,null,0.47968666866982917,0.64889036603093808,0.55717596111604162,null,{"$f":"G55*I55","v":4.0442237598191941E-3},2.1816930047401719,null,5.8753081528719395,null,{"$f":"G55*J55","v":5.4603373306272695E-3},{"$f":"W54+V55","v":1.2313756911386218},null,5.8077982139153779,null,{"$f":"G55*K55","v":4.6589793330546808E-3},{"$f":"AB54+AA55","v":1.1466223482074096},null,8.7106730916228283,null,5.8077982139153779,{"$f":"Y55","v":5.8077982139153779},{"$f":"T55","v":5.8753081528719395},{"$f":"AD55","v":8.7106730916228283},5.8077982139153779,null,{"$f":"IF(EMCI!$F$27=\"A\",$AF55,IF(EMCI!$F$27=\"B\",$AG55,IF(EMCI!$F$27=\"S\",$AH55,IF(EMCI!$F$27=\"P\",$AI55,IF(EMCI!$F$27=\"FS\",$AJ55,\"error\")))))","v":5.8077982139153779}]
[{"$f":"E70","v":23.25},{"$f":"AL70","v":7.8306505702375322},null,null,26.75,0.27500000000000002,8.3333333333333592E-3,null,0.47409921873274807,0.64256948731524277,0.5552115732268732,null,0.46854450136706194,0.63627796459257113,0.55318629218393334,null,3.9508268227729125E-3,2.1856438315629449,null,6.0065930988959861,null,5.3547457276270395E-3,1.2367304368662488,null,5.9145055660437524,null,4.6267631102239574E-3,1.1512491113176335,null,8.7651320309111469,null,5.9145055660437524,5.9145055660437524,6.0065930988959861,8.7651320309111469,5.9145055660437524,null,{"$f":"IF(EMCI!$F$27=\"A\",$AF56,IF(EMCI!$F$27=\"B\",$AG56,IF(EMCI!$F$27=\"S\",$AH56,IF(EMCI!$F$27=\"P\",$AI56,IF(EMCI!$F$27=\"FS\",$AJ56,\"error\")))))","v":5.9145055660437524}]
[{"$f":"E69","v":23.5},{"$f":"AL69","v":7.6620568438360293},null,null,26.5,0.28333333333333333,8.3333333333333037E-3,null,0.46302251657277033,0.63001591156325931,0.55110201613337861,null,0.45753326434987357,0.62378343500778799,0.54896060581714612,null,3.8585209714397388E-3,2.1895023525343849,null,6.1427176261362293,null,5.250132596360476E-3,1.2419805694626094,null,6.0245579148642694,null,4.5925168011114719E-3,1.1558416281187449,null,8.8242367859357849,null,6.0245579148642694,6.0245579148642694,6.1427176261362293,8.8242367859357849,6.0245579148642694,null,{"$f":"IF(EMCI!$F$27=\"A\",$AF57,IF(EMCI!$F$27=\"B\",$AG57,IF(EMCI!$F$27=\"S\",$AH57,IF(EMCI!$F$27=\"P\",$AI57,IF(EMCI!$F$27=\"FS\",$AJ57,\"error\")))))","v":6.0245579148642694}]
[{"$f":"E68","v":23.75},{"$f":"AL68","v":7.4992201726780321},null,null,26.25,0.29166666666666669,8.3333333333333592E-3,null,0.45207674469837145,0.61758063520440631,0.54676388492960704,null,0.44665295761826407,0.61140760632176072,0.54451364049436979,null,3.7673062058197738E-3,2.1932696587402045,null,6.2839175099755922,null,5.1465052933700687E-3,1.2471270747559795,null,6.138086746779897,null,4.5563657077467394E-3,1.1603979938264917,null,8.8879352990672214,null,6.138086746779897,6.138086746779897,6.2839175099755922,8.8879352990672214,6.138086746779897,null,{"$f":"IF(EMCI!$F$27=\"A\",$AF58,IF(EMCI!$F$27=\"B\",$AG58,IF(EMCI!$F$27=\"S\",$AH58,IF(EMCI!$F$27=\"P\",$AI58,IF(EMCI!$F$27=\"FS\",$AJ58,\"error\")))))","v":6.138086746779897}]
[{"$f":"E67","v":24},{"$f":"AL67","v":7.3418874845236219},null,null,26,0.3,8.3333333333333037E-3,null,0.44126190310955155,0.60526443678800623,0.54221162325933114,null,0.4359035811722336,0.59915120963780699,0.5398595481082028,null,3.6771825259129163E-3,2.1969468412661173,null,6.4304430608161125,null,5.0438703065667006E-3,1.2521709450625462,null,6.2552307241490084,null,4.5184301938277433E-3,1.1649164240203194,null,8.9561879435548963,null,6.2552307241490084,6.2552307241490084,6.4304430608161125,8.9561879435548963,6.2552307241490084,null,{"$f":"IF(EMCI!$F$27=\"A\",$AF59,IF(EMCI!$F$27=\"B\",$AG59,IF(EMCI!$F$27=\"S\",$AH59,IF(EMCI!$F$27=\"P\",$AI59,IF(EMCI!$F$27=\"FS\",$AJ59,\"error\")))))","v":6.2552307241490084}]
[{"$f":"E66","v":24.25},{"$f":"AL66","v":7.1898196817466111},null,null,25.75,0.30833333333333335,8.3333333333333592E-3,null,0.43057799180631057,0.5930680028385249,0.5374590944868346,null,0.42528513501178211,0.58701488959684833,0.53501190684276934,null,3.5881499317192661E-3,2.2005349911978365,null,6.5825602127490468,null,4.9422333569877231E-3,1.257113178419534,null,6.3761360877081268,null,4.4788257873903019E-3,1.1693952498077096,null,9.0289668106618812,null,6.3761360877081268,6.3761360877081268,6.5825602127490468,9.0289668106618812,6.3761360877081268,null,{"$f":"IF(EMCI!$F$27=\"A\",$AF60,IF(EMCI!$F$27=\"B\",$AG60,IF(EMCI!$F$27=\"S\",$AH60,IF(EMCI!$F$27=\"P\",$AI60,IF(EMCI!$F$27=\"FS\",$AJ60,\"error\")))))","v":6.3761360877081268}]
[{"$f":"E65","v":24.5},{"$f":"AL65","v":7.0427907507724772},null,null,25.5,0.31666666666666665,8.3333333333333037E-3,null,0.42002501078864835,0.58099193864701593,0.53251959507654056,null,0.41479761913690955,0.57499921452172775,0.52998373500334128,null,3.5002084232387239E-3,2.204035199621075,null,6.7405517085576117,null,4.8415994887251153E-3,1.2619547779082592,null,6.5009570929604985,null,4.4376632923044893E-3,1.173832913100014,null,9.1062550945446645,null,6.5009570929604985,6.5009570929604985,6.7405517085576117,9.1062550945446645,6.5009570929604985,null,{"$f":"IF(EMCI!$F$27=\"A\",$AF61,IF(EMCI!$F$27=\"B\",$AG61,IF(EMCI!$F$27=\"S\",$AH61,IF(EMCI!$F$27=\"P\",$AI61,IF(EMCI!$F$27=\"FS\",$AJ61,\"error\")))))","v":6.5009570929604985}]
[{"$f":"E64","v":24.75},{"$f":"AL64","v":6.9005869399189761},null,null,25.25,0.32500000000000001,8.3333333333333592E-3,null,0.40960296005656527,0.56903677780678696,0.52740586882375118,null,0.40444103354761585,0.56310468538042668,0.52478750560230925,null,3.4133580004713877E-3,2.2074485576215466,null,6.9047183909188563,null,4.7419731483899063E-3,1.2666967510566491,null,6.6298564829400704,null,4.3950489068646072E-3,1.1782279620068787,null,9.1880465645977516,null,6.6298564829400704,6.6298564829400704,6.9047183909188563,9.1880465645977516,6.6298564829400704,null,{"$f":"IF(EMCI!$F$27=\"A\",$AF62,IF(EMCI!$F$27=\"B\",$AG62,IF(EMCI!$F$27=\"S\",$AH62,IF(EMCI!$F$27=\"P\",$AI62,IF(EMCI!$F$27=\"FS\",$AJ62,\"error\")))))","v":6.6298564829400704}]
[{"$f":"E63","v":25},{"$f":"AL63","v":6.7630060000421928},null,null,25,0.33333333333333331,8.3333333333333037E-3,null,0.39931183961006106,0.55720299063824719,0.5221301217527905,null,0.39421537824390102,0.55133174370461446,0.5194351615291144,null,3.3275986634171638E-3,2.2107761562849637,null,7.0753806108227053,null,4.64335825531871E-3,1.2713401093119678,null,6.7630060000421928,null,4.351084347939905E-3,1.1825790463548187,null,9.2743451164600526,null,6.7630060000421928,6.7630060000421928,7.0753806108227053,9.2743451164600526,6.7630060000421928,null,{"$f":"IF(EMCI!$F$27=\"A\",$AF63,IF(EMCI!$F$27=\"B\",$AG63,IF(EMCI!$F$27=\"S\",$AH63,IF(EMCI!$F$27=\"P\",$AI63,IF(EMCI!$F$27=\"FS\",$AJ63,\"error\")))))","v":6.7630060000421928}]
[{"$f":"E62","v":25.25},{"$f":"AL62","v":6.6298564829400704},null,null,24.75,0.34166666666666667,8.3333333333333592E-3,null,0.38915164944913572,0.5454909916313323,0.516704037520888,null,0.38412065322576522,0.53968077858434527,0.51393813115264753,null,3.2429304120761412E-3,2.2140190866970397,null,7.2528797655290678,null,4.5457582635944497E-3,1.2758858675755622,null,6.9005869399189761,null,4.3058669793407467E-3,1.1868849133341595,null,9.3651643941481968,null,6.9005869399189761,6.9005869399189761,7.2528797655290678,9.3651643941481968,6.9005869399189761,null,{"$f":"IF(EMCI!$F$27=\"A\",$AF64,IF(EMCI!$F$27=\"B\",$AG64,IF(EMCI!$F$27=\"S\",$AH64,IF(EMCI!$F$27=\"P\",$AI64,IF(EMCI!$F$27=\"FS\",$AJ64,\"error\")))))","v":6.9005869399189761}]
[{"$f":"E61","v":25.5},{"$f":"AL61","v":6.5009570929604985},null,null,24.5,0.35,8.3333333333333037E-3,null,0.37912238957378935,0.53390114601918959,0.51113879318592725,null,0.3741568584932084,0.52815213284586449,0.50830734422334101,null,3.1593532464482335E-3,2.217178439943488,null,7.4375799798603053,null,4.4491762168265645E-3,1.2803350437923888,null,7.0427907507724772,null,4.2594899432160452E-3,1.1911444032773755,null,9.4605274768756846,null,7.0427907507724772,7.0427907507724772,7.4375799798603053,9.4605274768756846,7.0427907507724772,null,{"$f":"IF(EMCI!$F$27=\"A\",$AF65,IF(EMCI!$F$27=\"B\",$AG65,IF(EMCI!$F$27=\"S\",$AH65,IF(EMCI!$F$27=\"P\",$AI65,IF(EMCI!$F$27=\"FS\",$AJ65,\"error\")))))","v":7.0427907507724772}]
[{"$f":"E60","v":25.75},{"$f":"AL60","v":6.3761360877081268},null,null,24.25,0.35833333333333334,8.3333333333333592E-3,null,0.36922405998402202,0.52243377558375503,0.50544507521391735,null,0.36432399404623034,0.51674610850720604,0.50255324795898226,null,3.0768671665335266E-3,2.2202553071100213,null,7.6298699463018274,null,4.3536147965313058E-3,1.2846886585889201,null,7.1898196817466111,null,4.2120422934493239E-3,1.1953564455708248,null,9.5604666250636257,null,7.1898196817466111,7.1898196817466111,7.6298699463018274,9.5604666250636257,7.1898196817466111,null,{"$f":"IF(EMCI!$F$27=\"A\",$AF66,IF(EMCI!$F$27=\"B\",$AG66,IF(EMCI!$F$27=\"S\",$AH66,IF(EMCI!$F$27=\"P\",$AI66,IF(EMCI!$F$27=\"FS\",$AJ66,\"error\")))))","v":7.1898196817466111}]
[{"$f":"E59","v":26},{"$f":"AL59","v":6.2552307241490084},null,null,24,0.36666666666666664,8.3333333333333037E-3,null,0.35945666067983356,0.51108916378230074,0.49963309561793362,null,0.35462205988483136,0.50546297159537834,0.49668582321329618,null,2.9954721723319355E-3,2.223250779282353,null,7.8301649412883014,null,4.2590763648524908E-3,1.2889477349537726,null,7.3418874845236219,null,4.1636091301494324E-3,1.1995200547009741,null,9.6650230808732243,null,7.3418874845236219,7.3418874845236219,7.8301649412883014,9.6650230808732243,7.3418874845236219,null,{"$f":"IF(EMCI!$F$27=\"A\",$AF67,IF(EMCI!$F$27=\"B\",$AG67,IF(EMCI!$F$27=\"S\",$AH67,IF(EMCI!$F$27=\"P\",$AI67,IF(EMCI!$F$27=\"FS\",$AJ67,\"error\")))))","v":7.3418874845236219}]
[{"$f":"E58","v":26.25},{"$f":"AL58","v":6.138086746779897},null,null,23.75,0.375,8.3333333333333592E-3,null,0.34982019166122391,0.49986756027377982,0.49371260813449069,null,0.3450510560090112,0.49430295639929006,0.49071460063979649,null,2.9151682638435417E-3,2.2261659475461966,null,8.0389090372219094,null,4.1655630022815115E-3,1.293113297956054,null,7.4992201726780321,null,4.1142717344541018E-3,1.2036343264354281,null,9.7742469193112314,null,7.4992201726780321,7.4992201726780321,8.0389090372219094,9.7742469193112314,7.4992201726780321,null,{"$f":"IF(EMCI!$F$27=\"A\",$AF68,IF(EMCI!$F$27=\"B\",$AG68,IF(EMCI!$F$27=\"S\",$AH68,IF(EMCI!$F$27=\"P\",$AI68,IF(EMCI!$F$27=\"FS\",$AJ68,\"error\")))))","v":7.4992201726780321}]
[{"$f":"E57","v":26.5},{"$f":"AL57","v":6.0245579148642694},null,null,23.5,0.38333333333333336,8.3333333333333592E-3,null,0.34031465292819335,0.48876918491471738,0.48769292435601752,null,0.33561098241877019,0.48326626922401766,0.48464867677541063,null,2.8359554410682867E-3,2.2290019029872647,null,8.256577532242753,null,4.0730765409559911E-3,1.29718637449701,null,7.6620568438360293,null,4.0641077029668253E-3,1.2076984341383949,null,9.8881969465943449,null,7.6620568438360293,7.6620568438360293,8.256577532242753,9.8881969465943449,7.6620568438360293,null,{"$f":"IF(EMCI!$F$27=\"A\",$AF69,IF(EMCI!$F$27=\"B\",$AG69,IF(EMCI!$F$27=\"S\",$AH69,IF(EMCI!$F$27=\"P\",$AI69,IF(EMCI!$F$27=\"FS\",$AJ69,\"error\")))))","v":7.6620568438360293}]
[{"$f":"E56","v":26.75},{"$f":"AL56","v":5.9145055660437524},null,null,23.25,0.39166666666666666,8.3333333333333037E-3,null,0.33094004448074166,0.47779423128635318,0.48158292974945738,null,0.32630183911410787,0.47235309170445311,0.47849672997910669,null,2.7578337040061705E-3,2.2317597366912709,null,8.4836796225983715,null,3.9816185940529294E-3,1.3011679930910629,null,7.8306505702375322,null,4.0131910812454636E-3,1.2117116252196405,null,10.006940643020565,null,7.8306505702375322,7.8306505702375322,8.4836796225983715,10.006940643020565,7.8306505702375322,null,{"$f":"IF(EMCI!$F$27=\"A\",$AF70,IF(EMCI!$F$27=\"B\",$AG70,IF(EMCI!$F$27=\"S\",$AH70,IF(EMCI!$F$27=\"P\",$AI70,IF(EMCI!$F$27=\"FS\",$AJ70,\"error\")))))","v":7.8306505702375322}]
[{"$f":"E55","v":27},{"$f":"AL55","v":5.8077982139153779},null,null,23,0.4,8.3333333333333592E-3,null,0.32169636631886883,0.46694286980761318,0.47539109950113373,null,0.31712362609502465,0.46156358372966211,0.47226703617030219,null,2.6808030526572486E-3,2.234440539743928,null,8.7207613456948323,null,3.8911905817301221E-3,1.3050591836727929,null,8.0052693639092087,null,3.9615924958427938E-3,1.2156732177154832,null,10.130554148096969,null,8.0052693639092087,8.0052693639092087,8.7207613456948323,10.130554148096969,8.0052693639092087,null,{"$f":"IF(EMCI!$F$27=\"A\",$AF71,IF(EMCI!$F$27=\"B\",$AG71,IF(EMCI!$F$27=\"S\",$AH71,IF(EMCI!$F$27=\"P\",$AI71,IF(EMCI!$F$27=\"FS\",$AJ71,\"error\")))))","v":8.0052693639092087}]
[{"$f":"E54","v":27.25},{"$f":"AL54","v":5.7043111774252715},null,null,{"$f":"E71-0.25","v":22.75},0.40833333333333333,8.3333333333333037E-3,null,0.31258361844257504,0.45621525048219264,0.46912551413703624,null,0.30807634336152034,0.45089788602334746,0.46596748432033663,null,2.6048634870214494E-3,2.2370454032309492,null,8.9684088256227721,null,3.8017937540182583E-3,1.3088609774268112,null,8.1861972233377518,null,3.9093792844752881E-3,1.2195825969999585,null,10.259122286124301,null,8.1861972233377518,8.1861972233377518,8.9684088256227721,10.259122286124301,8.1861972233377518,null,{"$f":"IF(EMCI!$F$27=\"A\",$AF72,IF(EMCI!$F$27=\"B\",$AG72,IF(EMCI!$F$27=\"S\",$AH72,IF(EMCI!$F$27=\"P\",$AI72,IF(EMCI!$F$27=\"FS\",$AJ72,\"error\")))))","v":8.1861972233377518}]
[{"$f":"E53","v":27.5},{"$f":"AL53","v":5.6039262401709413},null,null,22.5,0.41666666666666669,8.3333333333333592E-3,null,0.30360180085186023,0.44561150532242505,0.46279387487570417,null,0.29915999091359485,0.44035612242055694,0.45960559165784953,null,2.5300150070988433E-3,2.2395754182380481,null,9.2272518572152045,null,3.7134292110202203E-3,1.3125744066378313,null,8.3737352692931015,null,3.8566156239642135E-3,1.2234392126239226,null,10.39273863084755,null,8.3737352692931015,8.3737352692931015,9.2272518572152045,10.39273863084755,8.3737352692931015,null,{"$f":"IF(EMCI!$F$27=\"A\",$AF73,IF(EMCI!$F$27=\"B\",$AG73,IF(EMCI!$F$27=\"S\",$AH73,IF(EMCI!$F$27=\"P\",$AI73,IF(EMCI!$F$27=\"FS\",$AJ73,\"error\")))))","v":8.3737352692931015}]
[{"$f":"E52","v":27.75},{"$f":"AL52","v":5.5065313379302996},null,null,22.25,0.42499999999999999,8.3333333333333037E-3,null,0.29475091354672428,0.43513175048769465,0.45640351867799828,null,0.2903745687512484,0.42993840187612925,0.45318851855561076,null,2.4562576128893602E-3,2.2420316758509373,null,9.4979678696025793,null,3.6260979207307759E-3,1.3162005045585621,null,8.5682029783019651,null,3.8033626556499721E-3,1.2272425752795726,null,10.531505608156227,null,8.5682029783019651,8.5682029783019651,9.4979678696025793,10.531505608156227,8.5682029783019651,null,{"$f":"IF(EMCI!$F$27=\"A\",$AF74,IF(EMCI!$F$27=\"B\",$AG74,IF(EMCI!$F$27=\"S\",$AH74,IF(EMCI!$F$27=\"P\",$AI74,IF(EMCI!$F$27=\"FS\",$AJ74,\"error\")))))","v":8.5682029783019651}]
[{"$f":"E51","v":28},{"$f":"AL51","v":5.3943035033799029},null,null,22,0.43333333333333335,8.3333333333333592E-3,null,0.28603095652716731,0.42477608817075047,0.44996143296436864,null,0.28172007687448086,0.41964482023624622,0.44672308307228259,null,2.3835913043930685E-3,{"$f":"R74+Q75","v":2.2444152671553304},null,9.7812863158929506,null,3.539800734756265E-3,{"$f":"W74+V75","v":1.3197403052933183},null,8.7699395232254194,null,3.749678608036417E-3,{"$f":"AB74+AA75","v":1.230992253887609},null,10.675534636164604,null,8.7699395232254194,8.7699395232254194,9.7812863158929506,10.675534636164604,8.7699395232254194,null,{"$f":"IF(EMCI!$F$27=\"A\",$AF75,IF(EMCI!$F$27=\"B\",$AG75,IF(EMCI!$F$27=\"S\",$AH75,IF(EMCI!$F$27=\"P\",$AI75,IF(EMCI!$F$27=\"FS\",$AJ75,\"error\")))))","v":8.7699395232254194}]
[{"$f":"E50","v":28.25},{"$f":"AL50","v":5.2841227354828169},null,null,21.75,0.44166666666666665,{"$f":"F76-F75","v":8.3333333333333037E-3},null,0.27744192979318916,0.41454460826142248,0.44347426997580658,null,0.2731965152832922,0.40947546180082306,0.44021577512785104,null,2.3120160816099016E-3,2.24672728323694,null,10.077993542150576,null,3.4545384021785084E-3,{"$f":"W75+V76","v":1.3231948436954968},null,8.9793052314645756,null,3.6956189164650418E-3,{"$f":"AB75+AA76","v":1.234687872804074},null,10.824946302326277,null,8.9793052314645756,8.9793052314645756,10.077993542150576,10.824946302326277,8.9793052314645756,null,{"$f":"IF(EMCI!$F$27=\"A\",$AF76,IF(EMCI!$F$27=\"B\",$AG76,IF(EMCI!$F$27=\"S\",$AH76,IF(EMCI!$F$27=\"P\",$AI76,IF(EMCI!$F$27=\"FS\",$AJ76,\"error\")))))","v":8.9793052314645756}]
[{"$f":"E49","v":28.5},{"$f":"AL49","v":5.1776212529748991},null,null,21.5,0.45,8.3333333333333592E-3,null,0.26898383334479004,0.40443738981380772,0.43694836075960397,null,0.26480388397768267,0.39943040070124541,0.43367277029608786,null,2.2415319445399239E-3,2.2489688151814802,null,10.388938196429072,null,3.3703115817817417E-3,1.3265651552772786,null,9.1966831725216451,null,3.6412363396633777E-3,1.2383291091437374,null,10.979870577544576,null,9.1966831725216451,9.1966831725216451,10.388938196429072,10.979870577544576,9.1966831725216451,null,{"$f":"IF(EMCI!$F$27=\"A\",$AF77,IF(EMCI!$F$27=\"B\",$AG77,IF(EMCI!$F$27=\"S\",$AH77,IF(EMCI!$F$27=\"P\",$AI77,IF(EMCI!$F$27=\"FS\",$AJ77,\"error\")))))","v":9.1966831725216451}]
[{"$f":"E48","v":28.75},{"$f":"AL48","v":5.0746409847460532},null,null,21.25,0.45833333333333331,8.3333333333333037E-3,null,0.26065666718196989,0.39445450233996598,0.43038972876538417,null,0.25654218295765185,0.3895097021151066,0.42709994320147926,null,2.1721388931830749E-3,2.2511409540746632,null,10.715037247418678,null,3.2871208528330383E-3,1.3298522761301117,null,9.4224808879992903,null,3.5865810730448555E-3,1.2419156902167823,null,11.140447067534843,null,9.4224808879992903,9.4224808879992903,10.715037247418678,11.140447067534843,9.4224808879992903,null,{"$f":"IF(EMCI!$F$27=\"A\",$AF78,IF(EMCI!$F$27=\"B\",$AG78,IF(EMCI!$F$27=\"S\",$AH78,IF(EMCI!$F$27=\"P\",$AI78,IF(EMCI!$F$27=\"FS\",$AJ78,\"error\")))))","v":9.4224808879992903}]
[{"$f":"E47","v":29},{"$f":"AL47","v":4.9750322583021029},null,null,21,0.46666666666666667,8.3333333333333592E-3,null,0.25246043130472862,0.38459600695047985,0.42380410304068805,null,0.24841141222320007,0.37971342333708369,0.42050288051163104,null,2.1038369275394116E-3,2.2532447910022024,null,11.057282692510968,null,3.204966724587342E-3,1.333057242854699,null,9.6571322786501526,null,3.5317008586724114E-3,1.2454473910754547,null,11.306825301980385,null,9.6571322786501526,9.6571322786501526,11.057282692510968,11.306825301980385,9.6571322786501526,null,{"$f":"IF(EMCI!$F$27=\"A\",$AF79,IF(EMCI!$F$27=\"B\",$AG79,IF(EMCI!$F$27=\"S\",$AH79,IF(EMCI!$F$27=\"P\",$AI79,IF(EMCI!$F$27=\"FS\",$AJ79,\"error\")))))","v":9.6571322786501526}]
[{"$f":"E46","v":29.25},{"$f":"AL46","v":4.8786532699189342},null,null,20.75,0.47499999999999998,8.3333333333333037E-3,null,0.24439512571306626,0.37486195735986705,0.41719693101874022,null,0.24041157177432726,0.37004161472285402,0.41388689351929048,null,2.0366260476088784E-3,2.2552814170498112,null,11.416749047032718,null,3.1238496446655477E-3,1.3361810924993645,null,9.901099664816579,null,3.4766410918228227E-3,1.2489240321672774,null,11.479165062305324,null,9.901099664816579,9.901099664816579,11.416749047032718,11.479165062305324,9.901099664816579,null,{"$f":"IF(EMCI!$F$27=\"A\",$AF80,IF(EMCI!$F$27=\"B\",$AG80,IF(EMCI!$F$27=\"S\",$AH80,IF(EMCI!$F$27=\"P\",$AI80,IF(EMCI!$F$27=\"FS\",$AJ80,\"error\")))))","v":9.901099664816579}]
[{"$f":"E45","v":29.5},{"$f":"AL45","v":4.7853695933881291},null,null,20.5,0.48333333333333334,8.3333333333333592E-3,null,0.23646075040698289,0.3652524007727313,0.41057339089394834,null,0.23254266161103329,0.3604943205209864,0.40725703031084975,null,1.9705062533915303E-3,2.2572519233032029,null,11.794601720369506,null,3.043770006439437E-3,1.3392248625058039,null,10.15487603855629,null,3.4214449241162467E-3,1.2523454770913938,null,11.657636749167553,null,10.15487603855629,10.15487603855629,11.794601720369506,11.657636749167553,10.15487603855629,null,{"$f":"IF(EMCI!$F$27=\"A\",$AF81,IF(EMCI!$F$27=\"B\",$AG81,IF(EMCI!$F$27=\"S\",$AH81,IF(EMCI!$F$27=\"P\",$AI81,IF(EMCI!$F$27=\"FS\",$AJ81,\"error\")))))","v":10.15487603855629}]
[{"$f":"E44","v":29.75},{"$f":"AL44","v":4.6950537241748505},null,null,20.25,0.49166666666666664,8.3333333333333037E-3,null,0.22865730538647838,0.35576737866468883,0.40393840358322086,null,0.22480468173331827,0.35107157960599633,0.40061808752055805,null,1.905477544887313E-3,2.2591574008480904,null,12.192106401072738,null,2.9647281555390632E-3,1.342189590661343,null,10.418987527967305,null,3.366153363193495E-3,1.2557116304545872,null,11.842421791057939,null,10.418987527967305,10.418987527967305,12.192106401072738,11.842421791057939,10.418987527967305,null,{"$f":"IF(EMCI!$F$27=\"A\",$AF82,IF(EMCI!$F$27=\"B\",$AG82,IF(EMCI!$F$27=\"S\",$AH82,IF(EMCI!$F$27=\"P\",$AI82,IF(EMCI!$F$27=\"FS\",$AJ82,\"error\")))))","v":10.418987527967305}]
[{"$f":"E43","v":30},{"$f":"AL43","v":4.6075846561003422},null,null,20,0.5,8.3333333333333592E-3,null,0.22098479065155283,0.34640692747046126,0.39729664427340144,null,0.21719763214118218,0.34177342612421274,0.39397462167172831,null,1.8415399220962792E-3,2.2609989407701865,null,12.610639592283473,null,2.8867243955871861E-3,1.3450763150569303,null,10.693996096743749,null,3.3108053689450225E-3,1.2590224358235322,null,12.033713095679538,null,10.693996096743749,10.693996096743749,12.610639592283473,12.033713095679538,10.693996096743749,null,{"$f":"IF(EMCI!$F$27=\"A\",$AF83,IF(EMCI!$F$27=\"B\",$AG83,IF(EMCI!$F$27=\"S\",$AH83,IF(EMCI!$F$27=\"P\",$AI83,IF(EMCI!$F$27=\"FS\",$AJ83,\"error\")))))","v":10.693996096743749}]
[{"$f":"E42","v":30.25},{"$f":"AL42","v":4.5228474879236682},null,null,19.75,0.5083333333333333,8.3333333333333037E-3,null,0.21344320620220619,0.33717107919008338,0.39065255355701073,null,0.20972151283462506,0.33259989006274093,0.38733096010797519,null,1.7786933850183785E-3,2.2627776341552051,null,13.051700461474447,null,2.8097589932506847E-3,1.347886074050181,null,10.980502504859192,null,3.2554379463084113E-3,1.2622778737698406,null,12.231715546078314,null,10.980502504859192,10.980502504859192,13.051700461474447,12.231715546078314,10.980502504859192,null,{"$f":"IF(EMCI!$F$27=\"A\",$AF84,IF(EMCI!$F$27=\"B\",$AG84,IF(EMCI!$F$27=\"S\",$AH84,IF(EMCI!$F$27=\"P\",$AI84,IF(EMCI!$F$27=\"FS\",$AJ84,\"error\")))))","v":10.980502504859192}]
[{"$f":"E41","v":30.5},{"$f":"AL41","v":4.4407330574333193},null,null,19.5,0.51666666666666672,8.3333333333334147E-3,null,0.20603255203843862,0.32805986192289105,0.38401034816011931,null,0.20237632381364684,0.3235509977506032,0.38069121151903063,null,1.7169379336536719E-3,2.2644945720888585,null,13.516924195293038,null,2.7338321826907855E-3,1.3506199062328719,null,11.279149559539025,null,3.200086234667692E-3,1.2654779600045083,null,12.436646543806054,null,11.279149559539025,11.279149559539025,13.516924195293038,12.436646543806054,11.279149559539025,null,{"$f":"IF(EMCI!$F$27=\"A\",$AF85,IF(EMCI!$F$27=\"B\",$AG85,IF(EMCI!$F$27=\"S\",$AH85,IF(EMCI!$F$27=\"P\",$AI85,IF(EMCI!$F$27=\"FS\",$AJ85,\"error\")))))","v":11.279149559539025}]
[{"$f":"E40","v":30.75},{"$f":"AL40","v":4.3611376008720111},null,null,19.25,0.52500000000000002,8.3333333333333037E-3,null,0.19875282816024986,0.31907330033781717,0.37737403126756752,null,0.19516206507824754,0.31462677230007507,0.37405927606696332,null,1.6562735680020764E-3,2.2661508456568606,null,14.008097082017656,null,2.6589441694818004E-3,1.3532788504023536,null,11.590625689410782,null,3.1447835938963847E-3,1.2686227435984048,null,12.648736601721364,null,11.590625689410782,11.590625689410782,14.008097082017656,12.648736601721364,11.590625689410782,null,{"$f":"IF(EMCI!$F$27=\"A\",$AF86,IF(EMCI!$F$27=\"B\",$AG86,IF(EMCI!$F$27=\"S\",$AH86,IF(EMCI!$F$27=\"P\",$AI86,IF(EMCI!$F$27=\"FS\",$AJ86,\"error\")))))","v":11.590625689410782}]
[{"$f":"E39","v":31},{"$f":"AL39","v":4.2839624357098502},null,null,19,0.53333333333333333,8.3333333333333037E-3,null,0.19160403456764008,0.310211416087533,0.37074740245191135,null,0.18807873662842725,0.30582723399529022,0.36743885511970198,null,{"$f":"G87*I87","v":1.5967002880636616E-3},2.2677475459449243,null,14.527173581843957,null,{"$f":"G87*J87","v":2.5850951340627656E-3},1.3558639455364163,null,11.915668878984478,null,{"$f":"G87*K87","v":3.0895616870992501E-3},1.2717123052855039,null,12.868229989379167,null,11.915668878984478,{"$f":"Y87","v":11.915668878984478},{"$f":"T87","v":14.527173581843957},{"$f":"AD87","v":12.868229989379167},11.915668878984478,null,{"$f":"IF(EMCI!$F$27=\"A\",$AF87,IF(EMCI!$F$27=\"B\",$AG87,IF(EMCI!$F$27=\"S\",$AH87,IF(EMCI!$F$27=\"P\",$AI87,IF(EMCI!$F$27=\"FS\",$AJ87,\"error\")))))","v":11.915668878984478}]
[{"$f":"E38","v":31.25},{"$f":"AL38","v":4.2091136649543062},null,null,18.75,0.54166666666666663,8.3333333333333037E-3,null,0.18458617126060919,0.30147422817308023,0.36413406721347463,null,{"$f":"IF(E88>$H$15,(0.00033*(E88-5.6)*((6.5-2.8)*(1-EXP(0.5*(6.5-9.8)))*(36.7-0.9324)*(1-EXP(0.42*(-5-0.9324)))))^2,0)","v":0.18112633846418588},0.29715240063436432,0.36083346059966087,null,1.5382180938384045E-3,2.2692857640387629,null,{"$f":"($G$15-R88)/M88","v":15.076295690155417},null,2.5122852347756598E-3,1.358376230771192,null,{"$f":"($G$16-W88)/N88","v":12.255071005499628},null,3.0344505601122779E-3,1.2747467558456163,null,{"$f":"($G$17-AB88)/O88","v":13.09538543432639},null,{"$f":"+MIN(AG88:AI88)","v":12.255071005499628},12.255071005499628,15.076295690155417,13.09538543432639,{"$f":"MIN(AG88:AH88)","v":12.255071005499628},null,{"$f":"IF(EMCI!$F$27=\"A\",$AF88,IF(EMCI!$F$27=\"B\",$AG88,IF(EMCI!$F$27=\"S\",$AH88,IF(EMCI!$F$27=\"P\",$AI88,IF(EMCI!$F$27=\"FS\",$AJ88,\"error\")))))","v":12.255071005499628}]
[{"$f":"E37","v":31.5},{"$f":"AL37","v":4.1365019013420099},null,null,{"$f":"E88-0.25","v":18.5},{"$f":"(E89-$G$11)/$G$10","v":0.55000000000000004},{"$f":"F89-F88","v":8.3333333333334147E-3},null,{"$f":"IF(E89>$H$15,(0.00033*(((E89+E88)/2)-5.6)*((6.5-2.8)*(1-EXP(0.5*(6.5-9.8)))*(36.7-0.9324)*(1-EXP(0.42*(-5-0.9324)))))^2,0)","v":0.17769923823915723},{"$f":"IF(E89>$H$16,(((0.175*(((E89+E88)/2)-1.5)*SQRT(0.995-0.92)*(1-EXP(0.4395*(((E89+E88)/2)-45)))))^2)/2.3,0)","v":0.29286175326486019},{"$f":"IF(E89>$H$17,((0.1709*(((E89+E88)/2)+6.1)*SQRT(0.995-0.947)*(1-EXP(0.1723*(((E89+E88)/2)-41.2))))^2)/2.3,0)","v":0.35753744613968486},null,0.17430487058552344,0.28860228783054476,0.35424642395600209,null,1.4808269853263246E-3,{"$f":"R88+Q89","v":2.2707665910240893},null,15.6578149526625,null,2.4405146105405257E-3,1.3608167453817326,null,12.609682625783771,null,2.9794787178307361E-3,1.277726234563447,null,13.330476883015947,null,12.609682625783771,12.609682625783771,15.6578149526625,13.330476883015947,12.609682625783771,null,{"$f":"IF(EMCI!$F$27=\"A\",$AF89,IF(EMCI!$F$27=\"B\",$AG89,IF(EMCI!$F$27=\"S\",$AH89,IF(EMCI!$F$27=\"P\",$AI89,IF(EMCI!$F$27=\"FS\",$AJ89,\"error\")))))","v":12.609682625783771}]
[{"$f":"E36","v":31.75},{"$f":"AL36","v":4.0660420098991077},null,null,18.25,0.55833333333333335,8.3333333333333037E-3,null,0.17094323550328427,0.28437400598515961,0.3509607836925473,null,0.16761433299243989,0.28017690927725214,0.34768090476967001,null,1.424526962527364E-3,2.2721911179866168,null,16.274317555745181,null,2.3697833832096549E-3,1.3631865287649423,null,12.980418267217763,null,2.9246731974378838E-3,1.280650907760885,null,13.573794325476594,null,12.980418267217763,12.980418267217763,16.274317555745181,13.573794325476594,12.980418267217763,null,{"$f":"IF(EMCI!$F$27=\"A\",$AF90,IF(EMCI!$F$27=\"B\",$AG90,IF(EMCI!$F$27=\"S\",$AH90,IF(EMCI!$F$27=\"P\",$AI90,IF(EMCI!$F$27=\"FS\",$AJ90,\"error\")))))","v":12.980418267217763}]
[{"$f":"E35","v":32},{"$f":"AL35","v":3.9976528674853173},null,null,18,0.56666666666666665,8.3333333333333037E-3,null,0.16431816305299018,0.27601099915677957,0.34440715663364052,null,0.16105472568493526,0.27187627698130323,0.34113989900079827,null,1.3693180254415801E-3,2.2735604360120583,null,16.928652992906049,null,2.3000916596398217E-3,1.3654866204245821,null,13.368262284338112,null,2.870059638613661E-3,1.2835209673994987,null,13.825644688337862,null,13.368262284338112,13.368262284338112,16.928652992906049,13.825644688337862,13.368262284338112,null,{"$f":"IF(EMCI!$F$27=\"A\",$AF91,IF(EMCI!$F$27=\"B\",$AG91,IF(EMCI!$F$27=\"S\",$AH91,IF(EMCI!$F$27=\"P\",$AI91,IF(EMCI!$F$27=\"FS\",$AJ91,\"error\")))))","v":13.368262284338112}]
[{"$f":"E34","v":32.25},{"$f":"AL34","v":3.9312571380530739},null,null,17.75,0.57499999999999996,8.3333333333333037E-3,null,0.15782402088827502,0.26777274402179801,0.33787948209643159,null,0.15462604866300958,0.26370040146810086,0.33462624688846243,null,1.3152001740689538E-3,2.2748756361861271,null,17.62396690193501,null,2.2314395335149757E-3,1.3677180599580971,null,13.774275351193541,null,2.8156623508035867E-3,1.2863366297503023,null,14.086352801311655,null,13.774275351193541,13.774275351193541,17.62396690193501,14.086352801311655,13.774275351193541,null,{"$f":"IF(EMCI!$F$27=\"A\",$AF92,IF(EMCI!$F$27=\"B\",$AG92,IF(EMCI!$F$27=\"S\",$AH92,IF(EMCI!$F$27=\"P\",$AI92,IF(EMCI!$F$27=\"FS\",$AJ92,\"error\")))))","v":13.774275351193541}]
[{"$f":"E33","v":32.5},{"$f":"AL33","v":3.8667810624589212},null,null,17.5,0.58333333333333337,8.3333333333334147E-3,null,0.15146080900913889,0.25965925043401999,0.3313805253160243,null,0.14832830192666285,0.2556492919621271,0.3281426405130104,null,1.2621734084095029E-3,2.2761378095945366,null,18.363738780965804,null,2.1638270869501876E-3,1.3698818870450473,null,14.199601669511889,null,2.761504377633563E-3,1.2890981341279359,null,14.356262442781443,null,14.199601669511889,14.199601669511889,18.363738780965804,14.356262442781443,14.199601669511889,null,{"$f":"IF(EMCI!$F$27=\"A\",$AF93,IF(EMCI!$F$27=\"B\",$AG93,IF(EMCI!$F$27=\"S\",$AH93,IF(EMCI!$F$27=\"P\",$AI93,IF(EMCI!$F$27=\"FS\",$AJ93,\"error\")))))","v":14.199601669511889}]
[{"$f":"E32","v":32.75},{"$f":"AL32","v":3.8041542617600648},null,null,17.25,0.59166666666666667,8.3333333333333037E-3,null,0.14522852741558157,0.25167052702825038,0.32491290702667763,null,0.14216148547589508,{"$f":"IF(E94>$H$16,(((0.175*(E94-1.5)*SQRT(0.995-0.92)*(1-EXP(0.4395*(E94-45)))))^2)/2.3,0)","v":0.2477229565456873},{"$f":"IF(E94>$H$17,((0.1709*(E94+6.1)*SQRT(0.995-0.947)*(1-EXP(0.1723*(E94-41.2))))^2)/2.3,0)","v":0.32169163103138926},null,1.2102377284631755E-3,2.2773480473229997,null,19.151825429811321,null,2.0972543919020792E-3,1.3719791414369493,null,14.645476984261402,null,2.7076075585556374E-3,1.2918057416864916,null,14.635737470752241,null,14.635737470752241,14.645476984261402,19.151825429811321,14.635737470752241,14.645476984261402,null,{"$f":"IF(EMCI!$F$27=\"A\",$AF94,IF(EMCI!$F$27=\"B\",$AG94,IF(EMCI!$F$27=\"S\",$AH94,IF(EMCI!$F$27=\"P\",$AI94,IF(EMCI!$F$27=\"FS\",$AJ94,\"error\")))))","v":14.645476984261402}]
[{"$f":"E31","v":33},{"$f":"AL31","v":3.7433095530163651},null,null,17,0.6,8.3333333333333037E-3,null,0.13912717610760325,0.24380658136915562,0.31847911053757483,null,0.1361255993107062,0.23992140229849684,0.31527563559599631,null,1.159393134230023E-3,2.2785074404572296,null,19.992511131803894,null,2.0317215114096228E-3,1.3740108629483589,null,15.113237511593013,null,2.6539925878131141E-3,1.2944597342743047,null,14.925163046076658,null,14.925163046076658,15.113237511593013,19.992511131803894,14.925163046076658,15.113237511593013,null,{"$f":"IF(EMCI!$F$27=\"A\",$AF95,IF(EMCI!$F$27=\"B\",$AG95,IF(EMCI!$F$27=\"S\",$AH95,IF(EMCI!$F$27=\"P\",$AI95,IF(EMCI!$F$27=\"FS\",$AJ95,\"error\")))))","v":15.113237511593013}]
[{"$f":"E30","v":33.25},{"$f":"AL30","v":3.6841827766973072},null,null,{"$f":"E95-0.25","v":16.75},0.60833333333333328,8.3333333333333037E-3,null,0.13315675508520389,0.23606742008214923,0.31208148849739786,null,0.13022064343109627,0.23224463542040302,0.30889694396762363,null,1.1096396257100284E-3,2.2796170800829398,null,20.890565798474942,null,1.9672285006845699E-3,1.3759780914490436,null,15.604329899766462,null,2.6006790708116398E-3,1.2970604133451165,null,15.224946955602812,null,15.224946955602812,15.604329899766462,20.890565798474942,15.224946955602812,15.604329899766462,null,{"$f":"IF(EMCI!$F$27=\"A\",$AF96,IF(EMCI!$F$27=\"B\",$AG96,IF(EMCI!$F$27=\"S\",$AH96,IF(EMCI!$F$27=\"P\",$AI96,IF(EMCI!$F$27=\"FS\",$AJ96,\"error\")))))","v":15.604329899766462}]
[{"$f":"E29","v":33.5},{"$f":"AL29","v":3.6267126348658154},null,null,{"$f":"E96-0.25","v":16.5},0.6166666666666667,8.3333333333334147E-3,null,0.12731726434838342,0.2284530489684527,0.30572226935828517,null,0.12444661783706529,0.22469266133925783,0.30255772483306026,null,1.0609772029032056E-3,{"$f":"R96+Q97","v":2.2806780572858432},null,21.851312554548443,null,1.9037754080704578E-3,{"$f":"W96+V97","v":1.377881866857114},null,16.120322361903668,null,2.5476855779857348E-3,{"$f":"AB96+AA97","v":1.2996080989231023},null,15.535521043696352,null,15.535521043696352,16.120322361903668,21.851312554548443,15.535521043696352,16.120322361903668,null,{"$f":"IF(EMCI!$F$27=\"A\",$AF97,IF(EMCI!$F$27=\"B\",$AG97,IF(EMCI!$F$27=\"S\",$AH97,IF(EMCI!$F$27=\"P\",$AI97,IF(EMCI!$F$27=\"FS\",$AJ97,\"error\")))))","v":16.120322361903668}]
[{"$f":"E28","v":33.75},{"$f":"AL28","v":3.5708405393767011},null,null,16.25,0.625,8.3333333333333037E-3,null,0.12160870389714186,0.22096347310622474,0.29940356354970438,null,0.11880352252861325,0.21726548480572058,0.2962600318378536,null,1.013405865809512E-3,{"$f":"R97+Q98","v":2.2816914631516525},null,22.880706556437804,null,1.8413622758851997E-3,{"$f":"W97+V98","v":1.3797232291329993},null,16.662917140770254,null,2.4950296962475277E-3,{"$f":"AB97+AA98","v":1.3021031286193498},null,15.857342761482796,null,15.857342761482796,16.662917140770254,22.880706556437804,15.857342761482796,16.662917140770254,null,{"$f":"IF(EMCI!$F$27=\"A\",$AF98,IF(EMCI!$F$27=\"B\",$AG98,IF(EMCI!$F$27=\"S\",$AH98,IF(EMCI!$F$27=\"P\",$AI98,IF(EMCI!$F$27=\"FS\",$AJ98,\"error\")))))","v":16.662917140770254}]
[{"$f":"E27","v":34},{"$f":"AL27","v":3.5165104693875633},null,null,16,0.6333333333333333,8.3333333333333037E-3,null,0.11603107373147929,0.21359869693942879,0.29312736937270262,null,0.11329135750574011,0.2099631099765577,0.29000580934463277,null,9.6692561442899064E-4,2.2826583887660816,null,23.985427229930043,null,1.7799891411619004E-3,1.3815032182741611,null,17.233964490856717,null,2.4427280781058464E-3,1.3045458566974557,null,16.190896844147805,null,16.190896844147805,17.233964490856717,23.985427229930043,16.190896844147805,17.233964490856717,null,{"$f":"IF(EMCI!$F$27=\"A\",$AF99,IF(EMCI!$F$27=\"B\",$AG99,IF(EMCI!$F$27=\"S\",$AH99,IF(EMCI!$F$27=\"P\",$AI99,IF(EMCI!$F$27=\"FS\",$AJ99,\"error\")))))","v":17.233964490856717}]
[{"$f":"E26","v":34.25},{"$f":"AL26","v":3.4636688375349927},null,null,15.75,0.64166666666666672,8.3333333333334147E-3,null,0.11058437385139566,0.20635872435590988,0.2868955786248723,null,0.1079101227684459,0.2027855404878211,0.28379689792726498,null,9.2153644876163954E-4,2.2835799252148434,null,25.172986603064707,null,1.7196560362992659E-3,1.3832228743104604,null,17.835478392537343,null,2.3907964885406261E-3,1.3069366531859963,null,16.536697127735344,null,16.536697127735344,17.835478392537343,25.172986603064707,16.536697127735344,17.835478392537343,null,{"$f":"IF(EMCI!$F$27=\"A\",$AF100,IF(EMCI!$F$27=\"B\",$AG100,IF(EMCI!$F$27=\"S\",$AH100,IF(EMCI!$F$27=\"P\",$AI100,IF(EMCI!$F$27=\"FS\",$AJ100,\"error\")))))","v":17.835478392537343}]
[{"$f":"E25","v":34.5},{"$f":"AL25","v":3.4122643641789487},null,null,15.5,0.65,8.3333333333333037E-3,null,0.10526860425689091,0.19924355875597805,0.28070998196622399,null,0.10265981831673063,0.19573277951912119,0.27763503961094887,null,8.7723836880742115E-4,2.2844571635836508,null,26.451857025873899,null,1.6603629896331444E-3,1.3848832373000937,null,18.469654247906618,null,2.339249849718525E-3,1.3092759030357148,null,16.89528851811146,null,16.89528851811146,18.469654247906618,26.451857025873899,16.89528851811146,18.469654247906618,null,{"$f":"IF(EMCI!$F$27=\"A\",$AF101,IF(EMCI!$F$27=\"B\",$AG101,IF(EMCI!$F$27=\"S\",$AH101,IF(EMCI!$F$27=\"P\",$AI101,IF(EMCI!$F$27=\"FS\",$AJ101,\"error\")))))","v":18.469654247906618}]
[{"$f":"E24","v":34.75},{"$f":"AL24","v":3.3622479591641974},null,null,15.25,0.65833333333333333,8.3333333333333037E-3,null,0.1000837649479651,0.19225320311263966,0.27457227403597939,null,9.7540444150594319E-2,0.18880482985006727,0.27152188286816148,null,8.3403137456637287E-4,2.2852911949582171,null,27.831622345808665,null,1.602110025938658E-3,1.3864853473260323,null,19.138888849101548,null,2.2881022836331536E-3,1.311564005319348,null,17.267249126130803,null,17.267249126130803,19.138888849101548,27.831622345808665,17.267249126130803,19.138888849101548,null,{"$f":"IF(EMCI!$F$27=\"A\",$AF102,IF(EMCI!$F$27=\"B\",$AG102,IF(EMCI!$F$27=\"S\",$AH102,IF(EMCI!$F$27=\"P\",$AI102,IF(EMCI!$F$27=\"FS\",$AJ102,\"error\")))))","v":19.138888849101548}]
[{"$f":"E23","v":35},{"$f":"AL23","v":3.3135726105896084},null,null,15,0.66666666666666663,8.3333333333333037E-3,null,9.5029855924618267E-2,0.18538766002448215,0.26848405833009958,null,9.2552000270036947E-2,0.18200169390981913,0.26545898738016671,null,7.9191546603848278E-4,2.2860831104242556,null,29.323157594189304,null,1.5448971668706791E-3,1.3880302444929031,null,19.845802958827456,null,2.2373671527508221E-3,1.3138013724720989,null,17.653192584573318,null,17.653192584573318,19.845802958827456,29.323157594189304,17.653192584573318,19.845802958827456,null,{"$f":"IF(EMCI!$F$27=\"A\",$AF103,IF(EMCI!$F$27=\"B\",$AG103,IF(EMCI!$F$27=\"S\",$AH103,IF(EMCI!$F$27=\"P\",$AI103,IF(EMCI!$F$27=\"FS\",$AJ103,\"error\")))))","v":19.845802958827456}]

{"sheet":"1st milking (D)","index":5,"n_rows":103,"n_cols":38,"rows_kept":103,"cut":false,"hidden":false,"merged":[]}
[]
["Entry",null,null,null,"Milk cooling curve (1st milking)"]
[]
["Milking",{"$f":"EMCI!F9","v":1},1,null,"T","t"]
["Time",0,0,null,25,0]
["Milk T",{"$f":"EMCI!F13","v":20},null,null,8,2]
["Volume",{"$f":"EMCI!F31","v":0},"D",null,5,{"$f":"(E7-25)/-8.5","v":2.3529411764705883}]
[]
[]
["Outcome",{"$f":"IF(OR(B6>E5,B6<E7,B5>2.35),\"out\",LOOKUP(B6,A23:A103,B23:B103))","v":10.942204051288039},null,null,"slope ",-8.5]
[null,null,null,null,"intercept",25]
[]
[]
[null,null,null,null,null,"No (logs)","Nf (logs)","Tmin",null,"N after milk (logs)","GR at 5C","Growth storage","N after stroage (logs)"]
[null,null,null,null,"S aureus",{"$f":"EMCI!F19","v":2},{"$f":"EMCI!G19","v":5},5.6,null,{"$f":"R103","v":2.2999003824240902},0,{"$f":"K15*(12-$F$7)","v":0},{"$f":"J15+L15","v":2.2999003824240902}]
[null,null,null,null,"B cereus",{"$f":"EMCI!F20","v":1},{"$f":"EMCI!G20","v":5},1.5,null,{"$f":"W103","v":1.5065163971629179},1.2233355411136097E-2,{"$f":"K16*(12-$F$7)","v":0.11801589926037176},{"$f":"J16+L16","v":1.6245322964232896}]
[null,null,null,null,"Pseudo",{"$f":"EMCI!F21","v":1},{"$f":"EMCI!G21","v":6},-6.1,null,{"$f":"AB103","v":1.6526580842997567},7.4807226267127047E-2,{"$f":"K17*(12-$F$7)","v":0.72166971222404908},{"$f":"J17+L17","v":2.3743277965238057}]
[]
[]
[]
["Lookup function",null,null,null,"Cooling curve profile",null,null,null,"Growth during cooling (log/h)",null,null,null,"Growth to calc NMTL",null,null,null,"Saureus","Growth acc",null,"Time to NMTL (depending on initial logs)",null,"B cereus","Growth acc",null,"Time to NMTL (depending on initial logs)",null,"Pseudo","Growth acc",null,"Time to NMTL (depending on initial logs)",null,"NMTL","NMTL","NMTL","NMTL","NMTL",null,"NMTL"]
[{"$f":"E22","v":"Temp"},"NMTL",null,null,"Temp","Time","Time interval",null,"S. aureus","B.cereus","Pseudo",null,"S.aureus","B.cereus","Pseudo",null,"Growth interval",{"$f":"F15","v":2},null,{"$f":"R22","v":2},null,"Growth interval",{"$f":"F16","v":1},null,{"$f":"W22","v":1},null,"Growth interval",{"$f":"F17","v":1},null,{"$f":"AB22","v":1},null,"Shorter of 3 microorganisms","B. cereus","S. aureus","Pseudo","Food Safety",null,"Entry"]
[{"$f":"E103","v":5},{"$f":"AL103","v":285.57035134096918},null,null,{"$f":"E5","v":25},{"$f":"(E23-$F$11)/$F$10","v":0},{"$f":"F23","v":0},null,{"$f":"IF(E23>H15,(0.00033*(E23-5.6)*((6.5-2.8)*(1-EXP(0.5*(6.5-9.8)))*(36.7-0.9324)*(1-EXP(0.42*(-5-0.9324)))))^2,0)","v":0.39421537824390102},{"$f":"IF(E23>$H$16,(((0.175*(E23-1.5)*SQRT(0.995-0.92)*(1-EXP(0.4395*(E23-45)))))^2)/2.3,0)","v":0.55133174370461446},{"$f":"IF(E23>$H$17,((0.1709*(E23+6.1)*SQRT(0.995-0.947)*(1-EXP(0.1723*(E23-41.2))))^2)/2.3,0)","v":0.5194351615291144},null,{"$f":"IF(E23>$H$15,(0.00033*(E23-5.6)*((6.5-2.8)*(1-EXP(0.5*(6.5-9.8)))*(36.7-0.9324)*(1-EXP(0.42*(-5-0.9324)))))^2,0)","v":0.39421537824390102},{"$f":"IF(E23>$H$16,(((0.175*(E23-1.5)*SQRT(0.995-0.92)*(1-EXP(0.4395*(E23-45)))))^2)/2.3,0)","v":0.55133174370461446},{"$f":"IF(E23>$H$17,((0.1709*(E23+6.1)*SQRT(0.995-0.947)*(1-EXP(0.1723*(E23-41.2))))^2)/2.3,0)","v":0.5194351615291144},null,{"$f":"G23*I23","v":0},{"$f":"R22","v":2},null,{"$f":"($G$15-R23)/M23","v":7.6100531982390098},null,{"$f":"G23*J23","v":0},{"$f":"W22","v":1},null,{"$f":"($G$16-W23)/N23","v":7.2551599752309368},null,{"$f":"G23*K23","v":0},{"$f":"AB22","v":1},null,{"$f":"($G$17-AB23)/O23","v":9.625840471178325},null,{"$f":"+MIN(AG23:AI23)","v":7.2551599752309368},{"$f":"Y23","v":7.2551599752309368},{"$f":"T23","v":7.6100531982390098},{"$f":"AD23","v":9.625840471178325},{"$f":"MIN(AG23:AH23)","v":7.2551599752309368},null,{"$f":"IF(EMCI!$F$27=\"A\",'1st milking (D)'!AF23,IF(EMCI!$F$27=\"B\",'1st milking (D)'!AG23,IF(EMCI!$F$27=\"S\",'1st milking (D)'!AH23,IF(EMCI!$F$27=\"P\",'1st milking (D)'!AI23,IF(EMCI!$F$27=\"FS\",'1st milking (D)'!AJ23,\"error\")))))","v":7.2551599752309368}]
[{"$f":"E102","v":5.25},{"$f":"AL102","v":248.79099105658494},null,null,{"$f":"E23-0.25","v":24.75},{"$f":"(E24-$F$11)/$F$10","v":2.9411764705882353E-2},{"$f":"F24-F23","v":2.9411764705882353E-2},null,{"$f":"IF(E24>$H$15,(0.00033*(((E24+E23)/2)-5.6)*((6.5-2.8)*(1-EXP(0.5*(6.5-9.8)))*(36.7-0.9324)*(1-EXP(0.42*(-5-0.9324)))))^2,0)","v":0.38915164944913572},{"$f":"IF(E24>$H$16,(((0.175*(((E24+E23)/2)-1.5)*SQRT(0.995-0.92)*(1-EXP(0.4395*(((E24+E23)/2)-45)))))^2)/2.3,0)","v":0.5454909916313323},{"$f":"IF(E24>$H$17,((0.1709*(((E24+E23)/2)+6.1)*SQRT(0.995-0.947)*(1-EXP(0.1723*(((E24+E23)/2)-41.2))))^2)/2.3,0)","v":0.516704037520888},null,{"$f":"IF(E24>$H$15,(0.00033*(E24-5.6)*((6.5-2.8)*(1-EXP(0.5*(6.5-9.8)))*(36.7-0.9324)*(1-EXP(0.42*(-5-0.9324)))))^2,0)","v":0.38412065322576522},{"$f":"IF(E24>$H$16,(((0.175*(E24-1.5)*SQRT(0.995-0.92)*(1-EXP(0.4395*(E24-45)))))^2)/2.3,0)","v":0.53968077858434527},{"$f":"IF(E24>$H$17,((0.1709*(E24+6.1)*SQRT(0.995-0.947)*(1-EXP(0.1723*(E24-41.2))))^2)/2.3,0)","v":0.51393813115264753},null,{"$f":"G24*I24","v":1.1445636748503992E-2},{"$f":"R23+Q24","v":2.0114456367485039},null,{"$f":"IF(M24=0,T23,($G$15-R24)/M24)","v":7.780249091409793},null,1.6043852695039187E-2,{"$f":"W23+V24","v":1.0160438526950393},null,{"$f":"($G$16-W24)/N24","v":7.3820604798181062},null,1.5197177574143765E-2,{"$f":"AB23+AA24","v":1.0151971775741437},null,{"$f":"($G$17-AB24)/O24","v":9.6992274366684299},null,{"$f":"+MIN(AG24:AI24)","v":7.3820604798181062},7.3820604798181062,7.780249091409793,9.6992274366684299,{"$f":"MIN(AG24:AH24)","v":7.3820604798181062},null,{"$f":"IF(EMCI!$F$27=\"A\",'1st milking (D)'!AF24,IF(EMCI!$F$27=\"B\",'1st milking (D)'!AG24,IF(EMCI!$F$27=\"S\",'1st milking (D)'!AH24,IF(EMCI!$F$27=\"P\",'1st milking (D)'!AI24,IF(EMCI!$F$27=\"FS\",'1st milking (D)'!AJ24,\"error\")))))","v":7.3820604798181062}]
[{"$f":"E101","v":5.5},{"$f":"AL101","v":218.69156054927834},null,null,{"$f":"E24-0.25","v":24.5},5.8823529411764705E-2,{"$f":"F25-F24","v":2.9411764705882353E-2},null,{"$f":"IF(E25>$H$15,(0.00033*(((E25+E24)/2)-5.6)*((6.5-2.8)*(1-EXP(0.5*(6.5-9.8)))*(36.7-0.9324)*(1-EXP(0.42*(-5-0.9324)))))^2,0)","v":0.37912238957378935},{"$f":"IF(E25>$H$16,(((0.175*(((E25+E24)/2)-1.5)*SQRT(0.995-0.92)*(1-EXP(0.4395*(((E25+E24)/2)-45)))))^2)/2.3,0)","v":0.53390114601918959},{"$f":"IF(E25>$H$17,((0.1709*(((E25+E24)/2)+6.1)*SQRT(0.995-0.947)*(1-EXP(0.1723*(((E25+E24)/2)-41.2))))^2)/2.3,0)","v":0.51113879318592725},null,0.3741568584932084,0.52815213284586449,0.50830734422334101,null,1.1150658516876157E-2,{"$f":"R24+Q25","v":2.0225962952653802},null,{"$f":"IF(M25=0,T24,($G$15-R25)/M25)","v":7.9576349788832346},null,1.5702974882917341E-2,{"$f":"W24+V25","v":1.0317468275779567},null,7.5134661504436933,null,1.5033493917233154E-2,{"$f":"AB24+AA25","v":1.0302306714913769},null,9.7770952652712353,null,7.5134661504436933,7.5134661504436933,7.9576349788832346,9.7770952652712353,7.5134661504436933,null,{"$f":"IF(EMCI!$F$27=\"A\",'1st milking (D)'!AF25,IF(EMCI!$F$27=\"B\",'1st milking (D)'!AG25,IF(EMCI!$F$27=\"S\",'1st milking (D)'!AH25,IF(EMCI!$F$27=\"P\",'1st milking (D)'!AI25,IF(EMCI!$F$27=\"FS\",'1st milking (D)'!AJ25,\"error\")))))","v":7.5134661504436933}]
[{"$f":"E100","v":5.75},{"$f":"AL100","v":193.74756826674962},null,null,24.25,8.8235294117647065E-2,2.9411764705882359E-2,null,0.36922405998402202,0.52243377558375503,0.50544507521391735,null,0.36432399404623034,0.51674610850720604,0.50255324795898226,null,1.085953117600065E-2,2.0334558264413807,null,8.1425989559781353,null,1.5365699281875152E-2,1.0471125268598318,null,7.6495737617829498,null,1.486603162393875E-2,1.0450967031153158,null,9.8594593050746671,null,7.6495737617829498,7.6495737617829498,8.1425989559781353,9.8594593050746671,7.6495737617829498,null,{"$f":"IF(EMCI!$F$27=\"A\",'1st milking (D)'!AF26,IF(EMCI!$F$27=\"B\",'1st milking (D)'!AG26,IF(EMCI!$F$27=\"S\",'1st milking (D)'!AH26,IF(EMCI!$F$27=\"P\",'1st milking (D)'!AI26,IF(EMCI!$F$27=\"FS\",'1st milking (D)'!AJ26,\"error\")))))","v":7.6495737617829498}]
[{"$f":"E99","v":6},{"$f":"AL99","v":172.84584876927104},null,null,24,0.11764705882352941,2.9411764705882346E-2,null,0.35945666067983356,0.51108916378230074,0.49963309561793362,null,0.35462205988483136,0.50546297159537834,0.49668582321329618,null,1.0572254725877455E-2,2.0440280811672582,null,8.3355556611247934,null,1.5032034228891194E-2,1.062144561088723,null,7.790591319641746,null,1.4695091047586279E-2,1.059791794162902,null,9.9463442984471495,null,7.790591319641746,7.790591319641746,8.3355556611247934,9.9463442984471495,7.790591319641746,null,{"$f":"IF(EMCI!$F$27=\"A\",'1st milking (D)'!AF27,IF(EMCI!$F$27=\"B\",'1st milking (D)'!AG27,IF(EMCI!$F$27=\"S\",'1st milking (D)'!AH27,IF(EMCI!$F$27=\"P\",'1st milking (D)'!AI27,IF(EMCI!$F$27=\"FS\",'1st milking (D)'!AJ27,\"error\")))))","v":7.790591319641746}]
[{"$f":"E98","v":6.25},{"$f":"AL98","v":155.15823170552048},null,null,23.75,0.14705882352941177,2.9411764705882359E-2,null,0.34982019166122391,0.49986756027377982,0.49371260813449069,null,0.3450510560090112,0.49430295639929006,0.49071460063979649,null,1.0288829166506587E-2,2.0543169103337648,null,8.5369484844854586,null,1.470198706687588E-2,1.0768465481555989,null,7.9367387976440513,null,1.4520959062779141E-2,1.0743127532256811,null,10.037784162835546,null,7.9367387976440513,7.9367387976440513,8.5369484844854586,10.037784162835546,7.9367387976440513,null,{"$f":"IF(EMCI!$F$27=\"A\",'1st milking (D)'!AF28,IF(EMCI!$F$27=\"B\",'1st milking (D)'!AG28,IF(EMCI!$F$27=\"S\",'1st milking (D)'!AH28,IF(EMCI!$F$27=\"P\",'1st milking (D)'!AI28,IF(EMCI!$F$27=\"FS\",'1st milking (D)'!AJ28,\"error\")))))","v":7.9367387976440513}]
[{"$f":"E97","v":6.5},{"$f":"AL97","v":140.05826497912594},null,null,23.5,0.17647058823529413,2.9411764705882359E-2,null,0.34031465292819335,0.48876918491471738,0.48769292435601752,null,0.33561098241877019,0.48326626922401766,0.48464867677541063,null,1.0009254497888042E-2,2.0643261648316531,null,8.7472519939924336,null,1.4375564262197573E-2,1.0912221124177965,null,8.0882489354337554,null,1.4343909539882871E-2,1.0886566627655641,null,10.133821823081929,null,8.0882489354337554,8.0882489354337554,8.7472519939924336,10.133821823081929,8.0882489354337554,null,{"$f":"IF(EMCI!$F$27=\"A\",'1st milking (D)'!AF29,IF(EMCI!$F$27=\"B\",'1st milking (D)'!AG29,IF(EMCI!$F$27=\"S\",'1st milking (D)'!AH29,IF(EMCI!$F$27=\"P\",'1st milking (D)'!AI29,IF(EMCI!$F$27=\"FS\",'1st milking (D)'!AJ29,\"error\")))))","v":8.0882489354337554}]
[{"$f":"E96","v":6.75},{"$f":"AL96","v":127.06500423807906},null,null,23.25,0.20588235294117646,2.9411764705882332E-2,null,0.33094004448074166,0.47779423128635318,0.48158292974945738,null,0.32630183911410787,0.47235309170445311,0.47849672997910669,null,9.7335307200218067E-3,2.074059695551675,null,8.9669746036127069,null,1.4052771508422142E-2,1.1052748839262188,null,8.2453681038054345,null,1.4164203816160501E-2,1.1028208665817245,null,10.234509091905618,null,8.2453681038054345,8.2453681038054345,8.9669746036127069,10.234509091905618,8.2453681038054345,null,{"$f":"IF(EMCI!$F$27=\"A\",'1st milking (D)'!AF30,IF(EMCI!$F$27=\"B\",'1st milking (D)'!AG30,IF(EMCI!$F$27=\"S\",'1st milking (D)'!AH30,IF(EMCI!$F$27=\"P\",'1st milking (D)'!AI30,IF(EMCI!$F$27=\"FS\",'1st milking (D)'!AJ30,\"error\")))))","v":8.2453681038054345}]
[{"$f":"E95","v":7},{"$f":"AL95","v":115.80426262053476},null,null,23,0.23529411764705882,2.9411764705882359E-2,null,0.32169636631886883,0.46694286980761318,0.47539109950113373,null,0.31712362609502465,0.46156358372966211,0.47226703617030219,null,9.4616578329079094E-3,2.0835213533845831,null,9.196661511878359,null,1.373361381787098E-2,1.1190084977440897,null,8.4083572427780791,null,1.3982091161798054E-2,1.1168029577435226,null,10.339906595758187,null,8.4083572427780791,8.4083572427780791,9.196661511878359,10.339906595758187,8.4083572427780791,null,{"$f":"IF(EMCI!$F$27=\"A\",'1st milking (D)'!AF31,IF(EMCI!$F$27=\"B\",'1st milking (D)'!AG31,IF(EMCI!$F$27=\"S\",'1st milking (D)'!AH31,IF(EMCI!$F$27=\"P\",'1st milking (D)'!AI31,IF(EMCI!$F$27=\"FS\",'1st milking (D)'!AJ31,\"error\")))))","v":8.4083572427780791}]
[{"$f":"E94","v":7.25},{"$f":"AL94","v":105.98138665621144},null,null,22.75,0.26470588235294118,2.9411764705882359E-2,null,0.31258361844257504,0.45621525048219264,0.46912551413703624,null,0.30807634336152034,0.45089788602334746,0.46596748432033663,null,9.1936358365463274E-3,2.0927149892211294,null,9.4368979424273416,null,1.3418095602417433E-2,1.1324265933465072,null,8.5774928792929188,null,1.3797809239324598E-2,1.1306007669828471,null,10.450083743760988,null,8.5774928792929188,8.5774928792929188,9.4368979424273416,10.450083743760988,8.5774928792929188,null,{"$f":"IF(EMCI!$F$27=\"A\",'1st milking (D)'!AF32,IF(EMCI!$F$27=\"B\",'1st milking (D)'!AG32,IF(EMCI!$F$27=\"S\",'1st milking (D)'!AH32,IF(EMCI!$F$27=\"P\",'1st milking (D)'!AI32,IF(EMCI!$F$27=\"FS\",'1st milking (D)'!AJ32,\"error\")))))","v":8.5774928792929188}]
[{"$f":"E93","v":7.5},{"$f":"AL93","v":97.361800346801658},null,null,22.5,0.29411764705882354,2.9411764705882359E-2,null,0.30360180085186023,0.44561150532242505,0.46279387487570417,null,0.29915999091359485,0.44035612242055694,0.45960559165784953,null,8.9294647309370676E-3,2.1016444539520664,null,9.6883127225560504,null,1.310622074477721E-2,1.1455328140912844,null,8.753068231960567,null,1.3611584555167772E-2,1.1442123515380149,null,10.565118737886994,null,8.753068231960567,8.753068231960567,9.6883127225560504,10.565118737886994,8.753068231960567,null,{"$f":"IF(EMCI!$F$27=\"A\",'1st milking (D)'!AF33,IF(EMCI!$F$27=\"B\",'1st milking (D)'!AG33,IF(EMCI!$F$27=\"S\",'1st milking (D)'!AH33,IF(EMCI!$F$27=\"P\",'1st milking (D)'!AI33,IF(EMCI!$F$27=\"FS\",'1st milking (D)'!AJ33,\"error\")))))","v":8.753068231960567}]
[{"$f":"E92","v":7.75},{"$f":"AL92","v":89.756883708181391},null,null,22.25,0.3235294117647059,2.9411764705882359E-2,null,0.29475091354672428,0.43513175048769465,0.45640351867799828,null,0.2903745687512484,0.42993840187612925,0.45318851855561076,null,8.6691445160801284E-3,2.1103135984681467,null,9.9515822406862551,null,1.2797992661402786E-2,1.1583308067526872,null,8.9353944111141459,null,1.3423632902294071E-2,1.157635984440309,null,10.685098622959673,null,8.9353944111141459,8.9353944111141459,9.9515822406862551,10.685098622959673,8.9353944111141459,null,{"$f":"IF(EMCI!$F$27=\"A\",'1st milking (D)'!AF34,IF(EMCI!$F$27=\"B\",'1st milking (D)'!AG34,IF(EMCI!$F$27=\"S\",'1st milking (D)'!AH34,IF(EMCI!$F$27=\"P\",'1st milking (D)'!AI34,IF(EMCI!$F$27=\"FS\",'1st milking (D)'!AJ34,\"error\")))))","v":8.9353944111141459}]
[{"$f":"E91","v":8},{"$f":"AL91","v":83.013577410160309},null,null,22,0.35294117647058826,2.9411764705882359E-2,null,0.28603095652716731,0.42477608817075047,0.44996143296436864,null,0.28172007687448086,0.41964482023624622,{"$f":"IF(E35>$H$17,((0.1709*(E35+6.1)*SQRT(0.995-0.947)*(1-EXP(0.1723*(E35-41.2))))^2)/2.3,0)","v":0.44672308307228259},null,8.4126751919755115E-3,2.1187262736601222,null,10.227434829302622,null,1.2493414357963252E-2,1.1708242211106505,null,9.1248017233565513,null,1.323415979306967E-2,1.1708701442333787,null,10.810119375419061,null,9.1248017233565513,9.1248017233565513,10.227434829302622,10.810119375419061,9.1248017233565513,null,{"$f":"IF(EMCI!$F$27=\"A\",'1st milking (D)'!AF35,IF(EMCI!$F$27=\"B\",'1st milking (D)'!AG35,IF(EMCI!$F$27=\"S\",'1st milking (D)'!AH35,IF(EMCI!$F$27=\"P\",'1st milking (D)'!AI35,IF(EMCI!$F$27=\"FS\",'1st milking (D)'!AJ35,\"error\")))))","v":9.1248017233565513}]
[{"$f":"E90","v":8.25},{"$f":"AL90","v":77.006630823842173},null,null,21.75,0.38235294117647056,2.9411764705882304E-2,null,0.27744192979318916,0.41454460826142248,0.44347426997580658,null,0.2731965152832922,0.40947546180082306,0.44021577512785104,null,8.1600567586231961E-3,2.1268863304187455,null,10.516655626452511,null,1.2192488478277112E-2,1.1830167095889277,null,9.3216410908347136,null,1.3043360881641349E-2,1.18391350511502,null,10.940286030154763,null,9.3216410908347136,9.3216410908347136,10.516655626452511,10.940286030154763,9.3216410908347136,null,{"$f":"IF(EMCI!$F$27=\"A\",'1st milking (D)'!AF36,IF(EMCI!$F$27=\"B\",'1st milking (D)'!AG36,IF(EMCI!$F$27=\"S\",'1st milking (D)'!AH36,IF(EMCI!$F$27=\"P\",'1st milking (D)'!AI36,IF(EMCI!$F$27=\"FS\",'1st milking (D)'!AJ36,\"error\")))))","v":9.3216410908347136}]
[{"$f":"E89","v":8.5},{"$f":"AL89","v":71.632752268946376},null,null,21.5,0.41176470588235292,2.9411764705882359E-2,null,0.26898383334479004,0.40443738981380772,0.43694836075960397,null,0.26480388397768267,0.39943040070124541,0.43367277029608786,null,7.9112892160232377E-3,2.1347976196347687,null,10.82009197647081,null,1.1895217347464935E-2,1.1949119269363926,null,9.526285596647984,null,1.2851422375282473E-2,1.1967649274903025,null,11.075712845033626,null,9.526285596647984,9.526285596647984,10.82009197647081,11.075712845033626,9.526285596647984,null,{"$f":"IF(EMCI!$F$27=\"A\",'1st milking (D)'!AF37,IF(EMCI!$F$27=\"B\",'1st milking (D)'!AG37,IF(EMCI!$F$27=\"S\",'1st milking (D)'!AH37,IF(EMCI!$F$27=\"P\",'1st milking (D)'!AI37,IF(EMCI!$F$27=\"FS\",'1st milking (D)'!AJ37,\"error\")))))","v":9.526285596647984}]
[{"$f":"E88","v":8.75},{"$f":"AL88","v":66.806146127235465},null,null,21.25,0.44117647058823528,2.9411764705882359E-2,null,0.26065666718196989,0.39445450233996598,0.43038972876538417,null,0.25654218295765185,0.3895097021151066,0.42709994320147926,null,7.6663725641755867E-3,2.1424639921989441,null,11.138659439382558,null,1.1601603009999002E-2,1.2065135299463916,null,9.7391321691200634,null,1.2658521434276008E-2,1.2094234489245785,null,11.216523503061026,null,9.7391321691200634,9.7391321691200634,11.138659439382558,11.216523503061026,9.7391321691200634,null,{"$f":"IF(EMCI!$F$27=\"A\",'1st milking (D)'!AF38,IF(EMCI!$F$27=\"B\",'1st milking (D)'!AG38,IF(EMCI!$F$27=\"S\",'1st milking (D)'!AH38,IF(EMCI!$F$27=\"P\",'1st milking (D)'!AI38,IF(EMCI!$F$27=\"FS\",'1st milking (D)'!AJ38,\"error\")))))","v":9.7391321691200634}]
[{"$f":"E87","v":9},{"$f":"AL87","v":62.455073393062577},null,null,21,0.47058823529411764,2.9411764705882359E-2,null,0.25246043130472862,0.38459600695047985,0.42380410304068805,null,0.24841141222320007,0.37971342333708369,0.42050288051163104,null,7.4253068030802546E-3,2.1498892990020244,null,11.473348488664133,null,1.1311647263249409E-2,1.2178251772096411,null,9.9606034191548769,null,1.246482656002024E-2,1.2218882754845988,null,11.362851352413601,null,9.9606034191548769,9.9606034191548769,11.473348488664133,11.362851352413601,9.9606034191548769,null,{"$f":"IF(EMCI!$F$27=\"A\",'1st milking (D)'!AF39,IF(EMCI!$F$27=\"B\",'1st milking (D)'!AG39,IF(EMCI!$F$27=\"S\",'1st milking (D)'!AH39,IF(EMCI!$F$27=\"P\",'1st milking (D)'!AI39,IF(EMCI!$F$27=\"FS\",'1st milking (D)'!AJ39,\"error\")))))","v":9.9606034191548769}]
[{"$f":"E86","v":9.25},{"$f":"AL86","v":58.519175966542676},null,null,20.75,0.5,2.9411764705882359E-2,null,0.24439512571306626,0.37486195735986705,0.41719693101874022,null,0.24041157177432726,0.37004161472285402,0.41388689351929048,null,7.1880919327372448E-3,2.1570773909347616,null,11.825231988973771,null,1.1025351687054916E-2,1.228850528896696,null,10.191149646581616,null,1.2270497971139421E-2,1.2341587734557382,null,11.514839684871864,null,10.191149646581616,10.191149646581616,11.825231988973771,11.514839684871864,10.191149646581616,null,{"$f":"IF(EMCI!$F$27=\"A\",'1st milking (D)'!AF40,IF(EMCI!$F$27=\"B\",'1st milking (D)'!AG40,IF(EMCI!$F$27=\"S\",'1st milking (D)'!AH40,IF(EMCI!$F$27=\"P\",'1st milking (D)'!AI40,IF(EMCI!$F$27=\"FS\",'1st milking (D)'!AJ40,\"error\")))))","v":10.191149646581616}]
[{"$f":"E85","v":9.5},{"$f":"AL85","v":54.947376844016794},null,null,20.5,0.52941176470588236,2.9411764705882359E-2,null,0.23646075040698289,0.3652524007727313,0.41057339089394834,null,0.23254266161103329,0.3604943205209864,0.40725703031084975,null,6.9547279531465573E-3,2.1640321188879081,null,12.195473559409606,null,1.0742717669786217E-2,1.2395932465664823,null,10.431251033300548,null,1.2075687967469072E-2,1.2462344614232073,null,11.672642053467694,null,10.431251033300548,10.431251033300548,12.195473559409606,11.672642053467694,10.431251033300548,null,{"$f":"IF(EMCI!$F$27=\"A\",'1st milking (D)'!AF41,IF(EMCI!$F$27=\"B\",'1st milking (D)'!AG41,IF(EMCI!$F$27=\"S\",'1st milking (D)'!AH41,IF(EMCI!$F$27=\"P\",'1st milking (D)'!AI41,IF(EMCI!$F$27=\"FS\",'1st milking (D)'!AJ41,\"error\")))))","v":10.431251033300548}]
[{"$f":"E84","v":9.75},{"$f":"AL84","v":51.696218782873217},null,null,20.25,0.55882352941176472,2.9411764705882359E-2,null,0.22865730538647838,0.35576737866468883,0.40393840358322086,null,0.22480468173331827,0.35107157960599633,0.40061808752055805,null,6.7252148643081894E-3,2.1707573337522161,null,12.585336944201471,null,1.046374643131438E-2,1.2500569929977967,null,10.681420043202364,null,1.188054128185944E-2,1.2581150027050667,null,11.836422630447508,null,10.681420043202364,10.681420043202364,12.585336944201471,11.836422630447508,10.681420043202364,null,{"$f":"IF(EMCI!$F$27=\"A\",'1st milking (D)'!AF42,IF(EMCI!$F$27=\"B\",'1st milking (D)'!AG42,IF(EMCI!$F$27=\"S\",'1st milking (D)'!AH42,IF(EMCI!$F$27=\"P\",'1st milking (D)'!AI42,IF(EMCI!$F$27=\"FS\",'1st milking (D)'!AJ42,\"error\")))))","v":10.681420043202364}]
[{"$f":"E83","v":10},{"$f":"AL83","v":48.728539838242696},null,null,20,0.58823529411764708,2.9411764705882359E-2,null,0.22098479065155283,0.34640692747046126,0.39729664427340144,null,0.21719763214118218,0.34177342612421274,0.39397462167172831,null,6.499552666222143E-3,2.1772568864184381,null,12.996196531952663,null,1.0188439043248863E-2,1.2602454320410457,null,10.942204051288039,null,1.1685195419805927E-2,1.2698001981248725,null,12.006356606940216,null,10.942204051288039,10.942204051288039,12.996196531952663,12.006356606940216,10.942204051288039,null,{"$f":"IF(EMCI!$F$27=\"A\",'1st milking (D)'!AF43,IF(EMCI!$F$27=\"B\",'1st milking (D)'!AG43,IF(EMCI!$F$27=\"S\",'1st milking (D)'!AH43,IF(EMCI!$F$27=\"P\",'1st milking (D)'!AI43,IF(EMCI!$F$27=\"FS\",'1st milking (D)'!AJ43,\"error\")))))","v":10.942204051288039}]
[{"$f":"E82","v":10.25},{"$f":"AL82","v":46.012409907866939},null,null,19.75,0.61764705882352944,2.9411764705882359E-2,null,0.21344320620220619,0.33717107919008338,0.39065255355701073,null,0.20972151283462506,0.33259989006274093,0.38733096010797519,null,6.2777413588884189E-3,2.1835346277773264,null,13.42954918718131,null,9.91679644676716E-3,1.2701622284878129,null,11.214188227207767,null,1.1489780986970906E-2,1.2812899791118435,null,12.182630636014055,null,11.214188227207767,11.214188227207767,13.42954918718131,12.182630636014055,11.214188227207767,null,{"$f":"IF(EMCI!$F$27=\"A\",'1st milking (D)'!AF44,IF(EMCI!$F$27=\"B\",'1st milking (D)'!AG44,IF(EMCI!$F$27=\"S\",'1st milking (D)'!AH44,IF(EMCI!$F$27=\"P\",'1st milking (D)'!AI44,IF(EMCI!$F$27=\"FS\",'1st milking (D)'!AJ44,\"error\")))))","v":11.214188227207767}]
[{"$f":"E81","v":10.5},{"$f":"AL81","v":43.520271114152997},null,null,19.5,0.6470588235294118,2.9411764705882359E-2,null,0.20603255203843862,0.32805986192289105,0.38401034816011931,null,0.20237632381364684,0.3235509977506032,0.38069121151903063,null,6.0597809423070196E-3,2.1895944087196333,null,13.88702758465095,null,9.6488194683203264E-3,1.2798110479561333,null,11.497998701618688,null,1.1294422004709394E-2,1.2925844011165528,null,12.36544332111046,null,11.497998701618688,11.497998701618688,13.88702758465095,12.36544332111046,11.497998701618688,null,{"$f":"IF(EMCI!$F$27=\"A\",'1st milking (D)'!AF45,IF(EMCI!$F$27=\"B\",'1st milking (D)'!AG45,IF(EMCI!$F$27=\"S\",'1st milking (D)'!AH45,IF(EMCI!$F$27=\"P\",'1st milking (D)'!AI45,IF(EMCI!$F$27=\"FS\",'1st milking (D)'!AJ45,\"error\")))))","v":11.497998701618688}]
[{"$f":"E80","v":10.75},{"$f":"AL80","v":41.22823856418696},null,null,19.25,0.67647058823529416,2.9411764705882359E-2,null,0.19875282816024986,0.31907330033781717,0.37737403126756752,null,0.19516206507824754,0.31462677230007507,0.37405927606696332,null,5.8456714164779383E-3,2.1954400801361111,null,14.370415268661146,null,9.3845088334652133E-3,1.2891955567895985,null,11.794306047392636,null,1.1099236213751989E-2,1.3036836373303049,null,12.55500575216044,null,11.794306047392636,11.794306047392636,14.370415268661146,12.55500575216044,11.794306047392636,null,{"$f":"IF(EMCI!$F$27=\"A\",'1st milking (D)'!AF46,IF(EMCI!$F$27=\"B\",'1st milking (D)'!AG46,IF(EMCI!$F$27=\"S\",'1st milking (D)'!AH46,IF(EMCI!$F$27=\"P\",'1st milking (D)'!AI46,IF(EMCI!$F$27=\"FS\",'1st milking (D)'!AJ46,\"error\")))))","v":11.794306047392636}]
[{"$f":"E79","v":11},{"$f":"AL79","v":39.115528181287232},null,null,19,0.70588235294117652,2.9411764705882359E-2,null,0.19160403456764008,0.310211416087533,0.37074740245191135,null,0.18807873662842725,0.30582723399529022,0.36743885511970198,null,5.6354127814011801E-3,2.2010754929175125,null,14.881663697114833,null,9.1238651790450896E-3,1.2983194219686436,null,12.103829111858504,null,1.0904335366232689E-2,1.3145879726965375,null,12.751542092022568,null,12.103829111858504,12.103829111858504,14.881663697114833,12.751542092022568,12.103829111858504,null,{"$f":"IF(EMCI!$F$27=\"A\",'1st milking (D)'!AF47,IF(EMCI!$F$27=\"B\",'1st milking (D)'!AG47,IF(EMCI!$F$27=\"S\",'1st milking (D)'!AH47,IF(EMCI!$F$27=\"P\",'1st milking (D)'!AI47,IF(EMCI!$F$27=\"FS\",'1st milking (D)'!AJ47,\"error\")))))","v":12.103829111858504}]
[{"$f":"E78","v":11.25},{"$f":"AL78","v":37.163985885892203},null,null,18.75,0.73529411764705888,2.9411764705882359E-2,null,0.18458617126060919,0.30147422817308023,0.36413406721347463,null,0.18112633846418588,0.29715240063436432,0.36083346059966087,null,5.4290050370767425E-3,2.2065044979545894,null,{"$f":"IF(M48=0,T47,($G$15-R48)/M48)","v":15.422911575048312},null,8.8668890639141268E-3,1.3071863110325577,null,12.42733924102239,null,1.0709825506278668E-2,1.3252977982028162,null,12.955290216235497,null,12.42733924102239,12.42733924102239,15.422911575048312,12.955290216235497,12.42733924102239,null,{"$f":"IF(EMCI!$F$27=\"A\",'1st milking (D)'!AF48,IF(EMCI!$F$27=\"B\",'1st milking (D)'!AG48,IF(EMCI!$F$27=\"S\",'1st milking (D)'!AH48,IF(EMCI!$F$27=\"P\",'1st milking (D)'!AI48,IF(EMCI!$F$27=\"FS\",'1st milking (D)'!AJ48,\"error\")))))","v":12.42733924102239}]
[{"$f":"E77","v":11.5},{"$f":"AL77","v":35.357698116344089},null,null,18.5,0.76470588235294112,2.9411764705882248E-2,null,0.17769923823915723,0.29286175326486019,0.35753744613968486,null,0.17430487058552344,0.28860228783054476,0.35424642395600209,null,5.2264481835046055E-3,2.2117309461380938,null,15.996506835956888,null,8.6135809783782109E-3,1.3157998920109359,null,12.76566494217216,null,1.0515807239402458E-2,1.3358136054422187,null,13.16650240945574,null,12.76566494217216,12.76566494217216,15.996506835956888,13.16650240945574,12.76566494217216,null,{"$f":"IF(EMCI!$F$27=\"A\",'1st milking (D)'!AF49,IF(EMCI!$F$27=\"B\",'1st milking (D)'!AG49,IF(EMCI!$F$27=\"S\",'1st milking (D)'!AH49,IF(EMCI!$F$27=\"P\",'1st milking (D)'!AI49,IF(EMCI!$F$27=\"FS\",'1st milking (D)'!AJ49,\"error\")))))","v":12.76566494217216}]
[{"$f":"E76","v":11.75},{"$f":"AL76","v":33.682668017165646},null,null,18.25,0.79411764705882348,2.9411764705882359E-2,null,0.17094323550328427,0.28437400598515961,0.3509607836925473,null,0.16761433299243989,0.28017690927725214,0.34768090476967001,null,5.0277422206848324E-3,2.2167586883587789,null,16.605031693600793,null,8.3639413525046953E-3,1.3241638333634407,null,13.119697037556707,null,1.0322375990957276E-2,1.3461359814331759,null,13.385446122357205,null,13.119697037556707,13.119697037556707,16.605031693600793,13.385446122357205,13.119697037556707,null,{"$f":"IF(EMCI!$F$27=\"A\",'1st milking (D)'!AF50,IF(EMCI!$F$27=\"B\",'1st milking (D)'!AG50,IF(EMCI!$F$27=\"S\",'1st milking (D)'!AH50,IF(EMCI!$F$27=\"P\",'1st milking (D)'!AI50,IF(EMCI!$F$27=\"FS\",'1st milking (D)'!AJ50,\"error\")))))","v":13.119697037556707}]
[{"$f":"E75","v":12},{"$f":"AL75","v":32.126544939569285},null,null,18,0.82352941176470584,2.9411764705882359E-2,null,0.16431816305299018,0.27601099915677957,0.34440715663364052,null,0.16105472568493526,0.27187627698130323,0.34113989900079827,null,4.8328871486173599E-3,2.2215915755073961,null,17.251331264429272,null,8.1179705634346951E-3,1.3322818039268753,null,13.490394369073075,null,1.0129622253930605E-2,1.3562656036871066,null,13.612404793207808,null,13.490394369073075,13.490394369073075,17.251331264429272,13.612404793207808,13.490394369073075,null,{"$f":"IF(EMCI!$F$27=\"A\",'1st milking (D)'!AF51,IF(EMCI!$F$27=\"B\",'1st milking (D)'!AG51,IF(EMCI!$F$27=\"S\",'1st milking (D)'!AH51,IF(EMCI!$F$27=\"P\",'1st milking (D)'!AI51,IF(EMCI!$F$27=\"FS\",'1st milking (D)'!AJ51,\"error\")))))","v":13.490394369073075}]
[{"$f":"E74","v":12.25},{"$f":"AL74","v":30.678397453941717},null,null,17.75,0.8529411764705882,2.9411764705882359E-2,null,0.15782402088827502,0.26777274402179801,0.33787948209643159,null,0.15462604866300958,0.26370040146810086,0.33462624688846243,null,4.641882967302207E-3,2.2262334584746983,null,17.938546354310716,null,7.8756689418175898E-3,1.3401574728686929,null,13.878790122259364,null,9.937631826365638E-3,1.3662032355134721,null,13.847678738814126,null,13.847678738814126,13.878790122259364,17.938546354310716,13.847678738814126,13.878790122259364,null,{"$f":"IF(EMCI!$F$27=\"A\",'1st milking (D)'!AF52,IF(EMCI!$F$27=\"B\",'1st milking (D)'!AG52,IF(EMCI!$F$27=\"S\",'1st milking (D)'!AH52,IF(EMCI!$F$27=\"P\",'1st milking (D)'!AI52,IF(EMCI!$F$27=\"FS\",'1st milking (D)'!AJ52,\"error\")))))","v":13.878790122259364}]
[{"$f":"E73","v":12.5},{"$f":"AL73","v":29.328522055189815},null,null,17.5,0.88235294117647056,{"$f":"F53-F52","v":2.9411764705882359E-2},null,0.15146080900913889,0.25965925043401999,0.3313805253160243,null,0.14832830192666285,0.2556492919621271,0.3281426405130104,null,4.45472967673938E-3,2.2306881881514378,null,18.670151116661323,null,7.6370367774711784E-3,1.3477945096461641,null,14.285998847573136,null,9.7464860387065991E-3,1.3759497215521788,null,14.091586120044294,null,14.091586120044294,14.285998847573136,18.670151116661323,14.091586120044294,14.285998847573136,null,{"$f":"IF(EMCI!$F$27=\"A\",'1st milking (D)'!AF53,IF(EMCI!$F$27=\"B\",'1st milking (D)'!AG53,IF(EMCI!$F$27=\"S\",'1st milking (D)'!AH53,IF(EMCI!$F$27=\"P\",'1st milking (D)'!AI53,IF(EMCI!$F$27=\"FS\",'1st milking (D)'!AJ53,\"error\")))))","v":14.285998847573136}]
[{"$f":"E72","v":12.75},{"$f":"AL72","v":28.068281287780042},null,null,{"$f":"E53-0.25","v":17.25},0.91176470588235292,2.9411764705882359E-2,null,0.14522852741558157,0.25167052702825038,0.32491290702667763,null,0.14216148547589508,0.2477229565456873,0.32169163103138926,null,4.2714272769288708E-3,{"$f":"R53+Q54","v":2.2349596154283669},null,19.449996427059521,null,7.4020743243603066E-3,{"$f":"W53+V54","v":1.3551965839705244},null,14.713224268164536,null,9.5562619713728744E-3,{"$f":"AB53+AA54","v":1.3855059835235517},null,14.344463987706868,null,14.344463987706868,14.713224268164536,19.449996427059521,14.344463987706868,14.713224268164536,null,{"$f":"IF(EMCI!$F$27=\"A\",'1st milking (D)'!AF54,IF(EMCI!$F$27=\"B\",'1st milking (D)'!AG54,IF(EMCI!$F$27=\"S\",'1st milking (D)'!AH54,IF(EMCI!$F$27=\"P\",'1st milking (D)'!AI54,IF(EMCI!$F$27=\"FS\",'1st milking (D)'!AJ54,\"error\")))))","v":14.713224268164536}]
[{"$f":"E71","v":13},{"$f":"AL71","v":26.889966230945696},null,null,17,0.94117647058823528,2.9411764705882359E-2,null,0.13912717610760325,0.24380658136915562,0.31847911053757483,null,0.1361255993107062,0.23992140229849684,0.31527563559599631,null,4.0919757678706849E-3,2.2390515911962376,null,20.282359988013038,null,{"$f":"G55*J55","v":7.1707818049751666E-3},{"$f":"W54+V55","v":1.3623673657754996},null,15.161767976409044,null,{"$f":"G55*K55","v":9.3670326628698501E-3},{"$f":"AB54+AA55","v":1.3948730161864216},null,14.606669415186674,null,14.606669415186674,{"$f":"Y55","v":15.161767976409044},{"$f":"T55","v":20.282359988013038},{"$f":"AD55","v":14.606669415186674},15.161767976409044,null,{"$f":"IF(EMCI!$F$27=\"A\",'1st milking (D)'!AF55,IF(EMCI!$F$27=\"B\",'1st milking (D)'!AG55,IF(EMCI!$F$27=\"S\",'1st milking (D)'!AH55,IF(EMCI!$F$27=\"P\",'1st milking (D)'!AI55,IF(EMCI!$F$27=\"FS\",'1st milking (D)'!AJ55,\"error\")))))","v":15.161767976409044}]
[{"$f":"E70","v":13.25},{"$f":"AL70","v":25.786679242791529},null,null,16.75,0.97058823529411764,2.9411764705882359E-2,null,0.13315675508520389,0.23606742008214923,0.31208148849739786,null,0.13022064343109627,0.23224463542040302,0.30889694396762363,null,3.9163751495648212E-3,2.2429679663458026,null,21.172004384335786,null,6.9431594141808614E-3,1.3693105251896804,null,15.633039136676473,null,9.1788673087469987E-3,1.4040518834951685,null,14.878580724924705,null,14.878580724924705,15.633039136676473,21.172004384335786,14.878580724924705,15.633039136676473,null,{"$f":"IF(EMCI!$F$27=\"A\",'1st milking (D)'!AF56,IF(EMCI!$F$27=\"B\",'1st milking (D)'!AG56,IF(EMCI!$F$27=\"S\",'1st milking (D)'!AH56,IF(EMCI!$F$27=\"P\",'1st milking (D)'!AI56,IF(EMCI!$F$27=\"FS\",'1st milking (D)'!AJ56,\"error\")))))","v":15.633039136676473}]
[{"$f":"E69","v":13.5},{"$f":"AL69","v":24.752233622788701},null,null,16.5,1,2.9411764705882359E-2,null,0.12731726434838342,0.2284530489684527,0.30572226935828517,null,0.12444661783706529,0.22469266133925783,0.30255772483306026,null,3.744625422011278E-3,2.2467125917678139,null,22.124244564339978,null,6.7192073226015519E-3,1.3760297325122819,null,16.128565329581352,null,8.9918314517142724E-3,1.4130437149468829,null,15.160598816586234,null,15.160598816586234,16.128565329581352,22.124244564339978,15.160598816586234,16.128565329581352,null,{"$f":"IF(EMCI!$F$27=\"A\",'1st milking (D)'!AF57,IF(EMCI!$F$27=\"B\",'1st milking (D)'!AG57,IF(EMCI!$F$27=\"S\",'1st milking (D)'!AH57,IF(EMCI!$F$27=\"P\",'1st milking (D)'!AI57,IF(EMCI!$F$27=\"FS\",'1st milking (D)'!AJ57,\"error\")))))","v":16.128565329581352}]
[{"$f":"E68","v":13.75},{"$f":"AL68","v":23.781067459289734},null,null,16.25,1.0294117647058822,2.9411764705882248E-2,null,0.12160870389714186,0.22096347310622474,0.29940356354970438,null,0.11880352252861325,0.21726548480572058,0.2962600318378536,null,3.576726585210042E-3,2.2502893183530239,null,23.145026537278991,null,6.4989256795948223E-3,1.3825286581918768,null,16.650004693763837,null,8.8059871632265672E-3,1.4218497021101095,null,15.453148605599161,null,15.453148605599161,16.650004693763837,23.145026537278991,15.453148605599161,16.650004693763837,null,{"$f":"IF(EMCI!$F$27=\"A\",'1st milking (D)'!AF58,IF(EMCI!$F$27=\"B\",'1st milking (D)'!AG58,IF(EMCI!$F$27=\"S\",'1st milking (D)'!AH58,IF(EMCI!$F$27=\"P\",'1st milking (D)'!AI58,IF(EMCI!$F$27=\"FS\",'1st milking (D)'!AJ58,\"error\")))))","v":16.650004693763837}]
[{"$f":"E67","v":14},{"$f":"AL67","v":22.868169415654794},null,null,16,1.0588235294117647,2.941176470588247E-2,null,0.11603107373147929,0.21359869693942879,0.29312736937270262,null,0.11329135750574011,0.2099631099765577,0.29000580934463277,null,3.4126786391611695E-3,2.2537019969921852,null,24.241019469368336,null,6.2823146158655779E-3,1.3888109728077422,null,17.199159545671836,null,8.6213932168442298E-3,1.4304710953269537,null,15.756680581673374,null,15.756680581673374,17.199159545671836,24.241019469368336,15.756680581673374,17.199159545671836,null,{"$f":"IF(EMCI!$F$27=\"A\",'1st milking (D)'!AF59,IF(EMCI!$F$27=\"B\",'1st milking (D)'!AG59,IF(EMCI!$F$27=\"S\",'1st milking (D)'!AH59,IF(EMCI!$F$27=\"P\",'1st milking (D)'!AI59,IF(EMCI!$F$27=\"FS\",'1st milking (D)'!AJ59,\"error\")))))","v":17.199159545671836}]
[{"$f":"E66","v":14.25},{"$f":"AL66","v":22.009014601020969},null,null,15.75,1.088235294117647,2.9411764705882248E-2,null,0.11058437385139566,0.20635872435590988,0.2868955786248723,null,0.1079101227684459,0.2027855404878211,0.28379689792726498,null,3.2524815838645667E-3,2.2569544785760498,null,25.419723850282253,null,6.0693742457620338E-3,1.3948803470535043,null,17.777991686557218,null,8.4381052536726849E-3,1.4389092005806263,null,16.071672497943748,null,16.071672497943748,17.777991686557218,25.419723850282253,16.071672497943748,17.777991686557218,null,{"$f":"IF(EMCI!$F$27=\"A\",'1st milking (D)'!AF60,IF(EMCI!$F$27=\"B\",'1st milking (D)'!AG60,IF(EMCI!$F$27=\"S\",'1st milking (D)'!AH60,IF(EMCI!$F$27=\"P\",'1st milking (D)'!AI60,IF(EMCI!$F$27=\"FS\",'1st milking (D)'!AJ60,\"error\")))))","v":17.777991686557218}]
[{"$f":"E65","v":14.5},{"$f":"AL65","v":21.199508989465084},null,null,15.5,1.1176470588235294,2.941176470588247E-2,null,0.10526860425689091,0.19924355875597805,0.28070998196622399,null,0.10265981831673063,0.19573277951912119,0.27763503961094887,null,3.0961354193203335E-3,2.2600506139953702,null,26.689599016737166,null,5.8601046692934953E-3,1.4007404517227977,null,18.388639639818685,null,8.2561759401830921E-3,1.4471653765208095,null,16.398631202527955,null,16.398631202527955,18.388639639818685,26.689599016737166,16.398631202527955,18.388639639818685,null,{"$f":"IF(EMCI!$F$27=\"A\",'1st milking (D)'!AF61,IF(EMCI!$F$27=\"B\",'1st milking (D)'!AG61,IF(EMCI!$F$27=\"S\",'1st milking (D)'!AH61,IF(EMCI!$F$27=\"P\",'1st milking (D)'!AI61,IF(EMCI!$F$27=\"FS\",'1st milking (D)'!AJ61,\"error\")))))","v":18.388639639818685}]
[{"$f":"E64","v":14.75},{"$f":"AL64","v":20.435941109663315},null,null,15.25,1.1470588235294117,2.9411764705882248E-2,null,0.1000837649479651,0.19225320311263966,0.27457227403597939,null,9.7540444150594319E-2,0.18880482985006727,0.27152188286816148,null,2.9436401455283749E-3,2.2629942541408985,null,28.060214095738509,null,5.6545059739011461E-3,1.4063949576966988,null,19.033438101965064,null,8.075655118705248E-3,1.4552410316395148,null,16.738094625570973,null,16.738094625570973,19.033438101965064,28.060214095738509,16.738094625570973,19.033438101965064,null,{"$f":"IF(EMCI!$F$27=\"A\",'1st milking (D)'!AF62,IF(EMCI!$F$27=\"B\",'1st milking (D)'!AG62,IF(EMCI!$F$27=\"S\",'1st milking (D)'!AH62,IF(EMCI!$F$27=\"P\",'1st milking (D)'!AI62,IF(EMCI!$F$27=\"FS\",'1st milking (D)'!AJ62,\"error\")))))","v":19.033438101965064}]
[{"$f":"E63","v":15},{"$f":"AL63","v":19.714939938115066},null,null,15,1.1764705882352942,2.941176470588247E-2,null,9.5029855924618267E-2,0.18538766002448215,0.26848405833009958,null,9.2552000270036947E-2,0.18200169390981913,0.26545898738016671,null,2.7949957624887837E-3,2.2657892499033871,null,29.542427415064676,null,5.4525782360142026E-3,1.4118475359327129,null,19.714939938115066,null,7.8965899508853139E-3,1.4631376215904002,null,17.090633936278486,null,17.090633936278486,19.714939938115066,29.542427415064676,17.090633936278486,19.714939938115066,null,{"$f":"IF(EMCI!$F$27=\"A\",'1st milking (D)'!AF63,IF(EMCI!$F$27=\"B\",'1st milking (D)'!AG63,IF(EMCI!$F$27=\"S\",'1st milking (D)'!AH63,IF(EMCI!$F$27=\"P\",'1st milking (D)'!AI63,IF(EMCI!$F$27=\"FS\",'1st milking (D)'!AJ63,\"error\")))))","v":19.714939938115066}]
[{"$f":"E62","v":15.25},{"$f":"AL62","v":19.033438101965064},null,null,14.75,1.2058823529411764,2.9411764705882248E-2,null,9.0106877186850329E-2,0.17864693176209925,0.26244685184914474,null,8.7694486675058483E-2,0.17532337382058064,0.25944782857356635,null,2.6502022702014709E-3,2.2684394521735887,null,{"$f":"IF(M64=0,T63,($G$15-R64)/M64)","v":31.14860068624251},null,5.2543215224146655E-3,1.4171018574551275,null,20.435941109663315,null,7.7190250543865821E-3,1.4708566466447868,null,17.456855886041751,null,17.456855886041751,20.435941109663315,31.14860068624251,17.456855886041751,20.435941109663315,null,{"$f":"IF(EMCI!$F$27=\"A\",'1st milking (D)'!AF64,IF(EMCI!$F$27=\"B\",'1st milking (D)'!AG64,IF(EMCI!$F$27=\"S\",'1st milking (D)'!AH64,IF(EMCI!$F$27=\"P\",'1st milking (D)'!AI64,IF(EMCI!$F$27=\"FS\",'1st milking (D)'!AJ64,\"error\")))))","v":20.435941109663315}]
[{"$f":"E61","v":15.5},{"$f":"AL61","v":18.388639639818685},null,null,14.5,1.2352941176470589,2.941176470588247E-2,null,8.5314828734661369E-2,0.17203102030883713,0.25646208952582694,null,8.2967903365658943E-2,0.16876987143576827,0.25348980194113641,null,2.5092596686665208E-3,2.2709487118422551,null,32.892855881028808,null,5.0597358914364066E-3,1.4221615933465639,null,21.199508989465084,null,7.5430026331125876E-3,1.4783996492778995,null,17.837405355549862,null,17.837405355549862,21.199508989465084,32.892855881028808,17.837405355549862,21.199508989465084,null,{"$f":"IF(EMCI!$F$27=\"A\",'1st milking (D)'!AF65,IF(EMCI!$F$27=\"B\",'1st milking (D)'!AG65,IF(EMCI!$F$27=\"S\",'1st milking (D)'!AH65,IF(EMCI!$F$27=\"P\",'1st milking (D)'!AI65,IF(EMCI!$F$27=\"FS\",'1st milking (D)'!AJ65,\"error\")))))","v":21.199508989465084}]
[{"$f":"E60","v":15.75},{"$f":"AL60","v":17.777991686557218},null,null,14.25,1.2647058823529411,2.9411764705882248E-2,null,8.065371056805129E-2,0.16553992739654555,0.25053112844137798,null,7.8372250341838381E-2,0.16234118837349831,0.24758622715594111,null,2.3721679578838531E-3,2.273320879800139,null,34.791384811675435,null,4.8688213940160279E-3,1.4270304147405799,null,22.009014601020969,null,7.3685626012169733E-3,1.4857682118791165,null,18.232968125798106,null,18.232968125798106,22.009014601020969,34.791384811675435,18.232968125798106,22.009014601020969,null,{"$f":"IF(EMCI!$F$27=\"A\",'1st milking (D)'!AF66,IF(EMCI!$F$27=\"B\",'1st milking (D)'!AG66,IF(EMCI!$F$27=\"S\",'1st milking (D)'!AH66,IF(EMCI!$F$27=\"P\",'1st milking (D)'!AI66,IF(EMCI!$F$27=\"FS\",'1st milking (D)'!AJ66,\"error\")))))","v":22.009014601020969}]
[{"$f":"E59","v":16},{"$f":"AL59","v":17.199159545671836},null,null,14,{"$f":"(E67-$F$11)/$F$10","v":1.2941176470588236},2.941176470588247E-2,null,7.612352268702019E-2,0.15917365453694315,0.24465525183959377,null,7.3907527603596743E-2,0.15603732604596116,0.24173835198745908,null,2.238927137853544E-3,2.2755598069379923,null,36.862824145255559,null,4.6815780746159935E-3,1.4317119928151958,null,22.868169415654794,null,7.1957427011645515E-3,1.4929639545802811,null,18.644273895163874,null,18.644273895163874,22.868169415654794,36.862824145255559,18.644273895163874,22.868169415654794,null,{"$f":"IF(EMCI!$F$27=\"A\",'1st milking (D)'!AF67,IF(EMCI!$F$27=\"B\",'1st milking (D)'!AG67,IF(EMCI!$F$27=\"S\",'1st milking (D)'!AH67,IF(EMCI!$F$27=\"P\",'1st milking (D)'!AI67,IF(EMCI!$F$27=\"FS\",'1st milking (D)'!AJ67,\"error\")))))","v":22.868169415654794}]
[{"$f":"E58","v":16.25},{"$f":"AL58","v":16.650004693763837},null,null,13.75,1.3235294117647058,2.9411764705882248E-2,null,7.1724265091567985E-2,0.1529322030491248,0.23883567294716018,null,6.9573735150934013E-2,0.1498582856851797,0.23594735602819444,null,2.1095372085755213E-3,2.2776693441465676,null,39.128712149025475,null,4.4980059720330662E-3,1.4362099987872288,null,23.781067459289734,null,7.0245786160929215E-3,1.499988533196374,null,19.072099567269142,null,19.072099567269142,23.781067459289734,39.128712149025475,19.072099567269142,23.781067459289734,null,{"$f":"IF(EMCI!$F$27=\"A\",'1st milking (D)'!AF68,IF(EMCI!$F$27=\"B\",'1st milking (D)'!AG68,IF(EMCI!$F$27=\"S\",'1st milking (D)'!AH68,IF(EMCI!$F$27=\"P\",'1st milking (D)'!AI68,IF(EMCI!$F$27=\"FS\",'1st milking (D)'!AJ68,\"error\")))))","v":23.781067459289734}]
[{"$f":"E57","v":16.5},{"$f":"AL57","v":16.128565329581352},null,null,13.5,1.3529411764705883,2.941176470588247E-2,null,6.745593778169473E-2,0.14681557408368173,0.23307353860860081,null,6.5370872983850206E-2,0.14380406836559409,0.23021435423897771,null,1.9839981700498529E-3,2.2796533423166174,null,41.614048176401759,null,4.3181051201083035E-3,1.440528103907337,null,24.752233622788701,null,6.8551040767235805E-3,1.5068436372730976,null,19.517272837221565,null,19.517272837221565,24.752233622788701,41.614048176401759,19.517272837221565,24.752233622788701,null,{"$f":"IF(EMCI!$F$27=\"A\",'1st milking (D)'!AF69,IF(EMCI!$F$27=\"B\",'1st milking (D)'!AG69,IF(EMCI!$F$27=\"S\",'1st milking (D)'!AH69,IF(EMCI!$F$27=\"P\",'1st milking (D)'!AI69,IF(EMCI!$F$27=\"FS\",'1st milking (D)'!AJ69,\"error\")))))","v":24.752233622788701}]
[{"$f":"E56","v":16.75},{"$f":"AL56","v":15.633039136676473},null,null,13.25,1.3823529411764706,2.9411764705882248E-2,null,6.3318540757400427E-2,0.14082376864384633,0.22736993274391495,null,6.1298941102345371E-2,0.13787467502385675,0.22454040032089267,null,1.8623100222764765E-3,2.2815156523388938,null,44.34798218002323,null,4.1418755483484063E-3,1.4446699794556854,null,25.786679242791529,null,6.6873509630562987E-3,1.5135309882361538,null,19.980676107071126,null,19.980676107071126,25.786679242791529,44.34798218002323,19.980676107071126,25.786679242791529,null,{"$f":"IF(EMCI!$F$27=\"A\",'1st milking (D)'!AF70,IF(EMCI!$F$27=\"B\",'1st milking (D)'!AG70,IF(EMCI!$F$27=\"S\",'1st milking (D)'!AH70,IF(EMCI!$F$27=\"P\",'1st milking (D)'!AI70,IF(EMCI!$F$27=\"FS\",'1st milking (D)'!AJ70,\"error\")))))","v":25.786679242791529}]
[{"$f":"E55","v":17},{"$f":"AL55","v":15.161767976409044},null,null,13,1.411764705882353,2.941176470588247E-2,null,5.9312074018685053E-2,0.13495678760402277,0.22172587963671017,null,5.7357939506419459E-2,0.13207010647617853,0.21892648992149663,null,1.7444727652554497E-3,2.2832601251041491,null,47.36466997026271,null,3.9693172824712738E-3,1.4486392967381567,null,26.889966230945696,null,6.5213494010797372E-3,1.5200523376372337,null,20.463250764990573,null,20.463250764990573,26.889966230945696,47.36466997026271,20.463250764990573,26.889966230945696,null,{"$f":"IF(EMCI!$F$27=\"A\",'1st milking (D)'!AF71,IF(EMCI!$F$27=\"B\",'1st milking (D)'!AG71,IF(EMCI!$F$27=\"S\",'1st milking (D)'!AH71,IF(EMCI!$F$27=\"P\",'1st milking (D)'!AI71,IF(EMCI!$F$27=\"FS\",'1st milking (D)'!AJ71,\"error\")))))","v":26.889966230945696}]
[{"$f":"E54","v":17.25},{"$f":"AL54","v":14.713224268164536},null,null,{"$f":"E71-0.25","v":12.75},1.4411764705882353,2.9411764705882248E-2,null,5.5436537565548595E-2,0.12921463172602407,0.21614234706036106,null,5.3547868196072462E-2,0.12639036343352611,0.21337356368273519,null,1.6304863989867176E-3,2.284890611503136,null,50.70434136715096,null,3.8004303448830475E-3,1.4524397270830398,null,28.068281287780042,null,6.3571278547164796E-3,1.5264094654919502,null,20.966001866847126,null,20.966001866847126,28.068281287780042,50.70434136715096,20.966001866847126,28.068281287780042,null,{"$f":"IF(EMCI!$F$27=\"A\",'1st milking (D)'!AF72,IF(EMCI!$F$27=\"B\",'1st milking (D)'!AG72,IF(EMCI!$F$27=\"S\",'1st milking (D)'!AH72,IF(EMCI!$F$27=\"P\",'1st milking (D)'!AI72,IF(EMCI!$F$27=\"FS\",'1st milking (D)'!AJ72,\"error\")))))","v":28.068281287780042}]
[{"$f":"E53","v":17.5},{"$f":"AL53","v":14.285998847573136},null,null,12.5,1.4705882352941178,2.941176470588247E-2,null,5.1691931397991081E-2,0.12359730167329401,0.21062024924946207,null,4.9868727171304417E-2,0.12083544651493101,0.20788251013768322,null,1.5203509234703321E-3,2.2864109624266065,null,54.41464403637022,null,3.6352147550968972E-3,1.4560749418381367,null,29.328522055189815,null,6.1947132132194977E-3,1.5326041787051696,null,21.49000326355506,null,21.49000326355506,29.328522055189815,54.41464403637022,21.49000326355506,29.328522055189815,null,{"$f":"IF(EMCI!$F$27=\"A\",'1st milking (D)'!AF73,IF(EMCI!$F$27=\"B\",'1st milking (D)'!AG73,IF(EMCI!$F$27=\"S\",'1st milking (D)'!AH73,IF(EMCI!$F$27=\"P\",'1st milking (D)'!AI73,IF(EMCI!$F$27=\"FS\",'1st milking (D)'!AJ73,\"error\")))))","v":29.328522055189815}]
[{"$f":"E52","v":17.75},{"$f":"AL52","v":13.878790122259364},null,null,12.25,1.5,2.9411764705882248E-2,null,4.807825551601249E-2,0.11810479802336256,0.20516044972357486,null,4.6320516432115315E-2,0.11540535625914415,0.2024541684629837,null,1.4140663387062448E-3,2.2878250287653126,null,58.552347429232469,null,3.4736705300988865E-3,1.4595486123682355,null,30.678397453941717,null,6.0341308742227684E-3,1.5386383095793923,null,22.036403222966062,null,22.036403222966062,30.678397453941717,58.552347429232469,22.036403222966062,30.678397453941717,null,{"$f":"IF(EMCI!$F$27=\"A\",'1st milking (D)'!AF74,IF(EMCI!$F$27=\"B\",'1st milking (D)'!AG74,IF(EMCI!$F$27=\"S\",'1st milking (D)'!AH74,IF(EMCI!$F$27=\"P\",'1st milking (D)'!AI74,IF(EMCI!$F$27=\"FS\",'1st milking (D)'!AJ74,\"error\")))))","v":30.678397453941717}]
[{"$f":"E51","v":18},{"$f":"AL51","v":13.490394369073075},null,null,12,1.5294117647058822,2.9411764705882248E-2,null,4.459550991961285E-2,0.11273712127874896,0.19976376397001153,null,4.2903235978505136E-2,0.11010009313483672,0.19708933109359619,null,1.311632644694491E-3,{"$f":"R74+Q75","v":2.2891366614100073},null,63.185521482532387,null,3.3157976846690754E-3,{"$f":"W74+V75","v":1.4628644100529047},null,32.126544939569285,null,5.8754048226473772E-3,{"$f":"AB74+AA75","v":1.5445137144020398},null,22.606430601167773,null,22.606430601167773,32.126544939569285,63.185521482532387,22.606430601167773,32.126544939569285,null,{"$f":"IF(EMCI!$F$27=\"A\",'1st milking (D)'!AF75,IF(EMCI!$F$27=\"B\",'1st milking (D)'!AG75,IF(EMCI!$F$27=\"S\",'1st milking (D)'!AH75,IF(EMCI!$F$27=\"P\",'1st milking (D)'!AI75,IF(EMCI!$F$27=\"FS\",'1st milking (D)'!AJ75,\"error\")))))","v":32.126544939569285}]
[{"$f":"E50","v":18.25},{"$f":"AL50","v":13.119697037556707},null,null,11.75,1.5588235294117647,{"$f":"F76-F75","v":2.941176470588247E-2},null,4.1243694608792139E-2,0.10749427187650554,0.19443096199213733,null,3.961688581047388E-2,0.10491965754952723,0.19178874620621136,null,1.2130498414350678E-3,2.2903497112514422,null,68.396347499686172,null,3.1615962316619401E-3,{"$f":"W75+V76","v":1.4660260062845667},null,33.682668017165646,null,5.7185577056511208E-3,{"$f":"AB75+AA76","v":1.5502322721076909},null,23.20140162503548,null,23.20140162503548,33.682668017165646,68.396347499686172,23.20140162503548,33.682668017165646,null,{"$f":"IF(EMCI!$F$27=\"A\",'1st milking (D)'!AF76,IF(EMCI!$F$27=\"B\",'1st milking (D)'!AG76,IF(EMCI!$F$27=\"S\",'1st milking (D)'!AH76,IF(EMCI!$F$27=\"P\",'1st milking (D)'!AI76,IF(EMCI!$F$27=\"FS\",'1st milking (D)'!AJ76,\"error\")))))","v":33.682668017165646}]
[{"$f":"E49","v":18.5},{"$f":"AL49","v":12.76566494217216},null,null,11.5,1.588235294117647,2.9411764705882248E-2,null,3.8022809583550352E-2,0.10237625019656743,0.18916277072942361,null,3.6461465928021568E-2,9.9864049857391432E-2,0.18655312007743888,null,1.1183179289279475E-3,2.2914680291803702,null,74.284779886977987,null,3.0110661822519724E-3,1.4690370724668187,null,35.357698116344089,null,5.5636109038065575E-3,1.5557958830114975,null,23.822727355852837,null,23.822727355852837,35.357698116344089,74.284779886977987,23.822727355852837,35.357698116344089,null,{"$f":"IF(EMCI!$F$27=\"A\",'1st milking (D)'!AF77,IF(EMCI!$F$27=\"B\",'1st milking (D)'!AG77,IF(EMCI!$F$27=\"S\",'1st milking (D)'!AH77,IF(EMCI!$F$27=\"P\",'1st milking (D)'!AI77,IF(EMCI!$F$27=\"FS\",'1st milking (D)'!AJ77,\"error\")))))","v":35.357698116344089}]
[{"$f":"E48","v":18.75},{"$f":"AL48","v":12.42733924102239},null,null,11.25,1.6176470588235294,2.941176470588247E-2,null,3.4932854843887522E-2,9.7383056569056464E-2,0.18395987635523695,null,3.3436976331148192E-2,9.4933270366092032E-2,0.18138311932263304,null,1.0274369071731665E-3,2.2924954660875434,null,80.973366344440734,null,2.864207546148731E-3,1.4719012800129674,null,37.163985885892203,null,5.4105845986834608E-3,1.5612064676101809,null,24.471921912944769,null,24.471921912944769,37.163985885892203,80.973366344440734,24.471921912944769,37.163985885892203,null,{"$f":"IF(EMCI!$F$27=\"A\",'1st milking (D)'!AF78,IF(EMCI!$F$27=\"B\",'1st milking (D)'!AG78,IF(EMCI!$F$27=\"S\",'1st milking (D)'!AH78,IF(EMCI!$F$27=\"P\",'1st milking (D)'!AI78,IF(EMCI!$F$27=\"FS\",'1st milking (D)'!AJ78,\"error\")))))","v":37.163985885892203}]
[{"$f":"E47","v":19},{"$f":"AL47","v":12.103829111858504},null,null,11,1.6470588235294117,2.9411764705882248E-2,null,3.1973830389803601E-2,9.2514691280667832E-2,0.17882292645810682,null,3.054341701985375E-2,9.0127319342750936E-2,0.17627937302097987,null,9.4040677617069084E-4,2.2934358728637143,null,88.613665110782208,null,2.7210203317843385E-3,1.4746223003447516,null,39.115528181287232,null,5.2594978370031232E-3,1.566465965447184,null,25.150611546735867,null,25.150611546735867,39.115528181287232,88.613665110782208,25.150611546735867,39.115528181287232,null,{"$f":"IF(EMCI!$F$27=\"A\",'1st milking (D)'!AF79,IF(EMCI!$F$27=\"B\",'1st milking (D)'!AG79,IF(EMCI!$F$27=\"S\",'1st milking (D)'!AH79,IF(EMCI!$F$27=\"P\",'1st milking (D)'!AI79,IF(EMCI!$F$27=\"FS\",'1st milking (D)'!AJ79,\"error\")))))","v":39.115528181287232}]
[{"$f":"E46","v":19.25},{"$f":"AL46","v":11.794306047392636},null,null,10.75,1.6764705882352942,2.941176470588247E-2,null,2.9145736221298631E-2,8.7771154580253072E-2,0.1737525321119813,null,2.7780787994138238E-2,8.5446197019167794E-2,0.17124247473224119,null,8.5722753592055144E-4,2.294293100399635,null,97.394893916301825,null,2.5815045464780417E-3,1.4772038048912297,null,41.22823856418696,null,5.110368591528882E-3,1.5715763340387128,null,25.860544662681825,null,25.860544662681825,41.22823856418696,97.394893916301825,25.860544662681825,41.22823856418696,null,{"$f":"IF(EMCI!$F$27=\"A\",'1st milking (D)'!AF80,IF(EMCI!$F$27=\"B\",'1st milking (D)'!AG80,IF(EMCI!$F$27=\"S\",'1st milking (D)'!AH80,IF(EMCI!$F$27=\"P\",'1st milking (D)'!AI80,IF(EMCI!$F$27=\"FS\",'1st milking (D)'!AJ80,\"error\")))))","v":41.22823856418696}]
[{"$f":"E45","v":19.5},{"$f":"AL45","v":11.497998701618688},null,null,10.5,1.7058823529411764,2.9411764705882248E-2,null,2.644857233837258E-2,8.3152446683698977E-2,0.16874926984075,null,2.5149089254001666E-2,8.0889903596380763E-2,0.1662729844103209,null,7.7789918642272022E-4,2.2950709995860579,null,107.55574379233394,null,2.4456601965793731E-3,1.4796494650878091,null,43.520271114152997,null,4.9632138188455705E-3,1.5765395478575583,null,26.603602911381124,null,26.603602911381124,43.520271114152997,107.55574379233394,26.603602911381124,43.520271114152997,null,{"$f":"IF(EMCI!$F$27=\"A\",'1st milking (D)'!AF81,IF(EMCI!$F$27=\"B\",'1st milking (D)'!AG81,IF(EMCI!$F$27=\"S\",'1st milking (D)'!AH81,IF(EMCI!$F$27=\"P\",'1st milking (D)'!AI81,IF(EMCI!$F$27=\"FS\",'1st milking (D)'!AJ81,\"error\")))))","v":43.520271114152997}]
[{"$f":"E44","v":19.75},{"$f":"AL44","v":11.214188227207767},null,null,10.25,1.7352941176470589,2.941176470588247E-2,null,2.3882338741025473E-2,7.8658567778189678E-2,0.16381368348209219,null,2.2648320799444024E-2,7.6458439248649382E-2,0.16137143021860539,null,7.0242172767722257E-4,2.2957734213137351,null,119.40075392930008,null,2.3134872875938232E-3,1.481962952375403,null,46.012409907866939,null,4.8180495141792014E-3,1.5813575973717375,null,27.381813476167686,null,27.381813476167686,46.012409907866939,119.40075392930008,27.381813476167686,46.012409907866939,null,{"$f":"IF(EMCI!$F$27=\"A\",'1st milking (D)'!AF82,IF(EMCI!$F$27=\"B\",'1st milking (D)'!AG82,IF(EMCI!$F$27=\"S\",'1st milking (D)'!AH82,IF(EMCI!$F$27=\"P\",'1st milking (D)'!AI82,IF(EMCI!$F$27=\"FS\",'1st milking (D)'!AJ82,\"error\")))))","v":46.012409907866939}]
[{"$f":"E43","v":20},{"$f":"AL43","v":10.942204051288039},null,null,10,1.7647058823529411,2.9411764705882248E-2,null,2.14470354292573E-2,7.428951802592855E-2,0.15894628595549334,null,2.0278482630465319E-2,7.2151804126932312E-2,0.15653831025181383,null,6.3079515968403603E-4,2.2964042164734191,null,133.32337694068104,null,2.1849858242920083E-3,1.4841479381996949,null,48.728539838242696,null,4.6748907633968467E-3,1.5860324881351344,null,28.197362707981068,null,28.197362707981068,48.728539838242696,133.32337694068104,28.197362707981068,48.728539838242696,null,{"$f":"IF(EMCI!$F$27=\"A\",'1st milking (D)'!AF83,IF(EMCI!$F$27=\"B\",'1st milking (D)'!AG83,IF(EMCI!$F$27=\"S\",'1st milking (D)'!AH83,IF(EMCI!$F$27=\"P\",'1st milking (D)'!AI83,IF(EMCI!$F$27=\"FS\",'1st milking (D)'!AJ83,\"error\")))))","v":48.728539838242696}]
[{"$f":"E42","v":20.25},{"$f":"AL42","v":10.681420043202364},null,null,9.75,1.7941176470588236,2.941176470588247E-2,null,1.9142662403068059E-2,7.0045297567387574E-2,0.15414756093906151,null,1.8039574747065537E-2,6.7969998361922884E-2,0.15177409416889009,null,5.6301948244318045E-4,2.2969672359558624,null,149.83905119403298,null,2.0601558108055253E-3,1.4862080940105005,null,51.696218782873217,null,4.5337517923253563E-3,1.5905662399274598,null,29.052611278745907,null,29.052611278745907,51.696218782873217,149.83905119403298,29.052611278745907,51.696218782873217,null,{"$f":"IF(EMCI!$F$27=\"A\",'1st milking (D)'!AF84,IF(EMCI!$F$27=\"B\",'1st milking (D)'!AG84,IF(EMCI!$F$27=\"S\",'1st milking (D)'!AH84,IF(EMCI!$F$27=\"P\",'1st milking (D)'!AI84,IF(EMCI!$F$27=\"FS\",'1st milking (D)'!AJ84,\"error\")))))","v":51.696218782873217}]
[{"$f":"E41","v":20.5},{"$f":"AL41","v":10.431251033300548},null,null,9.5,1.8235294117647058,2.9411764705882248E-2,null,1.6969219662457756E-2,6.5925906524142819E-2,0.14941796445957814,null,1.5931597149244706E-2,6.3913022066697509E-2,0.14707922474126942,null,4.9909469595463816E-4,2.297466330651817,null,169.63356806171228,null,1.938997250710076E-3,1.4881470912612105,null,54.947376844016794,null,4.3946460135169882E-3,1.5949608859409767,null,29.950111049388742,null,29.950111049388742,54.947376844016794,169.63356806171228,29.950111049388742,54.947376844016794,null,{"$f":"IF(EMCI!$F$27=\"A\",'1st milking (D)'!AF85,IF(EMCI!$F$27=\"B\",'1st milking (D)'!AG85,IF(EMCI!$F$27=\"S\",'1st milking (D)'!AH85,IF(EMCI!$F$27=\"P\",'1st milking (D)'!AI85,IF(EMCI!$F$27=\"FS\",'1st milking (D)'!AJ85,\"error\")))))","v":54.947376844016794}]
[{"$f":"E40","v":20.75},{"$f":"AL40","v":10.191149646581616},null,null,9.25,1.8529411764705883,2.941176470588247E-2,null,1.4926707207426384E-2,6.1931345001347733E-2,0.14475792640001692,null,1.3954549837002799E-2,5.9980875339025456E-2,0.1424541193206629,null,4.3902080021842482E-4,2.2979053514520356,null,193.63538631557381,null,1.82151014709847E-3,1.4899686014083089,null,58.519175966542676,null,4.25758607058875E-3,1.5992184720115654,null,30.892623877603118,null,30.892623877603118,58.519175966542676,193.63538631557381,30.892623877603118,58.519175966542676,null,{"$f":"IF(EMCI!$F$27=\"A\",'1st milking (D)'!AF86,IF(EMCI!$F$27=\"B\",'1st milking (D)'!AG86,IF(EMCI!$F$27=\"S\",'1st milking (D)'!AH86,IF(EMCI!$F$27=\"P\",'1st milking (D)'!AI86,IF(EMCI!$F$27=\"FS\",'1st milking (D)'!AJ86,\"error\")))))","v":58.519175966542676}]
[{"$f":"E39","v":21},{"$f":"AL39","v":9.9606034191548769},null,null,9,1.8823529411764706,2.9411764705882248E-2,null,1.3015125037973942E-2,5.8061613089890336E-2,0.1401678519285815,null,1.2108432810339827E-2,5.6173558263382765E-2,0.13789917123031473,null,3.8279779523452638E-4,2.29828814924727,null,223.12646839363398,null,{"$f":"G87*J87","v":1.7076945026438274E-3},1.4916762959109526,null,62.455073393062577,null,{"$f":"G87*K87","v":4.1225838802523822E-3},1.6033410558918177,null,31.883142624294855,null,31.883142624294855,{"$f":"Y87","v":62.455073393062577},{"$f":"T87","v":223.12646839363398},{"$f":"AD87","v":31.883142624294855},62.455073393062577,null,{"$f":"IF(EMCI!$F$27=\"A\",'1st milking (D)'!AF87,IF(EMCI!$F$27=\"B\",'1st milking (D)'!AG87,IF(EMCI!$F$27=\"S\",'1st milking (D)'!AH87,IF(EMCI!$F$27=\"P\",'1st milking (D)'!AI87,IF(EMCI!$F$27=\"FS\",'1st milking (D)'!AJ87,\"error\")))))","v":62.455073393062577}]
[{"$f":"E38","v":21.25},{"$f":"AL38","v":9.7391321691200634},null,null,8.75,{"$f":"(E88-$F$11)/$F$10","v":1.911764705882353},2.941176470588247E-2,null,1.1234473154100443E-2,5.4316710868272958E-2,0.13564812285312758,null,{"$f":"IF(E88>$H$15,(0.00033*(E88-5.6)*((6.5-2.8)*(1-EXP(0.5*(6.5-9.8)))*(36.7-0.9324)*(1-EXP(0.42*(-5-0.9324)))))^2,0)","v":1.0393246069255789E-2},{"$f":"IF(E88>$H$16,(((0.175*(E88-1.5)*SQRT(0.995-0.92)*(1-EXP(0.4395*(E88-45)))))^2)/2.3,0)","v":5.249107091270714E-2},0.13341475108351158,null,{"$f":"G88*I88","v":3.3042568100295549E-4},2.2986185749282728,null,{"$f":"IF(M88=0,T87,($G$15-R88)/M88)","v":259.91700832165139},null,1.5975503196550933E-3,1.4932738462306077,null,{"$f":"($G$16-W88)/N88","v":66.806146127235465},null,3.9896506721508272E-3,1.6073307065639686,null,{"$f":"($G$17-AB88)/O88","v":32.924914657198734},null,{"$f":"+MIN(AG88:AI88)","v":32.924914657198734},66.806146127235465,259.91700832165139,32.924914657198734,{"$f":"MIN(AG88:AH88)","v":66.806146127235465},null,{"$f":"IF(EMCI!$F$27=\"A\",'1st milking (D)'!AF88,IF(EMCI!$F$27=\"B\",'1st milking (D)'!AG88,IF(EMCI!$F$27=\"S\",'1st milking (D)'!AH88,IF(EMCI!$F$27=\"P\",'1st milking (D)'!AI88,IF(EMCI!$F$27=\"FS\",'1st milking (D)'!AJ88,\"error\")))))","v":66.806146127235465}]
[{"$f":"E37","v":21.5},{"$f":"AL37","v":9.526285596647984},null,null,{"$f":"E88-0.25","v":8.5},1.9411764705882353,{"$f":"F89-F88","v":2.9411764705882248E-2},null,{"$f":"IF(E89>$H$15,(0.00033*(((E89+E88)/2)-5.6)*((6.5-2.8)*(1-EXP(0.5*(6.5-9.8)))*(36.7-0.9324)*(1-EXP(0.42*(-5-0.9324)))))^2,0)","v":9.5847515558058708E-3},{"$f":"IF(E89>$H$16,(((0.175*(((E89+E88)/2)-1.5)*SQRT(0.995-0.92)*(1-EXP(0.4395*(((E89+E88)/2)-45)))))^2)/2.3,0)","v":5.0696638404250462E-2},{"$f":"IF(E89>$H$17,((0.1709*(((E89+E88)/2)+6.1)*SQRT(0.995-0.947)*(1-EXP(0.1723*(((E89+E88)/2)-41.2))))^2)/2.3,0)","v":0.13119909890466158},null,8.8089896137506871E-3,4.8933413349926902E-2,0.12900120803295215,null,2.8190445752370108E-4,{"$f":"R88+Q89","v":2.2989004793857966},null,{"$f":"IF(M89=0,T88,($G$15-R89)/M89)","v":306.62989049252957},null,1.4910776001250082E-3,1.4947649238307326,null,71.632752268946376,null,3.8587970266076798E-3,1.6111895035905763,null,34.02146819654854,null,34.02146819654854,71.632752268946376,306.62989049252957,34.02146819654854,71.632752268946376,null,{"$f":"IF(EMCI!$F$27=\"A\",'1st milking (D)'!AF89,IF(EMCI!$F$27=\"B\",'1st milking (D)'!AG89,IF(EMCI!$F$27=\"S\",'1st milking (D)'!AH89,IF(EMCI!$F$27=\"P\",'1st milking (D)'!AI89,IF(EMCI!$F$27=\"FS\",'1st milking (D)'!AJ89,\"error\")))))","v":71.632752268946376}]
[{"$f":"E36","v":21.75},{"$f":"AL36","v":9.3216410908347136},null,null,8.25,1.9705882352941178,2.941176470588247E-2,null,8.0659602430902377E-3,4.7201395756256849E-2,0.12682111895344028,null,7.3556634438245181E-3,4.5500585629291837E-2,0.12465887095441666,null,2.3723412479677265E-4,2.2991377135105933,null,367.1813300208737,null,1.3882763457722658E-3,1.4961532001765048,null,77.006630823842173,null,3.7300329103953172E-3,1.6149195365009716,null,35.176641902223686,null,35.176641902223686,77.006630823842173,367.1813300208737,35.176641902223686,77.006630823842173,null,{"$f":"IF(EMCI!$F$27=\"A\",'1st milking (D)'!AF90,IF(EMCI!$F$27=\"B\",'1st milking (D)'!AG90,IF(EMCI!$F$27=\"S\",'1st milking (D)'!AH90,IF(EMCI!$F$27=\"P\",'1st milking (D)'!AI90,IF(EMCI!$F$27=\"FS\",'1st milking (D)'!AJ90,\"error\")))))","v":77.006630823842173}]
[{"$f":"E35","v":22},{"$f":"AL35","v":9.1248017233565513},null,null,8,2,2.9411764705882248E-2,null,6.6780992159535344E-3,4.3830982974647166E-2,0.12251450216103232,null,6.0332675594772841E-3,4.2192587797532113E-2,0.12038804956802177,null,1.9641468282216207E-4,2.2993341281934154,null,447.62905758493616,null,1.2891465580778532E-3,1.4974423467345825,null,83.013577410160309,null,3.6033677106185849E-3,1.6185229042115903,null,36.394618166089508,null,36.394618166089508,83.013577410160309,447.62905758493616,36.394618166089508,83.013577410160309,null,{"$f":"IF(EMCI!$F$27=\"A\",'1st milking (D)'!AF91,IF(EMCI!$F$27=\"B\",'1st milking (D)'!AG91,IF(EMCI!$F$27=\"S\",'1st milking (D)'!AH91,IF(EMCI!$F$27=\"P\",'1st milking (D)'!AI91,IF(EMCI!$F$27=\"FS\",'1st milking (D)'!AJ91,\"error\")))))","v":83.013577410160309}]
[{"$f":"E34","v":22.25},{"$f":"AL34","v":8.9353944111141459},null,null,7.75,2.0294117647058822,2.9411764705882248E-2,null,5.4211684743957671E-3,4.0585400102778259E-2,0.11827954907154804,null,4.8418019607089843E-3,3.9009419894865949E-2,0.11618903550019019,null,1.5944613159987495E-4,2.2994935743250151,null,557.74822010265575,null,1.1936882383170033E-3,1.4986360349728995,null,89.756883708181391,null,3.4788102668102242E-3,1.6220017144784005,null,37.679960649251043,null,37.679960649251043,89.756883708181391,557.74822010265575,37.679960649251043,89.756883708181391,null,{"$f":"IF(EMCI!$F$27=\"A\",'1st milking (D)'!AF92,IF(EMCI!$F$27=\"B\",'1st milking (D)'!AG92,IF(EMCI!$F$27=\"S\",'1st milking (D)'!AH92,IF(EMCI!$F$27=\"P\",'1st milking (D)'!AI92,IF(EMCI!$F$27=\"FS\",'1st milking (D)'!AJ92,\"error\")))))","v":89.756883708181391}]
[{"$f":"E33","v":22.5},{"$f":"AL33","v":8.753068231960567},null,null,7.5,2.0588235294117645,2.9411764705882248E-2,null,4.295168018416934E-3,3.7464647177948653E-2,0.11411654264509592,null,3.7812666475196171E-3,3.595108195587611E-2,0.1120621032893214,null,1.2632847112990938E-4,2.2996199027961448,null,714.14696421243218,null,1.1019013875867211E-3,1.4997379363604864,null,97.361800346801658,null,3.3563689013263389E-3,1.6253580833797268,null,39.037656694037274,null,39.037656694037274,97.361800346801658,714.14696421243218,39.037656694037274,97.361800346801658,null,{"$f":"IF(EMCI!$F$27=\"A\",'1st milking (D)'!AF93,IF(EMCI!$F$27=\"B\",'1st milking (D)'!AG93,IF(EMCI!$F$27=\"S\",'1st milking (D)'!AH93,IF(EMCI!$F$27=\"P\",'1st milking (D)'!AI93,IF(EMCI!$F$27=\"FS\",'1st milking (D)'!AJ93,\"error\")))))","v":97.361800346801658}]
[{"$f":"E32","v":22.75},{"$f":"AL32","v":8.5774928792929188},null,null,7.25,2.0882352941176472,2.9411764705882693E-2,null,3.3000978480170352E-3,3.44687242322156E-2,0.11002574923637776,null,2.8516616199091853E-3,3.3017574010271708E-2,0.10800751133800611,null,9.7061701412266862E-5,2.299716964497557,null,946.91565669998283,null,1.0137860068298824E-3,1.5007517223673161,null,105.98138665621144,null,3.2360514481287951E-3,1.6285941348278556,null,40.47316534765779,null,40.47316534765779,105.98138665621144,946.91565669998283,40.47316534765779,105.98138665621144,null,{"$f":"IF(EMCI!$F$27=\"A\",'1st milking (D)'!AF94,IF(EMCI!$F$27=\"B\",'1st milking (D)'!AG94,IF(EMCI!$F$27=\"S\",'1st milking (D)'!AH94,IF(EMCI!$F$27=\"P\",'1st milking (D)'!AI94,IF(EMCI!$F$27=\"FS\",'1st milking (D)'!AJ94,\"error\")))))","v":105.98138665621144}]
[{"$f":"E31","v":23},{"$f":"AL31","v":8.4083572427780791},null,null,7,2.1176470588235294,2.9411764705882248E-2,null,2.4359579631960701E-3,3.1597631293105111E-2,0.10600741952120002,null,2.0529868778776873E-3,3.0208896083549652E-2,0.10402550281449537,null,7.1645822446942984E-5,2.2997886103200038,null,{"$f":"IF(M95=0,T94,($G$15-R95)/M95)","v":1315.2599360359229},null,9.2934209685602938E-4,1.5016810644641723,null,115.80426262053476,null,3.1178652800352836E-3,1.6317120001078909,null,41.992471862230815,null,41.992471862230815,115.80426262053476,1315.2599360359229,41.992471862230815,115.80426262053476,null,{"$f":"IF(EMCI!$F$27=\"A\",'1st milking (D)'!AF95,IF(EMCI!$F$27=\"B\",'1st milking (D)'!AG95,IF(EMCI!$F$27=\"S\",'1st milking (D)'!AH95,IF(EMCI!$F$27=\"P\",'1st milking (D)'!AI95,IF(EMCI!$F$27=\"FS\",'1st milking (D)'!AJ95,\"error\")))))","v":115.80426262053476}]
[{"$f":"E30","v":23.25},{"$f":"AL30","v":8.2453681038054345},null,null,{"$f":"E95-0.25","v":6.75},2.1470588235294117,2.9411764705882248E-2,null,1.7027483639540388E-3,2.8851368384228526E-2,0.1020617893735461,null,1.3852424214251236E-3,2.7525048197569259E-2,0.10011630650600498,null,5.0080834233942141E-5,2.2998386911542377,null,{"$f":"IF(M96=0,T95,($G$15-R96)/M96)","v":1949.2337709870762},null,8.4856965835965951E-4,1.5025296341225318,null,127.06500423807906,null,3.0018173345160511E-3,1.634713817442407,null,43.602149688729909,null,43.602149688729909,127.06500423807906,1949.2337709870762,43.602149688729909,127.06500423807906,null,{"$f":"IF(EMCI!$F$27=\"A\",'1st milking (D)'!AF96,IF(EMCI!$F$27=\"B\",'1st milking (D)'!AG96,IF(EMCI!$F$27=\"S\",'1st milking (D)'!AH96,IF(EMCI!$F$27=\"P\",'1st milking (D)'!AI96,IF(EMCI!$F$27=\"FS\",'1st milking (D)'!AJ96,\"error\")))))","v":127.06500423807906}]
[{"$f":"E29","v":23.5},{"$f":"AL29","v":8.0882489354337554},null,null,{"$f":"E96-0.25","v":6.5},2.1764705882352939,2.9411764705882248E-2,null,1.100469050290942E-3,2.622993552581766E-2,9.8189080695726974E-2,null,8.4842825055149364E-4,2.4966030371050753E-2,9.6280137626312767E-2,null,3.2366736773262884E-5,{"$f":"R96+Q97","v":2.2998710578910111},null,3182.5071128334735,null,7.7146869193581082E-4,{"$f":"W96+V97","v":1.5033011028144676},null,140.05826497912594,null,2.8879141381096068E-3,{"$f":"AB96+AA97","v":1.6376017315805165},null,45.30943116586559,null,45.30943116586559,140.05826497912594,3182.5071128334735,45.30943116586559,140.05826497912594,null,{"$f":"IF(EMCI!$F$27=\"A\",'1st milking (D)'!AF97,IF(EMCI!$F$27=\"B\",'1st milking (D)'!AG97,IF(EMCI!$F$27=\"S\",'1st milking (D)'!AH97,IF(EMCI!$F$27=\"P\",'1st milking (D)'!AI97,IF(EMCI!$F$27=\"FS\",'1st milking (D)'!AJ97,\"error\")))))","v":140.05826497912594}]
[{"$f":"E28","v":23.75},{"$f":"AL28","v":7.9367387976440513},null,null,6.25,2.2058823529411766,2.9411764705882693E-2,null,6.2912002220677889E-4,2.3733332735188999E-2,9.4389502204009934E-2,null,4.4254436525679775E-4,2.2531842620007458E-2,9.2517198579988219E-2,null,1.8503530064905474E-5,{"$f":"R97+Q98","v":2.2998895614210761},null,6101.3327714886063,null,6.9803919809380212E-4,{"$f":"W97+V98","v":1.5039991420125614},null,155.15823170552048,null,2.7761618295297362E-3,{"$f":"AB97+AA98","v":1.6403778934100461},null,47.122288325891382,null,47.122288325891382,155.15823170552048,6101.3327714886063,47.122288325891382,155.15823170552048,null,{"$f":"IF(EMCI!$F$27=\"A\",'1st milking (D)'!AF98,IF(EMCI!$F$27=\"B\",'1st milking (D)'!AG98,IF(EMCI!$F$27=\"S\",'1st milking (D)'!AH98,IF(EMCI!$F$27=\"P\",'1st milking (D)'!AI98,IF(EMCI!$F$27=\"FS\",'1st milking (D)'!AJ98,\"error\")))))","v":155.15823170552048}]
[{"$f":"E27","v":24},{"$f":"AL27","v":7.790591319641746},null,null,6,2.2352941176470589,2.9411764705882248E-2,null,2.887012797015501E-4,2.1361560027146304E-2,9.0663250172005841E-2,null,1.6759076554103596E-4,2.0222484958120589E-2,{"$f":"IF(E99>$H$17,((0.1709*(E99+6.1)*SQRT(0.995-0.947)*(1-EXP(0.1723*(E99-41.2))))^2)/2.3,0)","v":8.8827679685481262E-2},null,8.4912141088690897E-6,2.2998980526351849,null,16111.281183351795,null,6.2828117726900672E-4,1.5046274231898304,null,172.84584876927104,null,2.6665661815295739E-3,1.6430444595915756,null,49.049525506412188,null,49.049525506412188,172.84584876927104,16111.281183351795,49.049525506412188,172.84584876927104,null,{"$f":"IF(EMCI!$F$27=\"A\",'1st milking (D)'!AF99,IF(EMCI!$F$27=\"B\",'1st milking (D)'!AG99,IF(EMCI!$F$27=\"S\",'1st milking (D)'!AH99,IF(EMCI!$F$27=\"P\",'1st milking (D)'!AI99,IF(EMCI!$F$27=\"FS\",'1st milking (D)'!AJ99,\"error\")))))","v":172.84584876927104}]
[{"$f":"E26","v":24.25},{"$f":"AL26","v":7.6495737617829498},null,null,5.75,2.2647058823529411,2.9411764705882248E-2,null,7.921282277525533E-5,1.911461741432929E-2,8.7010509133988265E-2,null,2.3567451404208249E-5,1.8037957397063781E-2,8.5211759859187261E-2,null,2.3297889051545602E-6,2.2999003824240902,null,114569.01178095884,null,5.621946298332124E-4,1.5051896178196638,null,193.74756826674962,null,2.559132621587881E-3,1.6456035922131635,null,51.100885781287609,null,51.100885781287609,193.74756826674962,114569.01178095884,51.100885781287609,193.74756826674962,null,{"$f":"IF(EMCI!$F$27=\"A\",'1st milking (D)'!AF100,IF(EMCI!$F$27=\"B\",'1st milking (D)'!AG100,IF(EMCI!$F$27=\"S\",'1st milking (D)'!AH100,IF(EMCI!$F$27=\"P\",'1st milking (D)'!AI100,IF(EMCI!$F$27=\"FS\",'1st milking (D)'!AJ100,\"error\")))))","v":193.74756826674962}]
[{"$f":"E25","v":24.5},{"$f":"AL25","v":7.5134661504436933},null,null,5.5,2.2941176470588234,2.9411764705882248E-2,null,0,1.6992504907515658E-2,8.3431452550209242E-2,null,0,1.5978259946784049E-2,8.1669607262505536E-2,null,0,2.2999003824240902,null,114569.01178095884,null,4.9977955610339998E-4,1.5056893973757672,null,218.69156054927834,null,2.4538662514767338E-3,1.6480574584646404,null,53.287173618298198,null,53.287173618298198,218.69156054927834,114569.01178095884,53.287173618298198,218.69156054927834,null,{"$f":"IF(EMCI!$F$27=\"A\",'1st milking (D)'!AF101,IF(EMCI!$F$27=\"B\",'1st milking (D)'!AG101,IF(EMCI!$F$27=\"S\",'1st milking (D)'!AH101,IF(EMCI!$F$27=\"P\",'1st milking (D)'!AI101,IF(EMCI!$F$27=\"FS\",'1st milking (D)'!AJ101,\"error\")))))","v":218.69156054927834}]
[{"$f":"E24","v":24.75},{"$f":"AL24","v":7.3820604798181062},null,null,5.25,2.3235294117647061,2.9411764705882693E-2,null,0,1.4995222515882417E-2,7.9926243436178462E-2,null,0,1.4043392615744832E-2,7.8201379913805977E-2,null,0,2.2999003824240902,null,114569.01178095884,null,4.4103595634948793E-4,1.5061304333321168,null,248.79099105658494,null,2.3507718657699819E-3,1.6504082303304104,null,55.620396653661807,null,55.620396653661807,248.79099105658494,114569.01178095884,55.620396653661807,248.79099105658494,null,{"$f":"IF(EMCI!$F$27=\"A\",'1st milking (D)'!AF102,IF(EMCI!$F$27=\"B\",'1st milking (D)'!AG102,IF(EMCI!$F$27=\"S\",'1st milking (D)'!AH102,IF(EMCI!$F$27=\"P\",'1st milking (D)'!AI102,IF(EMCI!$F$27=\"FS\",'1st milking (D)'!AJ102,\"error\")))))","v":248.79099105658494}]
[{"$f":"E23","v":25},{"$f":"AL23","v":7.2551599752309368},null,null,5,2.3529411764705883,2.9411764705882248E-2,null,0,1.3122770247231881E-2,7.6495034957773558E-2,null,0,1.2233355411136097E-2,7.4807226267127047E-2,null,0,2.2999003824240902,null,114569.01178095884,null,3.8596383080093631E-4,1.5065163971629179,null,285.57035134096918,null,2.249853969346273E-3,1.6526580842997567,null,58.113930065745791,null,58.113930065745791,285.57035134096918,114569.01178095884,58.113930065745791,285.57035134096918,null,{"$f":"IF(EMCI!$F$27=\"A\",'1st milking (D)'!AF103,IF(EMCI!$F$27=\"B\",'1st milking (D)'!AG103,IF(EMCI!$F$27=\"S\",'1st milking (D)'!AH103,IF(EMCI!$F$27=\"P\",'1st milking (D)'!AI103,IF(EMCI!$F$27=\"FS\",'1st milking (D)'!AJ103,\"error\")))))","v":285.57035134096918}]

{"sheet":"1st milking (DF)","index":6,"n_rows":103,"n_cols":38,"rows_kept":103,"cut":false,"hidden":false,"merged":[]}
[]
["Entry",null,null,null,"Milk cooling curve (1st milking)",null,null,null,null,null,null,null,null,null,"Entry: ","Temp","Time"]
[null,null,null,null,null,null,null,null,null,null,null,null,null,null,null,{"$f":"E5","v":25},{"$f":"F5","v":0}]
["Milking",{"$f":"EMCI!F9","v":1},1,null,"T","t",null,null,null,null,null,null,null,null,null,{"$f":"E6","v":20},{"$f":"F6","v":0.5}]
["Time",{"$f":"EMCI!F11/60","v":0.5},"F",null,25,0]
["Milk T",{"$f":"EMCI!F13","v":20},null,null,{"$f":"B6","v":20},{"$f":"B5","v":0.5}]
["Volume",{"$f":"EMCI!F31","v":0},"D",null,null,null,null,null,null,null,null,null,null,null,null,"x","y","xy","xx"]
[null,null,null,null,null,null,null,null,null,null,null,null,null,null,null,{"$f":"Q3","v":0},{"$f":"P3","v":25},{"$f":"P8*Q8","v":0},{"$f":"P8*P8","v":0}]
[null,null,null,null,null,null,"Flexible",null,null,null,null,null,null,null,null,{"$f":"Q4","v":0.5},{"$f":"P4","v":20},{"$f":"P9*Q9","v":10},{"$f":"P9*P9","v":0.25}]
["Outcome",{"$f":"IF(OR(B6>P15,B6<5,B5>2.35),\"out\",LOOKUP(B6,A23:A103,B23:B103))","v":11.056422453955689},null,null,"slope ",-8.5,{"$f":"P12","v":-10},null,null,null,null,null,null,null,"sum",{"$f":"SUM(P8:P9)","v":0.5},{"$f":"SUM(Q8:Q9)","v":45},10,0.25]
[null,null,null,null,"intercept",25,{"$f":"P13","v":25}]
[null,null,null,null,null,null,null,null,null,null,null,null,null,null,"slope",{"$f":"(2*R10-P10*Q10)/(2*S10-(P10^2))","v":-10}]
[null,null,null,null,null,null,null,null,null,null,null,null,null,null,"intercept",{"$f":"(Q10-P12*P10)/2","v":25}]
[null,null,null,null,null,"No (logs)","Nf (logs)","Tmin",null,"N after milk (logs)","GR at 5C","Growth storage","N after stroage (logs)"]
[null,null,null,null,"S aureus",{"$f":"EMCI!F19","v":2},{"$f":"EMCI!G19","v":5},5.6,null,{"$f":"R103","v":2.2549153250604776},0,{"$f":"K15*(12-$F$7)","v":0},{"$f":"J15+L15","v":2.2549153250604776},null,"TEST(max)",{"$f":"F10*Q4+F11","v":20.75}]
[null,null,null,null,"B cereus",{"$f":"EMCI!F20","v":1},{"$f":"EMCI!G20","v":5},1.5,null,{"$f":"W103","v":1.4305389375884812},1.2233355411136097E-2,{"$f":"K16*(12-$F$7)","v":0.14680026493363316},{"$f":"J16+L16","v":1.5773392025221142}]
[null,null,null,null,"Pseudo",{"$f":"EMCI!F21","v":1},{"$f":"EMCI!G21","v":6},-6.1,null,{"$f":"AB103","v":1.5547593716547932},7.4807226267127047E-2,{"$f":"K17*(12-$F$7)","v":0.89768671520552457},{"$f":"J17+L17","v":2.4524460868603177}]
[]
[]
[]
["Lookup function",null,null,null,"Cooling curve profile",null,null,null,"Growth (log/h) during cooling",null,null,null,"Growth (log/h) to calculate NMTL",null,null,null,"Saureus","Growth acc",null,"Time to NMTL (depending on initial logs)",null,"B cereus","Growth acc",null,"Time to NMTL (depending on initial logs)",null,"Pseudo","Growth accumulated",null,"Time to NMTL (depending on initial logs)",null,"NMTL","NMTL","NMTL","NMTL","NMTL",null,"NMTL"]
[{"$f":"E22","v":"Temp"},"NMTL",null,null,"Temp","Time","Time interval",null,"S. aureus","B.cereus","Pseudo",null,"S. aureus","B.cereus","Pseudo",null,"Growth interval",{"$f":"F15","v":2},null,{"$f":"R22","v":2},null,"Growth interval",{"$f":"F16","v":1},null,{"$f":"W22","v":1},null,"Growth interval",{"$f":"F17","v":1},null,{"$f":"AB22","v":1},null,"Shorter of 3 microorganisms","B. cereus","S. aureus","Pseudo","Food Safety",null,"Entry"]
[{"$f":"E103","v":5},{"$f":"AL103","v":291.78103165074538},null,null,{"$f":"E5","v":25},{"$f":"(E23-$G$11)/$G$10","v":0},{"$f":"F23","v":0},null,{"$f":"IF(E23>H15,(0.00033*(E23-5.6)*((6.5-2.8)*(1-EXP(0.5*(6.5-9.8)))*(36.7-0.9324)*(1-EXP(0.42*(-5-0.9324)))))^2,0)","v":0.39421537824390102},{"$f":"IF(E23>$H$16,(((0.175*(E23-1.5)*SQRT(0.995-0.92)*(1-EXP(0.4395*(E23-45)))))^2)/2.3,0)","v":0.55133174370461446},{"$f":"IF(E23>$H$17,((0.1709*(E23+6.1)*SQRT(0.995-0.947)*(1-EXP(0.1723*(E23-41.2))))^2)/2.3,0)","v":0.5194351615291144},null,{"$f":"IF(E23>$H$15,(0.00033*(E23-5.6)*((6.5-2.8)*(1-EXP(0.5*(6.5-9.8)))*(36.7-0.9324)*(1-EXP(0.42*(-5-0.9324)))))^2,0)","v":0.39421537824390102},{"$f":"IF(E23>$H$16,(((0.175*(E23-1.5)*SQRT(0.995-0.92)*(1-EXP(0.4395*(E23-45)))))^2)/2.3,0)","v":0.55133174370461446},{"$f":"IF(E23>$H$17,((0.1709*(E23+6.1)*SQRT(0.995-0.947)*(1-EXP(0.1723*(E23-41.2))))^2)/2.3,0)","v":0.5194351615291144},null,{"$f":"G23*I23","v":0},{"$f":"R22","v":2},null,{"$f":"($G$15-R23)/M23","v":7.6100531982390098},null,{"$f":"G23*J23","v":0},{"$f":"W22","v":1},null,{"$f":"($G$16-W23)/N23","v":7.2551599752309368},null,{"$f":"G23*K23","v":0},{"$f":"AB22","v":1},null,{"$f":"($G$17-AB23)/O23","v":9.625840471178325},null,{"$f":"+MIN(AG23:AI23)","v":7.2551599752309368},{"$f":"Y23","v":7.2551599752309368},{"$f":"T23","v":7.6100531982390098},{"$f":"AD23","v":9.625840471178325},{"$f":"MIN(AG23:AH23)","v":7.2551599752309368},null,{"$f":"IF(EMCI!$F$27=\"A\",'1st milking (DF)'!AF23,IF(EMCI!$F$27=\"B\",'1st milking (DF)'!AG23,IF(EMCI!$F$27=\"S\",'1st milking (DF)'!AH23,IF(EMCI!$F$27=\"P\",'1st milking (DF)'!AI23,IF(EMCI!$F$27=\"FS\",'1st milking (DF)'!AJ23,\"error\")))))","v":7.2551599752309368}]
[{"$f":"E102","v":5.25},{"$f":"AL102","v":254.19706116208772},null,null,{"$f":"E23-0.25","v":24.75},{"$f":"(E24-$G$11)/$G$10","v":2.5000000000000001E-2},{"$f":"F24-F23","v":2.5000000000000001E-2},null,{"$f":"IF(E24>$H$15,(0.00033*(((E24+E23)/2)-5.6)*((6.5-2.8)*(1-EXP(0.5*(6.5-9.8)))*(36.7-0.9324)*(1-EXP(0.42*(-5-0.9324)))))^2,0)","v":0.38915164944913572},{"$f":"IF(E24>$H$16,(((0.175*(((E24+E23)/2)-1.5)*SQRT(0.995-0.92)*(1-EXP(0.4395*(((E24+E23)/2)-45)))))^2)/2.3,0)","v":0.5454909916313323},{"$f":"IF(E24>$H$17,((0.1709*(((E24+E23)/2)+6.1)*SQRT(0.995-0.947)*(1-EXP(0.1723*(((E24+E23)/2)-41.2))))^2)/2.3,0)","v":0.516704037520888},null,{"$f":"IF(E24>$H$15,(0.00033*(E24-5.6)*((6.5-2.8)*(1-EXP(0.5*(6.5-9.8)))*(36.7-0.9324)*(1-EXP(0.42*(-5-0.9324)))))^2,0)","v":0.38412065322576522},{"$f":"IF(E24>$H$16,(((0.175*(E24-1.5)*SQRT(0.995-0.92)*(1-EXP(0.4395*(E24-45)))))^2)/2.3,0)","v":0.53968077858434527},{"$f":"IF(E24>$H$17,((0.1709*(E24+6.1)*SQRT(0.995-0.947)*(1-EXP(0.1723*(E24-41.2))))^2)/2.3,0)","v":0.51393813115264753},null,9.7287912362283933E-3,{"$f":"R23+Q24","v":2.0097287912362285},null,{"$f":"IF(M24=0,T23,($G$15-R24)/M24)","v":7.7847186389278908},null,1.3637274790783308E-2,{"$f":"W23+V24","v":1.0136372747907834},null,{"$f":"($G$16-W24)/N24","v":7.3865197416628003},null,1.2917600938022201E-2,{"$f":"AB23+AA24","v":1.0129176009380223},null,{"$f":"($G$17-AB24)/O24","v":9.7036629445592499},null,{"$f":"+MIN(AG24:AI24)","v":7.3865197416628003},7.3865197416628003,7.7847186389278908,9.7036629445592499,{"$f":"MIN(AG24:AH24)","v":7.3865197416628003},null,{"$f":"IF(EMCI!$F$27=\"A\",'1st milking (DF)'!AF24,IF(EMCI!$F$27=\"B\",'1st milking (DF)'!AG24,IF(EMCI!$F$27=\"S\",'1st milking (DF)'!AH24,IF(EMCI!$F$27=\"P\",'1st milking (DF)'!AI24,IF(EMCI!$F$27=\"FS\",'1st milking (DF)'!AJ24,\"error\")))))","v":7.3865197416628003}]
[{"$f":"E101","v":5.5},{"$f":"AL101","v":223.43884904370739},null,null,{"$f":"E24-0.25","v":24.5},{"$f":"(E25-$G$11)/$G$10","v":0.05},{"$f":"F25-F24","v":2.5000000000000001E-2},null,{"$f":"IF(E25>$H$15,(0.00033*(((E25+E24)/2)-5.6)*((6.5-2.8)*(1-EXP(0.5*(6.5-9.8)))*(36.7-0.9324)*(1-EXP(0.42*(-5-0.9324)))))^2,0)","v":0.37912238957378935},{"$f":"IF(E25>$H$16,(((0.175*(((E25+E24)/2)-1.5)*SQRT(0.995-0.92)*(1-EXP(0.4395*(((E25+E24)/2)-45)))))^2)/2.3,0)","v":0.53390114601918959},{"$f":"IF(E25>$H$17,((0.1709*(((E25+E24)/2)+6.1)*SQRT(0.995-0.947)*(1-EXP(0.1723*(((E25+E24)/2)-41.2))))^2)/2.3,0)","v":0.51113879318592725},null,0.3741568584932084,0.52815213284586449,0.50830734422334101,null,9.4780597393447352E-3,{"$f":"R24+Q25","v":2.0192068509755732},null,{"$f":"IF(M25=0,T24,($G$15-R25)/M25)","v":7.9666938647832737},null,1.334752865047974E-2,{"$f":"W24+V25","v":1.0269848034412632},null,7.5224825376559039,null,1.2778469829648182E-2,{"$f":"AB24+AA25","v":1.0256960707676706},null,9.7860162473802674,null,7.5224825376559039,7.5224825376559039,7.9666938647832737,9.7860162473802674,7.5224825376559039,null,{"$f":"IF(EMCI!$F$27=\"A\",'1st milking (DF)'!AF25,IF(EMCI!$F$27=\"B\",'1st milking (DF)'!AG25,IF(EMCI!$F$27=\"S\",'1st milking (DF)'!AH25,IF(EMCI!$F$27=\"P\",'1st milking (DF)'!AI25,IF(EMCI!$F$27=\"FS\",'1st milking (DF)'!AJ25,\"error\")))))","v":7.5224825376559039}]
[{"$f":"E100","v":5.75},{"$f":"AL100","v":197.94862279885999},null,null,24.25,7.4999999999999997E-2,2.4999999999999994E-2,null,0.36922405998402202,0.52243377558375503,0.50544507521391735,null,0.36432399404623034,0.51674610850720604,0.50255324795898226,null,9.2306014996005482E-3,2.0284374524751736,null,8.1563734370669927,null,1.3060844389593873E-2,1.0400456478308571,null,7.6632494894035981,null,1.2636126880347931E-2,1.0383321976480184,null,9.8729195811643553,null,7.6632494894035981,7.6632494894035981,8.1563734370669927,9.8729195811643553,7.6632494894035981,null,{"$f":"IF(EMCI!$F$27=\"A\",'1st milking (DF)'!AF26,IF(EMCI!$F$27=\"B\",'1st milking (DF)'!AG26,IF(EMCI!$F$27=\"S\",'1st milking (DF)'!AH26,IF(EMCI!$F$27=\"P\",'1st milking (DF)'!AI26,IF(EMCI!$F$27=\"FS\",'1st milking (DF)'!AJ26,\"error\")))))","v":7.6632494894035981}]
[{"$f":"E99","v":6},{"$f":"AL99","v":176.58891563940253},null,null,24,0.1,2.5000000000000008E-2,null,0.35945666067983356,0.51108916378230074,0.49963309561793362,null,0.35462205988483136,0.50546297159537834,0.49668582321329618,null,8.9864165169958425E-3,2.0374238689921693,null,8.3541789023784077,null,1.2777229094557523E-2,1.0528228769254147,null,7.8090331931065551,null,1.2490827390448345E-2,1.0508230250384667,null,9.9644015263873644,null,7.8090331931065551,7.8090331931065551,8.3541789023784077,9.9644015263873644,7.8090331931065551,null,{"$f":"IF(EMCI!$F$27=\"A\",'1st milking (DF)'!AF27,IF(EMCI!$F$27=\"B\",'1st milking (DF)'!AG27,IF(EMCI!$F$27=\"S\",'1st milking (DF)'!AH27,IF(EMCI!$F$27=\"P\",'1st milking (DF)'!AI27,IF(EMCI!$F$27=\"FS\",'1st milking (DF)'!AJ27,\"error\")))))","v":7.8090331931065551}]
[{"$f":"E98","v":6.25},{"$f":"AL98","v":158.51347754922935},null,null,23.75,0.125,2.4999999999999994E-2,null,0.34982019166122391,0.49986756027377982,0.49371260813449069,null,0.3450510560090112,0.49430295639929006,0.49071460063979649,null,8.7455047915305957E-3,2.0461693737836999,null,8.5605610380718815,null,1.2496689006844492E-2,1.0653195659322592,null,7.9600584684534414,null,1.2342815203362265E-2,1.0631658402418289,null,10.060499837016259,null,7.9600584684534414,7.9600584684534414,8.5605610380718815,10.060499837016259,7.9600584684534414,null,{"$f":"IF(EMCI!$F$27=\"A\",'1st milking (DF)'!AF28,IF(EMCI!$F$27=\"B\",'1st milking (DF)'!AG28,IF(EMCI!$F$27=\"S\",'1st milking (DF)'!AH28,IF(EMCI!$F$27=\"P\",'1st milking (DF)'!AI28,IF(EMCI!$F$27=\"FS\",'1st milking (DF)'!AJ28,\"error\")))))","v":7.9600584684534414}]
[{"$f":"E97","v":6.5},{"$f":"AL97","v":143.08218044747005},null,null,23.5,0.15,2.4999999999999994E-2,null,0.34031465292819335,0.48876918491471738,0.48769292435601752,null,0.33561098241877019,0.48326626922401766,0.48464867677541063,null,8.507866323204832E-3,2.0546772401069049,null,8.7760023187142515,null,1.2219229622867932E-2,1.0775387955551272,null,8.1165631748791043,null,1.2192323108900435E-2,1.0753581633507294,null,10.161261286041603,null,8.1165631748791043,8.1165631748791043,8.7760023187142515,10.161261286041603,8.1165631748791043,null,{"$f":"IF(EMCI!$F$27=\"A\",'1st milking (DF)'!AF29,IF(EMCI!$F$27=\"B\",'1st milking (DF)'!AG29,IF(EMCI!$F$27=\"S\",'1st milking (DF)'!AH29,IF(EMCI!$F$27=\"P\",'1st milking (DF)'!AI29,IF(EMCI!$F$27=\"FS\",'1st milking (DF)'!AJ29,\"error\")))))","v":8.1165631748791043}]
[{"$f":"E96","v":6.75},{"$f":"AL96","v":129.80358055508748},null,null,23.25,0.17499999999999999,2.4999999999999994E-2,null,0.33094004448074166,0.47779423128635318,0.48158292974945738,null,0.32630183911410787,0.47235309170445311,0.47849672997910669,null,8.2735011120185394E-3,2.0629507412189234,null,9.0010196288044497,null,1.1944855782158826E-2,1.0894836513372861,null,8.2787990961420181,null,1.2039573243736432E-2,1.0873977365944658,null,10.266741558756401,null,8.2787990961420181,8.2787990961420181,9.0010196288044497,10.266741558756401,8.2787990961420181,null,{"$f":"IF(EMCI!$F$27=\"A\",'1st milking (DF)'!AF30,IF(EMCI!$F$27=\"B\",'1st milking (DF)'!AG30,IF(EMCI!$F$27=\"S\",'1st milking (DF)'!AH30,IF(EMCI!$F$27=\"P\",'1st milking (DF)'!AI30,IF(EMCI!$F$27=\"FS\",'1st milking (DF)'!AJ30,\"error\")))))","v":8.2787990961420181}]
[{"$f":"E95","v":7},{"$f":"AL95","v":118.29532218992443},null,null,23,0.2,2.5000000000000022E-2,null,0.32169636631886883,0.46694286980761318,0.47539109950113373,null,0.31712362609502465,0.46156358372966211,0.47226703617030219,null,8.0424091579717281E-3,2.070993150376895,null,9.2361672502617047,null,1.1673571745190341E-2,1.1011572230824764,null,8.4470328993742196,null,1.1884777487528354E-2,1.0992825140819942,null,10.377005191085958,null,8.4470328993742196,8.4470328993742196,9.2361672502617047,10.377005191085958,8.4470328993742196,null,{"$f":"IF(EMCI!$F$27=\"A\",'1st milking (DF)'!AF31,IF(EMCI!$F$27=\"B\",'1st milking (DF)'!AG31,IF(EMCI!$F$27=\"S\",'1st milking (DF)'!AH31,IF(EMCI!$F$27=\"P\",'1st milking (DF)'!AI31,IF(EMCI!$F$27=\"FS\",'1st milking (DF)'!AJ31,\"error\")))))","v":8.4470328993742196}]
[{"$f":"E94","v":7.25},{"$f":"AL94","v":108.25631934302027},null,null,22.75,0.22500000000000001,2.4999999999999994E-2,null,0.31258361844257504,0.45621525048219264,0.46912551413703624,null,0.30807634336152034,0.45089788602334746,0.46596748432033663,null,7.8145904610643739E-3,2.0788077408379593,null,{"$f":"IF(M32=0,T31,($G$15-R32)/M32)","v":9.4820401569558044},null,1.1405381262054813E-2,1.1125626043445311,null,8.6215471754378044,null,1.1728137853425902E-2,1.1110106519354201,null,10.492125550768192,null,8.6215471754378044,8.6215471754378044,9.4820401569558044,10.492125550768192,8.6215471754378044,null,{"$f":"IF(EMCI!$F$27=\"A\",'1st milking (DF)'!AF32,IF(EMCI!$F$27=\"B\",'1st milking (DF)'!AG32,IF(EMCI!$F$27=\"S\",'1st milking (DF)'!AH32,IF(EMCI!$F$27=\"P\",'1st milking (DF)'!AI32,IF(EMCI!$F$27=\"FS\",'1st milking (DF)'!AJ32,\"error\")))))","v":8.6215471754378044}]
[{"$f":"E93","v":7.5},{"$f":"AL93","v":99.446875019827473},null,null,22.5,0.25,2.4999999999999994E-2,null,0.30360180085186023,0.44561150532242505,0.46279387487570417,null,0.29915999091359485,0.44035612242055694,0.45960559165784953,null,7.5900450212965037E-3,2.0863977858592557,null,9.739277652880622,null,1.1140287633060623E-2,1.1237028919775918,null,8.8026415681814818,null,1.1569846871892601E-2,1.1225804988073127,null,10.612184859629931,null,8.8026415681814818,8.8026415681814818,9.739277652880622,10.612184859629931,8.8026415681814818,null,{"$f":"IF(EMCI!$F$27=\"A\",'1st milking (DF)'!AF33,IF(EMCI!$F$27=\"B\",'1st milking (DF)'!AG33,IF(EMCI!$F$27=\"S\",'1st milking (DF)'!AH33,IF(EMCI!$F$27=\"P\",'1st milking (DF)'!AI33,IF(EMCI!$F$27=\"FS\",'1st milking (DF)'!AJ33,\"error\")))))","v":8.8026415681814818}]
[{"$f":"E92","v":7.75},{"$f":"AL92","v":91.674251499025615},null,null,22.25,0.27500000000000002,2.5000000000000022E-2,null,0.29475091354672428,0.43513175048769465,0.45640351867799828,null,0.2903745687512484,0.42993840187612925,0.45318851855561076,null,7.3687728386681133E-3,2.0937665586979239,null,10.008567395554957,null,1.0878293762192376E-2,1.1345811857397841,null,8.9906340010397408,null,1.1410087966949967E-2,1.1339905867742626,null,10.737274255611197,null,8.9906340010397408,8.9906340010397408,10.008567395554957,10.737274255611197,8.9906340010397408,null,{"$f":"IF(EMCI!$F$27=\"A\",'1st milking (DF)'!AF34,IF(EMCI!$F$27=\"B\",'1st milking (DF)'!AG34,IF(EMCI!$F$27=\"S\",'1st milking (DF)'!AH34,IF(EMCI!$F$27=\"P\",'1st milking (DF)'!AI34,IF(EMCI!$F$27=\"FS\",'1st milking (DF)'!AJ34,\"error\")))))","v":8.9906340010397408}]
[{"$f":"E91","v":8},{"$f":"AL91","v":84.782048032731382},null,null,22,0.3,2.4999999999999967E-2,null,0.28603095652716731,0.42477608817075047,0.44996143296436864,null,0.28172007687448086,0.41964482023624622,0.44672308307228259,null,7.1507739131791729E-3,2.100917332611103,null,10.290649851982577,null,1.0619402204268748E-2,1.1452005879440528,null,9.1858620103682505,null,1.12490358241092E-2,1.1452396225983719,null,10.86749389356291,null,9.1858620103682505,9.1858620103682505,10.290649851982577,10.86749389356291,9.1858620103682505,null,{"$f":"IF(EMCI!$F$27=\"A\",'1st milking (DF)'!AF35,IF(EMCI!$F$27=\"B\",'1st milking (DF)'!AG35,IF(EMCI!$F$27=\"S\",'1st milking (DF)'!AH35,IF(EMCI!$F$27=\"P\",'1st milking (DF)'!AI35,IF(EMCI!$F$27=\"FS\",'1st milking (DF)'!AJ35,\"error\")))))","v":9.1858620103682505}]
[{"$f":"E90","v":8.25},{"$f":"AL90","v":78.642279662141163},null,null,21.75,0.32500000000000001,2.5000000000000022E-2,null,0.27744192979318916,0.41454460826142248,0.44347426997580658,null,0.2731965152832922,0.40947546180082306,0.44021577512785104,null,6.9360482448297348E-3,2.1078533808559325,null,10.586323241147658,null,1.0363615206535571E-2,1.1555642031505884,null,9.388684195976122,null,1.1086856749395173E-2,1.156326479347767,null,11.002953084190349,null,9.388684195976122,9.388684195976122,10.586323241147658,11.002953084190349,9.388684195976122,null,{"$f":"IF(EMCI!$F$27=\"A\",'1st milking (DF)'!AF36,IF(EMCI!$F$27=\"B\",'1st milking (DF)'!AG36,IF(EMCI!$F$27=\"S\",'1st milking (DF)'!AH36,IF(EMCI!$F$27=\"P\",'1st milking (DF)'!AI36,IF(EMCI!$F$27=\"FS\",'1st milking (DF)'!AJ36,\"error\")))))","v":9.388684195976122}]
[{"$f":"E89","v":8.5},{"$f":"AL89","v":73.149399759770148},null,null,21.5,0.35,2.4999999999999967E-2,null,0.26898383334479004,0.40443738981380772,0.43694836075960397,null,0.26480388397768267,0.39943040070124541,0.43367277029608786,null,6.7245958336197417E-3,2.1145779766895525,null,10.896449024719089,null,1.011093474534518E-2,1.1656751378959336,null,9.5994818005151181,null,1.0923709018990084E-2,1.167250188366757,null,11.143770470840741,null,9.5994818005151181,9.5994818005151181,10.896449024719089,11.143770470840741,9.5994818005151181,null,{"$f":"IF(EMCI!$F$27=\"A\",'1st milking (DF)'!AF37,IF(EMCI!$F$27=\"B\",'1st milking (DF)'!AG37,IF(EMCI!$F$27=\"S\",'1st milking (DF)'!AH37,IF(EMCI!$F$27=\"P\",'1st milking (DF)'!AI37,IF(EMCI!$F$27=\"FS\",'1st milking (DF)'!AJ37,\"error\")))))","v":9.5994818005151181}]
[{"$f":"E88","v":8.75},{"$f":"AL88","v":68.215739714259783},null,null,21.25,0.375,2.5000000000000022E-2,null,0.26065666718196989,0.39445450233996598,0.43038972876538417,null,0.25654218295765185,0.3895097021151066,0.42709994320147926,null,6.5164166795492534E-3,2.1210943933691015,null,11.221958016573545,null,9.8613625584991586E-3,1.1755365004544327,null,9.8186604307365233,null,1.0759743219134614E-2,1.1780099315858916,null,11.29007424414335,null,9.8186604307365233,9.8186604307365233,11.221958016573545,11.29007424414335,9.8186604307365233,null,{"$f":"IF(EMCI!$F$27=\"A\",'1st milking (DF)'!AF38,IF(EMCI!$F$27=\"B\",'1st milking (DF)'!AG38,IF(EMCI!$F$27=\"S\",'1st milking (DF)'!AH38,IF(EMCI!$F$27=\"P\",'1st milking (DF)'!AI38,IF(EMCI!$F$27=\"FS\",'1st milking (DF)'!AJ38,\"error\")))))","v":9.8186604307365233}]
[{"$f":"E87","v":9},{"$f":"AL87","v":63.767994394805811},null,null,21,0.4,2.5000000000000022E-2,null,0.25246043130472862,0.38459600695047985,0.42380410304068805,null,0.24841141222320007,0.37971342333708369,0.42050288051163104,null,6.3115107826182213E-3,2.1274059041517197,null,11.56385719214553,null,9.6149001737620057E-3,1.1851514006281947,null,10.046651935149637,null,1.059510257601721E-2,1.1886050341619088,null,11.442002394808824,null,10.046651935149637,10.046651935149637,11.56385719214553,11.442002394808824,10.046651935149637,null,{"$f":"IF(EMCI!$F$27=\"A\",'1st milking (DF)'!AF39,IF(EMCI!$F$27=\"B\",'1st milking (DF)'!AG39,IF(EMCI!$F$27=\"S\",'1st milking (DF)'!AH39,IF(EMCI!$F$27=\"P\",'1st milking (DF)'!AI39,IF(EMCI!$F$27=\"FS\",'1st milking (DF)'!AJ39,\"error\")))))","v":10.046651935149637}]
[{"$f":"E86","v":9.25},{"$f":"AL86","v":59.744488031360575},null,null,20.75,0.42499999999999999,2.4999999999999967E-2,null,0.24439512571306626,0.37486195735986705,0.41719693101874022,null,0.24041157177432726,0.37004161472285402,0.41388689351929048,null,6.1098781428266481E-3,2.1335157822945465,null,11.923237290741575,null,9.3715489339966634E-3,1.1945229495621914,null,10.283916454337046,null,1.0429923275468492E-2,1.1990349574373773,null,11.599703005185543,null,10.283916454337046,10.283916454337046,11.923237290741575,11.599703005185543,10.283916454337046,null,{"$f":"IF(EMCI!$F$27=\"A\",'1st milking (DF)'!AF40,IF(EMCI!$F$27=\"B\",'1st milking (DF)'!AG40,IF(EMCI!$F$27=\"S\",'1st milking (DF)'!AH40,IF(EMCI!$F$27=\"P\",'1st milking (DF)'!AI40,IF(EMCI!$F$27=\"FS\",'1st milking (DF)'!AJ40,\"error\")))))","v":10.283916454337046}]
[{"$f":"E85","v":9.5},{"$f":"AL85","v":56.093028564456013},null,null,20.5,0.45,2.5000000000000022E-2,null,0.23646075040698289,0.3652524007727313,0.41057339089394834,null,0.23254266161103329,0.3604943205209864,0.40725703031084975,null,5.9115187601745771E-3,2.1394273010547211,null,12.30128131813537,null,9.1313100193182901E-3,1.2036542595815096,null,10.530944662129521,null,1.0264334772348718E-2,1.2092992922097261,null,11.763334580458055,null,10.530944662129521,10.530944662129521,12.30128131813537,11.763334580458055,10.530944662129521,null,{"$f":"IF(EMCI!$F$27=\"A\",'1st milking (DF)'!AF41,IF(EMCI!$F$27=\"B\",'1st milking (DF)'!AG41,IF(EMCI!$F$27=\"S\",'1st milking (DF)'!AH41,IF(EMCI!$F$27=\"P\",'1st milking (DF)'!AI41,IF(EMCI!$F$27=\"FS\",'1st milking (DF)'!AJ41,\"error\")))))","v":10.530944662129521}]
[{"$f":"E84","v":9.75},{"$f":"AL84","v":52.769210041652336},null,null,20.25,0.47499999999999998,2.4999999999999967E-2,null,0.22865730538647838,0.35576737866468883,0.40393840358322086,null,0.22480468173331827,0.35107157960599633,0.40061808752055805,null,5.7164326346619519E-3,2.145143733689383,null,12.699274073381092,null,8.8941844666172096E-3,1.2125484440481269,null,10.788260218051507,null,1.0098460089580508E-2,1.2193977522993067,null,11.933066420660234,null,10.788260218051507,10.788260218051507,12.699274073381092,11.933066420660234,10.788260218051507,null,{"$f":"IF(EMCI!$F$27=\"A\",'1st milking (DF)'!AF42,IF(EMCI!$F$27=\"B\",'1st milking (DF)'!AG42,IF(EMCI!$F$27=\"S\",'1st milking (DF)'!AH42,IF(EMCI!$F$27=\"P\",'1st milking (DF)'!AI42,IF(EMCI!$F$27=\"FS\",'1st milking (DF)'!AJ42,\"error\")))))","v":10.788260218051507}]
[{"$f":"E83","v":10},{"$f":"AL83","v":49.735059240061041},null,null,20,0.5,2.5000000000000022E-2,null,0.22098479065155283,0.34640692747046126,0.39729664427340144,null,0.21719763214118218,0.34177342612421274,0.39397462167172831,null,5.5246197662888255E-3,2.1506683534556719,null,13.118612843312278,null,8.6601731867615387E-3,1.2212086172348884,null,11.056422453955689,null,9.9324161068350455E-3,1.2293301684061417,null,12.109079034966182,null,11.056422453955689,11.056422453955689,13.118612843312278,12.109079034966182,11.056422453955689,null,{"$f":"IF(EMCI!$F$27=\"A\",'1st milking (DF)'!AF43,IF(EMCI!$F$27=\"B\",'1st milking (DF)'!AG43,IF(EMCI!$F$27=\"S\",'1st milking (DF)'!AH43,IF(EMCI!$F$27=\"P\",'1st milking (DF)'!AI43,IF(EMCI!$F$27=\"FS\",'1st milking (DF)'!AJ43,\"error\")))))","v":11.056422453955689}]
[{"$f":"E82","v":10.25},{"$f":"AL82","v":46.957948995072243},null,null,19.75,0.52500000000000002,2.5000000000000022E-2,null,0.21344320620220619,0.33717107919008338,0.39065255355701073,null,0.20972151283462506,0.33259989006274093,0.38733096010797519,null,5.3360801550551597E-3,2.1560044336107271,null,13.560819431203953,null,8.4292769797520914E-3,1.2296378942146404,null,11.336029320617413,null,9.7663138389252769E-3,1.239096482245067,null,12.291564600019965,null,11.336029320617413,11.336029320617413,13.560819431203953,12.291564600019965,11.336029320617413,null,{"$f":"IF(EMCI!$F$27=\"A\",'1st milking (DF)'!AF44,IF(EMCI!$F$27=\"B\",'1st milking (DF)'!AG44,IF(EMCI!$F$27=\"S\",'1st milking (DF)'!AH44,IF(EMCI!$F$27=\"P\",'1st milking (DF)'!AI44,IF(EMCI!$F$27=\"FS\",'1st milking (DF)'!AJ44,\"error\")))))","v":11.336029320617413}]
[{"$f":"E81","v":10.5},{"$f":"AL81","v":44.409719816208202},null,null,19.5,0.55000000000000004,2.5000000000000022E-2,null,0.20603255203843862,0.32805986192289105,0.38401034816011931,null,0.20237632381364684,0.3235509977506032,0.38069121151903063,null,5.15081380096097E-3,2.161155247411688,null,14.027553713261394,null,8.2014965480722828E-3,1.2378393907627128,null,11.627720623310219,null,9.6002587040029917E-3,1.2486967409490699,null,12.480727464372826,null,11.627720623310219,11.627720623310219,14.027553713261394,12.480727464372826,11.627720623310219,null,{"$f":"IF(EMCI!$F$27=\"A\",'1st milking (DF)'!AF45,IF(EMCI!$F$27=\"B\",'1st milking (DF)'!AG45,IF(EMCI!$F$27=\"S\",'1st milking (DF)'!AH45,IF(EMCI!$F$27=\"P\",'1st milking (DF)'!AI45,IF(EMCI!$F$27=\"FS\",'1st milking (DF)'!AJ45,\"error\")))))","v":11.627720623310219}]
[{"$f":"E80","v":10.75},{"$f":"AL80","v":42.065965382123949},null,null,19.25,0.57499999999999996,2.4999999999999911E-2,null,0.19875282816024986,0.31907330033781717,0.37737403126756752,null,0.19516206507824754,0.31462677230007507,0.37405927606696332,null,4.9688207040062288E-3,2.1661240681156944,null,14.520628948807762,null,7.9768325084454E-3,1.2458162232711583,null,11.932181579094264,null,9.4343507816891537E-3,1.2581310917307591,null,12.676784701418184,null,11.932181579094264,11.932181579094264,14.520628948807762,12.676784701418184,11.932181579094264,null,{"$f":"IF(EMCI!$F$27=\"A\",'1st milking (DF)'!AF46,IF(EMCI!$F$27=\"B\",'1st milking (DF)'!AG46,IF(EMCI!$F$27=\"S\",'1st milking (DF)'!AH46,IF(EMCI!$F$27=\"P\",'1st milking (DF)'!AI46,IF(EMCI!$F$27=\"FS\",'1st milking (DF)'!AJ46,\"error\")))))","v":11.932181579094264}]
[{"$f":"E79","v":11},{"$f":"AL79","v":39.905447881228234},null,null,19,0.6,2.5000000000000022E-2,null,0.19160403456764008,0.310211416087533,0.37074740245191135,null,0.18807873662842725,0.30582723399529022,0.36743885511970198,null,4.7901008641910063E-3,2.1709141689798854,null,15.04202910831607,null,7.7552854021883319E-3,1.2535715086733465,null,12.250146732793421,null,9.268685061297792E-3,1.2673997767920568,null,12.879966713553431,null,12.250146732793421,12.250146732793421,15.04202910831607,12.879966713553431,12.250146732793421,null,{"$f":"IF(EMCI!$F$27=\"A\",'1st milking (DF)'!AF47,IF(EMCI!$F$27=\"B\",'1st milking (DF)'!AG47,IF(EMCI!$F$27=\"S\",'1st milking (DF)'!AH47,IF(EMCI!$F$27=\"P\",'1st milking (DF)'!AI47,IF(EMCI!$F$27=\"FS\",'1st milking (DF)'!AJ47,\"error\")))))","v":12.250146732793421}]
[{"$f":"E78","v":11.25},{"$f":"AL78","v":37.909616914181605},null,null,18.75,0.625,2.5000000000000022E-2,null,0.18458617126060919,0.30147422817308023,0.36413406721347463,null,0.18112633846418588,0.29715240063436432,0.36083346059966087,null,4.614654281515234E-3,2.1755288232614007,null,15.593928529047597,null,7.5368557043270128E-3,1.2611083643776735,null,12.582404273499046,null,9.1033516803368745E-3,1.2765031284723938,null,13.090517890657189,null,12.582404273499046,12.582404273499046,15.593928529047597,13.090517890657189,12.582404273499046,null,{"$f":"IF(EMCI!$F$27=\"A\",'1st milking (DF)'!AF48,IF(EMCI!$F$27=\"B\",'1st milking (DF)'!AG48,IF(EMCI!$F$27=\"S\",'1st milking (DF)'!AH48,IF(EMCI!$F$27=\"P\",'1st milking (DF)'!AI48,IF(EMCI!$F$27=\"FS\",'1st milking (DF)'!AJ48,\"error\")))))","v":12.582404273499046}]
[{"$f":"E77","v":11.5},{"$f":"AL77","v":36.062211512010421},null,null,18.5,0.65,2.5000000000000022E-2,null,0.17769923823915723,0.29286175326486019,0.35753744613968486,null,0.17430487058552344,0.28860228783054476,0.35424642395600209,null,4.4424809559789344E-3,2.1799713042173798,null,16.178714262599797,null,7.321543831621511E-3,1.2684299082092949,null,12.929800799021136,null,8.9384361534921297E-3,1.2854415646258859,null,13.308697326355139,null,12.929800799021136,12.929800799021136,16.178714262599797,13.308697326355139,12.929800799021136,null,{"$f":"IF(EMCI!$F$27=\"A\",'1st milking (DF)'!AF49,IF(EMCI!$F$27=\"B\",'1st milking (DF)'!AG49,IF(EMCI!$F$27=\"S\",'1st milking (DF)'!AH49,IF(EMCI!$F$27=\"P\",'1st milking (DF)'!AI49,IF(EMCI!$F$27=\"FS\",'1st milking (DF)'!AJ49,\"error\")))))","v":12.929800799021136}]
[{"$f":"E76","v":11.75},{"$f":"AL76","v":34.348929255291466},null,null,18.25,0.67500000000000004,2.5000000000000022E-2,null,0.17094323550328427,0.28437400598515961,0.3509607836925473,null,0.16761433299243989,0.28017690927725214,0.34768090476967001,null,4.273580887582111E-3,2.1842448851049618,null,16.799011544090568,null,7.1093501496289962E-3,1.275539258358924,null,13.293246582128205,null,8.7740195923136904E-3,1.2942155842181995,null,13.534779595961032,null,13.293246582128205,13.293246582128205,16.799011544090568,13.534779595961032,13.293246582128205,null,{"$f":"IF(EMCI!$F$27=\"A\",'1st milking (DF)'!AF50,IF(EMCI!$F$27=\"B\",'1st milking (DF)'!AG50,IF(EMCI!$F$27=\"S\",'1st milking (DF)'!AH50,IF(EMCI!$F$27=\"P\",'1st milking (DF)'!AI50,IF(EMCI!$F$27=\"FS\",'1st milking (DF)'!AJ50,\"error\")))))","v":13.293246582128205}]
[{"$f":"E75","v":12},{"$f":"AL75","v":32.757149869420765},null,null,18,0.7,2.4999999999999911E-2,null,0.16431816305299018,0.27601099915677957,0.34440715663364052,null,0.16105472568493526,0.27187627698130323,0.34113989900079827,null,4.1079540763247404E-3,2.1883528391812868,null,17.457712891449226,null,6.9002749789194651E-3,1.2824395333378436,null,13.673721399818238,null,8.6101789158409825E-3,1.3028257631340405,null,13.769055600426755,null,13.673721399818238,13.673721399818238,17.457712891449226,13.769055600426755,13.673721399818238,null,{"$f":"IF(EMCI!$F$27=\"A\",'1st milking (DF)'!AF51,IF(EMCI!$F$27=\"B\",'1st milking (DF)'!AG51,IF(EMCI!$F$27=\"S\",'1st milking (DF)'!AH51,IF(EMCI!$F$27=\"P\",'1st milking (DF)'!AI51,IF(EMCI!$F$27=\"FS\",'1st milking (DF)'!AJ51,\"error\")))))","v":13.673721399818238}]
[{"$f":"E74","v":12.25},{"$f":"AL74","v":31.275703281761757},null,null,17.75,0.72499999999999998,2.5000000000000022E-2,null,0.15782402088827502,0.26777274402179801,0.33787948209643159,null,0.15462604866300958,0.26370040146810086,0.33462624688846243,null,3.9456005222068789E-3,2.1922984397034937,null,18.158011438393427,null,6.6943186005449561E-3,1.2891338519383886,null,14.072280995410258,null,8.4469870524107975E-3,1.3112727501864514,null,14.011833481120787,null,14.011833481120787,14.072280995410258,18.158011438393427,14.011833481120787,14.072280995410258,null,{"$f":"IF(EMCI!$F$27=\"A\",'1st milking (DF)'!AF52,IF(EMCI!$F$27=\"B\",'1st milking (DF)'!AG52,IF(EMCI!$F$27=\"S\",'1st milking (DF)'!AH52,IF(EMCI!$F$27=\"P\",'1st milking (DF)'!AI52,IF(EMCI!$F$27=\"FS\",'1st milking (DF)'!AJ52,\"error\")))))","v":14.072280995410258}]
[{"$f":"E73","v":12.5},{"$f":"AL73","v":29.894674150860407},null,null,17.5,0.75,{"$f":"F53-F52","v":2.5000000000000022E-2},null,0.15146080900913889,0.25965925043401999,0.3313805253160243,null,0.14832830192666285,0.2556492919621271,0.3281426405130104,null,3.7865202252284754E-3,2.1960849599287222,null,18.903439219964927,null,6.4914812608505056E-3,1.2956253331992391,null,14.490064253139186,null,8.2845131329006144E-3,1.319557263319352,null,14.263439610784369,null,14.263439610784369,14.490064253139186,18.903439219964927,14.263439610784369,14.490064253139186,null,{"$f":"IF(EMCI!$F$27=\"A\",'1st milking (DF)'!AF53,IF(EMCI!$F$27=\"B\",'1st milking (DF)'!AG53,IF(EMCI!$F$27=\"S\",'1st milking (DF)'!AH53,IF(EMCI!$F$27=\"P\",'1st milking (DF)'!AI53,IF(EMCI!$F$27=\"FS\",'1st milking (DF)'!AJ53,\"error\")))))","v":14.490064253139186}]
[{"$f":"E72","v":12.75},{"$f":"AL72","v":28.605236457611085},null,null,{"$f":"E53-0.25","v":17.25},0.77500000000000002,2.5000000000000022E-2,null,0.14522852741558157,0.25167052702825038,0.32491290702667763,null,0.14216148547589508,0.2477229565456873,0.32169163103138926,null,3.6307131853895425E-3,{"$f":"R53+Q54","v":2.1997156731141119},null,19.697911269791174,null,6.2917631757062652E-3,{"$f":"W53+V54","v":1.3019170963749453},null,14.928301176411242,null,8.1228226756669478E-3,{"$f":"AB53+AA54","v":1.3276800859950189},null,14.524219666594549,null,14.524219666594549,14.928301176411242,19.697911269791174,14.524219666594549,14.928301176411242,null,{"$f":"IF(EMCI!$F$27=\"A\",'1st milking (DF)'!AF54,IF(EMCI!$F$27=\"B\",'1st milking (DF)'!AG54,IF(EMCI!$F$27=\"S\",'1st milking (DF)'!AH54,IF(EMCI!$F$27=\"P\",'1st milking (DF)'!AI54,IF(EMCI!$F$27=\"FS\",'1st milking (DF)'!AJ54,\"error\")))))","v":14.928301176411242}]
[{"$f":"E71","v":13},{"$f":"AL71","v":27.399512988393504},null,null,17,0.8,2.5000000000000022E-2,null,0.13912717610760325,0.24380658136915562,0.31847911053757483,null,0.1361255993107062,0.23992140229849684,0.31527563559599631,null,{"$f":"G55*I55","v":3.4781794026900845E-3},2.2031938525168018,null,20.545776559627836,null,{"$f":"G55*J55","v":6.0951645342288956E-3},{"$f":"W54+V55","v":1.3080122609091742},null,15.388321774217793,null,{"$f":"G55*K55","v":7.961977763439378E-3},{"$f":"AB54+AA55","v":1.3356420637584583},null,14.794539791900034,null,14.794539791900034,{"$f":"Y55","v":15.388321774217793},{"$f":"T55","v":20.545776559627836},{"$f":"AD55","v":14.794539791900034},15.388321774217793,null,{"$f":"IF(EMCI!$F$27=\"A\",'1st milking (DF)'!AF55,IF(EMCI!$F$27=\"B\",'1st milking (DF)'!AG55,IF(EMCI!$F$27=\"S\",'1st milking (DF)'!AH55,IF(EMCI!$F$27=\"P\",'1st milking (DF)'!AI55,IF(EMCI!$F$27=\"FS\",'1st milking (DF)'!AJ55,\"error\")))))","v":15.388321774217793}]
[{"$f":"E70","v":13.25},{"$f":"AL70","v":26.270455519376124},null,null,16.75,0.82499999999999996,2.4999999999999911E-2,null,0.13315675508520389,0.23606742008214923,0.31208148849739786,null,0.13022064343109627,0.23224463542040302,0.30889694396762363,null,3.3289188771300853E-3,2.2065227713939319,null,21.451877021972958,null,5.9016855020537096E-3,1.3139139464112279,null,15.871565975749311,null,7.802037212434919E-3,1.3434441009708933,null,15.074787853897231,null,15.074787853897231,15.871565975749311,21.451877021972958,15.074787853897231,15.871565975749311,null,{"$f":"IF(EMCI!$F$27=\"A\",'1st milking (DF)'!AF56,IF(EMCI!$F$27=\"B\",'1st milking (DF)'!AG56,IF(EMCI!$F$27=\"S\",'1st milking (DF)'!AH56,IF(EMCI!$F$27=\"P\",'1st milking (DF)'!AI56,IF(EMCI!$F$27=\"FS\",'1st milking (DF)'!AJ56,\"error\")))))","v":15.871565975749311}]
[{"$f":"E69","v":13.5},{"$f":"AL69","v":25.211742288552639},null,null,16.5,0.85,2.5000000000000022E-2,null,0.12731726434838342,0.2284530489684527,0.30572226935828517,null,0.12444661783706529,0.22469266133925783,0.30255772483306026,null,3.1829316087095883E-3,2.2097057030026415,null,22.421616155536007,null,5.7113262242113223E-3,1.3196252726354392,null,16.379594711407396,null,7.643056733957136E-3,1.3510871577048504,null,15.365374805287953,null,15.365374805287953,16.379594711407396,22.421616155536007,15.365374805287953,16.379594711407396,null,{"$f":"IF(EMCI!$F$27=\"A\",'1st milking (DF)'!AF57,IF(EMCI!$F$27=\"B\",'1st milking (DF)'!AG57,IF(EMCI!$F$27=\"S\",'1st milking (DF)'!AH57,IF(EMCI!$F$27=\"P\",'1st milking (DF)'!AI57,IF(EMCI!$F$27=\"FS\",'1st milking (DF)'!AJ57,\"error\")))))","v":16.379594711407396}]
[{"$f":"E68","v":13.75},{"$f":"AL68","v":24.217689962469446},null,null,16.25,0.875,2.5000000000000022E-2,null,0.12160870389714186,0.22096347310622474,0.29940356354970438,null,0.11880352252861325,0.21726548480572058,0.2962600318378536,null,3.0402175974285493E-3,2.2127459206000699,null,23.461039033826911,null,5.5240868276556238E-3,1.3251493594630948,null,16.914102319671105,null,7.485089088742616E-3,1.358572246793593,null,15.666736158817102,null,15.666736158817102,16.914102319671105,23.461039033826911,15.666736158817102,16.914102319671105,null,{"$f":"IF(EMCI!$F$27=\"A\",'1st milking (DF)'!AF58,IF(EMCI!$F$27=\"B\",'1st milking (DF)'!AG58,IF(EMCI!$F$27=\"S\",'1st milking (DF)'!AH58,IF(EMCI!$F$27=\"P\",'1st milking (DF)'!AI58,IF(EMCI!$F$27=\"FS\",'1st milking (DF)'!AJ58,\"error\")))))","v":16.914102319671105}]
[{"$f":"E67","v":14},{"$f":"AL67","v":23.283177802194338},null,null,16,0.9,2.5000000000000022E-2,null,0.11603107373147929,0.21359869693942879,0.29312736937270262,null,0.11329135750574011,0.2099631099765577,0.29000580934463277,null,2.9007768432869848E-3,2.2156466974433568,null,24.576925935551341,null,5.3399674234857241E-3,1.3304893268865805,null,17.476930464228307,null,7.328184234317572E-3,1.3659004310279106,null,15.979333584538949,null,15.979333584538949,17.476930464228307,24.576925935551341,15.979333584538949,17.476930464228307,null,{"$f":"IF(EMCI!$F$27=\"A\",'1st milking (DF)'!AF59,IF(EMCI!$F$27=\"B\",'1st milking (DF)'!AG59,IF(EMCI!$F$27=\"S\",'1st milking (DF)'!AH59,IF(EMCI!$F$27=\"P\",'1st milking (DF)'!AI59,IF(EMCI!$F$27=\"FS\",'1st milking (DF)'!AJ59,\"error\")))))","v":17.476930464228307}]
[{"$f":"E66","v":14.25},{"$f":"AL66","v":22.403582134084218},null,null,15.75,0.92500000000000004,2.5000000000000022E-2,null,0.11058437385139566,0.20635872435590988,0.2868955786248723,null,0.1079101227684459,0.2027855404878211,0.28379689792726498,null,2.7646093462848939E-3,2.2184113067896418,null,25.776902313225104,null,5.1589681088977518E-3,1.3356482949954782,null,18.070083775152575,null,7.172389465621814E-3,1.3730728204935323,null,16.303656640716046,null,16.303656640716046,18.070083775152575,25.776902313225104,16.303656640716046,18.070083775152575,null,{"$f":"IF(EMCI!$F$27=\"A\",'1st milking (DF)'!AF60,IF(EMCI!$F$27=\"B\",'1st milking (DF)'!AG60,IF(EMCI!$F$27=\"S\",'1st milking (DF)'!AH60,IF(EMCI!$F$27=\"P\",'1st milking (DF)'!AI60,IF(EMCI!$F$27=\"FS\",'1st milking (DF)'!AJ60,\"error\")))))","v":18.070083775152575}]
[{"$f":"E65","v":14.5},{"$f":"AL65","v":21.574719555564762},null,null,15.5,0.95,2.4999999999999911E-2,null,0.10526860425689091,0.19924355875597805,0.28070998196622399,null,0.10265981831673063,0.19573277951912119,0.27763503961094887,null,2.6317151064222635E-3,2.221043021896064,null,27.069568441375715,null,4.9810889688994336E-3,1.3406293839643777,null,18.695747462566114,null,7.0177495491555745E-3,1.380090570042688,null,16.64022465043033,null,16.64022465043033,18.695747462566114,27.069568441375715,16.64022465043033,18.695747462566114,null,{"$f":"IF(EMCI!$F$27=\"A\",'1st milking (DF)'!AF61,IF(EMCI!$F$27=\"B\",'1st milking (DF)'!AG61,IF(EMCI!$F$27=\"S\",'1st milking (DF)'!AH61,IF(EMCI!$F$27=\"P\",'1st milking (DF)'!AI61,IF(EMCI!$F$27=\"FS\",'1st milking (DF)'!AJ61,\"error\")))))","v":18.695747462566114}]
[{"$f":"E64","v":14.75},{"$f":"AL64","v":20.792797570127597},null,null,15.25,0.97499999999999998,2.5000000000000022E-2,null,0.1000837649479651,0.19225320311263966,0.27457227403597939,null,9.7540444150594319E-2,0.18880482985006727,0.27152188286816148,null,2.5020941236991298E-3,2.2235451160197632,null,28.464652874592428,null,4.806330077815996E-3,1.3454357140421938,null,19.356307192246884,null,6.8643068508994912E-3,1.3869548768935875,null,16.989588737296341,null,16.989588737296341,19.356307192246884,28.464652874592428,16.989588737296341,19.356307192246884,null,{"$f":"IF(EMCI!$F$27=\"A\",'1st milking (DF)'!AF62,IF(EMCI!$F$27=\"B\",'1st milking (DF)'!AG62,IF(EMCI!$F$27=\"S\",'1st milking (DF)'!AH62,IF(EMCI!$F$27=\"P\",'1st milking (DF)'!AI62,IF(EMCI!$F$27=\"FS\",'1st milking (DF)'!AJ62,\"error\")))))","v":19.356307192246884}]
[{"$f":"E63","v":15},{"$f":"AL63","v":20.054371561320274},null,null,15,1,2.5000000000000022E-2,null,9.5029855924618267E-2,0.18538766002448215,0.26848405833009958,null,9.2552000270036947E-2,0.18200169390981913,0.26545898738016671,null,2.3757463981154588E-3,2.2259208624178788,null,29.973194847094078,null,4.6346915006120577E-3,1.3500704055428059,null,20.054371561320274,null,6.7121014582524957E-3,1.3936669783518401,null,17.352334035130557,null,17.352334035130557,20.054371561320274,29.973194847094078,17.352334035130557,20.054371561320274,null,{"$f":"IF(EMCI!$F$27=\"A\",'1st milking (DF)'!AF63,IF(EMCI!$F$27=\"B\",'1st milking (DF)'!AG63,IF(EMCI!$F$27=\"S\",'1st milking (DF)'!AH63,IF(EMCI!$F$27=\"P\",'1st milking (DF)'!AI63,IF(EMCI!$F$27=\"FS\",'1st milking (DF)'!AJ63,\"error\")))))","v":20.054371561320274}]
[{"$f":"E62","v":15.25},{"$f":"AL62","v":19.356307192246884},null,null,14.75,1.0249999999999999,2.4999999999999911E-2,null,9.0106877186850329E-2,0.17864693176209925,0.26244685184914474,null,8.7694486675058483E-2,0.17532337382058064,0.25944782857356635,null,2.2526719296712501E-3,2.2281735343475502,null,31.607762024118163,null,4.4661732940524659E-3,1.3545365788368584,null,20.792797570127597,null,6.5611712962285948E-3,1.4002281496480686,null,17.72908208806869,null,17.72908208806869,20.792797570127597,31.607762024118163,17.72908208806869,20.792797570127597,null,{"$f":"IF(EMCI!$F$27=\"A\",'1st milking (DF)'!AF64,IF(EMCI!$F$27=\"B\",'1st milking (DF)'!AG64,IF(EMCI!$F$27=\"S\",'1st milking (DF)'!AH64,IF(EMCI!$F$27=\"P\",'1st milking (DF)'!AI64,IF(EMCI!$F$27=\"FS\",'1st milking (DF)'!AJ64,\"error\")))))","v":20.792797570127597}]
[{"$f":"E61","v":15.5},{"$f":"AL61","v":18.695747462566114},null,null,14.5,1.05,2.5000000000000133E-2,null,8.5314828734661369E-2,0.17203102030883713,0.25646208952582694,null,8.2967903365658943E-2,0.16876987143576827,0.25348980194113641,null,2.1328707183665458E-3,2.2303064050659169,null,33.382711658114296,null,4.300775507720951E-3,1.3588373543445793,null,21.574719555564762,null,6.4115522381457081E-3,1.4066397018862142,null,18.120493459458473,null,18.120493459458473,21.574719555564762,33.382711658114296,18.120493459458473,21.574719555564762,null,{"$f":"IF(EMCI!$F$27=\"A\",'1st milking (DF)'!AF65,IF(EMCI!$F$27=\"B\",'1st milking (DF)'!AG65,IF(EMCI!$F$27=\"S\",'1st milking (DF)'!AH65,IF(EMCI!$F$27=\"P\",'1st milking (DF)'!AI65,IF(EMCI!$F$27=\"FS\",'1st milking (DF)'!AJ65,\"error\")))))","v":21.574719555564762}]
[{"$f":"E60","v":15.75},{"$f":"AL60","v":18.070083775152575},null,null,14.25,1.075,2.4999999999999911E-2,null,8.065371056805129E-2,0.16553992739654555,0.25053112844137798,null,7.8372250341838381E-2,0.16234118837349831,0.24758622715594111,null,2.0163427642012751E-3,2.2323227478301182,null,35.314505326796521,null,4.1384981849136243E-3,1.3629758525294928,null,22.403582134084218,null,6.2632782110344275E-3,1.4129029800972486,null,18.527270569915782,null,18.527270569915782,22.403582134084218,35.314505326796521,18.527270569915782,22.403582134084218,null,{"$f":"IF(EMCI!$F$27=\"A\",'1st milking (DF)'!AF66,IF(EMCI!$F$27=\"B\",'1st milking (DF)'!AG66,IF(EMCI!$F$27=\"S\",'1st milking (DF)'!AH66,IF(EMCI!$F$27=\"P\",'1st milking (DF)'!AI66,IF(EMCI!$F$27=\"FS\",'1st milking (DF)'!AJ66,\"error\")))))","v":22.403582134084218}]
[{"$f":"E59","v":16},{"$f":"AL59","v":17.476930464228307},null,null,14,1.1000000000000001,2.5000000000000133E-2,null,7.612352268702019E-2,0.15917365453694315,0.24465525183959377,null,7.3907527603596743E-2,0.15603732604596116,0.24173835198745908,null,1.903088067175515E-3,2.2342258358972935,null,37.422090195425625,null,3.9793413634236002E-3,1.3669551938929165,null,23.283177802194338,null,6.1163812959898773E-3,1.4190193613932385,null,18.950160787248247,null,18.950160787248247,23.283177802194338,37.422090195425625,18.950160787248247,23.283177802194338,null,{"$f":"IF(EMCI!$F$27=\"A\",'1st milking (DF)'!AF67,IF(EMCI!$F$27=\"B\",'1st milking (DF)'!AG67,IF(EMCI!$F$27=\"S\",'1st milking (DF)'!AH67,IF(EMCI!$F$27=\"P\",'1st milking (DF)'!AI67,IF(EMCI!$F$27=\"FS\",'1st milking (DF)'!AJ67,\"error\")))))","v":23.283177802194338}]
[{"$f":"E58","v":16.25},{"$f":"AL58","v":16.914102319671105},null,null,13.75,1.125,2.4999999999999911E-2,null,7.1724265091567985E-2,0.1529322030491248,0.23883567294716018,null,6.9573735150934013E-2,0.1498582856851797,0.23594735602819444,null,1.7931066272891933E-3,2.2360189425245829,null,39.72736337181275,null,3.8233050762281067E-3,1.3707784989691447,null,24.217689962469446,null,5.9708918236789834E-3,1.4249902532169174,null,19.389959793558329,null,19.389959793558329,24.217689962469446,39.72736337181275,19.389959793558329,24.217689962469446,null,{"$f":"IF(EMCI!$F$27=\"A\",'1st milking (DF)'!AF68,IF(EMCI!$F$27=\"B\",'1st milking (DF)'!AG68,IF(EMCI!$F$27=\"S\",'1st milking (DF)'!AH68,IF(EMCI!$F$27=\"P\",'1st milking (DF)'!AI68,IF(EMCI!$F$27=\"FS\",'1st milking (DF)'!AJ68,\"error\")))))","v":24.217689962469446}]
[{"$f":"E57","v":16.5},{"$f":"AL57","v":16.379594711407396},null,null,13.5,1.1499999999999999,2.4999999999999911E-2,null,6.745593778169473E-2,0.14681557408368173,0.23307353860860081,null,6.5370872983850206E-2,0.14380406836559409,0.23021435423897771,null,1.6863984445423623E-3,2.2377053409691254,null,42.255740713655392,null,3.6703893520920305E-3,1.3744488883212367,null,25.211742288552639,null,5.8268384652149993E-3,1.4308170916821323,null,19.847515257779079,null,19.847515257779079,25.211742288552639,42.255740713655392,19.847515257779079,25.211742288552639,null,{"$f":"IF(EMCI!$F$27=\"A\",'1st milking (DF)'!AF69,IF(EMCI!$F$27=\"B\",'1st milking (DF)'!AG69,IF(EMCI!$F$27=\"S\",'1st milking (DF)'!AH69,IF(EMCI!$F$27=\"P\",'1st milking (DF)'!AI69,IF(EMCI!$F$27=\"FS\",'1st milking (DF)'!AJ69,\"error\")))))","v":25.211742288552639}]
[{"$f":"E56","v":16.75},{"$f":"AL56","v":15.871565975749311},null,null,13.25,1.175,2.5000000000000133E-2,null,6.3318540757400427E-2,0.14082376864384633,0.22736993274391495,null,6.1298941102345371E-2,0.13787467502385675,0.22454040032089267,null,1.582963518935019E-3,2.2392883044880603,null,45.036857829283313,null,3.5205942160961767E-3,1.3779694825373328,null,26.270455519376124,null,5.6842483185979044E-3,1.4365013400007303,null,20.323730845217757,null,20.323730845217757,26.270455519376124,45.036857829283313,20.323730845217757,26.270455519376124,null,{"$f":"IF(EMCI!$F$27=\"A\",'1st milking (DF)'!AF70,IF(EMCI!$F$27=\"B\",'1st milking (DF)'!AG70,IF(EMCI!$F$27=\"S\",'1st milking (DF)'!AH70,IF(EMCI!$F$27=\"P\",'1st milking (DF)'!AI70,IF(EMCI!$F$27=\"FS\",'1st milking (DF)'!AJ70,\"error\")))))","v":26.270455519376124}]
[{"$f":"E55","v":17},{"$f":"AL55","v":15.388321774217793},null,null,13,1.2,2.4999999999999911E-2,null,5.9312074018685053E-2,0.13495678760402277,0.22172587963671017,null,5.7357939506419459E-2,0.13207010647617853,0.21892648992149663,null,1.4828018504671212E-3,2.2407711063385274,null,48.105439585267213,null,3.3739196901005574E-3,1.3813434022274333,null,27.399512988393504,null,5.5431469909177347E-3,1.442044486991648,null,20.819570599440745,null,20.819570599440745,27.399512988393504,48.105439585267213,20.819570599440745,27.399512988393504,null,{"$f":"IF(EMCI!$F$27=\"A\",'1st milking (DF)'!AF71,IF(EMCI!$F$27=\"B\",'1st milking (DF)'!AG71,IF(EMCI!$F$27=\"S\",'1st milking (DF)'!AH71,IF(EMCI!$F$27=\"P\",'1st milking (DF)'!AI71,IF(EMCI!$F$27=\"FS\",'1st milking (DF)'!AJ71,\"error\")))))","v":27.399512988393504}]
[{"$f":"E54","v":17.25},{"$f":"AL54","v":14.928301176411242},null,null,{"$f":"E71-0.25","v":12.75},1.2250000000000001,2.5000000000000133E-2,null,5.5436537565548595E-2,0.12921463172602407,0.21614234706036106,null,5.3547868196072462E-2,0.12639036343352611,0.21337356368273519,null,1.3859134391387222E-3,2.2421570197776659,null,51.502386054364187,null,3.2303657931506188E-3,1.3845737680205841,null,28.605236457611085,null,5.4035586765090555E-3,1.4474480456681571,null,21.336063736091624,null,21.336063736091624,28.605236457611085,51.502386054364187,21.336063736091624,28.605236457611085,null,{"$f":"IF(EMCI!$F$27=\"A\",'1st milking (DF)'!AF72,IF(EMCI!$F$27=\"B\",'1st milking (DF)'!AG72,IF(EMCI!$F$27=\"S\",'1st milking (DF)'!AH72,IF(EMCI!$F$27=\"P\",'1st milking (DF)'!AI72,IF(EMCI!$F$27=\"FS\",'1st milking (DF)'!AJ72,\"error\")))))","v":28.605236457611085}]
[{"$f":"E53","v":17.5},{"$f":"AL53","v":14.490064253139186},null,null,12.5,1.25,2.4999999999999911E-2,null,5.1691931397991081E-2,0.12359730167329401,0.21062024924946207,null,4.9868727171304417E-2,0.12083544651493101,0.20788251013768322,null,1.2922982849497724E-3,2.2434493180626158,null,55.276138740584607,null,3.0899325418323391E-3,1.3876637005624164,null,29.894674150860407,null,5.2655062312365331E-3,1.4527135518993937,null,21.874309893068354,null,21.874309893068354,29.894674150860407,55.276138740584607,21.874309893068354,29.894674150860407,null,{"$f":"IF(EMCI!$F$27=\"A\",'1st milking (DF)'!AF73,IF(EMCI!$F$27=\"B\",'1st milking (DF)'!AG73,IF(EMCI!$F$27=\"S\",'1st milking (DF)'!AH73,IF(EMCI!$F$27=\"P\",'1st milking (DF)'!AI73,IF(EMCI!$F$27=\"FS\",'1st milking (DF)'!AJ73,\"error\")))))","v":29.894674150860407}]
[{"$f":"E52","v":17.75},{"$f":"AL52","v":14.072280995410258},null,null,12.25,1.2749999999999999,2.4999999999999911E-2,null,4.807825551601249E-2,0.11810479802336256,0.20516044972357486,null,4.6320516432115315E-2,0.11540535625914415,0.2024541684629837,null,1.2019563879003079E-3,2.2446512744505163,null,59.484412907778442,null,2.9526199505840534E-3,1.3906163205130004,null,31.275703281761757,null,5.1290112430893535E-3,1.457842563142483,null,22.435484886980706,null,22.435484886980706,31.275703281761757,59.484412907778442,22.435484886980706,31.275703281761757,null,{"$f":"IF(EMCI!$F$27=\"A\",'1st milking (DF)'!AF74,IF(EMCI!$F$27=\"B\",'1st milking (DF)'!AG74,IF(EMCI!$F$27=\"S\",'1st milking (DF)'!AH74,IF(EMCI!$F$27=\"P\",'1st milking (DF)'!AI74,IF(EMCI!$F$27=\"FS\",'1st milking (DF)'!AJ74,\"error\")))))","v":31.275703281761757}]
[{"$f":"E51","v":18},{"$f":"AL51","v":13.673721399818238},null,null,12,1.3,2.5000000000000133E-2,null,4.459550991961285E-2,0.11273712127874896,0.19976376397001153,null,4.2903235978505136E-2,0.11010009313483672,0.19708933109359619,null,1.1148877479903272E-3,{"$f":"R74+Q75","v":2.2457661621985068},null,64.196412577862105,null,2.8184280319687393E-3,{"$f":"W74+V75","v":1.3934347485449692},null,32.757149869420765,null,4.9940940992503147E-3,{"$f":"AB74+AA75","v":1.4628366572417333},null,23.020847032067927,null,23.020847032067927,32.757149869420765,64.196412577862105,23.020847032067927,32.757149869420765,null,{"$f":"IF(EMCI!$F$27=\"A\",'1st milking (DF)'!AF75,IF(EMCI!$F$27=\"B\",'1st milking (DF)'!AG75,IF(EMCI!$F$27=\"S\",'1st milking (DF)'!AH75,IF(EMCI!$F$27=\"P\",'1st milking (DF)'!AI75,IF(EMCI!$F$27=\"FS\",'1st milking (DF)'!AJ75,\"error\")))))","v":32.757149869420765}]
[{"$f":"E50","v":18.25},{"$f":"AL50","v":13.293246582128205},null,null,11.75,1.325,{"$f":"F76-F75","v":2.4999999999999911E-2},null,4.1243694608792139E-2,0.10749427187650554,0.19443096199213733,null,3.961688581047388E-2,0.10491965754952723,0.19178874620621136,null,1.0310923652197999E-3,2.2467972545637265,null,69.495688242824585,null,2.6873567969126289E-3,{"$f":"W75+V76","v":1.3961221053418817},null,34.348929255291466,null,4.8607740498034157E-3,{"$f":"AB75+AA76","v":1.4676974312915367},null,23.631744084897083,null,23.631744084897083,34.348929255291466,69.495688242824585,23.631744084897083,34.348929255291466,null,{"$f":"IF(EMCI!$F$27=\"A\",'1st milking (DF)'!AF76,IF(EMCI!$F$27=\"B\",'1st milking (DF)'!AG76,IF(EMCI!$F$27=\"S\",'1st milking (DF)'!AH76,IF(EMCI!$F$27=\"P\",'1st milking (DF)'!AI76,IF(EMCI!$F$27=\"FS\",'1st milking (DF)'!AJ76,\"error\")))))","v":34.348929255291466}]
[{"$f":"E49","v":18.5},{"$f":"AL49","v":12.929800799021136},null,null,11.5,1.35,2.5000000000000133E-2,null,3.8022809583550352E-2,0.10237625019656743,0.18916277072942361,null,3.6461465928021568E-2,9.9864049857391432E-2,0.18655312007743888,null,9.5057023958876384E-4,2.2477478248033154,null,75.483859607561982,null,2.5594062549141993E-3,1.3986815115967959,null,36.062211512010421,null,4.7290692682356158E-3,1.4724265005597723,null,24.269620886323509,null,24.269620886323509,36.062211512010421,75.483859607561982,24.269620886323509,36.062211512010421,null,{"$f":"IF(EMCI!$F$27=\"A\",'1st milking (DF)'!AF77,IF(EMCI!$F$27=\"B\",'1st milking (DF)'!AG77,IF(EMCI!$F$27=\"S\",'1st milking (DF)'!AH77,IF(EMCI!$F$27=\"P\",'1st milking (DF)'!AI77,IF(EMCI!$F$27=\"FS\",'1st milking (DF)'!AJ77,\"error\")))))","v":36.062211512010421}]
[{"$f":"E48","v":18.75},{"$f":"AL48","v":12.582404273499046},null,null,11.25,1.375,2.4999999999999911E-2,null,3.4932854843887522E-2,9.7383056569056464E-2,0.18395987635523695,null,3.3436976331148192E-2,9.4933270366092032E-2,0.18138311932263304,null,8.7332137109718492E-4,2.2486211461744126,null,82.285516087845011,null,2.4345764142264031E-3,1.4011160880110223,null,37.909616914181605,null,4.5989969088809073E-3,1.4770254974686532,null,24.936027781538812,null,24.936027781538812,37.909616914181605,82.285516087845011,24.936027781538812,37.909616914181605,null,{"$f":"IF(EMCI!$F$27=\"A\",'1st milking (DF)'!AF78,IF(EMCI!$F$27=\"B\",'1st milking (DF)'!AG78,IF(EMCI!$F$27=\"S\",'1st milking (DF)'!AH78,IF(EMCI!$F$27=\"P\",'1st milking (DF)'!AI78,IF(EMCI!$F$27=\"FS\",'1st milking (DF)'!AJ78,\"error\")))))","v":37.909616914181605}]
[{"$f":"E47","v":19},{"$f":"AL47","v":12.250146732793421},null,null,11,1.4,2.4999999999999911E-2,null,3.1973830389803601E-2,9.2514691280667832E-2,0.17882292645810682,null,3.054341701985375E-2,9.0127319342750936E-2,0.17627937302097987,null,7.9934575974508718E-4,2.2494204919341576,null,90.054740970138283,null,2.3128672820166875E-3,1.403428955293039,null,39.905447881228234,null,4.4705731614526545E-3,1.4814960706301059,null,25.632629909751973,null,25.632629909751973,39.905447881228234,90.054740970138283,25.632629909751973,39.905447881228234,null,{"$f":"IF(EMCI!$F$27=\"A\",'1st milking (DF)'!AF79,IF(EMCI!$F$27=\"B\",'1st milking (DF)'!AG79,IF(EMCI!$F$27=\"S\",'1st milking (DF)'!AH79,IF(EMCI!$F$27=\"P\",'1st milking (DF)'!AI79,IF(EMCI!$F$27=\"FS\",'1st milking (DF)'!AJ79,\"error\")))))","v":39.905447881228234}]
[{"$f":"E46","v":19.25},{"$f":"AL46","v":11.932181579094264},null,null,10.75,1.425,2.5000000000000133E-2,null,2.9145736221298631E-2,8.7771154580253072E-2,0.1737525321119813,null,2.7780787994138238E-2,8.5446197019167794E-2,0.17124247473224119,null,7.2864340553246965E-4,2.2501491353396901,null,98.983904460900462,null,2.1942788645063385E-3,1.4056232341575454,null,42.065965382123949,null,4.3438133027995556E-3,1.4858398839329054,null,26.361217467369251,null,26.361217467369251,42.065965382123949,98.983904460900462,26.361217467369251,42.065965382123949,null,{"$f":"IF(EMCI!$F$27=\"A\",'1st milking (DF)'!AF80,IF(EMCI!$F$27=\"B\",'1st milking (DF)'!AG80,IF(EMCI!$F$27=\"S\",'1st milking (DF)'!AH80,IF(EMCI!$F$27=\"P\",'1st milking (DF)'!AI80,IF(EMCI!$F$27=\"FS\",'1st milking (DF)'!AJ80,\"error\")))))","v":42.065965382123949}]
[{"$f":"E45","v":19.5},{"$f":"AL45","v":11.627720623310219},null,null,10.5,1.45,2.4999999999999911E-2,null,2.644857233837258E-2,8.3152446683698977E-2,0.16874926984075,null,2.5149089254001666E-2,8.0889903596380763E-2,0.1662729844103209,null,6.6121430845931216E-4,2.2508103496481495,null,109.31567432066772,null,2.0788111670924669E-3,1.4077020453246378,null,44.409719816208202,null,4.2187317460187354E-3,1.4900586156789242,null,27.12371706272889,null,27.12371706272889,44.409719816208202,109.31567432066772,27.12371706272889,44.409719816208202,null,{"$f":"IF(EMCI!$F$27=\"A\",'1st milking (DF)'!AF81,IF(EMCI!$F$27=\"B\",'1st milking (DF)'!AG81,IF(EMCI!$F$27=\"S\",'1st milking (DF)'!AH81,IF(EMCI!$F$27=\"P\",'1st milking (DF)'!AI81,IF(EMCI!$F$27=\"FS\",'1st milking (DF)'!AJ81,\"error\")))))","v":44.409719816208202}]
[{"$f":"E44","v":19.75},{"$f":"AL44","v":11.336029320617413},null,null,10.25,1.4750000000000001,2.5000000000000133E-2,null,2.3882338741025473E-2,7.8658567778189678E-2,0.16381368348209219,null,2.2648320799444024E-2,7.6458439248649382E-2,0.16137143021860539,null,5.9705846852563997E-4,2.2514074081166751,null,121.35966353632708,null,1.9664641944547524E-3,1.4096685095190926,null,46.957948995072243,null,4.0953420870523264E-3,1.4941539577659766,null,27.922204296820563,null,27.922204296820563,46.957948995072243,121.35966353632708,27.922204296820563,46.957948995072243,null,{"$f":"IF(EMCI!$F$27=\"A\",'1st milking (DF)'!AF82,IF(EMCI!$F$27=\"B\",'1st milking (DF)'!AG82,IF(EMCI!$F$27=\"S\",'1st milking (DF)'!AH82,IF(EMCI!$F$27=\"P\",'1st milking (DF)'!AI82,IF(EMCI!$F$27=\"FS\",'1st milking (DF)'!AJ82,\"error\")))))","v":46.957948995072243}]
[{"$f":"E43","v":20},{"$f":"AL43","v":11.056422453955689},null,null,10,1.5,2.4999999999999911E-2,null,2.14470354292573E-2,7.428951802592855E-2,0.15894628595549334,null,2.0278482630465319E-2,7.2151804126932312E-2,0.15653831025181383,null,5.3617588573143054E-4,2.2519435840024067,null,135.51587986514625,null,1.8572379506482072E-3,1.4115257474697409,null,49.735059240061041,null,3.9736571488873194E-3,1.4981276149148639,null,28.758917723356298,null,28.758917723356298,49.735059240061041,135.51587986514625,28.758917723356298,49.735059240061041,null,{"$f":"IF(EMCI!$F$27=\"A\",'1st milking (DF)'!AF83,IF(EMCI!$F$27=\"B\",'1st milking (DF)'!AG83,IF(EMCI!$F$27=\"S\",'1st milking (DF)'!AH83,IF(EMCI!$F$27=\"P\",'1st milking (DF)'!AI83,IF(EMCI!$F$27=\"FS\",'1st milking (DF)'!AJ83,\"error\")))))","v":49.735059240061041}]
[{"$f":"E42","v":20.25},{"$f":"AL42","v":10.788260218051507},null,null,9.75,1.5249999999999999,2.4999999999999911E-2,null,1.9142662403068059E-2,7.0045297567387574E-2,0.15414756093906151,null,1.8039574747065537E-2,6.7969998361922884E-2,0.15177409416889009,null,4.7856656007669979E-4,2.2524221505624835,null,152.30834916906562,null,1.7511324391846831E-3,1.4132768799089257,null,52.769210041652336,null,3.8536890234765241E-3,1.5019813039383405,null,29.636274363504924,null,29.636274363504924,52.769210041652336,152.30834916906562,29.636274363504924,52.769210041652336,null,{"$f":"IF(EMCI!$F$27=\"A\",'1st milking (DF)'!AF84,IF(EMCI!$F$27=\"B\",'1st milking (DF)'!AG84,IF(EMCI!$F$27=\"S\",'1st milking (DF)'!AH84,IF(EMCI!$F$27=\"P\",'1st milking (DF)'!AI84,IF(EMCI!$F$27=\"FS\",'1st milking (DF)'!AJ84,\"error\")))))","v":52.769210041652336}]
[{"$f":"E41","v":20.5},{"$f":"AL41","v":10.530944662129521},null,null,9.5,1.55,2.5000000000000133E-2,null,1.6969219662457756E-2,6.5925906524142819E-2,0.14941796445957814,null,1.5931597149244706E-2,6.3913022066697509E-2,0.14707922474126942,null,4.2423049156144617E-4,2.2528463810540451,null,172.43428849041626,null,1.6481476631035792E-3,1.4149250275720293,null,56.093028564456013,null,3.7354491114894735E-3,1.5057167530498299,null,30.556886976091771,null,30.556886976091771,56.093028564456013,172.43428849041626,30.556886976091771,56.093028564456013,null,{"$f":"IF(EMCI!$F$27=\"A\",'1st milking (DF)'!AF85,IF(EMCI!$F$27=\"B\",'1st milking (DF)'!AG85,IF(EMCI!$F$27=\"S\",'1st milking (DF)'!AH85,IF(EMCI!$F$27=\"P\",'1st milking (DF)'!AI85,IF(EMCI!$F$27=\"FS\",'1st milking (DF)'!AJ85,\"error\")))))","v":56.093028564456013}]
[{"$f":"E40","v":20.75},{"$f":"AL40","v":10.283916454337046},null,null,9.25,1.575,2.4999999999999911E-2,null,1.4926707207426384E-2,6.1931345001347733E-2,0.14475792640001692,null,1.3954549837002799E-2,5.9980875339025456E-2,0.1424541193206629,null,3.7316768018565827E-4,2.2532195487342306,null,196.8376252440782,null,1.5482836250336879E-3,1.4164733111970631,null,59.744488031360575,null,3.6189481600004099E-3,1.5093357012098303,null,31.523583313738555,null,31.523583313738555,59.744488031360575,196.8376252440782,31.523583313738555,59.744488031360575,null,{"$f":"IF(EMCI!$F$27=\"A\",'1st milking (DF)'!AF86,IF(EMCI!$F$27=\"B\",'1st milking (DF)'!AG86,IF(EMCI!$F$27=\"S\",'1st milking (DF)'!AH86,IF(EMCI!$F$27=\"P\",'1st milking (DF)'!AI86,IF(EMCI!$F$27=\"FS\",'1st milking (DF)'!AJ86,\"error\")))))","v":59.744488031360575}]
[{"$f":"E39","v":21},{"$f":"AL39","v":10.046651935149637},null,null,9,1.6,2.5000000000000133E-2,null,1.3015125037973942E-2,5.8061613089890336E-2,0.1401678519285815,null,1.2108432810339827E-2,5.6173558263382765E-2,0.13789917123031473,null,{"$f":"G87*I87","v":3.2537812594935032E-4},2.2535449268601799,null,226.82168007692317,null,{"$f":"G87*J87","v":1.451540327247266E-3},1.4179248515243104,null,63.767994394805811,null,{"$f":"G87*K87","v":3.5041962982145561E-3},1.5128398975080448,null,32.539427630044607,null,32.539427630044607,{"$f":"Y87","v":63.767994394805811},{"$f":"T87","v":226.82168007692317},{"$f":"AD87","v":32.539427630044607},63.767994394805811,null,{"$f":"IF(EMCI!$F$27=\"A\",'1st milking (DF)'!AF87,IF(EMCI!$F$27=\"B\",'1st milking (DF)'!AG87,IF(EMCI!$F$27=\"S\",'1st milking (DF)'!AH87,IF(EMCI!$F$27=\"P\",'1st milking (DF)'!AI87,IF(EMCI!$F$27=\"FS\",'1st milking (DF)'!AJ87,\"error\")))))","v":63.767994394805811}]
[{"$f":"E38","v":21.25},{"$f":"AL38","v":9.8186604307365233},null,null,8.75,{"$f":"(E88-$G$11)/$G$10","v":1.625},2.4999999999999911E-2,null,1.1234473154100443E-2,5.4316710868272958E-2,0.13564812285312758,null,{"$f":"IF(E88>$H$15,(0.00033*(E88-5.6)*((6.5-2.8)*(1-EXP(0.5*(6.5-9.8)))*(36.7-0.9324)*(1-EXP(0.42*(-5-0.9324)))))^2,0)","v":1.0393246069255789E-2},{"$f":"IF(E88>$H$16,(((0.175*(E88-1.5)*SQRT(0.995-0.92)*(1-EXP(0.4395*(E88-45)))))^2)/2.3,0)","v":5.249107091270714E-2},{"$f":"IF(E88>$H$17,((0.1709*(E88+6.1)*SQRT(0.995-0.947)*(1-EXP(0.1723*(E88-41.2))))^2)/2.3,0)","v":0.13341475108351158},null,2.8086182885251004E-4,2.2538257886890323,null,264.22680585177449,null,1.357917771706819E-3,1.4192827692960173,null,{"$f":"($G$16-W88)/N88","v":68.215739714259783},null,3.3912030713281775E-3,1.5162311005793729,null,{"$f":"($G$17-AB88)/O88","v":33.607744743412901},null,{"$f":"+MIN(AG88:AI88)","v":33.607744743412901},68.215739714259783,264.22680585177449,33.607744743412901,{"$f":"MIN(AG88:AH88)","v":68.215739714259783},null,{"$f":"IF(EMCI!$F$27=\"A\",'1st milking (DF)'!AF88,IF(EMCI!$F$27=\"B\",'1st milking (DF)'!AG88,IF(EMCI!$F$27=\"S\",'1st milking (DF)'!AH88,IF(EMCI!$F$27=\"P\",'1st milking (DF)'!AI88,IF(EMCI!$F$27=\"FS\",'1st milking (DF)'!AJ88,\"error\")))))","v":68.215739714259783}]
[{"$f":"E37","v":21.5},{"$f":"AL37","v":9.5994818005151181},null,null,{"$f":"E88-0.25","v":8.5},1.65,{"$f":"F89-F88","v":2.4999999999999911E-2},null,{"$f":"IF(E89>$H$15,(0.00033*(((E89+E88)/2)-5.6)*((6.5-2.8)*(1-EXP(0.5*(6.5-9.8)))*(36.7-0.9324)*(1-EXP(0.42*(-5-0.9324)))))^2,0)","v":9.5847515558058708E-3},{"$f":"IF(E89>$H$16,(((0.175*(((E89+E88)/2)-1.5)*SQRT(0.995-0.92)*(1-EXP(0.4395*(((E89+E88)/2)-45)))))^2)/2.3,0)","v":5.0696638404250462E-2},{"$f":"IF(E89>$H$17,((0.1709*(((E89+E88)/2)+6.1)*SQRT(0.995-0.947)*(1-EXP(0.1723*(((E89+E88)/2)-41.2))))^2)/2.3,0)","v":0.13119909890466158},null,8.8089896137506871E-3,4.8933413349926902E-2,0.12900120803295215,null,2.3961878889514591E-4,{"$f":"R88+Q89","v":2.2540654074779276},null,{"$f":"IF(M89=0,T88,($G$15-R89)/M89)","v":311.71958566459358},null,1.2674159601062571E-3,1.4205501852561235,null,73.149399759770148,null,3.2799774726165278E-3,1.5195110780519894,null,34.732147010619556,null,34.732147010619556,73.149399759770148,311.71958566459358,34.732147010619556,73.149399759770148,null,{"$f":"IF(EMCI!$F$27=\"A\",'1st milking (DF)'!AF89,IF(EMCI!$F$27=\"B\",'1st milking (DF)'!AG89,IF(EMCI!$F$27=\"S\",'1st milking (DF)'!AH89,IF(EMCI!$F$27=\"P\",'1st milking (DF)'!AI89,IF(EMCI!$F$27=\"FS\",'1st milking (DF)'!AJ89,\"error\")))))","v":73.149399759770148}]
[{"$f":"E36","v":21.75},{"$f":"AL36","v":9.388684195976122},null,null,8.25,1.675,2.5000000000000133E-2,null,8.0659602430902377E-3,4.7201395756256849E-2,0.12682111895344028,null,7.3556634438245181E-3,4.5500585629291837E-2,0.12465887095441666,null,2.01649006077257E-4,2.254267056484005,null,373.28148092762291,null,1.1800348939064276E-3,1.4217302201500299,null,78.642279662141163,null,3.1705279738360238E-3,1.5226816060258255,null,35.91656461906647,null,35.91656461906647,78.642279662141163,373.28148092762291,35.91656461906647,78.642279662141163,null,{"$f":"IF(EMCI!$F$27=\"A\",'1st milking (DF)'!AF90,IF(EMCI!$F$27=\"B\",'1st milking (DF)'!AG90,IF(EMCI!$F$27=\"S\",'1st milking (DF)'!AH90,IF(EMCI!$F$27=\"P\",'1st milking (DF)'!AI90,IF(EMCI!$F$27=\"FS\",'1st milking (DF)'!AJ90,\"error\")))))","v":78.642279662141163}]
[{"$f":"E35","v":22},{"$f":"AL35","v":9.1858620103682505},null,null,8,1.7,2.4999999999999911E-2,null,6.6780992159535344E-3,4.3830982974647166E-2,0.12251450216103232,null,6.0332675594772841E-3,4.2192587797532113E-2,0.12038804956802177,null,1.6695248039883776E-4,2.2544340089644037,null,455.07114742868612,null,1.0957745743661752E-3,1.4228259947243962,null,84.782048032731382,null,3.0628625540257974E-3,1.5257444685798514,null,37.165279672481944,null,37.165279672481944,84.782048032731382,455.07114742868612,37.165279672481944,84.782048032731382,null,{"$f":"IF(EMCI!$F$27=\"A\",'1st milking (DF)'!AF91,IF(EMCI!$F$27=\"B\",'1st milking (DF)'!AG91,IF(EMCI!$F$27=\"S\",'1st milking (DF)'!AH91,IF(EMCI!$F$27=\"P\",'1st milking (DF)'!AI91,IF(EMCI!$F$27=\"FS\",'1st milking (DF)'!AJ91,\"error\")))))","v":84.782048032731382}]
[{"$f":"E34","v":22.25},{"$f":"AL34","v":8.9906340010397408},null,null,7.75,1.7250000000000001,2.5000000000000133E-2,null,5.4211684743957671E-3,4.0585400102778259E-2,0.11827954907154804,null,4.8418019607089843E-3,3.9009419894865949E-2,0.11618903550019019,null,1.355292118598949E-4,2.2545695381762636,null,567.02659136056934,null,1.0146350025694618E-3,1.4238406297269657,null,91.674251499025615,null,2.9569887267887167E-3,1.52870145730664,null,38.48296462264755,null,38.48296462264755,91.674251499025615,567.02659136056934,38.48296462264755,91.674251499025615,null,{"$f":"IF(EMCI!$F$27=\"A\",'1st milking (DF)'!AF92,IF(EMCI!$F$27=\"B\",'1st milking (DF)'!AG92,IF(EMCI!$F$27=\"S\",'1st milking (DF)'!AH92,IF(EMCI!$F$27=\"P\",'1st milking (DF)'!AI92,IF(EMCI!$F$27=\"FS\",'1st milking (DF)'!AJ92,\"error\")))))","v":91.674251499025615}]
[{"$f":"E33","v":22.5},{"$f":"AL33","v":8.8026415681814818},null,null,7.5,1.75,2.4999999999999911E-2,null,4.295168018416934E-3,3.7464647177948653E-2,0.11411654264509592,null,3.7812666475196171E-3,3.595108195587611E-2,0.1120621032893214,null,1.0737920046042296E-4,2.2546769173767238,null,726.03266009397021,null,9.3661617944871297E-4,1.4247772459064143,null,99.446875019827473,null,2.8529135661273879E-3,1.5315543708727675,null,39.874725691972976,null,39.874725691972976,99.446875019827473,726.03266009397021,39.874725691972976,99.446875019827473,null,{"$f":"IF(EMCI!$F$27=\"A\",'1st milking (DF)'!AF93,IF(EMCI!$F$27=\"B\",'1st milking (DF)'!AG93,IF(EMCI!$F$27=\"S\",'1st milking (DF)'!AH93,IF(EMCI!$F$27=\"P\",'1st milking (DF)'!AI93,IF(EMCI!$F$27=\"FS\",'1st milking (DF)'!AJ93,\"error\")))))","v":99.446875019827473}]
[{"$f":"E32","v":22.75},{"$f":"AL32","v":8.6215471754378044},null,null,7.25,1.7749999999999999,2.4999999999999911E-2,null,3.3000978480170352E-3,3.44687242322156E-2,0.11002574923637776,null,2.8516616199091853E-3,3.3017574010271708E-2,0.10800751133800611,null,8.2502446200425584E-5,2.2547594198229244,null,962.68104217235327,null,8.6171810580538695E-4,1.4256389640122198,null,108.25631934302027,null,2.7506437309094342E-3,1.534305014603677,null,41.346152041417476,null,41.346152041417476,108.25631934302027,962.68104217235327,41.346152041417476,108.25631934302027,null,{"$f":"IF(EMCI!$F$27=\"A\",'1st milking (DF)'!AF94,IF(EMCI!$F$27=\"B\",'1st milking (DF)'!AG94,IF(EMCI!$F$27=\"S\",'1st milking (DF)'!AH94,IF(EMCI!$F$27=\"P\",'1st milking (DF)'!AI94,IF(EMCI!$F$27=\"FS\",'1st milking (DF)'!AJ94,\"error\")))))","v":108.25631934302027}]
[{"$f":"E31","v":23},{"$f":"AL31","v":8.4470328993742196},null,null,7,1.8,2.5000000000000133E-2,null,2.4359579631960701E-3,3.1597631293105111E-2,0.10600741952120002,null,2.0529868778776873E-3,3.0208896083549652E-2,0.10402550281449537,null,6.0898949079902076E-5,2.2548203187720044,null,1337.1637738210363,null,7.8994078232763197E-4,1.4264289047945473,null,118.29532218992443,null,2.6501854880300146E-3,1.5369552000917071,null,42.903371569057128,null,42.903371569057128,118.29532218992443,1337.1637738210363,42.903371569057128,118.29532218992443,null,{"$f":"IF(EMCI!$F$27=\"A\",'1st milking (DF)'!AF95,IF(EMCI!$F$27=\"B\",'1st milking (DF)'!AG95,IF(EMCI!$F$27=\"S\",'1st milking (DF)'!AH95,IF(EMCI!$F$27=\"P\",'1st milking (DF)'!AI95,IF(EMCI!$F$27=\"FS\",'1st milking (DF)'!AJ95,\"error\")))))","v":118.29532218992443}]
[{"$f":"E30","v":23.25},{"$f":"AL30","v":8.2787990961420181},null,null,{"$f":"E95-0.25","v":6.75},1.825,2.4999999999999911E-2,null,1.7027483639540388E-3,2.8851368384228526E-2,0.1020617893735461,null,1.3852424214251236E-3,2.7525048197569259E-2,0.10011630650600498,null,4.2568709098850821E-5,2.2548628874811034,null,1981.7015924871307,null,7.212842096057106E-4,1.4271501890041531,null,129.80358055508748,null,2.5515447343386435E-3,1.5395067448260458,null,44.553114381086502,null,44.553114381086502,129.80358055508748,1981.7015924871307,44.553114381086502,129.80358055508748,null,{"$f":"IF(EMCI!$F$27=\"A\",'1st milking (DF)'!AF96,IF(EMCI!$F$27=\"B\",'1st milking (DF)'!AG96,IF(EMCI!$F$27=\"S\",'1st milking (DF)'!AH96,IF(EMCI!$F$27=\"P\",'1st milking (DF)'!AI96,IF(EMCI!$F$27=\"FS\",'1st milking (DF)'!AJ96,\"error\")))))","v":129.80358055508748}]
[{"$f":"E29","v":23.5},{"$f":"AL29","v":8.1165631748791043},null,null,{"$f":"E96-0.25","v":6.5},1.85,2.5000000000000133E-2,null,1.100469050290942E-3,2.622993552581766E-2,9.8189080695726974E-2,null,8.4842825055149364E-4,2.4966030371050753E-2,9.6280137626312767E-2,null,2.7511726257273695E-5,{"$f":"R96+Q97","v":2.2548903992073606},null,3235.5235684434938,null,6.5574838814544498E-4,{"$f":"W96+V97","v":1.4278059373922987},null,143.08218044747005,null,2.4547270173931874E-3,{"$f":"AB96+AA97","v":1.5419614718434389},null,46.302785164883339,null,46.302785164883339,143.08218044747005,3235.5235684434938,46.302785164883339,143.08218044747005,null,{"$f":"IF(EMCI!$F$27=\"A\",'1st milking (DF)'!AF97,IF(EMCI!$F$27=\"B\",'1st milking (DF)'!AG97,IF(EMCI!$F$27=\"S\",'1st milking (DF)'!AH97,IF(EMCI!$F$27=\"P\",'1st milking (DF)'!AI97,IF(EMCI!$F$27=\"FS\",'1st milking (DF)'!AJ97,\"error\")))))","v":143.08218044747005}]
[{"$f":"E28","v":23.75},{"$f":"AL28","v":7.9600584684534414},null,null,6.25,1.875,2.4999999999999911E-2,null,6.2912002220677889E-4,2.3733332735188999E-2,9.4389502204009934E-2,null,4.4254436525679775E-4,2.2531842620007458E-2,9.2517198579988219E-2,null,1.5728000555169418E-5,{"$f":"R97+Q98","v":2.2549061272079158},null,6202.9800587319032,null,5.933333183797229E-4,{"$f":"W97+V98","v":1.4283992707106783},null,158.51347754922935,null,2.3597375551002399E-3,{"$f":"AB97+AA98","v":1.5443212093985392},null,48.160545920001937,null,48.160545920001937,158.51347754922935,6202.9800587319032,48.160545920001937,158.51347754922935,null,{"$f":"IF(EMCI!$F$27=\"A\",'1st milking (DF)'!AF98,IF(EMCI!$F$27=\"B\",'1st milking (DF)'!AG98,IF(EMCI!$F$27=\"S\",'1st milking (DF)'!AH98,IF(EMCI!$F$27=\"P\",'1st milking (DF)'!AI98,IF(EMCI!$F$27=\"FS\",'1st milking (DF)'!AJ98,\"error\")))))","v":158.51347754922935}]
[{"$f":"E27","v":24},{"$f":"AL27","v":7.8090331931065551},null,null,6,1.9,2.4999999999999911E-2,null,2.887012797015501E-4,2.1361560027146304E-2,9.0663250172005841E-2,null,1.6759076554103596E-4,2.0222484958120589E-2,8.8827679685481262E-2,null,7.2175319925387273E-6,2.2549133447399083,null,16379.701151182669,null,5.3403900067865574E-4,1.428933309711357,null,176.58891563940253,null,2.266581254300138E-3,1.5465877906528394,null,50.135410776412108,null,50.135410776412108,176.58891563940253,16379.701151182669,50.135410776412108,176.58891563940253,null,{"$f":"IF(EMCI!$F$27=\"A\",'1st milking (DF)'!AF99,IF(EMCI!$F$27=\"B\",'1st milking (DF)'!AG99,IF(EMCI!$F$27=\"S\",'1st milking (DF)'!AH99,IF(EMCI!$F$27=\"P\",'1st milking (DF)'!AI99,IF(EMCI!$F$27=\"FS\",'1st milking (DF)'!AJ99,\"error\")))))","v":176.58891563940253}]
[{"$f":"E26","v":24.25},{"$f":"AL26","v":7.6632494894035981},null,null,5.75,1.925,2.5000000000000133E-2,null,7.921282277525533E-5,1.911461741432929E-2,8.7010509133988265E-2,null,2.3567451404208249E-5,1.8037957397063781E-2,8.5211759859187261E-2,null,1.9803205693813938E-6,2.2549153250604776,null,116477.79082507643,null,4.7786543535823482E-4,1.4294111751467153,null,197.94862279885999,null,2.1752627283497181E-3,1.5487630533811891,null,52.237354961034669,null,52.237354961034669,197.94862279885999,116477.79082507643,52.237354961034669,197.94862279885999,null,{"$f":"IF(EMCI!$F$27=\"A\",'1st milking (DF)'!AF100,IF(EMCI!$F$27=\"B\",'1st milking (DF)'!AG100,IF(EMCI!$F$27=\"S\",'1st milking (DF)'!AH100,IF(EMCI!$F$27=\"P\",'1st milking (DF)'!AI100,IF(EMCI!$F$27=\"FS\",'1st milking (DF)'!AJ100,\"error\")))))","v":197.94862279885999}]
[{"$f":"E25","v":24.5},{"$f":"AL25","v":7.5224825376559039},null,null,5.5,1.95,2.4999999999999911E-2,null,0,1.6992504907515658E-2,8.3431452550209242E-2,null,0,1.5978259946784049E-2,8.1669607262505536E-2,null,0,2.2549153250604776,null,116477.79082507643,null,4.2481262268788996E-4,1.4298359877694031,null,223.43884904370739,null,2.0857863137552237E-3,1.5508488396949445,null,54.477440377598796,null,54.477440377598796,223.43884904370739,116477.79082507643,54.477440377598796,223.43884904370739,null,{"$f":"IF(EMCI!$F$27=\"A\",'1st milking (DF)'!AF101,IF(EMCI!$F$27=\"B\",'1st milking (DF)'!AG101,IF(EMCI!$F$27=\"S\",'1st milking (DF)'!AH101,IF(EMCI!$F$27=\"P\",'1st milking (DF)'!AI101,IF(EMCI!$F$27=\"FS\",'1st milking (DF)'!AJ101,\"error\")))))","v":223.43884904370739}]
[{"$f":"E24","v":24.75},{"$f":"AL24","v":7.3865197416628003},null,null,5.25,1.9750000000000001,2.5000000000000133E-2,null,0,1.4995222515882417E-2,7.9926243436178462E-2,null,0,1.4043392615744832E-2,7.8201379913805977E-2,null,0,2.2549153250604776,null,116477.79082507643,null,3.7488056289706242E-4,1.4302108683323003,null,254.19706116208772,null,1.9981560859044724E-3,1.5528469957808488,null,56.867960758759367,null,56.867960758759367,254.19706116208772,116477.79082507643,56.867960758759367,254.19706116208772,null,{"$f":"IF(EMCI!$F$27=\"A\",'1st milking (DF)'!AF102,IF(EMCI!$F$27=\"B\",'1st milking (DF)'!AG102,IF(EMCI!$F$27=\"S\",'1st milking (DF)'!AH102,IF(EMCI!$F$27=\"P\",'1st milking (DF)'!AI102,IF(EMCI!$F$27=\"FS\",'1st milking (DF)'!AJ102,\"error\")))))","v":254.19706116208772}]
[{"$f":"E23","v":25},{"$f":"AL23","v":7.2551599752309368},null,null,5,2,2.4999999999999911E-2,null,0,1.3122770247231881E-2,7.6495034957773558E-2,null,0,1.2233355411136097E-2,7.4807226267127047E-2,null,0,2.2549153250604776,null,116477.79082507643,null,3.2806925618079588E-4,1.4305389375884812,null,291.78103165074538,null,1.9123758739443321E-3,1.5547593716547932,null,59.422609955779151,null,59.422609955779151,291.78103165074538,116477.79082507643,59.422609955779151,291.78103165074538,null,{"$f":"IF(EMCI!$F$27=\"A\",'1st milking (DF)'!AF103,IF(EMCI!$F$27=\"B\",'1st milking (DF)'!AG103,IF(EMCI!$F$27=\"S\",'1st milking (DF)'!AH103,IF(EMCI!$F$27=\"P\",'1st milking (DF)'!AI103,IF(EMCI!$F$27=\"FS\",'1st milking (DF)'!AJ103,\"error\")))))","v":291.78103165074538}]

{"sheet":"1st milking (DO)","index":7,"n_rows":103,"n_cols":38,"rows_kept":103,"cut":false,"hidden":false,"merged":[]}
[]
["Entry",null,null,null,"Milk cooling curve (1st milking)",null,null,null,null,null,null,null,null,null,"Entry: ","Temp","Time"]
[null,null,null,null,null,null,null,null,null,null,null,null,null,null,null,{"$f":"E5","v":25},{"$f":"F5","v":-8.8235294117647078E-2}]
["Milking",{"$f":"EMCI!F9","v":1},1,null,"T","t",null,null,null,null,null,null,null,null,null,{"$f":"E6","v":20},{"$f":"F6","v":0.5}]
["Time",{"$f":"EMCI!F11/60","v":0.5},"O",null,25,{"$f":"F6-((E6-F11)/F10)","v":-8.8235294117647078E-2}]
["Milk T",{"$f":"EMCI!F13","v":20},null,null,{"$f":"B6","v":20},{"$f":"B5","v":0.5}]
["Volume",{"$f":"EMCI!F31","v":0},"D",null,null,null,null,null,null,null,null,null,null,null,null,"x","y","xy","xx"]
[null,null,null,null,null,null,null,null,null,null,null,null,null,null,null,{"$f":"Q3","v":-8.8235294117647078E-2},{"$f":"P3","v":25},{"$f":"P8*Q8","v":-2.2058823529411771},{"$f":"P8*P8","v":7.7854671280276847E-3}]
[null,null,null,null,null,null,"Outside!!!",null,null,null,null,null,null,null,null,{"$f":"Q4","v":0.5},{"$f":"P4","v":20},{"$f":"P9*Q9","v":10},{"$f":"P9*P9","v":0.25}]
["Outcome",{"$f":"IF(OR(B6>E5,B6<5),\"out\",LOOKUP(B6,A23:A103,B23:B103))","v":11.084540800852919},null,null,"slope ",-8.5,{"$f":"P12","v":-8.5},null,null,null,null,null,null,null,"sum",{"$f":"SUM(P8:P9)","v":0.41176470588235292},{"$f":"SUM(Q8:Q9)","v":45},7.7941176470588225,0.25778546712802769]
[null,null,null,null,"intercept",25,{"$f":"P13","v":24.25}]
[null,null,null,null,null,null,null,null,null,null,null,null,null,null,"slope",{"$f":"(2*R10-P10*Q10)/(2*S10-(P10^2))","v":-8.5}]
[null,null,null,null,null,null,null,null,null,null,null,null,null,null,"intercept",{"$f":"(Q10-P12*P10)/2","v":24.25}]
[null,null,null,null,null,"No (logs)","Nf (logs)","Tmin",null,"N after milk (logs)","GR at 5C","Growth storage","N after stroage (logs)"]
[null,null,null,null,"S aureus",{"$f":"EMCI!F19","v":2},{"$f":"EMCI!G19","v":5},5.6,null,{"$f":"R103","v":2.2651166725790404},0,{"$f":"K15*(12-$F$7)","v":0},{"$f":"J15+L15","v":2.2651166725790404},null,"TEST(max)",{"$f":"F10*Q4+F11","v":20.75}]
[null,null,null,null,"B cereus",{"$f":"EMCI!F20","v":1},{"$f":"EMCI!G20","v":5},1.5,null,{"$f":"W103","v":1.4578694786007467},1.2233355411136097E-2,{"$f":"K16*(12-$F$7)","v":0.14680026493363316},{"$f":"J16+L16","v":1.6046697435343797}]
[null,null,null,null,"Pseudo",{"$f":"EMCI!F21","v":1},{"$f":"EMCI!G21","v":6},-6.1,null,{"$f":"AB103","v":1.606825570047187},7.4807226267127047E-2,{"$f":"K17*(12-$F$7)","v":0.89768671520552457},{"$f":"J17+L17","v":2.5045122852527113}]
[]
[]
[]
["Lookup function",null,null,null,"Cooling curve profile",null,null,null,"Growth (log/h) during cooling",null,null,null,"Growth (log/h) to calculate NMTL",null,null,null,"Saureus","Growth acc",null,"Time to NMTL (depending on initial logs)",null,"B cereus","Growth acc",null,"Time to NMTL (depending on initial logs)",null,"Pseudo","Growth acc",null,"Time to NMTL (depending on initial logs)",null,"NMTL","NMTL","NMTL","NMTL","NMTL",null,"NMTL"]
[{"$f":"E22","v":"Temp"},"NMTL",null,null,"Temp","Time","Time interval",null,"S. aureus","B.cereus","Pseudo",null,"S. aureus","B.cereus","Pseudo",null,"Growth interval",{"$f":"F15","v":2},null,{"$f":"R22","v":2},null,"Growth interval",{"$f":"F16","v":1},null,{"$f":"W22","v":1},null,"Growth interval",{"$f":"F17","v":1},null,{"$f":"AB22","v":1},null,"Shorter of 3 microorganisms","B. cereus","S. aureus","Pseudo","Food Safety",null,"Entry"]
[{"$f":"E103","v":5},{"$f":"AL103","v":289.54693151274182},null,null,{"$f":"E5","v":25},{"$f":"(E23-$G$11)/$G$10","v":-8.8235294117647065E-2},{"$f":"IF(E6=E5,F5,F23)","v":-8.8235294117647065E-2},null,{"$f":"IF(E23>H15,(0.00033*(E23-5.6)*((6.5-2.8)*(1-EXP(0.5*(6.5-9.8)))*(36.7-0.9324)*(1-EXP(0.42*(-5-0.9324)))))^2,0)","v":0.39421537824390102},{"$f":"IF(E23>$H$16,(((0.175*(E23-1.5)*SQRT(0.995-0.92)*(1-EXP(0.4395*(E23-45)))))^2)/2.3,0)","v":0.55133174370461446},{"$f":"IF(E23>$H$17,((0.1709*(E23+6.1)*SQRT(0.995-0.947)*(1-EXP(0.1723*(E23-41.2))))^2)/2.3,0)","v":0.5194351615291144},null,{"$f":"IF(E23>$H$15,(0.00033*(E23-5.6)*((6.5-2.8)*(1-EXP(0.5*(6.5-9.8)))*(36.7-0.9324)*(1-EXP(0.42*(-5-0.9324)))))^2,0)","v":0.39421537824390102},{"$f":"IF(E23>$H$16,(((0.175*(E23-1.5)*SQRT(0.995-0.92)*(1-EXP(0.4395*(E23-45)))))^2)/2.3,0)","v":0.55133174370461446},{"$f":"IF(E23>$H$17,((0.1709*(E23+6.1)*SQRT(0.995-0.947)*(1-EXP(0.1723*(E23-41.2))))^2)/2.3,0)","v":0.5194351615291144},null,{"$f":"G23*I23","v":-3.4783709845050095E-2},{"$f":"R22+Q23","v":1.9652162901549499},null,{"$f":"($G$15-R23)/M23","v":7.6982884923566575},null,{"$f":"G23*J23","v":-4.8646918562171869E-2},{"$f":"W22+V23","v":0.95135308143782815},null,{"$f":"($G$16-W23)/N23","v":7.3433952693485844},null,{"$f":"G23*K23","v":-4.5832514252568922E-2},{"$f":"AB22+AA23","v":0.95416748574743104},null,{"$f":"($G$17-AB23)/O23","v":9.7140757652959735},null,{"$f":"+MIN(AG23:AI23)","v":7.3433952693485844},{"$f":"Y23","v":7.3433952693485844},{"$f":"T23","v":7.6982884923566575},{"$f":"AD23","v":9.7140757652959735},{"$f":"MIN(AG23:AH23)","v":7.3433952693485844},null,{"$f":"IF(EMCI!$F$27=\"A\",'1st milking (DO)'!AF23,IF(EMCI!$F$27=\"B\",'1st milking (DO)'!AG23,IF(EMCI!$F$27=\"S\",'1st milking (DO)'!AH23,IF(EMCI!$F$27=\"P\",'1st milking (DO)'!AI23,IF(EMCI!$F$27=\"FS\",'1st milking (DO)'!AJ23,\"error\")))))","v":7.3433952693485844}]
[{"$f":"E102","v":5.25},{"$f":"AL102","v":252.25503424709078},null,null,{"$f":"E23-0.25","v":24.75},{"$f":"(E24-$G$11)/$G$10","v":-5.8823529411764705E-2},{"$f":"F24-F23","v":2.9411764705882359E-2},null,{"$f":"IF(E24>$H$15,(0.00033*(((E24+E23)/2)-5.6)*((6.5-2.8)*(1-EXP(0.5*(6.5-9.8)))*(36.7-0.9324)*(1-EXP(0.42*(-5-0.9324)))))^2,0)","v":0.38915164944913572},{"$f":"IF(E24>$H$16,(((0.175*(((E24+E23)/2)-1.5)*SQRT(0.995-0.92)*(1-EXP(0.4395*(((E24+E23)/2)-45)))))^2)/2.3,0)","v":0.5454909916313323},{"$f":"IF(E24>$H$17,((0.1709*(((E24+E23)/2)+6.1)*SQRT(0.995-0.947)*(1-EXP(0.1723*(((E24+E23)/2)-41.2))))^2)/2.3,0)","v":0.516704037520888},null,{"$f":"IF(E24>$H$15,(0.00033*(E24-5.6)*((6.5-2.8)*(1-EXP(0.5*(6.5-9.8)))*(36.7-0.9324)*(1-EXP(0.42*(-5-0.9324)))))^2,0)","v":0.38412065322576522},{"$f":"IF(E24>$H$16,(((0.175*(E24-1.5)*SQRT(0.995-0.92)*(1-EXP(0.4395*(E24-45)))))^2)/2.3,0)","v":0.53968077858434527},{"$f":"IF(E24>$H$17,((0.1709*(E24+6.1)*SQRT(0.995-0.947)*(1-EXP(0.1723*(E24-41.2))))^2)/2.3,0)","v":0.51393813115264753},null,1.1445636748503994E-2,{"$f":"R23+Q24","v":1.976661926903454},null,{"$f":"IF(M24=0,T23,($G$15-R24)/M24)","v":7.8708032169246378},null,1.604385269503919E-2,{"$f":"W23+V24","v":0.96739693413286731},null,{"$f":"($G$16-W24)/N24","v":7.4722006524768014},null,1.5197177574143768E-2,{"$f":"AB23+AA24","v":0.96936466332157478},null,{"$f":"($G$17-AB24)/O24","v":9.788406486585929},null,{"$f":"+MIN(AG24:AI24)","v":7.4722006524768014},7.4722006524768014,7.8708032169246378,9.788406486585929,{"$f":"MIN(AG24:AH24)","v":7.4722006524768014},null,{"$f":"IF(EMCI!$F$27=\"A\",'1st milking (DO)'!AF24,IF(EMCI!$F$27=\"B\",'1st milking (DO)'!AG24,IF(EMCI!$F$27=\"S\",'1st milking (DO)'!AH24,IF(EMCI!$F$27=\"P\",'1st milking (DO)'!AI24,IF(EMCI!$F$27=\"FS\",'1st milking (DO)'!AJ24,\"error\")))))","v":7.4722006524768014}]
[{"$f":"E101","v":5.5},{"$f":"AL101","v":221.73612977797976},null,null,{"$f":"E24-0.25","v":24.5},-2.9411764705882353E-2,{"$f":"F25-F24","v":2.9411764705882353E-2},null,{"$f":"IF(E25>$H$15,(0.00033*(((E25+E24)/2)-5.6)*((6.5-2.8)*(1-EXP(0.5*(6.5-9.8)))*(36.7-0.9324)*(1-EXP(0.42*(-5-0.9324)))))^2,0)","v":0.37912238957378935},{"$f":"IF(E25>$H$16,(((0.175*(((E25+E24)/2)-1.5)*SQRT(0.995-0.92)*(1-EXP(0.4395*(((E25+E24)/2)-45)))))^2)/2.3,0)","v":0.53390114601918959},{"$f":"IF(E25>$H$17,((0.1709*(((E25+E24)/2)+6.1)*SQRT(0.995-0.947)*(1-EXP(0.1723*(((E25+E24)/2)-41.2))))^2)/2.3,0)","v":0.51113879318592725},null,0.3741568584932084,0.52815213284586449,0.50830734422334101,null,1.1150658516876157E-2,{"$f":"R24+Q25","v":1.9878125854203301},null,{"$f":"IF(M25=0,T24,($G$15-R25)/M25)","v":8.0506005601774806},null,1.5702974882917341E-2,{"$f":"W24+V25","v":0.9830999090157847},null,7.6055739268528226,null,1.5033493917233154E-2,{"$f":"AB24+AA25","v":0.98439815723880797},null,9.8672621982763005,null,7.6055739268528226,7.6055739268528226,8.0506005601774806,9.8672621982763005,7.6055739268528226,null,{"$f":"IF(EMCI!$F$27=\"A\",'1st milking (DO)'!AF25,IF(EMCI!$F$27=\"B\",'1st milking (DO)'!AG25,IF(EMCI!$F$27=\"S\",'1st milking (DO)'!AH25,IF(EMCI!$F$27=\"P\",'1st milking (DO)'!AI25,IF(EMCI!$F$27=\"FS\",'1st milking (DO)'!AJ25,\"error\")))))","v":7.6055739268528226}]
[{"$f":"E100","v":5.75},{"$f":"AL100","v":196.44448774002046},null,null,24.25,0,2.9411764705882353E-2,null,0.36922405998402202,0.52243377558375503,0.50544507521391735,null,0.36432399404623034,0.51674610850720604,0.50255324795898226,null,1.0859531176000648E-2,1.9986721165963308,null,{"$f":"IF(M26=0,T25,($G$15-R26)/M26)","v":8.2380736170311639},null,1.5365699281875148E-2,0.99846560829765985,null,7.7437146130855457,null,1.4866031623938746E-2,0.99926418886274671,null,9.9506586246267901,null,7.7437146130855457,7.7437146130855457,8.2380736170311639,9.9506586246267901,7.7437146130855457,null,{"$f":"IF(EMCI!$F$27=\"A\",'1st milking (DO)'!AF26,IF(EMCI!$F$27=\"B\",'1st milking (DO)'!AG26,IF(EMCI!$F$27=\"S\",'1st milking (DO)'!AH26,IF(EMCI!$F$27=\"P\",'1st milking (DO)'!AI26,IF(EMCI!$F$27=\"FS\",'1st milking (DO)'!AJ26,\"error\")))))","v":7.7437146130855457}]
[{"$f":"E99","v":6},{"$f":"AL99","v":175.25143436683314},null,null,24,2.9411764705882353E-2,2.9411764705882353E-2,null,0.35945666067983356,0.51108916378230074,0.49963309561793362,null,0.35462205988483136,0.50546297159537834,0.49668582321329618,null,1.0572254725877457E-2,2.0092443713222083,null,8.4336423674519363,null,1.5032034228891197E-2,1.0134976425265509,null,7.8868336188721502,null,1.4695091047586283E-2,1.013959279910333,null,10.038620969353634,null,7.8868336188721502,7.8868336188721502,8.4336423674519363,10.038620969353634,7.8868336188721502,null,{"$f":"IF(EMCI!$F$27=\"A\",'1st milking (DO)'!AF27,IF(EMCI!$F$27=\"B\",'1st milking (DO)'!AG27,IF(EMCI!$F$27=\"S\",'1st milking (DO)'!AH27,IF(EMCI!$F$27=\"P\",'1st milking (DO)'!AI27,IF(EMCI!$F$27=\"FS\",'1st milking (DO)'!AJ27,\"error\")))))","v":7.8868336188721502}]
[{"$f":"E98","v":6.25},{"$f":"AL98","v":157.31726145655267},null,null,23.75,5.8823529411764705E-2,2.9411764705882353E-2,null,0.34982019166122391,0.49986756027377982,0.49371260813449069,null,0.3450510560090112,0.49430295639929006,0.49071460063979649,null,1.0288829166506586E-2,2.019533200488715,null,8.6377559135290642,null,1.4701987066875876E-2,1.0281996295934268,null,8.0351539860065415,null,1.4520959062779138E-2,1.028480238973112,null,10.13118369525788,null,8.0351539860065415,8.0351539860065415,8.6377559135290642,10.13118369525788,8.0351539860065415,null,{"$f":"IF(EMCI!$F$27=\"A\",'1st milking (DO)'!AF28,IF(EMCI!$F$27=\"B\",'1st milking (DO)'!AG28,IF(EMCI!$F$27=\"S\",'1st milking (DO)'!AH28,IF(EMCI!$F$27=\"P\",'1st milking (DO)'!AI28,IF(EMCI!$F$27=\"FS\",'1st milking (DO)'!AJ28,\"error\")))))","v":8.0351539860065415}]
[{"$f":"E97","v":6.5},{"$f":"AL97","v":142.00678934760461},null,null,23.5,8.8235294117647065E-2,2.9411764705882359E-2,null,0.34031465292819335,0.48876918491471738,0.48769292435601752,null,0.33561098241877019,0.48326626922401766,0.48464867677541063,null,1.0009254497888042E-2,2.0295424549866032,null,8.8508949367661209,null,1.4375564262197573E-2,1.0425751938556245,null,8.1889116997526568,null,1.4343909539882871E-2,1.042824148512995,null,10.228390355812717,null,8.1889116997526568,8.1889116997526568,8.8508949367661209,10.228390355812717,8.1889116997526568,null,{"$f":"IF(EMCI!$F$27=\"A\",'1st milking (DO)'!AF29,IF(EMCI!$F$27=\"B\",'1st milking (DO)'!AG29,IF(EMCI!$F$27=\"S\",'1st milking (DO)'!AH29,IF(EMCI!$F$27=\"P\",'1st milking (DO)'!AI29,IF(EMCI!$F$27=\"FS\",'1st milking (DO)'!AJ29,\"error\")))))","v":8.1889116997526568}]
[{"$f":"E96","v":6.75},{"$f":"AL96","v":128.83237329818002},null,null,23.25,0.11764705882352941,2.9411764705882346E-2,null,0.33094004448074166,0.47779423128635318,0.48158292974945738,null,0.32630183911410787,0.47235309170445311,0.47849672997910669,null,9.7335307200218102E-3,2.0392759857066252,null,9.0735744007192327,null,1.4052771508422148E-2,1.0566279653640467,null,8.3483565660734236,null,1.4164203816160507E-2,1.0569883523291554,null,10.33029347533196,null,8.3483565660734236,8.3483565660734236,9.0735744007192327,10.33029347533196,8.3483565660734236,null,{"$f":"IF(EMCI!$F$27=\"A\",'1st milking (DO)'!AF30,IF(EMCI!$F$27=\"B\",'1st milking (DO)'!AG30,IF(EMCI!$F$27=\"S\",'1st milking (DO)'!AH30,IF(EMCI!$F$27=\"P\",'1st milking (DO)'!AI30,IF(EMCI!$F$27=\"FS\",'1st milking (DO)'!AJ30,\"error\")))))","v":8.3483565660734236}]
[{"$f":"E95","v":7},{"$f":"AL95","v":117.41461337375748},null,null,23,0.14705882352941177,2.9411764705882359E-2,null,0.32169636631886883,0.46694286980761318,0.47539109950113373,null,0.31712362609502465,0.46156358372966211,0.47226703617030219,null,9.4616578329079094E-3,2.0487376435395332,null,9.306346527382777,null,1.373361381787098E-2,1.0703615791819177,null,8.5137531628137992,null,1.3982091161798054E-2,1.0709704434909535,null,10.436954474907731,null,8.5137531628137992,8.5137531628137992,9.306346527382777,10.436954474907731,8.5137531628137992,null,{"$f":"IF(EMCI!$F$27=\"A\",'1st milking (DO)'!AF31,IF(EMCI!$F$27=\"B\",'1st milking (DO)'!AG31,IF(EMCI!$F$27=\"S\",'1st milking (DO)'!AH31,IF(EMCI!$F$27=\"P\",'1st milking (DO)'!AI31,IF(EMCI!$F$27=\"FS\",'1st milking (DO)'!AJ31,\"error\")))))","v":8.5137531628137992}]
[{"$f":"E94","v":7.25},{"$f":"AL94","v":107.45475106957014},null,null,22.75,0.17647058823529413,2.9411764705882359E-2,null,0.31258361844257504,0.45621525048219264,0.46912551413703624,null,0.30807634336152034,0.45089788602334746,0.46596748432033663,null,9.1936358365463274E-3,2.0579312793760796,null,9.549804079476079,null,1.3418095602417433E-2,1.0837796747843351,null,8.6853818716126856,null,1.3797809239324598E-2,1.084768252730278,null,10.54844364181143,null,8.6853818716126856,8.6853818716126856,9.549804079476079,10.54844364181143,8.6853818716126856,null,{"$f":"IF(EMCI!$F$27=\"A\",'1st milking (DO)'!AF32,IF(EMCI!$F$27=\"B\",'1st milking (DO)'!AG32,IF(EMCI!$F$27=\"S\",'1st milking (DO)'!AH32,IF(EMCI!$F$27=\"P\",'1st milking (DO)'!AI32,IF(EMCI!$F$27=\"FS\",'1st milking (DO)'!AJ32,\"error\")))))","v":8.6853818716126856}]
[{"$f":"E93","v":7.5},{"$f":"AL93","v":98.714942336293859},null,null,22.5,0.20588235294117646,2.9411764705882332E-2,null,0.30360180085186023,0.44561150532242505,0.46279387487570417,null,0.29915999091359485,0.44035612242055694,0.45960559165784953,null,8.9294647309370589E-3,2.0668607441070166,null,9.8045839850962881,null,1.3106220744777198E-2,1.0968858955291123,null,8.8635399980728877,null,1.361158455516776E-2,1.0983798372854459,null,10.664840140507982,null,8.8635399980728877,8.8635399980728877,9.8045839850962881,10.664840140507982,8.8635399980728877,null,{"$f":"IF(EMCI!$F$27=\"A\",'1st milking (DO)'!AF33,IF(EMCI!$F$27=\"B\",'1st milking (DO)'!AG33,IF(EMCI!$F$27=\"S\",'1st milking (DO)'!AH33,IF(EMCI!$F$27=\"P\",'1st milking (DO)'!AI33,IF(EMCI!$F$27=\"FS\",'1st milking (DO)'!AJ33,\"error\")))))","v":8.8635399980728877}]
[{"$f":"E92","v":7.75},{"$f":"AL92","v":91.003939385842813},null,null,22.25,0.23529411764705882,2.9411764705882359E-2,null,0.29475091354672428,0.43513175048769465,0.45640351867799828,null,0.2903745687512484,0.42993840187612925,0.45318851855561076,null,8.6691445160801284E-3,2.0755298886230968,null,10.071371346166933,null,1.2797992661402786E-2,1.1096838881905151,null,9.0485429885612643,null,1.3423632902294071E-2,1.11180347018774,null,10.786232063847907,null,9.0485429885612643,9.0485429885612643,10.071371346166933,10.786232063847907,9.0485429885612643,null,{"$f":"IF(EMCI!$F$27=\"A\",'1st milking (DO)'!AF34,IF(EMCI!$F$27=\"B\",'1st milking (DO)'!AG34,IF(EMCI!$F$27=\"S\",'1st milking (DO)'!AH34,IF(EMCI!$F$27=\"P\",'1st milking (DO)'!AI34,IF(EMCI!$F$27=\"FS\",'1st milking (DO)'!AJ34,\"error\")))))","v":9.0485429885612643}]
[{"$f":"E91","v":8},{"$f":"AL91","v":84.166550505709964},null,null,22,0.26470588235294118,2.9411764705882359E-2,null,0.28603095652716731,0.42477608817075047,0.44996143296436864,null,0.28172007687448086,0.41964482023624622,0.44672308307228259,null,8.4126751919755115E-3,2.0839425638150724,null,10.350903877838157,null,1.2493414357963252E-2,1.1221773025484785,null,9.2407257529556421,null,1.323415979306967E-2,1.1250376299808096,null,10.912716523382318,null,9.2407257529556421,9.2407257529556421,10.350903877838157,10.912716523382318,9.2407257529556421,null,{"$f":"IF(EMCI!$F$27=\"A\",'1st milking (DO)'!AF35,IF(EMCI!$F$27=\"B\",'1st milking (DO)'!AG35,IF(EMCI!$F$27=\"S\",'1st milking (DO)'!AH35,IF(EMCI!$F$27=\"P\",'1st milking (DO)'!AI35,IF(EMCI!$F$27=\"FS\",'1st milking (DO)'!AJ35,\"error\")))))","v":9.2407257529556421}]
[{"$f":"E90","v":8.25},{"$f":"AL90","v":78.07578010817258},null,null,21.75,0.29411764705882354,2.9411764705882359E-2,null,0.27744192979318916,0.41454460826142248,0.44347426997580658,null,0.2731965152832922,0.40947546180082306,0.44021577512785104,null,8.1600567586232117E-3,2.0921026205736957,null,10.643976832614241,null,1.2192488478277135E-2,1.1343697910267556,null,9.4404441037142366,null,1.3043360881641373E-2,1.138080990862451,null,11.044399778098617,null,9.4404441037142366,9.4404441037142366,10.643976832614241,11.044399778098617,9.4404441037142366,null,{"$f":"IF(EMCI!$F$27=\"A\",'1st milking (DO)'!AF36,IF(EMCI!$F$27=\"B\",'1st milking (DO)'!AG36,IF(EMCI!$F$27=\"S\",'1st milking (DO)'!AH36,IF(EMCI!$F$27=\"P\",'1st milking (DO)'!AI36,IF(EMCI!$F$27=\"FS\",'1st milking (DO)'!AJ36,\"error\")))))","v":9.4404441037142366}]
[{"$f":"E89","v":8.5},{"$f":"AL89","v":72.626897480405333},null,null,21.5,0.3235294117647059,2.9411764705882359E-2,null,0.26898383334479004,0.40443738981380772,0.43694836075960397,null,0.26480388397768267,0.39943040070124541,0.43367277029608786,null,7.9112892160232377E-3,2.1000139097897188,null,10.951448470652675,null,1.1895217347464935E-2,1.1462650083742205,null,9.6480763228339903,null,1.2851422375282473E-2,1.1509324132377334,null,11.181397401205501,null,9.6480763228339903,9.6480763228339903,10.951448470652675,11.181397401205501,9.6480763228339903,null,{"$f":"IF(EMCI!$F$27=\"A\",'1st milking (DO)'!AF37,IF(EMCI!$F$27=\"B\",'1st milking (DO)'!AG37,IF(EMCI!$F$27=\"S\",'1st milking (DO)'!AH37,IF(EMCI!$F$27=\"P\",'1st milking (DO)'!AI37,IF(EMCI!$F$27=\"FS\",'1st milking (DO)'!AJ37,\"error\")))))","v":9.6480763228339903}]
[{"$f":"E88","v":8.75},{"$f":"AL88","v":67.732911722151059},null,null,21.25,0.35294117647058826,2.9411764705882359E-2,null,0.26065666718196989,0.39445450233996598,0.43038972876538417,null,0.25654218295765185,0.3895097021151066,0.42709994320147926,null,7.6663725641755867E-3,2.1076802823538943,null,11.274246146582254,null,1.1601603009999002E-2,1.1578666113842195,null,9.8640248696048296,null,1.2658521434276008E-2,1.1635909346720095,null,11.323834484909948,null,9.8640248696048296,9.8640248696048296,11.274246146582254,11.323834484909948,9.8640248696048296,null,{"$f":"IF(EMCI!$F$27=\"A\",'1st milking (DO)'!AF38,IF(EMCI!$F$27=\"B\",'1st milking (DO)'!AG38,IF(EMCI!$F$27=\"S\",'1st milking (DO)'!AH38,IF(EMCI!$F$27=\"P\",'1st milking (DO)'!AI38,IF(EMCI!$F$27=\"FS\",'1st milking (DO)'!AJ38,\"error\")))))","v":9.8640248696048296}]
[{"$f":"E87","v":9},{"$f":"AL87","v":63.321084378766542},null,null,21,0.38235294117647056,2.9411764705882304E-2,null,0.25246043130472862,0.38459600695047985,0.42380410304068805,null,0.24841141222320007,0.37971342333708369,0.42050288051163104,null,7.4253068030802408E-3,2.1151055891569746,null,11.613373093547409,null,1.1311647263249389E-2,1.1691782586474688,null,10.088718243578629,null,1.2464826560020216E-2,1.1760557612320297,null,11.471845883430376,null,10.088718243578629,10.088718243578629,11.613373093547409,11.471845883430376,10.088718243578629,null,{"$f":"IF(EMCI!$F$27=\"A\",'1st milking (DO)'!AF39,IF(EMCI!$F$27=\"B\",'1st milking (DO)'!AG39,IF(EMCI!$F$27=\"S\",'1st milking (DO)'!AH39,IF(EMCI!$F$27=\"P\",'1st milking (DO)'!AI39,IF(EMCI!$F$27=\"FS\",'1st milking (DO)'!AJ39,\"error\")))))","v":10.088718243578629}]
[{"$f":"E86","v":9.25},{"$f":"AL86","v":59.330216457152531},null,null,20.75,0.41176470588235292,2.9411764705882359E-2,null,0.24439512571306626,0.37486195735986705,0.41719693101874022,null,0.24041157177432726,0.37004161472285402,0.41388689351929048,null,7.1880919327372448E-3,2.1222936810897117,null,11.969915997269766,null,1.1025351687054916E-2,1.1802036103345237,null,10.322613018879908,null,1.2270497971139421E-2,1.1883262592031691,null,11.625576494783514,null,10.322613018879908,10.322613018879908,11.969915997269766,11.625576494783514,10.322613018879908,null,{"$f":"IF(EMCI!$F$27=\"A\",'1st milking (DO)'!AF40,IF(EMCI!$F$27=\"B\",'1st milking (DO)'!AG40,IF(EMCI!$F$27=\"S\",'1st milking (DO)'!AH40,IF(EMCI!$F$27=\"P\",'1st milking (DO)'!AI40,IF(EMCI!$F$27=\"FS\",'1st milking (DO)'!AJ40,\"error\")))))","v":10.322613018879908}]
[{"$f":"E85","v":9.5},{"$f":"AL85","v":55.708519362225459},null,null,20.5,0.44117647058823528,2.9411764705882359E-2,null,0.23646075040698289,0.3652524007727313,0.41057339089394834,null,0.23254266161103329,0.3604943205209864,0.40725703031084975,null,6.9547279531465573E-3,2.1292484090428583,null,12.345053467044927,null,1.0742717669786217E-2,1.19094632800431,null,10.566196067918201,null,1.2075687967469072E-2,1.2004019471706382,null,11.785181582171685,null,10.566196067918201,10.566196067918201,12.345053467044927,11.785181582171685,10.566196067918201,null,{"$f":"IF(EMCI!$F$27=\"A\",'1st milking (DO)'!AF41,IF(EMCI!$F$27=\"B\",'1st milking (DO)'!AG41,IF(EMCI!$F$27=\"S\",'1st milking (DO)'!AH41,IF(EMCI!$F$27=\"P\",'1st milking (DO)'!AI41,IF(EMCI!$F$27=\"FS\",'1st milking (DO)'!AJ41,\"error\")))))","v":10.566196067918201}]
[{"$f":"E84","v":9.75},{"$f":"AL84","v":52.411930416455121},null,null,20.25,0.47058823529411764,2.9411764705882359E-2,null,0.22865730538647838,0.35576737866468883,0.40393840358322086,null,0.22480468173331827,0.35107157960599633,0.40061808752055805,null,6.7252148643081894E-3,2.1359736239071663,null,12.740065527151149,null,1.046374643131438E-2,1.2014100744356244,null,10.819986994753293,null,1.188054128185944E-2,1.2122824884524976,null,11.950827136085852,null,10.819986994753293,10.819986994753293,12.740065527151149,11.950827136085852,10.819986994753293,null,{"$f":"IF(EMCI!$F$27=\"A\",'1st milking (DO)'!AF42,IF(EMCI!$F$27=\"B\",'1st milking (DO)'!AG42,IF(EMCI!$F$27=\"S\",'1st milking (DO)'!AH42,IF(EMCI!$F$27=\"P\",'1st milking (DO)'!AI42,IF(EMCI!$F$27=\"FS\",'1st milking (DO)'!AJ42,\"error\")))))","v":10.819986994753293}]
[{"$f":"E83","v":10},{"$f":"AL83","v":49.40276994448633},null,null,20,0.5,2.9411764705882359E-2,null,0.22098479065155283,0.34640692747046126,0.39729664427340144,null,0.21719763214118218,0.34177342612421274,0.39397462167172831,null,6.499552666222143E-3,2.1424731765733882,null,13.156344271604077,null,1.0188439043248863E-2,1.2115985134788734,null,11.084540800852919,null,1.1685195419805927E-2,1.2239676838723035,null,12.122690278530763,null,11.084540800852919,11.084540800852919,13.156344271604077,12.122690278530763,11.084540800852919,null,{"$f":"IF(EMCI!$F$27=\"A\",'1st milking (DO)'!AF43,IF(EMCI!$F$27=\"B\",'1st milking (DO)'!AG43,IF(EMCI!$F$27=\"S\",'1st milking (DO)'!AH43,IF(EMCI!$F$27=\"P\",'1st milking (DO)'!AI43,IF(EMCI!$F$27=\"FS\",'1st milking (DO)'!AJ43,\"error\")))))","v":11.084540800852919}]
[{"$f":"E82","v":10.25},{"$f":"AL82","v":46.64866300223062},null,null,19.75,0.52941176470588236,2.9411764705882359E-2,null,0.21344320620220619,0.33717107919008338,0.39065255355701073,null,0.20972151283462506,0.33259989006274093,0.38733096010797519,null,6.2777413588884189E-3,2.1487509179322766,null,13.595405848116606,null,9.91679644676716E-3,1.2215153099256406,null,11.360450808812937,null,1.1489780986970906E-2,1.2354574648592744,null,12.300959711076354,null,11.360450808812937,11.360450808812937,13.595405848116606,12.300959711076354,11.360450808812937,null,{"$f":"IF(EMCI!$F$27=\"A\",'1st milking (DO)'!AF44,IF(EMCI!$F$27=\"B\",'1st milking (DO)'!AG44,IF(EMCI!$F$27=\"S\",'1st milking (DO)'!AH44,IF(EMCI!$F$27=\"P\",'1st milking (DO)'!AI44,IF(EMCI!$F$27=\"FS\",'1st milking (DO)'!AJ44,\"error\")))))","v":11.360450808812937}]
[{"$f":"E81","v":10.5},{"$f":"AL81","v":44.121667782949977},null,null,19.5,0.55882352941176472,2.9411764705882359E-2,null,0.20603255203843862,0.32805986192289105,0.38401034816011931,null,0.20237632381364684,0.3235509977506032,0.38069121151903063,null,6.0597809423070196E-3,2.1548106988745834,null,14.058903964207481,null,9.6488194683203264E-3,1.231164129393961,null,11.648351872835518,null,1.1294422004709394E-2,1.2467518868639837,null,12.485836208746845,null,11.648351872835518,11.648351872835518,14.058903964207481,12.485836208746845,11.648351872835518,null,{"$f":"IF(EMCI!$F$27=\"A\",'1st milking (DO)'!AF45,IF(EMCI!$F$27=\"B\",'1st milking (DO)'!AG45,IF(EMCI!$F$27=\"S\",'1st milking (DO)'!AH45,IF(EMCI!$F$27=\"P\",'1st milking (DO)'!AI45,IF(EMCI!$F$27=\"FS\",'1st milking (DO)'!AJ45,\"error\")))))","v":11.648351872835518}]
[{"$f":"E80","v":10.75},{"$f":"AL80","v":41.797566635642944},null,null,19.25,0.58823529411764708,2.9411764705882359E-2,null,0.19875282816024986,0.31907330033781717,0.37737403126756752,null,0.19516206507824754,0.31462677230007507,0.37405927606696332,null,5.8456714164779383E-3,2.1606563702910613,null,14.548645140491535,null,9.3845088334652133E-3,1.2405486382274262,null,11.948923908442858,null,1.1099236213751989E-2,1.2578511230777358,null,12.677533162079195,null,11.948923908442858,11.948923908442858,14.548645140491535,12.677533162079195,11.948923908442858,null,{"$f":"IF(EMCI!$F$27=\"A\",'1st milking (DO)'!AF46,IF(EMCI!$F$27=\"B\",'1st milking (DO)'!AG46,IF(EMCI!$F$27=\"S\",'1st milking (DO)'!AH46,IF(EMCI!$F$27=\"P\",'1st milking (DO)'!AI46,IF(EMCI!$F$27=\"FS\",'1st milking (DO)'!AJ46,\"error\")))))","v":11.948923908442858}]
[{"$f":"E79","v":11},{"$f":"AL79","v":39.655285925297896},null,null,19,0.61764705882352944,2.9411764705882359E-2,null,0.19160403456764008,0.310211416087533,0.37074740245191135,null,0.18807873662842725,0.30582723399529022,0.36743885511970198,null,5.6354127814011801E-3,2.1662917830724626,null,15.066605974315308,null,9.1238651790450896E-3,1.2496725034064713,null,12.262895778115313,null,1.0904335366232689E-2,1.2687554584439684,null,12.876277170019799,null,12.262895778115313,12.262895778115313,15.066605974315308,12.876277170019799,12.262895778115313,null,{"$f":"IF(EMCI!$F$27=\"A\",'1st milking (DO)'!AF47,IF(EMCI!$F$27=\"B\",'1st milking (DO)'!AG47,IF(EMCI!$F$27=\"S\",'1st milking (DO)'!AH47,IF(EMCI!$F$27=\"P\",'1st milking (DO)'!AI47,IF(EMCI!$F$27=\"FS\",'1st milking (DO)'!AJ47,\"error\")))))","v":12.262895778115313}]
[{"$f":"E78","v":11.25},{"$f":"AL78","v":37.676418654452412},null,null,18.75,0.6470588235294118,2.9411764705882359E-2,null,0.18458617126060919,0.30147422817308023,0.36413406721347463,null,0.18112633846418588,0.29715240063436432,0.36083346059966087,null,5.4290050370767425E-3,2.1717207881095395,null,15.614952722349081,null,8.8668890639141268E-3,1.2585393924703854,null,12.59104957436757,null,1.0709825506278668E-2,1.2794652839502472,null,13.082308686685552,null,12.59104957436757,12.59104957436757,15.614952722349081,13.082308686685552,12.59104957436757,null,{"$f":"IF(EMCI!$F$27=\"A\",'1st milking (DO)'!AF48,IF(EMCI!$F$27=\"B\",'1st milking (DO)'!AG48,IF(EMCI!$F$27=\"S\",'1st milking (DO)'!AH48,IF(EMCI!$F$27=\"P\",'1st milking (DO)'!AI48,IF(EMCI!$F$27=\"FS\",'1st milking (DO)'!AJ48,\"error\")))))","v":12.59104957436757}]
[{"$f":"E77","v":11.5},{"$f":"AL77","v":35.844829557855235},null,null,18.5,0.67647058823529416,2.9411764705882359E-2,null,0.17769923823915723,0.29286175326486019,0.35753744613968486,null,0.17430487058552344,0.28860228783054476,0.35424642395600209,null,5.2264481835046254E-3,2.176947236293044,null,16.196063565084447,null,8.6135809783782422E-3,1.2671529734487637,null,12.934225347316056,null,1.0515807239402498E-2,1.2899810911896497,null,13.295882725397226,null,12.934225347316056,12.934225347316056,16.196063565084447,13.295882725397226,12.934225347316056,null,{"$f":"IF(EMCI!$F$27=\"A\",'1st milking (DO)'!AF49,IF(EMCI!$F$27=\"B\",'1st milking (DO)'!AG49,IF(EMCI!$F$27=\"S\",'1st milking (DO)'!AH49,IF(EMCI!$F$27=\"P\",'1st milking (DO)'!AI49,IF(EMCI!$F$27=\"FS\",'1st milking (DO)'!AJ49,\"error\")))))","v":12.934225347316056}]
[{"$f":"E76","v":11.75},{"$f":"AL76","v":34.146326779482976},null,null,18.25,0.70588235294117652,2.9411764705882359E-2,null,0.17094323550328427,0.28437400598515961,0.3509607836925473,null,0.16761433299243989,0.28017690927725214,0.34768090476967001,null,5.0277422206848324E-3,2.181974978513729,null,16.812553981367309,null,8.3639413525046953E-3,1.2755169148012684,null,13.293326330162094,null,1.0322375990957276E-2,1.3003034671806069,null,13.517269623802969,null,13.293326330162094,13.293326330162094,16.812553981367309,13.517269623802969,13.293326330162094,null,{"$f":"IF(EMCI!$F$27=\"A\",'1st milking (DO)'!AF50,IF(EMCI!$F$27=\"B\",'1st milking (DO)'!AG50,IF(EMCI!$F$27=\"S\",'1st milking (DO)'!AH50,IF(EMCI!$F$27=\"P\",'1st milking (DO)'!AI50,IF(EMCI!$F$27=\"FS\",'1st milking (DO)'!AJ50,\"error\")))))","v":13.293326330162094}]
[{"$f":"E75","v":12},{"$f":"AL75","v":32.568387604521391},null,null,18,0.73529411764705888,2.9411764705882359E-2,null,0.16431816305299018,0.27601099915677957,0.34440715663364052,null,0.16105472568493526,0.27187627698130323,0.34113989900079827,null,4.8328871486173599E-3,2.1868078656623462,null,17.467305739547104,null,8.1179705634346951E-3,1.283634885364703,null,13.669324723358887,null,1.0129622253930605E-2,1.3104330894345375,null,13.746755874353145,null,13.669324723358887,13.669324723358887,17.467305739547104,13.746755874353145,13.669324723358887,null,{"$f":"IF(EMCI!$F$27=\"A\",'1st milking (DO)'!AF51,IF(EMCI!$F$27=\"B\",'1st milking (DO)'!AG51,IF(EMCI!$F$27=\"S\",'1st milking (DO)'!AH51,IF(EMCI!$F$27=\"P\",'1st milking (DO)'!AI51,IF(EMCI!$F$27=\"FS\",'1st milking (DO)'!AJ51,\"error\")))))","v":13.669324723358887}]
[{"$f":"E74","v":12.25},{"$f":"AL74","v":31.099928309519459},null,null,17.75,0.76470588235294112,2.9411764705882248E-2,null,0.15782402088827502,0.26777274402179801,0.33787948209643159,null,0.15462604866300958,0.26370040146810086,0.33462624688846243,null,4.6418829673021897E-3,2.1914497486296485,null,18.163500106578272,null,7.8756689418175603E-3,1.2915105543065206,null,14.063268106711948,null,9.9376318263655998E-3,1.320370721260903,null,13.984645024868328,null,13.984645024868328,14.063268106711948,18.163500106578272,13.984645024868328,14.063268106711948,null,{"$f":"IF(EMCI!$F$27=\"A\",'1st milking (DO)'!AF52,IF(EMCI!$F$27=\"B\",'1st milking (DO)'!AG52,IF(EMCI!$F$27=\"S\",'1st milking (DO)'!AH52,IF(EMCI!$F$27=\"P\",'1st milking (DO)'!AI52,IF(EMCI!$F$27=\"FS\",'1st milking (DO)'!AJ52,\"error\")))))","v":14.063268106711948}]
[{"$f":"E73","v":12.5},{"$f":"AL73","v":29.731110202668216},null,null,17.5,0.79411764705882348,{"$f":"F53-F52","v":2.9411764705882359E-2},null,0.15146080900913889,0.25965925043401999,0.3313805253160243,null,0.14832830192666285,0.2556492919621271,0.3281426405130104,null,4.45472967673938E-3,2.1959044783063879,null,18.904655991275526,null,7.6370367774711784E-3,1.2991475910839918,null,14.476286558478977,null,9.7464860387065991E-3,1.3301172072996097,null,14.23125865446687,null,14.23125865446687,14.476286558478977,18.904655991275526,14.23125865446687,14.476286558478977,null,{"$f":"IF(EMCI!$F$27=\"A\",'1st milking (DO)'!AF53,IF(EMCI!$F$27=\"B\",'1st milking (DO)'!AG53,IF(EMCI!$F$27=\"S\",'1st milking (DO)'!AH53,IF(EMCI!$F$27=\"P\",'1st milking (DO)'!AI53,IF(EMCI!$F$27=\"FS\",'1st milking (DO)'!AJ53,\"error\")))))","v":14.476286558478977}]
[{"$f":"E72","v":12.75},{"$f":"AL72","v":28.453175493640583},null,null,{"$f":"E53-0.25","v":17.25},0.82352941176470584,2.9411764705882359E-2,null,0.14522852741558157,0.25167052702825038,0.32491290702667763,null,0.14216148547589508,0.2477229565456873,0.32169163103138926,null,4.2714272769288708E-3,{"$f":"R53+Q54","v":2.200175905583317},null,19.694673877696793,null,7.4020743243603066E-3,{"$f":"W53+V54","v":1.3065496654083522},null,14.909600571921436,null,9.5562619713728744E-3,{"$f":"AB53+AA54","v":1.3396734692709826},null,14.486937430692077,null,14.486937430692077,14.909600571921436,19.694673877696793,14.486937430692077,14.909600571921436,null,{"$f":"IF(EMCI!$F$27=\"A\",'1st milking (DO)'!AF54,IF(EMCI!$F$27=\"B\",'1st milking (DO)'!AG54,IF(EMCI!$F$27=\"S\",'1st milking (DO)'!AH54,IF(EMCI!$F$27=\"P\",'1st milking (DO)'!AI54,IF(EMCI!$F$27=\"FS\",'1st milking (DO)'!AJ54,\"error\")))))","v":14.909600571921436}]
[{"$f":"E71","v":13},{"$f":"AL71","v":27.258307862978423},null,null,17,0.8529411764705882,2.9411764705882359E-2,null,0.13912717610760325,0.24380658136915562,0.31847911053757483,null,0.1361255993107062,0.23992140229849684,0.31527563559599631,null,{"$f":"G55*I55","v":4.0919757678706849E-3},2.2042678813511878,null,20.537886575379282,null,{"$f":"G55*J55","v":7.1707818049751666E-3},{"$f":"W54+V55","v":1.3137204472133273},null,15.364529872997363,null,{"$f":"G55*K55","v":9.3670326628698501E-3},{"$f":"AB54+AA55","v":1.3490405019338525},null,14.75204225430863,null,14.75204225430863,{"$f":"Y55","v":15.364529872997363},{"$f":"T55","v":20.537886575379282},{"$f":"AD55","v":14.75204225430863},15.364529872997363,null,{"$f":"IF(EMCI!$F$27=\"A\",'1st milking (DO)'!AF55,IF(EMCI!$F$27=\"B\",'1st milking (DO)'!AG55,IF(EMCI!$F$27=\"S\",'1st milking (DO)'!AH55,IF(EMCI!$F$27=\"P\",'1st milking (DO)'!AI55,IF(EMCI!$F$27=\"FS\",'1st milking (DO)'!AJ55,\"error\")))))","v":15.364529872997363}]
[{"$f":"E70","v":13.25},{"$f":"AL70","v":26.139513572618629},null,null,16.75,0.88235294117647056,2.9411764705882359E-2,null,0.13315675508520389,0.23606742008214923,0.31208148849739786,null,0.13022064343109627,0.23224463542040302,0.30889694396762363,null,3.9163751495648212E-3,2.2081842565007528,null,21.439118022608163,null,6.9431594141808614E-3,1.3206636066275081,null,15.842503258308877,null,9.1788673087469987E-3,1.3582193692425995,null,15.026955498931446,null,15.026955498931446,15.842503258308877,21.439118022608163,15.026955498931446,15.842503258308877,null,{"$f":"IF(EMCI!$F$27=\"A\",'1st milking (DO)'!AF56,IF(EMCI!$F$27=\"B\",'1st milking (DO)'!AG56,IF(EMCI!$F$27=\"S\",'1st milking (DO)'!AH56,IF(EMCI!$F$27=\"P\",'1st milking (DO)'!AI56,IF(EMCI!$F$27=\"FS\",'1st milking (DO)'!AJ56,\"error\")))))","v":15.842503258308877}]
[{"$f":"E69","v":13.5},{"$f":"AL69","v":25.090519730511996},null,null,16.5,0.91176470588235292,2.9411764705882359E-2,null,0.12731726434838342,0.2284530489684527,0.30572226935828517,null,0.12444661783706529,0.22469266133925783,0.30255772483306026,null,3.744625422011278E-3,2.211928881922764,null,22.403751636927449,null,6.7192073226015519E-3,1.3273828139501096,null,16.345069590433564,null,8.9918314517142724E-3,1.3672112006943138,null,15.312082353414976,null,15.312082353414976,16.345069590433564,22.403751636927449,15.312082353414976,16.345069590433564,null,{"$f":"IF(EMCI!$F$27=\"A\",'1st milking (DO)'!AF57,IF(EMCI!$F$27=\"B\",'1st milking (DO)'!AG57,IF(EMCI!$F$27=\"S\",'1st milking (DO)'!AH57,IF(EMCI!$F$27=\"P\",'1st milking (DO)'!AI57,IF(EMCI!$F$27=\"FS\",'1st milking (DO)'!AJ57,\"error\")))))","v":16.345069590433564}]
[{"$f":"E68","v":13.75},{"$f":"AL68","v":24.105686937884119},null,null,16.25,0.94117647058823528,2.9411764705882359E-2,null,0.12160870389714186,0.22096347310622474,0.29940356354970438,null,0.11880352252861325,0.21726548480572058,0.2962600318378536,null,3.5767265852100555E-3,2.2155056085079741,null,23.437810026393738,null,6.4989256795948466E-3,1.3338817396297045,null,16.873910108863122,null,8.8059871632266019E-3,1.3760171878575405,null,15.607852275777844,null,15.607852275777844,16.873910108863122,23.437810026393738,15.607852275777844,16.873910108863122,null,{"$f":"IF(EMCI!$F$27=\"A\",'1st milking (DO)'!AF58,IF(EMCI!$F$27=\"B\",'1st milking (DO)'!AG58,IF(EMCI!$F$27=\"S\",'1st milking (DO)'!AH58,IF(EMCI!$F$27=\"P\",'1st milking (DO)'!AI58,IF(EMCI!$F$27=\"FS\",'1st milking (DO)'!AJ58,\"error\")))))","v":16.873910108863122}]
[{"$f":"E67","v":14},{"$f":"AL67","v":23.179934041433135},null,null,16,0.97058823529411764,2.9411764705882359E-2,null,0.11603107373147929,0.21359869693942879,0.29312736937270262,null,0.11329135750574011,0.2099631099765577,0.29000580934463277,null,3.4126786391611564E-3,2.2189182871471353,null,24.548048272013656,null,6.2823146158655536E-3,1.3401640542455699,null,17.430852239534122,null,8.6213932168441969E-3,1.3846385810743846,null,15.914720568376204,null,15.914720568376204,17.430852239534122,24.548048272013656,15.914720568376204,17.430852239534122,null,{"$f":"IF(EMCI!$F$27=\"A\",'1st milking (DO)'!AF59,IF(EMCI!$F$27=\"B\",'1st milking (DO)'!AG59,IF(EMCI!$F$27=\"S\",'1st milking (DO)'!AH59,IF(EMCI!$F$27=\"P\",'1st milking (DO)'!AI59,IF(EMCI!$F$27=\"FS\",'1st milking (DO)'!AJ59,\"error\")))))","v":17.430852239534122}]
[{"$f":"E66","v":14.25},{"$f":"AL66","v":22.308673110667023},null,null,15.75,1,2.9411764705882359E-2,null,0.11058437385139566,0.20635872435590988,0.2868955786248723,null,0.1079101227684459,0.2027855404878211,0.28379689792726498,null,3.2524815838645789E-3,2.2221707687309999,null,25.742063487682991,null,6.0693742457620563E-3,1.346233428491332,null,18.017885115078538,null,8.4381052536727161E-3,1.3930766863280573,null,16.233170085081984,null,16.233170085081984,18.017885115078538,25.742063487682991,16.233170085081984,18.017885115078538,null,{"$f":"IF(EMCI!$F$27=\"A\",'1st milking (DO)'!AF60,IF(EMCI!$F$27=\"B\",'1st milking (DO)'!AG60,IF(EMCI!$F$27=\"S\",'1st milking (DO)'!AH60,IF(EMCI!$F$27=\"P\",'1st milking (DO)'!AI60,IF(EMCI!$F$27=\"FS\",'1st milking (DO)'!AJ60,\"error\")))))","v":18.017885115078538}]
[{"$f":"E65","v":14.5},{"$f":"AL65","v":21.487753082728414},null,null,15.5,1.0294117647058822,2.9411764705882248E-2,null,0.10526860425689091,0.19924355875597805,0.28070998196622399,null,0.10265981831673063,0.19573277951912119,0.27763503961094887,null,3.0961354193203101E-3,2.2252669041503204,null,27.028423986578176,null,5.8601046692934511E-3,1.3520935331606254,null,18.637177052313866,null,8.2561759401830297E-3,1.4013328622682404,null,16.563713082382865,null,16.563713082382865,18.637177052313866,27.028423986578176,16.563713082382865,18.637177052313866,null,{"$f":"IF(EMCI!$F$27=\"A\",'1st milking (DO)'!AF61,IF(EMCI!$F$27=\"B\",'1st milking (DO)'!AG61,IF(EMCI!$F$27=\"S\",'1st milking (DO)'!AH61,IF(EMCI!$F$27=\"P\",'1st milking (DO)'!AI61,IF(EMCI!$F$27=\"FS\",'1st milking (DO)'!AJ61,\"error\")))))","v":18.637177052313866}]
[{"$f":"E64","v":14.75},{"$f":"AL64","v":20.713410779006747},null,null,15.25,1.0588235294117647,2.941176470588247E-2,null,0.1000837649479651,0.19225320311263966,0.27457227403597939,null,9.7540444150594319E-2,0.18880482985006727,0.27152188286816148,null,2.943640145528397E-3,2.2282105442958486,null,28.416822168912205,null,5.6545059739011886E-3,1.3577480391345267,null,19.291095274193143,null,8.0756551187053088E-3,1.4094085173869457,null,16.906893227615228,null,16.906893227615228,19.291095274193143,28.416822168912205,16.906893227615228,19.291095274193143,null,{"$f":"IF(EMCI!$F$27=\"A\",'1st milking (DO)'!AF62,IF(EMCI!$F$27=\"B\",'1st milking (DO)'!AG62,IF(EMCI!$F$27=\"S\",'1st milking (DO)'!AH62,IF(EMCI!$F$27=\"P\",'1st milking (DO)'!AI62,IF(EMCI!$F$27=\"FS\",'1st milking (DO)'!AJ62,\"error\")))))","v":19.291095274193143}]
[{"$f":"E63","v":15},{"$f":"AL63","v":19.982228211741116},null,null,15,1.088235294117647,2.9411764705882248E-2,null,9.5029855924618267E-2,0.18538766002448215,0.26848405833009958,null,9.2552000270036947E-2,0.18200169390981913,0.26545898738016671,null,2.7949957624887624E-3,2.2310055400583373,null,29.918256243653602,null,5.4525782360141618E-3,1.3632006173705409,null,19.982228211741116,null,7.8965899508852532E-3,1.4173051073378309,null,17.26328777898652,null,17.26328777898652,19.982228211741116,29.918256243653602,17.26328777898652,19.982228211741116,null,{"$f":"IF(EMCI!$F$27=\"A\",'1st milking (DO)'!AF63,IF(EMCI!$F$27=\"B\",'1st milking (DO)'!AG63,IF(EMCI!$F$27=\"S\",'1st milking (DO)'!AH63,IF(EMCI!$F$27=\"P\",'1st milking (DO)'!AI63,IF(EMCI!$F$27=\"FS\",'1st milking (DO)'!AJ63,\"error\")))))","v":19.982228211741116}]
[{"$f":"E62","v":15.25},{"$f":"AL62","v":19.291095274193143},null,null,14.75,1.1176470588235294,2.941176470588247E-2,null,9.0106877186850329E-2,0.17864693176209925,0.26244685184914474,null,8.7694486675058483E-2,0.17532337382058064,0.25944782857356635,null,2.6502022702014909E-3,2.2336557423285388,null,31.545247170689553,null,5.2543215224147045E-3,1.3684549388929557,null,20.713410779006747,null,7.719025054386641E-3,1.4250241323922175,null,17.63350995366126,null,17.63350995366126,20.713410779006747,31.545247170689553,17.63350995366126,20.713410779006747,null,{"$f":"IF(EMCI!$F$27=\"A\",'1st milking (DO)'!AF64,IF(EMCI!$F$27=\"B\",'1st milking (DO)'!AG64,IF(EMCI!$F$27=\"S\",'1st milking (DO)'!AH64,IF(EMCI!$F$27=\"P\",'1st milking (DO)'!AI64,IF(EMCI!$F$27=\"FS\",'1st milking (DO)'!AJ64,\"error\")))))","v":20.713410779006747}]
[{"$f":"E61","v":15.5},{"$f":"AL61","v":18.637177052313866},null,null,14.5,1.1470588235294117,2.9411764705882248E-2,null,8.5314828734661369E-2,0.17203102030883713,0.25646208952582694,null,8.2967903365658943E-2,0.16876987143576827,0.25348980194113641,null,2.5092596686665017E-3,2.2361650019972052,null,33.312098846489199,null,5.0597358914363684E-3,1.373514674784392,null,21.487753082728414,null,7.5430026331125303E-3,1.43256713502533,null,18.018211501996781,null,18.018211501996781,21.487753082728414,33.312098846489199,18.018211501996781,21.487753082728414,null,{"$f":"IF(EMCI!$F$27=\"A\",'1st milking (DO)'!AF65,IF(EMCI!$F$27=\"B\",'1st milking (DO)'!AG65,IF(EMCI!$F$27=\"S\",'1st milking (DO)'!AH65,IF(EMCI!$F$27=\"P\",'1st milking (DO)'!AI65,IF(EMCI!$F$27=\"FS\",'1st milking (DO)'!AJ65,\"error\")))))","v":21.487753082728414}]
[{"$f":"E60","v":15.75},{"$f":"AL60","v":18.017885115078538},null,null,14.25,1.1764705882352942,2.941176470588247E-2,null,8.065371056805129E-2,0.16553992739654555,0.25053112844137798,null,7.8372250341838381E-2,0.16234118837349831,0.24758622715594111,null,2.3721679578838709E-3,2.2385371699550891,null,35.235211672500959,null,4.8688213940160652E-3,1.3783834961784081,null,22.308673110667023,null,7.3685626012170288E-3,1.4399356976265469,null,18.418085508049348,null,18.418085508049348,22.308673110667023,35.235211672500959,18.418085508049348,22.308673110667023,null,{"$f":"IF(EMCI!$F$27=\"A\",'1st milking (DO)'!AF66,IF(EMCI!$F$27=\"B\",'1st milking (DO)'!AG66,IF(EMCI!$F$27=\"S\",'1st milking (DO)'!AH66,IF(EMCI!$F$27=\"P\",'1st milking (DO)'!AI66,IF(EMCI!$F$27=\"FS\",'1st milking (DO)'!AJ66,\"error\")))))","v":22.308673110667023}]
[{"$f":"E59","v":16},{"$f":"AL59","v":17.430852239534122},null,null,14,1.2058823529411764,2.9411764705882248E-2,null,7.612352268702019E-2,0.15917365453694315,0.24465525183959377,null,7.3907527603596743E-2,0.15603732604596116,0.24173835198745908,null,2.2389271378535271E-3,2.2407760970929425,null,37.333462400557679,null,4.6815780746159589E-3,1.3830650742530239,null,23.179934041433135,null,7.1957427011644969E-3,1.4471314403277113,null,18.833869438757834,null,18.833869438757834,23.179934041433135,37.333462400557679,18.833869438757834,23.179934041433135,null,{"$f":"IF(EMCI!$F$27=\"A\",'1st milking (DO)'!AF67,IF(EMCI!$F$27=\"B\",'1st milking (DO)'!AG67,IF(EMCI!$F$27=\"S\",'1st milking (DO)'!AH67,IF(EMCI!$F$27=\"P\",'1st milking (DO)'!AI67,IF(EMCI!$F$27=\"FS\",'1st milking (DO)'!AJ67,\"error\")))))","v":23.179934041433135}]
[{"$f":"E58","v":16.25},{"$f":"AL58","v":16.873910108863122},null,null,13.75,1.2352941176470589,2.941176470588247E-2,null,7.1724265091567985E-2,0.1529322030491248,0.23883567294716018,null,6.9573735150934013E-2,0.1498582856851797,0.23594735602819444,null,2.1095372085755374E-3,2.2428856343015178,null,39.628666762208013,null,4.4980059720331001E-3,1.3875630802250571,null,24.105686937884119,null,7.0245786160929745E-3,1.4541560189438043,null,19.26634846678677,null,19.26634846678677,24.105686937884119,39.628666762208013,19.26634846678677,24.105686937884119,null,{"$f":"IF(EMCI!$F$27=\"A\",'1st milking (DO)'!AF68,IF(EMCI!$F$27=\"B\",'1st milking (DO)'!AG68,IF(EMCI!$F$27=\"S\",'1st milking (DO)'!AH68,IF(EMCI!$F$27=\"P\",'1st milking (DO)'!AI68,IF(EMCI!$F$27=\"FS\",'1st milking (DO)'!AJ68,\"error\")))))","v":24.105686937884119}]
[{"$f":"E57","v":16.5},{"$f":"AL57","v":16.345069590433564},null,null,13.5,1.2647058823529411,2.9411764705882248E-2,null,6.745593778169473E-2,0.14681557408368173,0.23307353860860081,null,6.5370872983850206E-2,0.14380406836559409,0.23021435423897771,null,1.9839981700498378E-3,2.2448696324715676,null,42.146146162207195,null,4.3181051201082706E-3,1.3918811853451654,null,25.090519730511996,null,6.8551040767235285E-3,1.4610111230205278,null,19.716359094914218,null,19.716359094914218,25.090519730511996,42.146146162207195,19.716359094914218,25.090519730511996,null,{"$f":"IF(EMCI!$F$27=\"A\",'1st milking (DO)'!AF69,IF(EMCI!$F$27=\"B\",'1st milking (DO)'!AG69,IF(EMCI!$F$27=\"S\",'1st milking (DO)'!AH69,IF(EMCI!$F$27=\"P\",'1st milking (DO)'!AI69,IF(EMCI!$F$27=\"FS\",'1st milking (DO)'!AJ69,\"error\")))))","v":25.090519730511996}]
[{"$f":"E56","v":16.75},{"$f":"AL56","v":15.842503258308877},null,null,13.25,1.2941176470588236,2.941176470588247E-2,null,6.3318540757400427E-2,0.14082376864384633,0.22736993274391495,null,6.1298941102345371E-2,0.13787467502385675,0.22454040032089267,null,1.8623100222764906E-3,2.2467319424938439,null,44.915426074151434,null,4.1418755483484376E-3,1.3960230608935138,null,26.139513572618629,null,6.687350963056349E-3,1.4676984739835841,null,20.184793113129146,null,20.184793113129146,26.139513572618629,44.915426074151434,20.184793113129146,26.139513572618629,null,{"$f":"IF(EMCI!$F$27=\"A\",'1st milking (DO)'!AF70,IF(EMCI!$F$27=\"B\",'1st milking (DO)'!AG70,IF(EMCI!$F$27=\"S\",'1st milking (DO)'!AH70,IF(EMCI!$F$27=\"P\",'1st milking (DO)'!AI70,IF(EMCI!$F$27=\"FS\",'1st milking (DO)'!AJ70,\"error\")))))","v":26.139513572618629}]
[{"$f":"E55","v":17},{"$f":"AL55","v":15.364529872997363},null,null,13,1.3235294117647058,2.9411764705882248E-2,null,5.9312074018685053E-2,0.13495678760402277,0.22172587963671017,null,5.7357939506419459E-2,0.13207010647617853,0.21892648992149663,null,1.7444727652554364E-3,2.2484764152590992,null,47.971102316758646,null,3.9693172824712443E-3,1.3999923781759851,null,27.258307862978423,null,6.5213494010796878E-3,1.4742198233846637,null,20.672601923313188,null,20.672601923313188,27.258307862978423,47.971102316758646,20.672601923313188,27.258307862978423,null,{"$f":"IF(EMCI!$F$27=\"A\",'1st milking (DO)'!AF71,IF(EMCI!$F$27=\"B\",'1st milking (DO)'!AG71,IF(EMCI!$F$27=\"S\",'1st milking (DO)'!AH71,IF(EMCI!$F$27=\"P\",'1st milking (DO)'!AI71,IF(EMCI!$F$27=\"FS\",'1st milking (DO)'!AJ71,\"error\")))))","v":27.258307862978423}]
[{"$f":"E54","v":17.25},{"$f":"AL54","v":14.909600571921436},null,null,{"$f":"E71-0.25","v":12.75},1.3529411764705883,2.941176470588247E-2,null,5.5436537565548595E-2,0.12921463172602407,0.21614234706036106,null,5.3547868196072462E-2,0.12639036343352611,0.21337356368273519,null,1.6304863989867299E-3,2.2501069016580861,null,51.353922966136089,null,3.8004303448830761E-3,1.4037928085208682,null,28.453175493640583,null,6.3571278547165273E-3,1.4805769512393803,null,21.180801270585437,null,21.180801270585437,28.453175493640583,51.353922966136089,21.180801270585437,28.453175493640583,null,{"$f":"IF(EMCI!$F$27=\"A\",'1st milking (DO)'!AF72,IF(EMCI!$F$27=\"B\",'1st milking (DO)'!AG72,IF(EMCI!$F$27=\"S\",'1st milking (DO)'!AH72,IF(EMCI!$F$27=\"P\",'1st milking (DO)'!AI72,IF(EMCI!$F$27=\"FS\",'1st milking (DO)'!AJ72,\"error\")))))","v":28.453175493640583}]
[{"$f":"E53","v":17.5},{"$f":"AL53","v":14.476286558478977},null,null,12.5,1.3823529411764706,2.9411764705882248E-2,null,5.1691931397991081E-2,0.12359730167329401,0.21062024924946207,null,4.9868727171304417E-2,0.12083544651493101,0.20788251013768322,null,1.5203509234703206E-3,2.2516272525815566,null,55.112149503585457,null,3.6352147550968699E-3,1.4074280232759651,null,29.731110202668216,null,6.1947132132194509E-3,1.4867716644525997,null,21.710476425160692,null,21.710476425160692,29.731110202668216,55.112149503585457,21.710476425160692,29.731110202668216,null,{"$f":"IF(EMCI!$F$27=\"A\",'1st milking (DO)'!AF73,IF(EMCI!$F$27=\"B\",'1st milking (DO)'!AG73,IF(EMCI!$F$27=\"S\",'1st milking (DO)'!AH73,IF(EMCI!$F$27=\"P\",'1st milking (DO)'!AI73,IF(EMCI!$F$27=\"FS\",'1st milking (DO)'!AJ73,\"error\")))))","v":29.731110202668216}]
[{"$f":"E52","v":17.75},{"$f":"AL52","v":14.063268106711948},null,null,12.25,1.411764705882353,2.941176470588247E-2,null,4.807825551601249E-2,0.11810479802336256,0.20516044972357486,null,4.6320516432115315E-2,0.11540535625914415,0.2024541684629837,null,1.4140663387062554E-3,2.2530413189202627,null,59.303282706390419,null,3.4736705300989126E-3,1.4109016938060639,null,31.099928309519459,null,6.0341308742228143E-3,1.4928057953268226,null,22.262787863996305,null,22.262787863996305,31.099928309519459,59.303282706390419,22.262787863996305,31.099928309519459,null,{"$f":"IF(EMCI!$F$27=\"A\",'1st milking (DO)'!AF74,IF(EMCI!$F$27=\"B\",'1st milking (DO)'!AG74,IF(EMCI!$F$27=\"S\",'1st milking (DO)'!AH74,IF(EMCI!$F$27=\"P\",'1st milking (DO)'!AI74,IF(EMCI!$F$27=\"FS\",'1st milking (DO)'!AJ74,\"error\")))))","v":31.099928309519459}]
[{"$f":"E51","v":18},{"$f":"AL51","v":13.669324723358887},null,null,12,1.4411764705882353,2.9411764705882248E-2,null,4.459550991961285E-2,0.11273712127874896,0.19976376397001153,null,4.2903235978505136E-2,0.11010009313483672,0.19708933109359619,null,1.311632644694491E-3,{"$f":"R74+Q75","v":2.2543529515649574},null,63.996269414517677,null,3.3157976846690754E-3,{"$f":"W74+V75","v":1.4142174914907331},null,32.568387604521391,null,5.8754048226473772E-3,{"$f":"AB74+AA75","v":1.49868120014947},null,22.838977507680966,null,22.838977507680966,32.568387604521391,63.996269414517677,22.838977507680966,32.568387604521391,null,{"$f":"IF(EMCI!$F$27=\"A\",'1st milking (DO)'!AF75,IF(EMCI!$F$27=\"B\",'1st milking (DO)'!AG75,IF(EMCI!$F$27=\"S\",'1st milking (DO)'!AH75,IF(EMCI!$F$27=\"P\",'1st milking (DO)'!AI75,IF(EMCI!$F$27=\"FS\",'1st milking (DO)'!AJ75,\"error\")))))","v":32.568387604521391}]
[{"$f":"E50","v":18.25},{"$f":"AL50","v":13.293326330162094},null,null,11.75,1.4705882352941178,{"$f":"F76-F75","v":2.941176470588247E-2},null,4.1243694608792139E-2,0.10749427187650554,0.19443096199213733,null,3.961688581047388E-2,0.10491965754952723,0.19178874620621136,null,1.2130498414350678E-3,2.2555660014063923,null,69.274349622605527,null,3.1615962316619401E-3,{"$f":"W75+V76","v":1.4173790877223951},null,34.146326779482976,null,5.7185577056511208E-3,{"$f":"AB75+AA76","v":1.5043997578551211},null,23.440375575067407,null,23.440375575067407,34.146326779482976,69.274349622605527,23.440375575067407,34.146326779482976,null,{"$f":"IF(EMCI!$F$27=\"A\",'1st milking (DO)'!AF76,IF(EMCI!$F$27=\"B\",'1st milking (DO)'!AG76,IF(EMCI!$F$27=\"S\",'1st milking (DO)'!AH76,IF(EMCI!$F$27=\"P\",'1st milking (DO)'!AI76,IF(EMCI!$F$27=\"FS\",'1st milking (DO)'!AJ76,\"error\")))))","v":34.146326779482976}]
[{"$f":"E49","v":18.5},{"$f":"AL49","v":12.934225347316056},null,null,11.5,1.5,2.9411764705882248E-2,null,3.8022809583550352E-2,0.10237625019656743,0.18916277072942361,null,3.6461465928021568E-2,9.9864049857391432E-2,0.18655312007743888,null,1.1183179289279475E-3,2.2566843193353203,null,75.238765388101726,null,3.0110661822519724E-3,1.4203901539046471,null,35.844829557855235,null,5.5636109038065575E-3,1.5099633687589278,null,24.068408126206847,null,24.068408126206847,35.844829557855235,75.238765388101726,24.068408126206847,35.844829557855235,null,{"$f":"IF(EMCI!$F$27=\"A\",'1st milking (DO)'!AF77,IF(EMCI!$F$27=\"B\",'1st milking (DO)'!AG77,IF(EMCI!$F$27=\"S\",'1st milking (DO)'!AH77,IF(EMCI!$F$27=\"P\",'1st milking (DO)'!AI77,IF(EMCI!$F$27=\"FS\",'1st milking (DO)'!AJ77,\"error\")))))","v":35.844829557855235}]
[{"$f":"E48","v":18.75},{"$f":"AL48","v":12.59104957436757},null,null,11.25,1.5294117647058822,2.9411764705882248E-2,null,3.4932854843887522E-2,9.7383056569056464E-2,0.18395987635523695,null,3.3436976331148192E-2,9.4933270366092032E-2,0.18138311932263304,null,1.0274369071731587E-3,2.2577117562424935,null,82.013643117692126,null,2.8642075461487093E-3,1.4232543614507958,null,37.676418654452412,null,5.4105845986834201E-3,1.5153739533576112,null,24.724605373366717,null,24.724605373366717,37.676418654452412,82.013643117692126,24.724605373366717,37.676418654452412,null,{"$f":"IF(EMCI!$F$27=\"A\",'1st milking (DO)'!AF78,IF(EMCI!$F$27=\"B\",'1st milking (DO)'!AG78,IF(EMCI!$F$27=\"S\",'1st milking (DO)'!AH78,IF(EMCI!$F$27=\"P\",'1st milking (DO)'!AI78,IF(EMCI!$F$27=\"FS\",'1st milking (DO)'!AJ78,\"error\")))))","v":37.676418654452412}]
[{"$f":"E47","v":19},{"$f":"AL47","v":12.262895778115313},null,null,11,1.5588235294117647,2.941176470588247E-2,null,3.1973830389803601E-2,9.2514691280667832E-2,0.17882292645810682,null,3.054341701985375E-2,9.0127319342750936E-2,0.17627937302097987,null,9.4040677617069789E-4,2.2586521630186644,null,89.752493481636719,null,2.7210203317843589E-3,1.4259753817825802,null,39.655285925297896,null,5.2594978370031631E-3,1.5206334511946142,null,25.410610850495107,null,25.410610850495107,39.655285925297896,89.752493481636719,25.410610850495107,39.655285925297896,null,{"$f":"IF(EMCI!$F$27=\"A\",'1st milking (DO)'!AF79,IF(EMCI!$F$27=\"B\",'1st milking (DO)'!AG79,IF(EMCI!$F$27=\"S\",'1st milking (DO)'!AH79,IF(EMCI!$F$27=\"P\",'1st milking (DO)'!AI79,IF(EMCI!$F$27=\"FS\",'1st milking (DO)'!AJ79,\"error\")))))","v":39.655285925297896}]
[{"$f":"E46","v":19.25},{"$f":"AL46","v":11.948923908442858},null,null,10.75,1.588235294117647,2.9411764705882248E-2,null,2.9145736221298631E-2,8.7771154580253072E-2,0.1737525321119813,null,2.7780787994138238E-2,8.5446197019167794E-2,0.17124247473224119,null,8.5722753592054493E-4,2.2595093905545851,null,98.646971785813278,null,2.5815045464780222E-3,1.4285568863290583,null,41.797566635642944,null,5.1103685915288438E-3,1.525743819786143,null,26.128191543657088,null,26.128191543657088,41.797566635642944,98.646971785813278,26.128191543657088,41.797566635642944,null,{"$f":"IF(EMCI!$F$27=\"A\",'1st milking (DO)'!AF80,IF(EMCI!$F$27=\"B\",'1st milking (DO)'!AG80,IF(EMCI!$F$27=\"S\",'1st milking (DO)'!AH80,IF(EMCI!$F$27=\"P\",'1st milking (DO)'!AI80,IF(EMCI!$F$27=\"FS\",'1st milking (DO)'!AJ80,\"error\")))))","v":41.797566635642944}]
[{"$f":"E45","v":19.5},{"$f":"AL45","v":11.648351872835518},null,null,10.5,1.6176470588235294,2.941176470588247E-2,null,2.644857233837258E-2,8.3152446683698977E-2,0.16874926984075,null,2.5149089254001666E-2,8.0889903596380763E-2,0.1662729844103209,null,7.7789918642272608E-4,2.260287289741008,null,108.93884397118099,null,2.4456601965793913E-3,1.4310025465256377,null,44.121667782949977,null,4.9632138188456078E-3,1.5307070336049886,null,26.879249098975055,null,26.879249098975055,44.121667782949977,108.93884397118099,26.879249098975055,44.121667782949977,null,{"$f":"IF(EMCI!$F$27=\"A\",'1st milking (DO)'!AF81,IF(EMCI!$F$27=\"B\",'1st milking (DO)'!AG81,IF(EMCI!$F$27=\"S\",'1st milking (DO)'!AH81,IF(EMCI!$F$27=\"P\",'1st milking (DO)'!AI81,IF(EMCI!$F$27=\"FS\",'1st milking (DO)'!AJ81,\"error\")))))","v":44.121667782949977}]
[{"$f":"E44","v":19.75},{"$f":"AL44","v":11.360450808812937},null,null,10.25,1.6470588235294117,2.9411764705882248E-2,null,2.3882338741025473E-2,7.8658567778189678E-2,0.16381368348209219,null,2.2648320799444024E-2,7.6458439248649382E-2,0.16137143021860539,null,7.0242172767721726E-4,2.2609897114686852,null,120.93657241902687,null,2.3134872875938059E-3,1.4333160338132316,null,46.64866300223062,null,4.818049514179165E-3,1.5355250831191678,null,27.665832240768591,null,27.665832240768591,46.64866300223062,120.93657241902687,27.665832240768591,46.64866300223062,null,{"$f":"IF(EMCI!$F$27=\"A\",'1st milking (DO)'!AF82,IF(EMCI!$F$27=\"B\",'1st milking (DO)'!AG82,IF(EMCI!$F$27=\"S\",'1st milking (DO)'!AH82,IF(EMCI!$F$27=\"P\",'1st milking (DO)'!AI82,IF(EMCI!$F$27=\"FS\",'1st milking (DO)'!AJ82,\"error\")))))","v":46.64866300223062}]
[{"$f":"E43","v":20},{"$f":"AL43","v":11.084540800852919},null,null,10,1.6764705882352942,2.941176470588247E-2,null,2.14470354292573E-2,7.428951802592855E-2,0.15894628595549334,null,2.0278482630465319E-2,7.2151804126932312E-2,0.15653831025181383,null,6.307951596840407E-4,2.2616205066283692,null,135.03867835050116,null,2.1849858242920248E-3,1.4355010196375235,null,49.40276994448633,null,4.6748907633968814E-3,1.5401999738825647,null,28.490150551281797,null,28.490150551281797,49.40276994448633,135.03867835050116,28.490150551281797,49.40276994448633,null,{"$f":"IF(EMCI!$F$27=\"A\",'1st milking (DO)'!AF83,IF(EMCI!$F$27=\"B\",'1st milking (DO)'!AG83,IF(EMCI!$F$27=\"S\",'1st milking (DO)'!AH83,IF(EMCI!$F$27=\"P\",'1st milking (DO)'!AI83,IF(EMCI!$F$27=\"FS\",'1st milking (DO)'!AJ83,\"error\")))))","v":49.40276994448633}]
[{"$f":"E42","v":20.25},{"$f":"AL42","v":10.819986994753293},null,null,9.75,1.7058823529411764,2.9411764705882248E-2,null,1.9142662403068059E-2,7.0045297567387574E-2,0.15414756093906151,null,1.8039574747065537E-2,6.7969998361922884E-2,0.15177409416889009,null,5.6301948244317623E-4,2.2621835261108125,null,151.76724020806216,null,2.0601558108055097E-3,1.4375611754483291,null,52.411930416455121,null,4.5337517923253225E-3,1.5447337256748901,null,29.354589785048631,null,29.354589785048631,52.411930416455121,151.76724020806216,29.354589785048631,52.411930416455121,null,{"$f":"IF(EMCI!$F$27=\"A\",'1st milking (DO)'!AF84,IF(EMCI!$F$27=\"B\",'1st milking (DO)'!AG84,IF(EMCI!$F$27=\"S\",'1st milking (DO)'!AH84,IF(EMCI!$F$27=\"P\",'1st milking (DO)'!AI84,IF(EMCI!$F$27=\"FS\",'1st milking (DO)'!AJ84,\"error\")))))","v":52.411930416455121}]
[{"$f":"E41","v":20.5},{"$f":"AL41","v":10.566196067918201},null,null,9.5,1.7352941176470589,2.941176470588247E-2,null,1.6969219662457756E-2,6.5925906524142819E-2,0.14941796445957814,null,1.5931597149244706E-2,6.3913022066697509E-2,0.14707922474126942,null,4.9909469595464185E-4,2.2626826208067672,null,171.81688399163451,null,1.9389972507100907E-3,1.4395001726990391,null,55.708519362225459,null,4.394646013517022E-3,1.549128371688407,null,30.26172891610782,null,30.26172891610782,55.708519362225459,171.81688399163451,30.26172891610782,55.708519362225459,null,{"$f":"IF(EMCI!$F$27=\"A\",'1st milking (DO)'!AF85,IF(EMCI!$F$27=\"B\",'1st milking (DO)'!AG85,IF(EMCI!$F$27=\"S\",'1st milking (DO)'!AH85,IF(EMCI!$F$27=\"P\",'1st milking (DO)'!AI85,IF(EMCI!$F$27=\"FS\",'1st milking (DO)'!AJ85,\"error\")))))","v":55.708519362225459}]
[{"$f":"E40","v":20.75},{"$f":"AL40","v":10.322613018879908},null,null,9.25,1.7647058823529411,2.9411764705882248E-2,null,1.4926707207426384E-2,6.1931345001347733E-2,0.14475792640001692,null,1.3954549837002799E-2,5.9980875339025456E-2,0.1424541193206629,null,4.3902080021842151E-4,2.2631216416069857,null,196.12802923500465,null,1.8215101470984562E-3,1.4413216828461375,null,59.330216457152531,null,4.2575860705887179E-3,1.5533859577589957,null,31.214359145569649,null,31.214359145569649,59.330216457152531,196.12802923500465,31.214359145569649,59.330216457152531,null,{"$f":"IF(EMCI!$F$27=\"A\",'1st milking (DO)'!AF86,IF(EMCI!$F$27=\"B\",'1st milking (DO)'!AG86,IF(EMCI!$F$27=\"S\",'1st milking (DO)'!AH86,IF(EMCI!$F$27=\"P\",'1st milking (DO)'!AI86,IF(EMCI!$F$27=\"FS\",'1st milking (DO)'!AJ86,\"error\")))))","v":59.330216457152531}]
[{"$f":"E39","v":21},{"$f":"AL39","v":10.088718243578629},null,null,9,1.7941176470588236,2.941176470588247E-2,null,1.3015125037973942E-2,5.8061613089890336E-2,0.1401678519285815,null,1.2108432810339827E-2,5.6173558263382765E-2,0.13789917123031473,null,{"$f":"G87*I87","v":3.8279779523452926E-4},2.2635044394022201,null,225.99915310765797,null,{"$f":"G87*J87","v":1.7076945026438402E-3},1.4430293773487812,null,63.321084378766542,null,{"$f":"G87*K87","v":4.1225838802524135E-3},1.557508541639248,null,32.21550513121683,null,32.21550513121683,{"$f":"Y87","v":63.321084378766542},{"$f":"T87","v":225.99915310765797},{"$f":"AD87","v":32.21550513121683},63.321084378766542,null,{"$f":"IF(EMCI!$F$27=\"A\",'1st milking (DO)'!AF87,IF(EMCI!$F$27=\"B\",'1st milking (DO)'!AG87,IF(EMCI!$F$27=\"S\",'1st milking (DO)'!AH87,IF(EMCI!$F$27=\"P\",'1st milking (DO)'!AI87,IF(EMCI!$F$27=\"FS\",'1st milking (DO)'!AJ87,\"error\")))))","v":63.321084378766542}]
[{"$f":"E38","v":21.25},{"$f":"AL38","v":9.8640248696048296},null,null,8.75,{"$f":"(E88-$G$11)/$G$10","v":1.8235294117647058},2.9411764705882248E-2,null,1.1234473154100443E-2,5.4316710868272958E-2,0.13564812285312758,null,{"$f":"IF(E88>$H$15,(0.00033*(E88-5.6)*((6.5-2.8)*(1-EXP(0.5*(6.5-9.8)))*(36.7-0.9324)*(1-EXP(0.42*(-5-0.9324)))))^2,0)","v":1.0393246069255789E-2},{"$f":"IF(E88>$H$16,(((0.175*(E88-1.5)*SQRT(0.995-0.92)*(1-EXP(0.4395*(E88-45)))))^2)/2.3,0)","v":5.249107091270714E-2},{"$f":"IF(E88>$H$17,((0.1709*(E88+6.1)*SQRT(0.995-0.947)*(1-EXP(0.1723*(E88-41.2))))^2)/2.3,0)","v":0.13341475108351158},null,3.30425681002953E-4,2.263834865083223,null,263.26376924824422,null,1.5975503196550814E-3,1.4446269276684363,null,{"$f":"($G$16-W88)/N88","v":67.732911722151059},null,3.9896506721507968E-3,1.5614981923113989,null,{"$f":"($G$17-AB88)/O88","v":33.268448740801531},null,{"$f":"+MIN(AG88:AI88)","v":33.268448740801531},67.732911722151059,263.26376924824422,33.268448740801531,{"$f":"MIN(AG88:AH88)","v":67.732911722151059},null,{"$f":"IF(EMCI!$F$27=\"A\",'1st milking (DO)'!AF88,IF(EMCI!$F$27=\"B\",'1st milking (DO)'!AG88,IF(EMCI!$F$27=\"S\",'1st milking (DO)'!AH88,IF(EMCI!$F$27=\"P\",'1st milking (DO)'!AI88,IF(EMCI!$F$27=\"FS\",'1st milking (DO)'!AJ88,\"error\")))))","v":67.732911722151059}]
[{"$f":"E37","v":21.5},{"$f":"AL37","v":9.6480763228339903},null,null,{"$f":"E88-0.25","v":8.5},1.8529411764705883,{"$f":"F89-F88","v":2.941176470588247E-2},null,{"$f":"IF(E89>$H$15,(0.00033*(((E89+E88)/2)-5.6)*((6.5-2.8)*(1-EXP(0.5*(6.5-9.8)))*(36.7-0.9324)*(1-EXP(0.42*(-5-0.9324)))))^2,0)","v":9.5847515558058708E-3},{"$f":"IF(E89>$H$16,(((0.175*(((E89+E88)/2)-1.5)*SQRT(0.995-0.92)*(1-EXP(0.4395*(((E89+E88)/2)-45)))))^2)/2.3,0)","v":5.0696638404250462E-2},{"$f":"IF(E89>$H$17,((0.1709*(((E89+E88)/2)+6.1)*SQRT(0.995-0.947)*(1-EXP(0.1723*(((E89+E88)/2)-41.2))))^2)/2.3,0)","v":0.13119909890466158},null,8.8089896137506871E-3,4.8933413349926902E-2,0.12900120803295215,null,2.819044575237032E-4,{"$f":"R88+Q89","v":2.2641167695407467},null,310.57855105068859,null,1.4910776001250195E-3,1.4461180052685614,null,72.626897480405333,null,3.8587970266077088E-3,1.5653569893380066,null,34.376755677584086,null,34.376755677584086,72.626897480405333,310.57855105068859,34.376755677584086,72.626897480405333,null,{"$f":"IF(EMCI!$F$27=\"A\",'1st milking (DO)'!AF89,IF(EMCI!$F$27=\"B\",'1st milking (DO)'!AG89,IF(EMCI!$F$27=\"S\",'1st milking (DO)'!AH89,IF(EMCI!$F$27=\"P\",'1st milking (DO)'!AI89,IF(EMCI!$F$27=\"FS\",'1st milking (DO)'!AJ89,\"error\")))))","v":72.626897480405333}]
[{"$f":"E36","v":21.75},{"$f":"AL36","v":9.4404441037142366},null,null,8.25,1.8823529411764706,2.9411764705882248E-2,null,8.0659602430902377E-3,4.7201395756256849E-2,0.12682111895344028,null,7.3556634438245181E-3,4.5500585629291837E-2,0.12465887095441666,null,2.3723412479677086E-4,2.2643540036655434,null,{"$f":"IF(M90=0,T89,($G$15-R90)/M90)","v":371.91016381142083},null,1.3882763457722554E-3,1.4475062816143336,null,78.07578010817258,null,3.730032910395289E-3,1.5690870222484019,null,35.54430538177926,null,35.54430538177926,78.07578010817258,371.91016381142083,35.54430538177926,78.07578010817258,null,{"$f":"IF(EMCI!$F$27=\"A\",'1st milking (DO)'!AF90,IF(EMCI!$F$27=\"B\",'1st milking (DO)'!AG90,IF(EMCI!$F$27=\"S\",'1st milking (DO)'!AH90,IF(EMCI!$F$27=\"P\",'1st milking (DO)'!AI90,IF(EMCI!$F$27=\"FS\",'1st milking (DO)'!AJ90,\"error\")))))","v":78.07578010817258}]
[{"$f":"E35","v":22},{"$f":"AL35","v":9.2407257529556421},null,null,8,1.911764705882353,2.941176470588247E-2,null,6.6780992159535344E-3,4.3830982974647166E-2,0.12251450216103232,null,6.0332675594772841E-3,4.2192587797532113E-2,0.12038804956802177,null,1.9641468282216356E-4,2.2645504183483656,null,453.3943762123871,null,1.2891465580778629E-3,1.4487954281724114,null,84.166550505709964,null,3.6033677106186122E-3,1.5726903899590206,null,36.77532467655319,null,36.77532467655319,84.166550505709964,453.3943762123871,36.77532467655319,84.166550505709964,null,{"$f":"IF(EMCI!$F$27=\"A\",'1st milking (DO)'!AF91,IF(EMCI!$F$27=\"B\",'1st milking (DO)'!AG91,IF(EMCI!$F$27=\"S\",'1st milking (DO)'!AH91,IF(EMCI!$F$27=\"P\",'1st milking (DO)'!AI91,IF(EMCI!$F$27=\"FS\",'1st milking (DO)'!AJ91,\"error\")))))","v":84.166550505709964}]
[{"$f":"E34","v":22.25},{"$f":"AL34","v":9.0485429885612643},null,null,7.75,1.9411764705882353,2.9411764705882248E-2,null,5.4211684743957671E-3,4.0585400102778259E-2,0.11827954907154804,null,4.8418019607089843E-3,3.9009419894865949E-2,0.11618903550019019,null,1.5944613159987495E-4,2.2647098644799653,null,564.93226235124791,null,1.1936882383170033E-3,1.4499891164107284,null,91.003939385842813,null,3.4788102668102242E-3,1.5761692002258307,null,38.074425704023746,null,38.074425704023746,91.003939385842813,564.93226235124791,38.074425704023746,91.003939385842813,null,{"$f":"IF(EMCI!$F$27=\"A\",'1st milking (DO)'!AF92,IF(EMCI!$F$27=\"B\",'1st milking (DO)'!AG92,IF(EMCI!$F$27=\"S\",'1st milking (DO)'!AH92,IF(EMCI!$F$27=\"P\",'1st milking (DO)'!AI92,IF(EMCI!$F$27=\"FS\",'1st milking (DO)'!AJ92,\"error\")))))","v":91.003939385842813}]
[{"$f":"E33","v":22.5},{"$f":"AL33","v":8.8635399980728877},null,null,7.5,1.9705882352941178,2.941176470588247E-2,null,4.295168018416934E-3,3.7464647177948653E-2,0.11411654264509592,null,3.7812666475196171E-3,3.595108195587611E-2,0.1120621032893214,null,1.2632847112991033E-4,2.264836192951095,null,723.34592135761704,null,1.1019013875867294E-3,1.4510910177983152,null,98.714942336293859,null,3.356368901326364E-3,1.579525569127157,null,39.446648787771572,null,39.446648787771572,98.714942336293859,723.34592135761704,39.446648787771572,98.714942336293859,null,{"$f":"IF(EMCI!$F$27=\"A\",'1st milking (DO)'!AF93,IF(EMCI!$F$27=\"B\",'1st milking (DO)'!AG93,IF(EMCI!$F$27=\"S\",'1st milking (DO)'!AH93,IF(EMCI!$F$27=\"P\",'1st milking (DO)'!AI93,IF(EMCI!$F$27=\"FS\",'1st milking (DO)'!AJ93,\"error\")))))","v":98.714942336293859}]
[{"$f":"E32","v":22.75},{"$f":"AL32","v":8.6853818716126856},null,null,7.25,2,2.9411764705882248E-2,null,3.3000978480170352E-3,3.44687242322156E-2,0.11002574923637776,null,2.8516616199091853E-3,3.3017574010271708E-2,0.10800751133800611,null,9.7061701412265398E-5,2.2649332546525072,null,959.11335561425915,null,1.013786006829867E-3,1.452104803805145,null,107.45475106957014,null,3.2360514481287461E-3,1.5827616205752857,null,40.897510966631806,null,40.897510966631806,107.45475106957014,959.11335561425915,40.897510966631806,107.45475106957014,null,{"$f":"IF(EMCI!$F$27=\"A\",'1st milking (DO)'!AF94,IF(EMCI!$F$27=\"B\",'1st milking (DO)'!AG94,IF(EMCI!$F$27=\"S\",'1st milking (DO)'!AH94,IF(EMCI!$F$27=\"P\",'1st milking (DO)'!AI94,IF(EMCI!$F$27=\"FS\",'1st milking (DO)'!AJ94,\"error\")))))","v":107.45475106957014}]
[{"$f":"E31","v":23},{"$f":"AL31","v":8.5137531628137992},null,null,7,2.0294117647058822,2.9411764705882248E-2,null,2.4359579631960701E-3,3.1597631293105111E-2,0.10600741952120002,null,2.0529868778776873E-3,3.0208896083549652E-2,0.10402550281449537,null,7.1645822446942984E-5,2.265004900474954,null,1332.2029132267992,null,9.2934209685602938E-4,1.4530341459020011,null,117.41461337375748,null,3.1178652800352836E-3,1.5858794858553209,null,42.433061073650457,null,42.433061073650457,117.41461337375748,1332.2029132267992,42.433061073650457,117.41461337375748,null,{"$f":"IF(EMCI!$F$27=\"A\",'1st milking (DO)'!AF95,IF(EMCI!$F$27=\"B\",'1st milking (DO)'!AG95,IF(EMCI!$F$27=\"S\",'1st milking (DO)'!AH95,IF(EMCI!$F$27=\"P\",'1st milking (DO)'!AI95,IF(EMCI!$F$27=\"FS\",'1st milking (DO)'!AJ95,\"error\")))))","v":117.41461337375748}]
[{"$f":"E30","v":23.25},{"$f":"AL30","v":8.3483565660734236},null,null,{"$f":"E95-0.25","v":6.75},2.0588235294117645,2.9411764705882248E-2,null,1.7027483639540388E-3,2.8851368384228526E-2,0.1020617893735461,null,1.3852424214251236E-3,2.7525048197569259E-2,0.10011630650600498,null,5.0080834233942141E-5,2.2650549813091878,null,1974.3439678068248,null,8.4856965835965951E-4,1.4538827155603606,null,128.83237329818002,null,3.0018173345160511E-3,1.588881303189837,null,44.059942388561694,null,44.059942388561694,128.83237329818002,1974.3439678068248,44.059942388561694,128.83237329818002,null,{"$f":"IF(EMCI!$F$27=\"A\",'1st milking (DO)'!AF96,IF(EMCI!$F$27=\"B\",'1st milking (DO)'!AG96,IF(EMCI!$F$27=\"S\",'1st milking (DO)'!AH96,IF(EMCI!$F$27=\"P\",'1st milking (DO)'!AI96,IF(EMCI!$F$27=\"FS\",'1st milking (DO)'!AJ96,\"error\")))))","v":128.83237329818002}]
[{"$f":"E29","v":23.5},{"$f":"AL29","v":8.1889116997526568},null,null,{"$f":"E96-0.25","v":6.5},2.0882352941176472,2.9411764705882693E-2,null,1.100469050290942E-3,2.622993552581766E-2,9.8189080695726974E-2,null,8.4842825055149364E-4,2.4966030371050753E-2,9.6280137626312767E-2,null,3.2366736773263372E-5,{"$f":"R96+Q97","v":2.2650873480459612},null,3223.5049341842359,null,7.7146869193582242E-4,{"$f":"W96+V97","v":1.4546541842522964},null,142.00678934760461,null,2.8879141381096501E-3,{"$f":"AB96+AA97","v":1.5917692173279467},null,45.785464077559759,null,45.785464077559759,142.00678934760461,3223.5049341842359,45.785464077559759,142.00678934760461,null,{"$f":"IF(EMCI!$F$27=\"A\",'1st milking (DO)'!AF97,IF(EMCI!$F$27=\"B\",'1st milking (DO)'!AG97,IF(EMCI!$F$27=\"S\",'1st milking (DO)'!AH97,IF(EMCI!$F$27=\"P\",'1st milking (DO)'!AI97,IF(EMCI!$F$27=\"FS\",'1st milking (DO)'!AJ97,\"error\")))))","v":142.00678934760461}]
[{"$f":"E28","v":23.75},{"$f":"AL28","v":8.0351539860065415},null,null,6.25,2.1176470588235294,2.9411764705882248E-2,null,6.2912002220677889E-4,2.3733332735188999E-2,9.4389502204009934E-2,null,4.4254436525679775E-4,2.2531842620007458E-2,9.2517198579988219E-2,null,1.8503530064905196E-5,{"$f":"R97+Q98","v":2.2651058515760263},null,6179.9321449658073,null,6.980391980937916E-4,{"$f":"W97+V98","v":1.4553522234503902},null,157.31726145655267,null,2.7761618295296941E-3,{"$f":"AB97+AA98","v":1.5945453791574764},null,47.617682857459961,null,47.617682857459961,157.31726145655267,6179.9321449658073,47.617682857459961,157.31726145655267,null,{"$f":"IF(EMCI!$F$27=\"A\",'1st milking (DO)'!AF98,IF(EMCI!$F$27=\"B\",'1st milking (DO)'!AG98,IF(EMCI!$F$27=\"S\",'1st milking (DO)'!AH98,IF(EMCI!$F$27=\"P\",'1st milking (DO)'!AI98,IF(EMCI!$F$27=\"FS\",'1st milking (DO)'!AJ98,\"error\")))))","v":157.31726145655267}]
[{"$f":"E27","v":24},{"$f":"AL27","v":7.8868336188721502},null,null,6,2.1470588235294117,2.9411764705882248E-2,null,2.887012797015501E-4,2.1361560027146304E-2,9.0663250172005841E-2,null,1.6759076554103596E-4,2.0222484958120589E-2,8.8827679685481262E-2,null,8.4912141088690897E-6,2.265114342790135,null,16318.83265394003,null,6.2828117726900672E-4,1.4559805046276593,null,175.25143436683314,null,2.6665661815295739E-3,1.5972119453390059,null,49.5654965912683,null,49.5654965912683,175.25143436683314,16318.83265394003,49.5654965912683,175.25143436683314,null,{"$f":"IF(EMCI!$F$27=\"A\",'1st milking (DO)'!AF99,IF(EMCI!$F$27=\"B\",'1st milking (DO)'!AG99,IF(EMCI!$F$27=\"S\",'1st milking (DO)'!AH99,IF(EMCI!$F$27=\"P\",'1st milking (DO)'!AI99,IF(EMCI!$F$27=\"FS\",'1st milking (DO)'!AJ99,\"error\")))))","v":175.25143436683314}]
[{"$f":"E26","v":24.25},{"$f":"AL26","v":7.7437146130855457},null,null,5.75,2.1764705882352939,2.9411764705882248E-2,null,7.921282277525533E-5,1.911461741432929E-2,8.7010509133988265E-2,null,2.3567451404208249E-5,1.8037957397063781E-2,8.5211759859187261E-2,null,2.3297889051545602E-6,2.2651166725790404,null,116044.93334958627,null,5.621946298332124E-4,1.4565426992574926,null,196.44448774002046,null,2.559132621587881E-3,1.5997710779605938,null,51.638751849636719,null,51.638751849636719,196.44448774002046,116044.93334958627,51.638751849636719,196.44448774002046,null,{"$f":"IF(EMCI!$F$27=\"A\",'1st milking (DO)'!AF100,IF(EMCI!$F$27=\"B\",'1st milking (DO)'!AG100,IF(EMCI!$F$27=\"S\",'1st milking (DO)'!AH100,IF(EMCI!$F$27=\"P\",'1st milking (DO)'!AI100,IF(EMCI!$F$27=\"FS\",'1st milking (DO)'!AJ100,\"error\")))))","v":196.44448774002046}]
[{"$f":"E25","v":24.5},{"$f":"AL25","v":7.6055739268528226},null,null,5.5,2.2058823529411766,2.9411764705882693E-2,null,0,1.6992504907515658E-2,8.3431452550209242E-2,null,0,1.5978259946784049E-2,8.1669607262505536E-2,null,0,2.2651166725790404,null,116044.93334958627,null,4.9977955610340746E-4,1.4570424788135961,null,221.73612977797976,null,2.4538662514767707E-3,1.6022249442120706,null,53.848367871446158,null,53.848367871446158,221.73612977797976,116044.93334958627,53.848367871446158,221.73612977797976,null,{"$f":"IF(EMCI!$F$27=\"A\",'1st milking (DO)'!AF101,IF(EMCI!$F$27=\"B\",'1st milking (DO)'!AG101,IF(EMCI!$F$27=\"S\",'1st milking (DO)'!AH101,IF(EMCI!$F$27=\"P\",'1st milking (DO)'!AI101,IF(EMCI!$F$27=\"FS\",'1st milking (DO)'!AJ101,\"error\")))))","v":221.73612977797976}]
[{"$f":"E24","v":24.75},{"$f":"AL24","v":7.4722006524768014},null,null,5.25,2.2352941176470589,2.9411764705882248E-2,null,0,1.4995222515882417E-2,7.9926243436178462E-2,null,0,1.4043392615744832E-2,7.8201379913805977E-2,null,0,2.2651166725790404,null,116044.93334958627,null,4.4103595634948132E-4,1.4574835147699456,null,252.25503424709078,null,2.3507718657699464E-3,1.6045757160778407,null,56.206479844304816,null,56.206479844304816,252.25503424709078,116044.93334958627,56.206479844304816,252.25503424709078,null,{"$f":"IF(EMCI!$F$27=\"A\",'1st milking (DO)'!AF102,IF(EMCI!$F$27=\"B\",'1st milking (DO)'!AG102,IF(EMCI!$F$27=\"S\",'1st milking (DO)'!AH102,IF(EMCI!$F$27=\"P\",'1st milking (DO)'!AI102,IF(EMCI!$F$27=\"FS\",'1st milking (DO)'!AJ102,\"error\")))))","v":252.25503424709078}]
[{"$f":"E23","v":25},{"$f":"AL23","v":7.3433952693485844},null,null,5,2.2647058823529411,2.9411764705882248E-2,null,0,1.3122770247231881E-2,7.6495034957773558E-2,null,0,1.2233355411136097E-2,7.4807226267127047E-2,null,0,2.2651166725790404,null,116044.93334958627,null,3.8596383080093631E-4,1.4578694786007467,null,289.54693151274182,null,2.249853969346273E-3,1.606825570047187,null,58.726605024297363,null,58.726605024297363,289.54693151274182,116044.93334958627,58.726605024297363,289.54693151274182,null,{"$f":"IF(EMCI!$F$27=\"A\",'1st milking (DO)'!AF103,IF(EMCI!$F$27=\"B\",'1st milking (DO)'!AG103,IF(EMCI!$F$27=\"S\",'1st milking (DO)'!AH103,IF(EMCI!$F$27=\"P\",'1st milking (DO)'!AI103,IF(EMCI!$F$27=\"FS\",'1st milking (DO)'!AJ103,\"error\")))))","v":289.54693151274182}]

{"sheet":"1st milking (DO2)","index":8,"n_rows":103,"n_cols":24,"rows_kept":103,"cut":false,"hidden":false,"merged":[]}
[]
["Entry",null,null,null,null,null,"Milk cooling curve (1st milking)"]
[]
["Milking",{"$f":"EMCI!F9","v":1},1,null,null,null,"T","t"]
["Time",0,0,null,null,null,25,0]
["Milk T",{"$f":"EMCI!F13","v":20},null,null,null,null,8,2]
["Volume",{"$f":"EMCI!F31","v":0},"D",null,null,null,{"$f":"B6","v":20},{"$f":"(G7-25)/-8.5","v":0.58823529411764708}]
[]
[]
["Outcome",{"$f":"IF(OR(B6>G5,B6<G7,B5>2.35),\"out\",LOOKUP(B6,A23:A103,B23:B103))","v":0},null,null,null,null,"slope ",-8.5]
[null,null,null,null,null,null,"intercept",25]
[]
[]
[null,null,null,null,null,null,null,"No (logs)","Nf (logs)","Tmin",null,"N after milk (logs)","GR","Growth storage","N after stroage (logs)"]
[null,null,null,null,null,null,"S aureus",{"$f":"EMCI!F19","v":2},{"$f":"EMCI!G19","v":5},5.6,null,{"$f":"LOOKUP(B6,A23:A103,C23:C103)","v":2.1772568864184381},{"$f":"IF(B6>J15,(0.00033*(B6-5.6)*((6.5-2.8)*(1-EXP(0.5*(6.5-9.8)))*(36.7-0.9324)*(1-EXP(0.42*(-5-0.9324)))))^2,0)","v":0.21719763214118218},{"$f":"M15*(12-$H$7)","v":2.4786082726699612},{"$f":"L15+N15","v":4.6558651590883997}]
[null,null,null,null,null,null,"B cereus",{"$f":"EMCI!F20","v":1},{"$f":"EMCI!G20","v":5},1.5,null,{"$f":"LOOKUP(B6,A23:A103,D23:D103)","v":1.2602454320410457},{"$f":"IF(B6>$J$16,(((0.175*(B6-1.5)*SQRT(0.995-0.92)*(1-EXP(0.4395*(B6-45)))))^2)/2.3,0)","v":0.34177342612421274},{"$f":"M16*(12-$H$7)","v":3.9002379216527809},{"$f":"L16+N16","v":5.1604833536938264}]
[null,null,null,null,null,null,"Pseudo",{"$f":"EMCI!F21","v":1},{"$f":"EMCI!G21","v":6},-6.1,null,{"$f":"LOOKUP(B6,A23:A103,E23:E103)","v":1.2698001981248725},{"$f":"IF(B6>$J$17,((0.1709*(B6+6.1)*SQRT(0.995-0.947)*(1-EXP(0.1723*(B6-41.2))))^2)/2.3,0)","v":0.39397462167172831},{"$f":"M17*(12-$H$7)","v":4.4959456826067816},{"$f":"L17+N17","v":5.7657458807316537}]
[]
[]
[]
["Lookup function",null,"Accumulated growth",null,null,null,"Cooling curve profile",null,null,null,"Growth (log/h)",null,null,null,"Saureus","Growth acc",null,null,"B cereus","Growth acc",null,null,"Pseudo","Growth acc"]
[{"$f":"G22","v":"Temp"},"NMTL","S.aureus","B.cereus","Pseudomonas",null,"Temp","Time","Time interval",null,"S. aureus","B.cereus","Pseudo",null,"Growth interval",{"$f":"H15","v":2},null,null,"Growth interval",{"$f":"H16","v":1},null,null,"Growth interval",{"$f":"H17","v":1}]
[{"$f":"G103","v":5},null,{"$f":"P103","v":2.2999003824240902},{"$f":"T103","v":1.5065163971629179},{"$f":"X103","v":1.6526580842997567},null,{"$f":"G5","v":25},{"$f":"(G23-$H$11)/$H$10","v":0},{"$f":"H23","v":0},null,{"$f":"IF(G23>J15,(0.00033*(G23-5.6)*((6.5-2.8)*(1-EXP(0.5*(6.5-9.8)))*(36.7-0.9324)*(1-EXP(0.42*(-5-0.9324)))))^2,0)","v":0.39421537824390102},{"$f":"IF(G23>$J$16,(((0.175*(G23-1.5)*SQRT(0.995-0.92)*(1-EXP(0.4395*(G23-45)))))^2)/2.3,0)","v":0.55133174370461446},{"$f":"IF(G23>$J$17,((0.1709*(G23+6.1)*SQRT(0.995-0.947)*(1-EXP(0.1723*(G23-41.2))))^2)/2.3,0)","v":0.5194351615291144},null,{"$f":"I23*K23","v":0},{"$f":"P22","v":2},null,null,{"$f":"I23*L23","v":0},{"$f":"T22","v":1},null,null,{"$f":"I23*M23","v":0},{"$f":"X22","v":1}]
[{"$f":"G102","v":5.25},null,{"$f":"P102","v":2.2999003824240902},{"$f":"T102","v":1.5061304333321168},{"$f":"X102","v":1.6504082303304104},null,{"$f":"G23-0.25","v":24.75},{"$f":"(G24-$H$11)/$H$10","v":2.9411764705882353E-2},{"$f":"H24-H23","v":2.9411764705882353E-2},null,{"$f":"IF(G24>$J$15,(0.00033*(((G24+G23)/2)-5.6)*((6.5-2.8)*(1-EXP(0.5*(6.5-9.8)))*(36.7-0.9324)*(1-EXP(0.42*(-5-0.9324)))))^2,0)","v":0.38915164944913572},{"$f":"IF(G24>$J$16,(((0.175*(((G24+G23)/2)-1.5)*SQRT(0.995-0.92)*(1-EXP(0.4395*(((G24+G23)/2)-45)))))^2)/2.3,0)","v":0.5454909916313323},{"$f":"IF(G24>$J$17,((0.1709*(((G24+G23)/2)+6.1)*SQRT(0.995-0.947)*(1-EXP(0.1723*(((G24+G23)/2)-41.2))))^2)/2.3,0)","v":0.516704037520888},null,{"$f":"I24*K24","v":1.1445636748503992E-2},{"$f":"P23+O24","v":2.0114456367485039},null,null,1.6043852695039187E-2,{"$f":"T23+S24","v":1.0160438526950393},null,null,1.5197177574143765E-2,{"$f":"X23+W24","v":1.0151971775741437}]
[{"$f":"G101","v":5.5},null,{"$f":"P101","v":2.2999003824240902},{"$f":"T101","v":1.5056893973757672},{"$f":"X101","v":1.6480574584646404},null,{"$f":"G24-0.25","v":24.5},5.8823529411764705E-2,{"$f":"H25-H24","v":2.9411764705882353E-2},null,{"$f":"IF(G25>$J$15,(0.00033*(((G25+G24)/2)-5.6)*((6.5-2.8)*(1-EXP(0.5*(6.5-9.8)))*(36.7-0.9324)*(1-EXP(0.42*(-5-0.9324)))))^2,0)","v":0.37912238957378935},{"$f":"IF(G25>$J$16,(((0.175*(((G25+G24)/2)-1.5)*SQRT(0.995-0.92)*(1-EXP(0.4395*(((G25+G24)/2)-45)))))^2)/2.3,0)","v":0.53390114601918959},{"$f":"IF(G25>$J$17,((0.1709*(((G25+G24)/2)+6.1)*SQRT(0.995-0.947)*(1-EXP(0.1723*(((G25+G24)/2)-41.2))))^2)/2.3,0)","v":0.51113879318592725},null,1.1150658516876157E-2,{"$f":"P24+O25","v":2.0225962952653802},null,null,1.5702974882917341E-2,{"$f":"T24+S25","v":1.0317468275779567},null,null,1.5033493917233154E-2,{"$f":"X24+W25","v":1.0302306714913769}]
[{"$f":"G100","v":5.75},null,{"$f":"P100","v":2.2999003824240902},{"$f":"T100","v":1.5051896178196638},{"$f":"X100","v":1.6456035922131635},null,24.25,8.8235294117647065E-2,2.9411764705882359E-2,null,0.36922405998402202,0.52243377558375503,0.50544507521391735,null,1.085953117600065E-2,2.0334558264413807,null,null,1.5365699281875152E-2,1.0471125268598318,null,null,1.486603162393875E-2,1.0450967031153158]
[{"$f":"G99","v":6},null,{"$f":"P99","v":2.2998980526351849},{"$f":"T99","v":1.5046274231898304},{"$f":"X99","v":1.6430444595915756},null,24,0.11764705882352941,2.9411764705882346E-2,null,0.35945666067983356,0.51108916378230074,0.49963309561793362,null,1.0572254725877455E-2,2.0440280811672582,null,null,1.5032034228891194E-2,1.062144561088723,null,null,1.4695091047586279E-2,1.059791794162902]
[{"$f":"G98","v":6.25},null,{"$f":"P98","v":2.2998895614210761},{"$f":"T98","v":1.5039991420125614},{"$f":"X98","v":1.6403778934100461},null,23.75,0.14705882352941177,2.9411764705882359E-2,null,0.34982019166122391,0.49986756027377982,0.49371260813449069,null,1.0288829166506587E-2,2.0543169103337648,null,null,1.470198706687588E-2,1.0768465481555989,null,null,1.4520959062779141E-2,1.0743127532256811]
[{"$f":"G97","v":6.5},null,{"$f":"P97","v":2.2998710578910111},{"$f":"T97","v":1.5033011028144676},{"$f":"X97","v":1.6376017315805165},null,23.5,0.17647058823529413,2.9411764705882359E-2,null,0.34031465292819335,0.48876918491471738,0.48769292435601752,null,1.0009254497888042E-2,2.0643261648316531,null,null,1.4375564262197573E-2,1.0912221124177965,null,null,1.4343909539882871E-2,1.0886566627655641]
[{"$f":"G96","v":6.75},null,{"$f":"P96","v":2.2998386911542377},{"$f":"T96","v":1.5025296341225318},{"$f":"X96","v":1.634713817442407},null,23.25,0.20588235294117646,2.9411764705882332E-2,null,0.33094004448074166,0.47779423128635318,0.48158292974945738,null,9.7335307200218067E-3,2.074059695551675,null,null,1.4052771508422142E-2,1.1052748839262188,null,null,1.4164203816160501E-2,1.1028208665817245]
[{"$f":"G95","v":7},null,{"$f":"P95","v":2.2997886103200038},{"$f":"T95","v":1.5016810644641723},{"$f":"X95","v":1.6317120001078909},null,23,0.23529411764705882,2.9411764705882359E-2,null,0.32169636631886883,0.46694286980761318,0.47539109950113373,null,9.4616578329079094E-3,2.0835213533845831,null,null,1.373361381787098E-2,1.1190084977440897,null,null,1.3982091161798054E-2,1.1168029577435226]
[{"$f":"G94","v":7.25},null,{"$f":"P94","v":2.299716964497557},{"$f":"T94","v":1.5007517223673161},{"$f":"X94","v":1.6285941348278556},null,22.75,0.26470588235294118,2.9411764705882359E-2,null,0.31258361844257504,0.45621525048219264,0.46912551413703624,null,9.1936358365463274E-3,2.0927149892211294,null,null,1.3418095602417433E-2,1.1324265933465072,null,null,1.3797809239324598E-2,1.1306007669828471]
[{"$f":"G93","v":7.5},null,{"$f":"P93","v":2.2996199027961448},{"$f":"T93","v":1.4997379363604864},{"$f":"X93","v":1.6253580833797268},null,22.5,0.29411764705882354,2.9411764705882359E-2,null,0.30360180085186023,0.44561150532242505,0.46279387487570417,null,8.9294647309370676E-3,2.1016444539520664,null,null,1.310622074477721E-2,1.1455328140912844,null,null,1.3611584555167772E-2,1.1442123515380149]
[{"$f":"G92","v":7.75},null,{"$f":"P92","v":2.2994935743250151},{"$f":"T92","v":1.4986360349728995},{"$f":"X92","v":1.6220017144784005},null,22.25,0.3235294117647059,2.9411764705882359E-2,null,0.29475091354672428,0.43513175048769465,0.45640351867799828,null,8.6691445160801284E-3,2.1103135984681467,null,null,1.2797992661402786E-2,1.1583308067526872,null,null,1.3423632902294071E-2,1.157635984440309]
[{"$f":"G91","v":8},null,{"$f":"P91","v":2.2993341281934154},{"$f":"T91","v":1.4974423467345825},{"$f":"X91","v":1.6185229042115903},null,22,0.35294117647058826,2.9411764705882359E-2,null,0.28603095652716731,0.42477608817075047,0.44996143296436864,null,8.4126751919755115E-3,2.1187262736601222,null,null,1.2493414357963252E-2,1.1708242211106505,null,null,1.323415979306967E-2,1.1708701442333787]
[{"$f":"G90","v":8.25},null,{"$f":"P90","v":2.2991377135105933},{"$f":"T90","v":1.4961532001765048},{"$f":"X90","v":1.6149195365009716},null,21.75,0.38235294117647056,2.9411764705882304E-2,null,0.27744192979318916,0.41454460826142248,0.44347426997580658,null,8.1600567586231961E-3,2.1268863304187455,null,null,1.2192488478277112E-2,1.1830167095889277,null,null,1.3043360881641349E-2,1.18391350511502]
[{"$f":"G89","v":8.5},null,{"$f":"P89","v":2.2989004793857966},{"$f":"T89","v":1.4947649238307326},{"$f":"X89","v":1.6111895035905763},null,21.5,0.41176470588235292,2.9411764705882359E-2,null,0.26898383334479004,0.40443738981380772,0.43694836075960397,null,7.9112892160232377E-3,2.1347976196347687,null,null,1.1895217347464935E-2,1.1949119269363926,null,null,1.2851422375282473E-2,1.1967649274903025]
[{"$f":"G88","v":8.75},null,{"$f":"P88","v":2.2986185749282728},{"$f":"T88","v":1.4932738462306077},{"$f":"X88","v":1.6073307065639686},null,21.25,0.44117647058823528,2.9411764705882359E-2,null,0.26065666718196989,0.39445450233996598,0.43038972876538417,null,7.6663725641755867E-3,2.1424639921989441,null,null,1.1601603009999002E-2,1.2065135299463916,null,null,1.2658521434276008E-2,1.2094234489245785]
[{"$f":"G87","v":9},null,{"$f":"P87","v":2.29828814924727},{"$f":"T87","v":1.4916762959109526},{"$f":"X87","v":1.6033410558918177},null,21,0.47058823529411764,2.9411764705882359E-2,null,0.25246043130472862,0.38459600695047985,0.42380410304068805,null,7.4253068030802546E-3,2.1498892990020244,null,null,1.1311647263249409E-2,1.2178251772096411,null,null,1.246482656002024E-2,1.2218882754845988]
[{"$f":"G86","v":9.25},null,{"$f":"P86","v":2.2979053514520356},{"$f":"T86","v":1.4899686014083089},{"$f":"X86","v":1.5992184720115654},null,20.75,0.5,2.9411764705882359E-2,null,0.24439512571306626,0.37486195735986705,0.41719693101874022,null,7.1880919327372448E-3,2.1570773909347616,null,null,1.1025351687054916E-2,1.228850528896696,null,null,1.2270497971139421E-2,1.2341587734557382]
[{"$f":"G85","v":9.5},null,{"$f":"P85","v":2.297466330651817},{"$f":"T85","v":1.4881470912612105},{"$f":"X85","v":1.5949608859409767},null,20.5,0.52941176470588236,2.9411764705882359E-2,null,0.23646075040698289,0.3652524007727313,0.41057339089394834,null,6.9547279531465573E-3,2.1640321188879081,null,null,1.0742717669786217E-2,1.2395932465664823,null,null,1.2075687967469072E-2,1.2462344614232073]
[{"$f":"G84","v":9.75},null,{"$f":"P84","v":2.2969672359558624},{"$f":"T84","v":1.4862080940105005},{"$f":"X84","v":1.5905662399274598},null,20.25,0.55882352941176472,2.9411764705882359E-2,null,0.22865730538647838,0.35576737866468883,0.40393840358322086,null,6.7252148643081894E-3,2.1707573337522161,null,null,1.046374643131438E-2,1.2500569929977967,null,null,1.188054128185944E-2,1.2581150027050667]
[{"$f":"G83","v":10},null,{"$f":"P83","v":2.2964042164734191},{"$f":"T83","v":1.4841479381996949},{"$f":"X83","v":1.5860324881351344},null,20,0.58823529411764708,2.9411764705882359E-2,null,0.22098479065155283,0.34640692747046126,0.39729664427340144,null,6.499552666222143E-3,2.1772568864184381,null,null,1.0188439043248863E-2,1.2602454320410457,null,null,1.1685195419805927E-2,1.2698001981248725]
[{"$f":"G82","v":10.25},null,{"$f":"P82","v":2.2957734213137351},{"$f":"T82","v":1.481962952375403},{"$f":"X82","v":1.5813575973717375},null,19.75,0.61764705882352944,2.9411764705882359E-2,null,0.21344320620220619,0.33717107919008338,0.39065255355701073,null,6.2777413588884189E-3,2.1835346277773264,null,null,9.91679644676716E-3,1.2701622284878129,null,null,1.1489780986970906E-2,1.2812899791118435]
[{"$f":"G81","v":10.5},null,{"$f":"P81","v":2.2950709995860579},{"$f":"T81","v":1.4796494650878091},{"$f":"X81","v":1.5765395478575583},null,19.5,0.6470588235294118,2.9411764705882359E-2,null,0.20603255203843862,0.32805986192289105,0.38401034816011931,null,6.0597809423070196E-3,2.1895944087196333,null,null,9.6488194683203264E-3,1.2798110479561333,null,null,1.1294422004709394E-2,1.2925844011165528]
[{"$f":"G80","v":10.75},null,{"$f":"P80","v":2.294293100399635},{"$f":"T80","v":1.4772038048912297},{"$f":"X80","v":1.5715763340387128},null,19.25,0.67647058823529416,2.9411764705882359E-2,null,0.19875282816024986,0.31907330033781717,0.37737403126756752,null,5.8456714164779383E-3,2.1954400801361111,null,null,9.3845088334652133E-3,1.2891955567895985,null,null,1.1099236213751989E-2,1.3036836373303049]
[{"$f":"G79","v":11},null,{"$f":"P79","v":2.2934358728637143},{"$f":"T79","v":1.4746223003447516},{"$f":"X79","v":1.566465965447184},null,19,0.70588235294117652,2.9411764705882359E-2,null,0.19160403456764008,0.310211416087533,0.37074740245191135,null,5.6354127814011801E-3,2.2010754929175125,null,null,9.1238651790450896E-3,1.2983194219686436,null,null,1.0904335366232689E-2,1.3145879726965375]
[{"$f":"G78","v":11.25},null,{"$f":"P78","v":2.2924954660875434},{"$f":"T78","v":1.4719012800129674},{"$f":"X78","v":1.5612064676101809},null,18.75,0.73529411764705888,2.9411764705882359E-2,null,0.18458617126060919,0.30147422817308023,0.36413406721347463,null,5.4290050370767425E-3,2.2065044979545894,null,null,8.8668890639141268E-3,1.3071863110325577,null,null,1.0709825506278668E-2,1.3252977982028162]
[{"$f":"G77","v":11.5},null,{"$f":"P77","v":2.2914680291803702},{"$f":"T77","v":1.4690370724668187},{"$f":"X77","v":1.5557958830114975},null,18.5,0.76470588235294112,2.9411764705882248E-2,null,0.17769923823915723,0.29286175326486019,0.35753744613968486,null,5.2264481835046055E-3,2.2117309461380938,null,null,8.6135809783782109E-3,1.3157998920109359,null,null,1.0515807239402458E-2,1.3358136054422187]
[{"$f":"G76","v":11.75},null,{"$f":"P76","v":2.2903497112514422},{"$f":"T76","v":1.4660260062845667},{"$f":"X76","v":1.5502322721076909},null,18.25,0.79411764705882348,2.9411764705882359E-2,null,0.17094323550328427,0.28437400598515961,0.3509607836925473,null,5.0277422206848324E-3,2.2167586883587789,null,null,8.3639413525046953E-3,1.3241638333634407,null,null,1.0322375990957276E-2,1.3461359814331759]
[{"$f":"G75","v":12},null,{"$f":"P75","v":2.2891366614100073},{"$f":"T75","v":1.4628644100529047},{"$f":"X75","v":1.5445137144020398},null,18,0.82352941176470584,2.9411764705882359E-2,null,0.16431816305299018,0.27601099915677957,0.34440715663364052,null,4.8328871486173599E-3,2.2215915755073961,null,null,8.1179705634346951E-3,1.3322818039268753,null,null,1.0129622253930605E-2,1.3562656036871066]
[{"$f":"G74","v":12.25},null,{"$f":"P74","v":2.2878250287653126},{"$f":"T74","v":1.4595486123682355},{"$f":"X74","v":1.5386383095793923},null,17.75,0.8529411764705882,2.9411764705882359E-2,null,0.15782402088827502,0.26777274402179801,0.33787948209643159,null,4.641882967302207E-3,2.2262334584746983,null,null,7.8756689418175898E-3,1.3401574728686929,null,null,9.937631826365638E-3,1.3662032355134721]
[{"$f":"G73","v":12.5},null,{"$f":"P73","v":2.2864109624266065},{"$f":"T73","v":1.4560749418381367},{"$f":"X73","v":1.5326041787051696},null,17.5,0.88235294117647056,{"$f":"H53-H52","v":2.9411764705882359E-2},null,0.15146080900913889,0.25965925043401999,0.3313805253160243,null,4.45472967673938E-3,2.2306881881514378,null,null,7.6370367774711784E-3,1.3477945096461641,null,null,9.7464860387065991E-3,1.3759497215521788]
[{"$f":"G72","v":12.75},null,{"$f":"P72","v":2.284890611503136},{"$f":"T72","v":1.4524397270830398},{"$f":"X72","v":1.5264094654919502},null,{"$f":"G53-0.25","v":17.25},0.91176470588235292,2.9411764705882359E-2,null,0.14522852741558157,0.25167052702825038,0.32491290702667763,null,4.2714272769288708E-3,{"$f":"P53+O54","v":2.2349596154283669},null,null,7.4020743243603066E-3,{"$f":"T53+S54","v":1.3551965839705244},null,null,9.5562619713728744E-3,{"$f":"X53+W54","v":1.3855059835235517}]
[{"$f":"G71","v":13},null,{"$f":"P71","v":2.2832601251041491},{"$f":"T71","v":1.4486392967381567},{"$f":"X71","v":1.5200523376372337},null,17,0.94117647058823528,2.9411764705882359E-2,null,0.13912717610760325,0.24380658136915562,0.31847911053757483,null,4.0919757678706849E-3,2.2390515911962376,null,null,{"$f":"I55*L55","v":7.1707818049751666E-3},{"$f":"T54+S55","v":1.3623673657754996},null,null,{"$f":"I55*M55","v":9.3670326628698501E-3},{"$f":"X54+W55","v":1.3948730161864216}]
[{"$f":"G70","v":13.25},null,{"$f":"P70","v":2.2815156523388938},{"$f":"T70","v":1.4446699794556854},{"$f":"X70","v":1.5135309882361538},null,16.75,0.97058823529411764,2.9411764705882359E-2,null,0.13315675508520389,0.23606742008214923,0.31208148849739786,null,3.9163751495648212E-3,2.2429679663458026,null,null,6.9431594141808614E-3,1.3693105251896804,null,null,9.1788673087469987E-3,1.4040518834951685]
[{"$f":"G69","v":13.5},null,{"$f":"P69","v":2.2796533423166174},{"$f":"T69","v":1.440528103907337},{"$f":"X69","v":1.5068436372730976},null,16.5,1,2.9411764705882359E-2,null,0.12731726434838342,0.2284530489684527,0.30572226935828517,null,3.744625422011278E-3,2.2467125917678139,null,null,6.7192073226015519E-3,1.3760297325122819,null,null,8.9918314517142724E-3,1.4130437149468829]
[{"$f":"G68","v":13.75},null,{"$f":"P68","v":2.2776693441465676},{"$f":"T68","v":1.4362099987872288},{"$f":"X68","v":1.499988533196374},null,16.25,1.0294117647058822,2.9411764705882248E-2,null,0.12160870389714186,0.22096347310622474,0.29940356354970438,null,3.576726585210042E-3,2.2502893183530239,null,null,6.4989256795948223E-3,1.3825286581918768,null,null,8.8059871632265672E-3,1.4218497021101095]
[{"$f":"G67","v":14},null,{"$f":"P67","v":2.2755598069379923},{"$f":"T67","v":1.4317119928151958},{"$f":"X67","v":1.4929639545802811},null,16,1.0588235294117647,2.941176470588247E-2,null,0.11603107373147929,0.21359869693942879,0.29312736937270262,null,3.4126786391611695E-3,2.2537019969921852,null,null,6.2823146158655779E-3,1.3888109728077422,null,null,8.6213932168442298E-3,1.4304710953269537]
[{"$f":"G66","v":14.25},null,{"$f":"P66","v":2.273320879800139},{"$f":"T66","v":1.4270304147405799},{"$f":"X66","v":1.4857682118791165},null,15.75,1.088235294117647,2.9411764705882248E-2,null,0.11058437385139566,0.20635872435590988,0.2868955786248723,null,3.2524815838645667E-3,2.2569544785760498,null,null,6.0693742457620338E-3,1.3948803470535043,null,null,8.4381052536726849E-3,1.4389092005806263]
[{"$f":"G65","v":14.5},null,{"$f":"P65","v":2.2709487118422551},{"$f":"T65","v":1.4221615933465639},{"$f":"X65","v":1.4783996492778995},null,15.5,1.1176470588235294,2.941176470588247E-2,null,0.10526860425689091,0.19924355875597805,0.28070998196622399,null,3.0961354193203335E-3,2.2600506139953702,null,null,5.8601046692934953E-3,1.4007404517227977,null,null,8.2561759401830921E-3,1.4471653765208095]
[{"$f":"G64","v":14.75},null,{"$f":"P64","v":2.2684394521735887},{"$f":"T64","v":1.4171018574551275},{"$f":"X64","v":1.4708566466447868},null,15.25,1.1470588235294117,2.9411764705882248E-2,null,0.1000837649479651,0.19225320311263966,0.27457227403597939,null,2.9436401455283749E-3,2.2629942541408985,null,null,5.6545059739011461E-3,1.4063949576966988,null,null,8.075655118705248E-3,1.4552410316395148]
[{"$f":"G63","v":15},null,{"$f":"P63","v":2.2657892499033871},{"$f":"T63","v":1.4118475359327129},{"$f":"X63","v":1.4631376215904002},null,15,1.1764705882352942,2.941176470588247E-2,null,9.5029855924618267E-2,0.18538766002448215,0.26848405833009958,null,2.7949957624887837E-3,2.2657892499033871,null,null,5.4525782360142026E-3,1.4118475359327129,null,null,7.8965899508853139E-3,1.4631376215904002]
[{"$f":"G62","v":15.25},null,{"$f":"P62","v":2.2629942541408985},{"$f":"T62","v":1.4063949576966988},{"$f":"X62","v":1.4552410316395148},null,14.75,1.2058823529411764,2.9411764705882248E-2,null,9.0106877186850329E-2,0.17864693176209925,0.26244685184914474,null,2.6502022702014709E-3,2.2684394521735887,null,null,5.2543215224146655E-3,1.4171018574551275,null,null,7.7190250543865821E-3,1.4708566466447868]
[{"$f":"G61","v":15.5},null,{"$f":"P61","v":2.2600506139953702},{"$f":"T61","v":1.4007404517227977},{"$f":"X61","v":1.4471653765208095},null,14.5,1.2352941176470589,2.941176470588247E-2,null,8.5314828734661369E-2,0.17203102030883713,0.25646208952582694,null,2.5092596686665208E-3,2.2709487118422551,null,null,5.0597358914364066E-3,1.4221615933465639,null,null,7.5430026331125876E-3,1.4783996492778995]
[{"$f":"G60","v":15.75},null,{"$f":"P60","v":2.2569544785760498},{"$f":"T60","v":1.3948803470535043},{"$f":"X60","v":1.4389092005806263},null,14.25,1.2647058823529411,2.9411764705882248E-2,null,8.065371056805129E-2,0.16553992739654555,0.25053112844137798,null,2.3721679578838531E-3,2.273320879800139,null,null,4.8688213940160279E-3,1.4270304147405799,null,null,7.3685626012169733E-3,1.4857682118791165]
[{"$f":"G59","v":16},null,{"$f":"P59","v":2.2537019969921852},{"$f":"T59","v":1.3888109728077422},{"$f":"X59","v":1.4304710953269537},null,14,{"$f":"(G67-$H$11)/$H$10","v":1.2941176470588236},2.941176470588247E-2,null,7.612352268702019E-2,0.15917365453694315,0.24465525183959377,null,2.238927137853544E-3,2.2755598069379923,null,null,4.6815780746159935E-3,1.4317119928151958,null,null,7.1957427011645515E-3,1.4929639545802811]
[{"$f":"G58","v":16.25},null,{"$f":"P58","v":2.2502893183530239},{"$f":"T58","v":1.3825286581918768},{"$f":"X58","v":1.4218497021101095},null,13.75,1.3235294117647058,2.9411764705882248E-2,null,7.1724265091567985E-2,0.1529322030491248,0.23883567294716018,null,2.1095372085755213E-3,2.2776693441465676,null,null,4.4980059720330662E-3,1.4362099987872288,null,null,7.0245786160929215E-3,1.499988533196374]
[{"$f":"G57","v":16.5},null,{"$f":"P57","v":2.2467125917678139},{"$f":"T57","v":1.3760297325122819},{"$f":"X57","v":1.4130437149468829},null,13.5,1.3529411764705883,2.941176470588247E-2,null,6.745593778169473E-2,0.14681557408368173,0.23307353860860081,null,1.9839981700498529E-3,2.2796533423166174,null,null,4.3181051201083035E-3,1.440528103907337,null,null,6.8551040767235805E-3,1.5068436372730976]
[{"$f":"G56","v":16.75},null,{"$f":"P56","v":2.2429679663458026},{"$f":"T56","v":1.3693105251896804},{"$f":"X56","v":1.4040518834951685},null,13.25,1.3823529411764706,2.9411764705882248E-2,null,6.3318540757400427E-2,0.14082376864384633,0.22736993274391495,null,1.8623100222764765E-3,2.2815156523388938,null,null,4.1418755483484063E-3,1.4446699794556854,null,null,6.6873509630562987E-3,1.5135309882361538]
[{"$f":"G55","v":17},null,{"$f":"P55","v":2.2390515911962376},{"$f":"T55","v":1.3623673657754996},{"$f":"X55","v":1.3948730161864216},null,13,1.411764705882353,2.941176470588247E-2,null,5.9312074018685053E-2,0.13495678760402277,0.22172587963671017,null,1.7444727652554497E-3,2.2832601251041491,null,null,3.9693172824712738E-3,1.4486392967381567,null,null,6.5213494010797372E-3,1.5200523376372337]
[{"$f":"G54","v":17.25},null,{"$f":"P54","v":2.2349596154283669},{"$f":"T54","v":1.3551965839705244},{"$f":"X54","v":1.3855059835235517},null,{"$f":"G71-0.25","v":12.75},1.4411764705882353,2.9411764705882248E-2,null,5.5436537565548595E-2,0.12921463172602407,0.21614234706036106,null,1.6304863989867176E-3,2.284890611503136,null,null,3.8004303448830475E-3,1.4524397270830398,null,null,6.3571278547164796E-3,1.5264094654919502]
[{"$f":"G53","v":17.5},null,{"$f":"P53","v":2.2306881881514378},{"$f":"T53","v":1.3477945096461641},{"$f":"X53","v":1.3759497215521788},null,12.5,1.4705882352941178,2.941176470588247E-2,null,5.1691931397991081E-2,0.12359730167329401,0.21062024924946207,null,1.5203509234703321E-3,2.2864109624266065,null,null,3.6352147550968972E-3,1.4560749418381367,null,null,6.1947132132194977E-3,1.5326041787051696]
[{"$f":"G52","v":17.75},null,{"$f":"P52","v":2.2262334584746983},{"$f":"T52","v":1.3401574728686929},{"$f":"X52","v":1.3662032355134721},null,12.25,1.5,2.9411764705882248E-2,null,4.807825551601249E-2,0.11810479802336256,0.20516044972357486,null,1.4140663387062448E-3,2.2878250287653126,null,null,3.4736705300988865E-3,1.4595486123682355,null,null,6.0341308742227684E-3,1.5386383095793923]
[{"$f":"G51","v":18},null,{"$f":"P51","v":2.2215915755073961},{"$f":"T51","v":1.3322818039268753},{"$f":"X51","v":1.3562656036871066},null,12,1.5294117647058822,2.9411764705882248E-2,null,4.459550991961285E-2,0.11273712127874896,0.19976376397001153,null,1.311632644694491E-3,{"$f":"P74+O75","v":2.2891366614100073},null,null,3.3157976846690754E-3,{"$f":"T74+S75","v":1.4628644100529047},null,null,5.8754048226473772E-3,{"$f":"X74+W75","v":1.5445137144020398}]
[{"$f":"G50","v":18.25},null,{"$f":"P50","v":2.2167586883587789},{"$f":"T50","v":1.3241638333634407},{"$f":"X50","v":1.3461359814331759},null,11.75,1.5588235294117647,{"$f":"H76-H75","v":2.941176470588247E-2},null,4.1243694608792139E-2,0.10749427187650554,0.19443096199213733,null,1.2130498414350678E-3,2.2903497112514422,null,null,3.1615962316619401E-3,{"$f":"T75+S76","v":1.4660260062845667},null,null,5.7185577056511208E-3,{"$f":"X75+W76","v":1.5502322721076909}]
[{"$f":"G49","v":18.5},null,{"$f":"P49","v":2.2117309461380938},{"$f":"T49","v":1.3157998920109359},{"$f":"X49","v":1.3358136054422187},null,11.5,1.588235294117647,2.9411764705882248E-2,null,3.8022809583550352E-2,0.10237625019656743,0.18916277072942361,null,1.1183179289279475E-3,2.2914680291803702,null,null,3.0110661822519724E-3,1.4690370724668187,null,null,5.5636109038065575E-3,1.5557958830114975]
[{"$f":"G48","v":18.75},null,{"$f":"P48","v":2.2065044979545894},{"$f":"T48","v":1.3071863110325577},{"$f":"X48","v":1.3252977982028162},null,11.25,1.6176470588235294,2.941176470588247E-2,null,3.4932854843887522E-2,9.7383056569056464E-2,0.18395987635523695,null,1.0274369071731665E-3,2.2924954660875434,null,null,2.864207546148731E-3,1.4719012800129674,null,null,5.4105845986834608E-3,1.5612064676101809]
[{"$f":"G47","v":19},null,{"$f":"P47","v":2.2010754929175125},{"$f":"T47","v":1.2983194219686436},{"$f":"X47","v":1.3145879726965375},null,11,1.6470588235294117,2.9411764705882248E-2,null,3.1973830389803601E-2,9.2514691280667832E-2,0.17882292645810682,null,9.4040677617069084E-4,2.2934358728637143,null,null,2.7210203317843385E-3,1.4746223003447516,null,null,5.2594978370031232E-3,1.566465965447184]
[{"$f":"G46","v":19.25},null,{"$f":"P46","v":2.1954400801361111},{"$f":"T46","v":1.2891955567895985},{"$f":"X46","v":1.3036836373303049},null,10.75,1.6764705882352942,2.941176470588247E-2,null,2.9145736221298631E-2,8.7771154580253072E-2,0.1737525321119813,null,8.5722753592055144E-4,2.294293100399635,null,null,2.5815045464780417E-3,1.4772038048912297,null,null,5.110368591528882E-3,1.5715763340387128]
[{"$f":"G45","v":19.5},null,{"$f":"P45","v":2.1895944087196333},{"$f":"T45","v":1.2798110479561333},{"$f":"X45","v":1.2925844011165528},null,10.5,1.7058823529411764,2.9411764705882248E-2,null,2.644857233837258E-2,8.3152446683698977E-2,0.16874926984075,null,7.7789918642272022E-4,2.2950709995860579,null,null,2.4456601965793731E-3,1.4796494650878091,null,null,4.9632138188455705E-3,1.5765395478575583]
[{"$f":"G44","v":19.75},null,{"$f":"P44","v":2.1835346277773264},{"$f":"T44","v":1.2701622284878129},{"$f":"X44","v":1.2812899791118435},null,10.25,1.7352941176470589,2.941176470588247E-2,null,2.3882338741025473E-2,7.8658567778189678E-2,0.16381368348209219,null,7.0242172767722257E-4,2.2957734213137351,null,null,2.3134872875938232E-3,1.481962952375403,null,null,4.8180495141792014E-3,1.5813575973717375]
[{"$f":"G43","v":20},null,{"$f":"P43","v":2.1772568864184381},{"$f":"T43","v":1.2602454320410457},{"$f":"X43","v":1.2698001981248725},null,10,1.7647058823529411,2.9411764705882248E-2,null,2.14470354292573E-2,7.428951802592855E-2,0.15894628595549334,null,6.3079515968403603E-4,2.2964042164734191,null,null,2.1849858242920083E-3,1.4841479381996949,null,null,4.6748907633968467E-3,1.5860324881351344]
[{"$f":"G42","v":20.25},null,{"$f":"P42","v":2.1707573337522161},{"$f":"T42","v":1.2500569929977967},{"$f":"X42","v":1.2581150027050667},null,9.75,1.7941176470588236,2.941176470588247E-2,null,1.9142662403068059E-2,7.0045297567387574E-2,0.15414756093906151,null,5.6301948244318045E-4,2.2969672359558624,null,null,2.0601558108055253E-3,1.4862080940105005,null,null,4.5337517923253563E-3,1.5905662399274598]
[{"$f":"G41","v":20.5},null,{"$f":"P41","v":2.1640321188879081},{"$f":"T41","v":1.2395932465664823},{"$f":"X41","v":1.2462344614232073},null,9.5,1.8235294117647058,2.9411764705882248E-2,null,1.6969219662457756E-2,6.5925906524142819E-2,0.14941796445957814,null,4.9909469595463816E-4,2.297466330651817,null,null,1.938997250710076E-3,1.4881470912612105,null,null,4.3946460135169882E-3,1.5949608859409767]
[{"$f":"G40","v":20.75},null,{"$f":"P40","v":2.1570773909347616},{"$f":"T40","v":1.228850528896696},{"$f":"X40","v":1.2341587734557382},null,9.25,1.8529411764705883,2.941176470588247E-2,null,1.4926707207426384E-2,6.1931345001347733E-2,0.14475792640001692,null,4.3902080021842482E-4,2.2979053514520356,null,null,1.82151014709847E-3,1.4899686014083089,null,null,4.25758607058875E-3,1.5992184720115654]
[{"$f":"G39","v":21},null,{"$f":"P39","v":2.1498892990020244},{"$f":"T39","v":1.2178251772096411},{"$f":"X39","v":1.2218882754845988},null,9,1.8823529411764706,2.9411764705882248E-2,null,1.3015125037973942E-2,5.8061613089890336E-2,0.1401678519285815,null,3.8279779523452638E-4,2.29828814924727,null,null,{"$f":"I87*L87","v":1.7076945026438274E-3},1.4916762959109526,null,null,{"$f":"I87*M87","v":4.1225838802523822E-3},1.6033410558918177]
[{"$f":"G38","v":21.25},null,{"$f":"P38","v":2.1424639921989441},{"$f":"T38","v":1.2065135299463916},{"$f":"X38","v":1.2094234489245785},null,8.75,{"$f":"(G88-$H$11)/$H$10","v":1.911764705882353},2.941176470588247E-2,null,1.1234473154100443E-2,5.4316710868272958E-2,0.13564812285312758,null,{"$f":"I88*K88","v":3.3042568100295549E-4},2.2986185749282728,null,null,1.5975503196550933E-3,1.4932738462306077,null,null,3.9896506721508272E-3,1.6073307065639686]
[{"$f":"G37","v":21.5},null,{"$f":"P37","v":2.1347976196347687},{"$f":"T37","v":1.1949119269363926},{"$f":"X37","v":1.1967649274903025},null,{"$f":"G88-0.25","v":8.5},1.9411764705882353,{"$f":"H89-H88","v":2.9411764705882248E-2},null,{"$f":"IF(G89>$J$15,(0.00033*(((G89+G88)/2)-5.6)*((6.5-2.8)*(1-EXP(0.5*(6.5-9.8)))*(36.7-0.9324)*(1-EXP(0.42*(-5-0.9324)))))^2,0)","v":9.5847515558058708E-3},{"$f":"IF(G89>$J$16,(((0.175*(((G89+G88)/2)-1.5)*SQRT(0.995-0.92)*(1-EXP(0.4395*(((G89+G88)/2)-45)))))^2)/2.3,0)","v":5.0696638404250462E-2},{"$f":"IF(G89>$J$17,((0.1709*(((G89+G88)/2)+6.1)*SQRT(0.995-0.947)*(1-EXP(0.1723*(((G89+G88)/2)-41.2))))^2)/2.3,0)","v":0.13119909890466158},null,2.8190445752370108E-4,{"$f":"P88+O89","v":2.2989004793857966},null,null,1.4910776001250082E-3,1.4947649238307326,null,null,3.8587970266076798E-3,1.6111895035905763]
[{"$f":"G36","v":21.75},null,{"$f":"P36","v":2.1268863304187455},{"$f":"T36","v":1.1830167095889277},{"$f":"X36","v":1.18391350511502},null,8.25,1.9705882352941178,2.941176470588247E-2,null,8.0659602430902377E-3,4.7201395756256849E-2,0.12682111895344028,null,2.3723412479677265E-4,2.2991377135105933,null,null,1.3882763457722658E-3,1.4961532001765048,null,null,3.7300329103953172E-3,1.6149195365009716]
[{"$f":"G35","v":22},null,{"$f":"P35","v":2.1187262736601222},{"$f":"T35","v":1.1708242211106505},{"$f":"X35","v":1.1708701442333787},null,8,2,2.9411764705882248E-2,null,6.6780992159535344E-3,4.3830982974647166E-2,0.12251450216103232,null,1.9641468282216207E-4,2.2993341281934154,null,null,1.2891465580778532E-3,1.4974423467345825,null,null,3.6033677106185849E-3,1.6185229042115903]
[{"$f":"G34","v":22.25},null,{"$f":"P34","v":2.1103135984681467},{"$f":"T34","v":1.1583308067526872},{"$f":"X34","v":1.157635984440309},null,7.75,2.0294117647058822,2.9411764705882248E-2,null,5.4211684743957671E-3,4.0585400102778259E-2,0.11827954907154804,null,1.5944613159987495E-4,2.2994935743250151,null,null,1.1936882383170033E-3,1.4986360349728995,null,null,3.4788102668102242E-3,1.6220017144784005]
[{"$f":"G33","v":22.5},null,{"$f":"P33","v":2.1016444539520664},{"$f":"T33","v":1.1455328140912844},{"$f":"X33","v":1.1442123515380149},null,7.5,2.0588235294117645,2.9411764705882248E-2,null,4.295168018416934E-3,3.7464647177948653E-2,0.11411654264509592,null,1.2632847112990938E-4,2.2996199027961448,null,null,1.1019013875867211E-3,1.4997379363604864,null,null,3.3563689013263389E-3,1.6253580833797268]
[{"$f":"G32","v":22.75},null,{"$f":"P32","v":2.0927149892211294},{"$f":"T32","v":1.1324265933465072},{"$f":"X32","v":1.1306007669828471},null,7.25,2.0882352941176472,2.9411764705882693E-2,null,3.3000978480170352E-3,3.44687242322156E-2,0.11002574923637776,null,9.7061701412266862E-5,2.299716964497557,null,null,1.0137860068298824E-3,1.5007517223673161,null,null,3.2360514481287951E-3,1.6285941348278556]
[{"$f":"G31","v":23},null,{"$f":"P31","v":2.0835213533845831},{"$f":"T31","v":1.1190084977440897},{"$f":"X31","v":1.1168029577435226},null,7,2.1176470588235294,2.9411764705882248E-2,null,2.4359579631960701E-3,3.1597631293105111E-2,0.10600741952120002,null,7.1645822446942984E-5,2.2997886103200038,null,null,9.2934209685602938E-4,1.5016810644641723,null,null,3.1178652800352836E-3,1.6317120001078909]
[{"$f":"G30","v":23.25},null,{"$f":"P30","v":2.074059695551675},{"$f":"T30","v":1.1052748839262188},{"$f":"X30","v":1.1028208665817245},null,{"$f":"G95-0.25","v":6.75},2.1470588235294117,2.9411764705882248E-2,null,1.7027483639540388E-3,2.8851368384228526E-2,0.1020617893735461,null,5.0080834233942141E-5,2.2998386911542377,null,null,8.4856965835965951E-4,1.5025296341225318,null,null,3.0018173345160511E-3,1.634713817442407]
[{"$f":"G29","v":23.5},null,{"$f":"P29","v":2.0643261648316531},{"$f":"T29","v":1.0912221124177965},{"$f":"X29","v":1.0886566627655641},null,{"$f":"G96-0.25","v":6.5},2.1764705882352939,2.9411764705882248E-2,null,1.100469050290942E-3,2.622993552581766E-2,9.8189080695726974E-2,null,3.2366736773262884E-5,{"$f":"P96+O97","v":2.2998710578910111},null,null,7.7146869193581082E-4,{"$f":"T96+S97","v":1.5033011028144676},null,null,2.8879141381096068E-3,{"$f":"X96+W97","v":1.6376017315805165}]
[{"$f":"G28","v":23.75},null,{"$f":"P28","v":2.0543169103337648},{"$f":"T28","v":1.0768465481555989},{"$f":"X28","v":1.0743127532256811},null,6.25,2.2058823529411766,2.9411764705882693E-2,null,6.2912002220677889E-4,2.3733332735188999E-2,9.4389502204009934E-2,null,1.8503530064905474E-5,{"$f":"P97+O98","v":2.2998895614210761},null,null,6.9803919809380212E-4,{"$f":"T97+S98","v":1.5039991420125614},null,null,2.7761618295297362E-3,{"$f":"X97+W98","v":1.6403778934100461}]
[{"$f":"G27","v":24},null,{"$f":"P27","v":2.0440280811672582},{"$f":"T27","v":1.062144561088723},{"$f":"X27","v":1.059791794162902},null,6,2.2352941176470589,2.9411764705882248E-2,null,2.887012797015501E-4,2.1361560027146304E-2,9.0663250172005841E-2,null,8.4912141088690897E-6,2.2998980526351849,null,null,6.2828117726900672E-4,1.5046274231898304,null,null,2.6665661815295739E-3,1.6430444595915756]
[{"$f":"G26","v":24.25},null,{"$f":"P26","v":2.0334558264413807},{"$f":"T26","v":1.0471125268598318},{"$f":"X26","v":1.0450967031153158},null,5.75,2.2647058823529411,2.9411764705882248E-2,null,7.921282277525533E-5,1.911461741432929E-2,8.7010509133988265E-2,null,2.3297889051545602E-6,2.2999003824240902,null,null,5.621946298332124E-4,1.5051896178196638,null,null,2.559132621587881E-3,1.6456035922131635]
[{"$f":"G25","v":24.5},null,{"$f":"P25","v":2.0225962952653802},{"$f":"T25","v":1.0317468275779567},{"$f":"X25","v":1.0302306714913769},null,5.5,2.2941176470588234,2.9411764705882248E-2,null,0,1.6992504907515658E-2,8.3431452550209242E-2,null,0,2.2999003824240902,null,null,4.9977955610339998E-4,1.5056893973757672,null,null,2.4538662514767338E-3,1.6480574584646404]
[{"$f":"G24","v":24.75},null,{"$f":"P24","v":2.0114456367485039},{"$f":"T24","v":1.0160438526950393},{"$f":"X24","v":1.0151971775741437},null,5.25,2.3235294117647061,2.9411764705882693E-2,null,0,1.4995222515882417E-2,7.9926243436178462E-2,null,0,2.2999003824240902,null,null,4.4103595634948793E-4,1.5061304333321168,null,null,2.3507718657699819E-3,1.6504082303304104]
[{"$f":"G23","v":25},null,{"$f":"P23","v":2},{"$f":"T23","v":1},{"$f":"X23","v":1},null,5,2.3529411764705883,2.9411764705882248E-2,null,0,1.3122770247231881E-2,7.6495034957773558E-2,null,0,2.2999003824240902,null,null,3.8596383080093631E-4,1.5065163971629179,null,null,2.249853969346273E-3,1.6526580842997567]

{"sheet":"2nd milking (D)","index":9,"n_rows":103,"n_cols":38,"rows_kept":103,"cut":false,"hidden":false,"merged":[]}
[]
["Entry",null,null,null,"Milk cooling curve (2nd milking)"]
[]
["Milking",{"$f":"EMCI!F9","v":1},2,null,"T","t"]
["Time",{"$f":"EMCI!F11/60","v":0.5},null,null,15,0]
["Milk T",{"$f":"EMCI!F13","v":20},null,null,5,{"$f":"(E6-25)/-8.5","v":2.3529411764705883}]
["Volume",{"$f":"EMCI!F31","v":0},"D"]
[]
[]
["Outcome",{"$f":"IF(OR(B6>E5,B6<E6,B5>2.35),\"out\",LOOKUP(B6,A23:A103,B23:B103))","v":"out"},null,null,"slope ",-4.25]
[null,null,null,null,"intercept",15]
[]
[]
[null,null,null,null,null,"No (logs)","Nf (logs)","Tmin",null,"N after milk (logs)","GR at 5C","Growth storage","N after stroage (logs)"]
[null,null,null,null,"S aureus",{"$f":"'1st milking (D)'!M15","v":2.2999003824240902},{"$f":"'1st milking (D)'!G15","v":5},5.6,null,{"$f":"R63","v":2.3681226474654968},{"$f":"I103","v":0},{"$f":"K15*(12-$F$6)","v":0},{"$f":"J15+L15","v":2.3681226474654968}]
[null,null,null,null,"B cereus",{"$f":"'1st milking (D)'!M16","v":1.6245322964232896},{"$f":"'1st milking (D)'!G16","v":5},1.5,null,{"$f":"W63","v":1.8138700188837003},1.2233355411136097E-2,{"$f":"K16*(12-$F$6)","v":0.11801589926037176},{"$f":"J16+L16","v":1.931885918144072}]
[null,null,null,null,"Pseudo",{"$f":"'1st milking (D)'!M17","v":2.3743277965238057},{"$f":"'1st milking (D)'!G17","v":6},-6.1,null,{"$f":"AB63","v":2.7533687219425178},7.4807226267127047E-2,{"$f":"K17*(12-$F$6)","v":0.72166971222404908},{"$f":"J17+L17","v":3.4750384341665668}]
[]
[]
[]
["Lookup function",null,null,null,"Cooling curve profile",null,null,null,"Growth (log/h) during cooling",null,null,null,"Growth (log/h) to calculate NMTL",null,null,null,"Saureus","Growth acc",null,"Time to NMTL (depending on initial logs)",null,"B cereus","Growth acc",null,"Time to NMTL (depending on initial logs)",null,"Pseudo","Growth acc",null,"Time to NMTL (depending on initial logs)",null,"NMTL","NMTL","NMTL","NMTL","NMTL",null,"NMTL"]
[{"$f":"E22","v":"Temp"},"NMTL",null,null,"Temp","Time","Time interval",null,"S. aureus","B.cereus","Pseudo",null,"S. aureus","B.cereus","Pseudo",null,"Growth interval",{"$f":"F15","v":2.2999003824240902},null,{"$f":"R22","v":2.2999003824240902},null,"Growth interval",{"$f":"F16","v":1.6245322964232896},null,{"$f":"W22","v":1.6245322964232896},null,"Growth interval",{"$f":"F17","v":2.3743277965238057},null,{"$f":"AB22","v":2.3743277965238057},null,"Shorter of 3 microorganisms","B. cereus","S. aureus","Pseudo","Food Safety",null,"Entry"]
[{"$f":"E63","v":5},{"$f":"AL63","v":260.44612242818891},null,null,{"$f":"E5","v":15},{"$f":"(E23-$F$11)/$F$10","v":0},{"$f":"F23","v":0},null,{"$f":"IF(E23>H15,(0.00033*(E23-5.6)*((6.5-2.8)*(1-EXP(0.5*(6.5-9.8)))*(36.7-0.9324)*(1-EXP(0.42*(-5-0.9324)))))^2,0)","v":9.2552000270036947E-2},{"$f":"IF(E23>$H$16,(((0.175*(E23-1.5)*SQRT(0.995-0.92)*(1-EXP(0.4395*(E23-45)))))^2)/2.3,0)","v":0.18200169390981913},{"$f":"IF(E23>$H$17,((0.1709*(E23+6.1)*SQRT(0.995-0.947)*(1-EXP(0.1723*(E23-41.2))))^2)/2.3,0)","v":0.26545898738016671},null,{"$f":"IF(E23>$H$15,(0.00033*(E23-5.6)*((6.5-2.8)*(1-EXP(0.5*(6.5-9.8)))*(36.7-0.9324)*(1-EXP(0.42*(-5-0.9324)))))^2,0)","v":9.2552000270036947E-2},{"$f":"IF(E23>$H$16,(((0.175*(E23-1.5)*SQRT(0.995-0.92)*(1-EXP(0.4395*(E23-45)))))^2)/2.3,0)","v":0.18200169390981913},{"$f":"IF(E23>$H$17,((0.1709*(E23+6.1)*SQRT(0.995-0.947)*(1-EXP(0.1723*(E23-41.2))))^2)/2.3,0)","v":0.26545898738016671},null,{"$f":"G23*I23","v":0},{"$f":"R22","v":2.2999003824240902},null,{"$f":"($G$15-R23)/M23","v":29.173865607419486},null,{"$f":"G23*J23","v":0},{"$f":"W22","v":1.6245322964232896},null,{"$f":"($G$16-W23)/N23","v":18.546353229268494},null,{"$f":"G23*K23","v":0},{"$f":"AB22","v":2.3743277965238057},null,{"$f":"($G$17-AB23)/O23","v":13.658125645916932},null,{"$f":"+MIN(AG23:AI23)","v":13.658125645916932},{"$f":"Y23","v":18.546353229268494},{"$f":"T23","v":29.173865607419486},{"$f":"AD23","v":13.658125645916932},{"$f":"MIN(AG23:AH23)","v":18.546353229268494},null,{"$f":"IF(EMCI!$F$27=\"A\",'2nd milking (D)'!AF23,IF(EMCI!$F$27=\"B\",'2nd milking (D)'!AG23,IF(EMCI!$F$27=\"S\",'2nd milking (D)'!AH23,IF(EMCI!$F$27=\"P\",'2nd milking (D)'!AI23,IF(EMCI!$F$27=\"FS\",'2nd milking (D)'!AJ23,\"error\")))))","v":18.546353229268494}]
[{"$f":"E62","v":5.25},{"$f":"AL62","v":226.93247963493437},null,null,{"$f":"E23-0.25","v":14.75},{"$f":"(E24-$F$11)/$F$10","v":5.8823529411764705E-2},{"$f":"F24-F23","v":5.8823529411764705E-2},null,{"$f":"IF(E24>$H$15,(0.00033*(((E24+E23)/2)-5.6)*((6.5-2.8)*(1-EXP(0.5*(6.5-9.8)))*(36.7-0.9324)*(1-EXP(0.42*(-5-0.9324)))))^2,0)","v":9.0106877186850329E-2},{"$f":"IF(E24>$H$16,(((0.175*(((E24+E23)/2)-1.5)*SQRT(0.995-0.92)*(1-EXP(0.4395*(((E24+E23)/2)-45)))))^2)/2.3,0)","v":0.17864693176209925},{"$f":"IF(E24>$H$17,((0.1709*(((E24+E23)/2)+6.1)*SQRT(0.995-0.947)*(1-EXP(0.1723*(((E24+E23)/2)-41.2))))^2)/2.3,0)","v":0.26244685184914474},null,{"$f":"IF(E24>$H$15,(0.00033*(E24-5.6)*((6.5-2.8)*(1-EXP(0.5*(6.5-9.8)))*(36.7-0.9324)*(1-EXP(0.42*(-5-0.9324)))))^2,0)","v":8.7694486675058483E-2},{"$f":"IF(E24>$H$16,(((0.175*(E24-1.5)*SQRT(0.995-0.92)*(1-EXP(0.4395*(E24-45)))))^2)/2.3,0)","v":0.17532337382058064},{"$f":"IF(E24>$H$17,((0.1709*(E24+6.1)*SQRT(0.995-0.947)*(1-EXP(0.1723*(E24-41.2))))^2)/2.3,0)","v":0.25944782857356635},null,5.3004045404029601E-3,{"$f":"R23+Q24","v":2.3052007869644933},null,{"$f":"IF(M24=0,T23,($G$15-R24)/M24)","v":30.72940289873371},null,1.0508643044829367E-2,{"$f":"W23+V24","v":1.6350409394681189},null,{"$f":"($G$16-W24)/N24","v":19.1928719326121},null,1.543805010877322E-2,{"$f":"AB23+AA24","v":2.3897658466325788},null,{"$f":"($G$17-AB24)/O24","v":13.915067908705739},null,{"$f":"+MIN(AG24:AI24)","v":13.915067908705739},19.1928719326121,30.72940289873371,13.915067908705739,{"$f":"MIN(AG24:AH24)","v":19.1928719326121},null,{"$f":"IF(EMCI!$F$27=\"A\",'2nd milking (D)'!AF24,IF(EMCI!$F$27=\"B\",'2nd milking (D)'!AG24,IF(EMCI!$F$27=\"S\",'2nd milking (D)'!AH24,IF(EMCI!$F$27=\"P\",'2nd milking (D)'!AI24,IF(EMCI!$F$27=\"FS\",'2nd milking (D)'!AJ24,\"error\")))))","v":19.1928719326121}]
[{"$f":"E61","v":5.5},{"$f":"AL61","v":199.50758038156758},null,null,{"$f":"E24-0.25","v":14.5},0.11764705882352941,{"$f":"F25-F24","v":5.8823529411764705E-2},null,{"$f":"IF(E25>$H$15,(0.00033*(((E25+E24)/2)-5.6)*((6.5-2.8)*(1-EXP(0.5*(6.5-9.8)))*(36.7-0.9324)*(1-EXP(0.42*(-5-0.9324)))))^2,0)","v":8.5314828734661369E-2},{"$f":"IF(E25>$H$16,(((0.175*(((E25+E24)/2)-1.5)*SQRT(0.995-0.92)*(1-EXP(0.4395*(((E25+E24)/2)-45)))))^2)/2.3,0)","v":0.17203102030883713},{"$f":"IF(E25>$H$17,((0.1709*(((E25+E24)/2)+6.1)*SQRT(0.995-0.947)*(1-EXP(0.1723*(((E25+E24)/2)-41.2))))^2)/2.3,0)","v":0.25646208952582694},null,8.2967903365658943E-2,0.16876987143576827,0.25348980194113641,null,5.0185193373330217E-3,{"$f":"R24+Q25","v":2.3102193063018261},null,{"$f":"IF(M25=0,T24,($G$15-R25)/M25)","v":32.419533151798255},null,1.0119471782872771E-2,{"$f":"W24+V25","v":1.6451604112509917},null,19.878190107088034,null,1.5086005266225114E-2,{"$f":"AB24+AA25","v":2.4048518518988038},null,{"$f":"($G$17-AB25)/O25","v":14.182614529542439},null,14.182614529542439,19.878190107088034,32.419533151798255,14.182614529542439,19.878190107088034,null,{"$f":"IF(EMCI!$F$27=\"A\",'2nd milking (D)'!AF25,IF(EMCI!$F$27=\"B\",'2nd milking (D)'!AG25,IF(EMCI!$F$27=\"S\",'2nd milking (D)'!AH25,IF(EMCI!$F$27=\"P\",'2nd milking (D)'!AI25,IF(EMCI!$F$27=\"FS\",'2nd milking (D)'!AJ25,\"error\")))))","v":19.878190107088034}]
[{"$f":"E60","v":5.75},{"$f":"AL60","v":176.78185337780414},null,null,14.25,0.17647058823529413,5.8823529411764719E-2,null,8.065371056805129E-2,0.16553992739654555,0.25053112844137798,null,7.8372250341838381E-2,0.16234118837349831,0.24758622715594111,null,4.7443359157677244E-3,2.3149636422175939,null,34.26003905809786,null,9.7376427880320939E-3,1.6548980540390237,null,20.605380430411174,null,1.4737125202434002E-2,2.4195889771012378,null,14.461268964867161,null,14.461268964867161,20.605380430411174,34.26003905809786,14.461268964867161,20.605380430411174,null,{"$f":"IF(EMCI!$F$27=\"A\",'2nd milking (D)'!AF26,IF(EMCI!$F$27=\"B\",'2nd milking (D)'!AG26,IF(EMCI!$F$27=\"S\",'2nd milking (D)'!AH26,IF(EMCI!$F$27=\"P\",'2nd milking (D)'!AI26,IF(EMCI!$F$27=\"FS\",'2nd milking (D)'!AJ26,\"error\")))))","v":20.605380430411174}]
[{"$f":"E59","v":6},{"$f":"AL59","v":157.74065035373047},null,null,14,0.23529411764705882,5.8823529411764691E-2,null,7.612352268702019E-2,0.15917365453694315,0.24465525183959377,null,7.3907527603596743E-2,{"$f":"IF(E27>$H$16,(((0.175*(E27-1.5)*SQRT(0.995-0.92)*(1-EXP(0.4395*(E27-45)))))^2)/2.3,0)","v":0.15603732604596116},{"$f":"IF(E27>$H$17,((0.1709*(E27+6.1)*SQRT(0.995-0.947)*(1-EXP(0.1723*(E27-41.2))))^2)/2.3,0)","v":0.24173835198745908},null,4.477854275707069E-3,2.319441496493301,null,36.269086389736685,null,9.3631561492319472E-3,1.6642612101882557,null,21.377825898075148,null,1.4391485402329042E-2,2.433980462503567,null,14.751567172433736,null,14.751567172433736,21.377825898075148,36.269086389736685,14.751567172433736,21.377825898075148,null,{"$f":"IF(EMCI!$F$27=\"A\",'2nd milking (D)'!AF27,IF(EMCI!$F$27=\"B\",'2nd milking (D)'!AG27,IF(EMCI!$F$27=\"S\",'2nd milking (D)'!AH27,IF(EMCI!$F$27=\"P\",'2nd milking (D)'!AI27,IF(EMCI!$F$27=\"FS\",'2nd milking (D)'!AJ27,\"error\")))))","v":21.377825898075148}]
[{"$f":"E58","v":6.25},{"$f":"AL58","v":141.62909555312504},null,null,13.75,0.29411764705882354,5.8823529411764719E-2,null,7.1724265091567985E-2,0.1529322030491248,0.23883567294716018,null,6.9573735150934013E-2,0.1498582856851797,0.23594735602819444,null,4.2190744171510591E-3,2.3236605709104521,null,38.467669204240195,null,8.9960119440661672E-3,1.6732572221323219,null,22.199258203556759,null,1.4049157232185897E-2,2.4480296197357529,null,15.0540800289358,null,15.0540800289358,22.199258203556759,38.467669204240195,15.0540800289358,22.199258203556759,null,{"$f":"IF(EMCI!$F$27=\"A\",'2nd milking (D)'!AF28,IF(EMCI!$F$27=\"B\",'2nd milking (D)'!AG28,IF(EMCI!$F$27=\"S\",'2nd milking (D)'!AH28,IF(EMCI!$F$27=\"P\",'2nd milking (D)'!AI28,IF(EMCI!$F$27=\"FS\",'2nd milking (D)'!AJ28,\"error\")))))","v":22.199258203556759}]
[{"$f":"E57","v":6.5},{"$f":"AL57","v":127.87617904667448},null,null,13.5,0.35294117647058826,5.8823529411764719E-2,null,6.745593778169473E-2,0.14681557408368173,0.23307353860860081,null,6.5370872983850206E-2,0.14380406836559409,0.23021435423897771,null,3.9679963400996911E-3,2.3276285672505517,null,40.880155194036561,null,8.6362102402165741E-3,1.6818934323725385,null,23.07380177306122,null,1.3710208153447109E-2,2.4617398278892,null,15.369415968032351,null,15.369415968032351,23.07380177306122,40.880155194036561,15.369415968032351,23.07380177306122,null,{"$f":"IF(EMCI!$F$27=\"A\",'2nd milking (D)'!AF29,IF(EMCI!$F$27=\"B\",'2nd milking (D)'!AG29,IF(EMCI!$F$27=\"S\",'2nd milking (D)'!AH29,IF(EMCI!$F$27=\"P\",'2nd milking (D)'!AI29,IF(EMCI!$F$27=\"FS\",'2nd milking (D)'!AJ29,\"error\")))))","v":23.07380177306122}]
[{"$f":"E56","v":6.75},{"$f":"AL56","v":116.04352095118738},null,null,13.25,0.41176470588235292,5.8823529411764663E-2,null,6.3318540757400427E-2,0.14082376864384633,0.22736993274391495,null,6.1298941102345371E-2,0.13787467502385675,0.22454040032089267,null,3.7246200445529634E-3,2.3313531872951048,null,43.534957777644053,null,8.283751096696837E-3,1.6901771834692354,null,24.006024427314578,null,1.3374701926112635E-2,2.4751145298153125,null,15.698223861484358,null,15.698223861484358,24.006024427314578,43.534957777644053,15.698223861484358,24.006024427314578,null,{"$f":"IF(EMCI!$F$27=\"A\",'2nd milking (D)'!AF30,IF(EMCI!$F$27=\"B\",'2nd milking (D)'!AG30,IF(EMCI!$F$27=\"S\",'2nd milking (D)'!AH30,IF(EMCI!$F$27=\"P\",'2nd milking (D)'!AI30,IF(EMCI!$F$27=\"FS\",'2nd milking (D)'!AJ30,\"error\")))))","v":24.006024427314578}]
[{"$f":"E55","v":7},{"$f":"AL55","v":105.79005064187278},null,null,13,0.47058823529411764,5.8823529411764719E-2,null,5.9312074018685053E-2,0.13495678760402277,0.22172587963671017,null,5.7357939506419459E-2,0.13207010647617853,0.21892648992149663,null,3.4889455305108863E-3,2.3348421328256155,null,46.46536974843913,null,7.9386345649425181E-3,1.698115818034178,null,25.000995835203501,null,1.3042698802159424E-2,2.4881572286174718,null,16.041196168822768,null,16.041196168822768,25.000995835203501,46.46536974843913,16.041196168822768,25.000995835203501,null,{"$f":"IF(EMCI!$F$27=\"A\",'2nd milking (D)'!AF31,IF(EMCI!$F$27=\"B\",'2nd milking (D)'!AG31,IF(EMCI!$F$27=\"S\",'2nd milking (D)'!AH31,IF(EMCI!$F$27=\"P\",'2nd milking (D)'!AI31,IF(EMCI!$F$27=\"FS\",'2nd milking (D)'!AJ31,\"error\")))))","v":25.000995835203501}]
[{"$f":"E54","v":7.25},{"$f":"AL54","v":96.847192035148197},null,null,12.75,0.52941176470588236,5.8823529411764719E-2,null,5.5436537565548595E-2,0.12921463172602407,0.21614234706036106,null,5.3547868196072462E-2,0.12639036343352611,0.21337356368273519,null,3.2609727979734473E-3,2.3381031056235888,null,49.710604437687991,null,7.6008606897661236E-3,1.7057166787239442,null,26.064355159550235,null,1.2714255709433006E-2,2.5008714843269049,null,16.399072384036963,null,16.399072384036963,26.064355159550235,49.710604437687991,16.399072384036963,26.064355159550235,null,{"$f":"IF(EMCI!$F$27=\"A\",'2nd milking (D)'!AF32,IF(EMCI!$F$27=\"B\",'2nd milking (D)'!AG32,IF(EMCI!$F$27=\"S\",'2nd milking (D)'!AH32,IF(EMCI!$F$27=\"P\",'2nd milking (D)'!AI32,IF(EMCI!$F$27=\"FS\",'2nd milking (D)'!AJ32,\"error\")))))","v":26.064355159550235}]
[{"$f":"E53","v":7.5},{"$f":"AL53","v":89.001129552880712},null,null,12.5,0.58823529411764708,5.8823529411764719E-2,null,5.1691931397991081E-2,0.12359730167329401,0.21062024924946207,null,4.9868727171304417E-2,0.12083544651493101,0.20788251013768322,null,3.0407018469406524E-3,2.3411438074705293,null,53.317105595978319,null,7.2704295101937667E-3,1.7129871082341379,null,27.202389584911266,null,1.2389426426438949E-2,2.5132609107533437,null,16.77264281125596,null,16.77264281125596,27.202389584911266,53.317105595978319,16.77264281125596,27.202389584911266,null,{"$f":"IF(EMCI!$F$27=\"A\",'2nd milking (D)'!AF33,IF(EMCI!$F$27=\"B\",'2nd milking (D)'!AG33,IF(EMCI!$F$27=\"S\",'2nd milking (D)'!AH33,IF(EMCI!$F$27=\"P\",'2nd milking (D)'!AI33,IF(EMCI!$F$27=\"FS\",'2nd milking (D)'!AJ33,\"error\")))))","v":27.202389584911266}]
[{"$f":"E52","v":7.75},{"$f":"AL52","v":82.07993643908911},null,null,12.25,0.6470588235294118,5.8823529411764719E-2,null,4.807825551601249E-2,0.11810479802336256,0.20516044972357486,null,4.6320516432115315E-2,0.11540535625914415,0.2024541684629837,null,2.8281326774124999E-3,2.343971940147942,null,57.340208279943944,null,6.9473410601977991E-3,1.7199344492943358,null,28.42212577499641,null,1.2068261748445584E-2,2.5253291725017895,null,17.162752705353718,null,17.162752705353718,28.42212577499641,57.340208279943944,17.162752705353718,28.42212577499641,null,{"$f":"IF(EMCI!$F$27=\"A\",'2nd milking (D)'!AF34,IF(EMCI!$F$27=\"B\",'2nd milking (D)'!AG34,IF(EMCI!$F$27=\"S\",'2nd milking (D)'!AH34,IF(EMCI!$F$27=\"P\",'2nd milking (D)'!AI34,IF(EMCI!$F$27=\"FS\",'2nd milking (D)'!AJ34,\"error\")))))","v":28.42212577499641}]
[{"$f":"E51","v":8},{"$f":"AL51","v":75.944099407915218},null,null,12,0.70588235294117652,5.8823529411764719E-2,null,4.459550991961285E-2,0.11273712127874896,0.19976376397001153,null,4.2903235978505136E-2,0.11010009313483672,0.19708933109359619,null,2.6232652893889916E-3,2.3465952054373309,null,61.846262503183816,null,6.631595369338176E-3,1.7265660446636739,null,29.731436751170019,null,1.1750809645294798E-2,2.5370799821470844,null,17.570306817919036,null,17.570306817919036,29.731436751170019,61.846262503183816,17.570306817919036,29.731436751170019,null,{"$f":"IF(EMCI!$F$27=\"A\",'2nd milking (D)'!AF35,IF(EMCI!$F$27=\"B\",'2nd milking (D)'!AG35,IF(EMCI!$F$27=\"S\",'2nd milking (D)'!AH35,IF(EMCI!$F$27=\"P\",'2nd milking (D)'!AI35,IF(EMCI!$F$27=\"FS\",'2nd milking (D)'!AJ35,\"error\")))))","v":29.731436751170019}]
[{"$f":"E50","v":8.25},{"$f":"AL50","v":70.479452752903754},null,null,11.75,0.76470588235294112,5.8823529411764608E-2,null,4.1243694608792139E-2,0.10749427187650554,0.19443096199213733,null,3.961688581047388E-2,0.10491965754952723,0.19178874620621136,null,2.4260996828701217E-3,2.3490213051202011,null,66.915373095250587,null,6.3231924633238446E-3,1.7328892371269977,null,31.139167236899965,null,1.1437115411302178E-2,2.5485170975583866,null,17.996274394174186,null,17.996274394174186,31.139167236899965,66.915373095250587,17.996274394174186,31.139167236899965,null,{"$f":"IF(EMCI!$F$27=\"A\",'2nd milking (D)'!AF36,IF(EMCI!$F$27=\"B\",'2nd milking (D)'!AG36,IF(EMCI!$F$27=\"S\",'2nd milking (D)'!AH36,IF(EMCI!$F$27=\"P\",'2nd milking (D)'!AI36,IF(EMCI!$F$27=\"FS\",'2nd milking (D)'!AJ36,\"error\")))))","v":31.139167236899965}]
[{"$f":"E49","v":8.5},{"$f":"AL49","v":65.591846308131366},null,null,11.5,0.82352941176470584,5.8823529411764719E-2,null,3.8022809583550352E-2,0.10237625019656743,0.18916277072942361,null,3.6461465928021568E-2,9.9864049857391432E-2,0.18655312007743888,null,2.2366358578559033E-3,2.3512579409780572,null,72.644968917344514,null,6.0221323645039682E-3,1.7389113694915017,null,32.65528120645439,null,1.1127221807613157E-2,2.5596443193659999,null,18.441694672305111,null,18.441694672305111,32.65528120645439,72.644968917344514,18.441694672305111,32.65528120645439,null,{"$f":"IF(EMCI!$F$27=\"A\",'2nd milking (D)'!AF37,IF(EMCI!$F$27=\"B\",'2nd milking (D)'!AG37,IF(EMCI!$F$27=\"S\",'2nd milking (D)'!AH37,IF(EMCI!$F$27=\"P\",'2nd milking (D)'!AI37,IF(EMCI!$F$27=\"FS\",'2nd milking (D)'!AJ37,\"error\")))))","v":32.65528120645439}]
[{"$f":"E48","v":8.75},{"$f":"AL48","v":61.203077535291882},null,null,11.25,0.88235294117647056,5.8823529411764719E-2,null,3.4932854843887522E-2,9.7383056569056464E-2,0.18395987635523695,null,3.3436976331148192E-2,9.4933270366092032E-2,0.18138311932263304,null,2.0548738143463252E-3,2.3533128147924036,null,79.154501262187296,null,5.7284150922974402E-3,1.7446397845837991,null,34.291036249594328,null,1.0821169197366882E-2,2.5704654885633667,null,18.907682943396679,null,18.907682943396679,34.291036249594328,79.154501262187296,18.907682943396679,34.291036249594328,null,{"$f":"IF(EMCI!$F$27=\"A\",'2nd milking (D)'!AF38,IF(EMCI!$F$27=\"B\",'2nd milking (D)'!AG38,IF(EMCI!$F$27=\"S\",'2nd milking (D)'!AH38,IF(EMCI!$F$27=\"P\",'2nd milking (D)'!AI38,IF(EMCI!$F$27=\"FS\",'2nd milking (D)'!AJ38,\"error\")))))","v":34.291036249594328}]
[{"$f":"E47","v":9},{"$f":"AL47","v":57.24775647186452},null,null,11,0.94117647058823528,5.8823529411764719E-2,null,3.1973830389803601E-2,9.2514691280667832E-2,0.17882292645810682,null,3.054341701985375E-2,9.0127319342750936E-2,0.17627937302097987,null,1.8808135523413886E-3,2.355193628344745,null,86.59169895549293,null,5.4420406635686969E-3,1.7500818252473678,null,36.059190470242555,null,1.0518995674006286E-2,2.5809844842373728,null,19.395437237887801,null,19.395437237887801,36.059190470242555,86.59169895549293,19.395437237887801,36.059190470242555,null,{"$f":"IF(EMCI!$F$27=\"A\",'2nd milking (D)'!AF39,IF(EMCI!$F$27=\"B\",'2nd milking (D)'!AG39,IF(EMCI!$F$27=\"S\",'2nd milking (D)'!AH39,IF(EMCI!$F$27=\"P\",'2nd milking (D)'!AI39,IF(EMCI!$F$27=\"FS\",'2nd milking (D)'!AJ39,\"error\")))))","v":36.059190470242555}]
[{"$f":"E46","v":9.25},{"$f":"AL46","v":53.670866829297296},null,null,10.75,1,5.8823529411764719E-2,null,2.9145736221298631E-2,8.7771154580253072E-2,0.1737525321119813,null,2.7780787994138238E-2,8.5446197019167794E-2,0.17124247473224119,null,1.7144550718410964E-3,2.3569080834165863,null,95.14099877732437,null,5.1630090929560644E-3,1.7552448343403237,null,37.974249046236586,null,1.0220737183057726E-2,2.5912052214204304,null,19.906245713335096,null,19.906245713335096,37.974249046236586,95.14099877732437,19.906245713335096,37.974249046236586,null,{"$f":"IF(EMCI!$F$27=\"A\",'2nd milking (D)'!AF40,IF(EMCI!$F$27=\"B\",'2nd milking (D)'!AG40,IF(EMCI!$F$27=\"S\",'2nd milking (D)'!AH40,IF(EMCI!$F$27=\"P\",'2nd milking (D)'!AI40,IF(EMCI!$F$27=\"FS\",'2nd milking (D)'!AJ40,\"error\")))))","v":37.974249046236586}]
[{"$f":"E45","v":9.5},{"$f":"AL45","v":50.425852020523074},null,null,10.5,1.0588235294117647,5.8823529411764719E-2,null,2.644857233837258E-2,8.3152446683698977E-2,0.16874926984075,null,2.5149089254001666E-2,8.0889903596380763E-2,0.1662729844103209,null,1.5557983728454463E-3,2.3584638817894317,null,105.03506077422875,null,4.8913203931587644E-3,1.7601361547334826,null,40.052759383081742,null,9.9264276376911792E-3,2.6011316490581216,null,20.441494828494243,null,20.441494828494243,40.052759383081742,105.03506077422875,20.441494828494243,40.052759383081742,null,{"$f":"IF(EMCI!$F$27=\"A\",'2nd milking (D)'!AF41,IF(EMCI!$F$27=\"B\",'2nd milking (D)'!AG41,IF(EMCI!$F$27=\"S\",'2nd milking (D)'!AH41,IF(EMCI!$F$27=\"P\",'2nd milking (D)'!AI41,IF(EMCI!$F$27=\"FS\",'2nd milking (D)'!AJ41,\"error\")))))","v":40.052759383081742}]
[{"$f":"E44","v":9.75},{"$f":"AL44","v":47.473100856050237},null,null,10.25,1.1176470588235294,5.8823529411764719E-2,null,2.3882338741025473E-2,7.8658567778189678E-2,0.16381368348209219,null,2.2648320799444024E-2,7.6458439248649382E-2,0.16137143021860539,null,1.4048434553544399E-3,2.3598687252447861,null,116.57072937698871,null,4.6269745751876291E-3,1.7647631293086703,null,42.313666123500937,null,9.6360990283583664E-3,2.6107677480864799,null,21.002678400521216,null,21.002678400521216,42.313666123500937,116.57072937698871,21.002678400521216,42.313666123500937,null,{"$f":"IF(EMCI!$F$27=\"A\",'2nd milking (D)'!AF42,IF(EMCI!$F$27=\"B\",'2nd milking (D)'!AG42,IF(EMCI!$F$27=\"S\",'2nd milking (D)'!AH42,IF(EMCI!$F$27=\"P\",'2nd milking (D)'!AI42,IF(EMCI!$F$27=\"FS\",'2nd milking (D)'!AJ42,\"error\")))))","v":42.313666123500937}]
[{"$f":"E43","v":10},{"$f":"AL43","v":44.778740298148008},null,null,10,1.1764705882352942,5.8823529411764719E-2,null,2.14470354292573E-2,7.428951802592855E-2,0.15894628595549334,null,2.0278482630465319E-2,7.2151804126932312E-2,0.15653831025181383,null,1.2615903193680766E-3,2.3611303155641541,null,130.13151587936602,null,4.3699716485840331E-3,1.7691331009572544,null,44.778740298148008,null,9.3497815267937281E-3,2.6201175296132737,null,21.591407655734312,null,21.591407655734312,44.778740298148008,130.13151587936602,21.591407655734312,44.778740298148008,null,{"$f":"IF(EMCI!$F$27=\"A\",'2nd milking (D)'!AF43,IF(EMCI!$F$27=\"B\",'2nd milking (D)'!AG43,IF(EMCI!$F$27=\"S\",'2nd milking (D)'!AH43,IF(EMCI!$F$27=\"P\",'2nd milking (D)'!AI43,IF(EMCI!$F$27=\"FS\",'2nd milking (D)'!AJ43,\"error\")))))","v":44.778740298148008}]
[{"$f":"E42","v":10.25},{"$f":"AL42","v":42.313666123500937},null,null,9.75,1.2352941176470589,5.8823529411764719E-2,null,1.9142662403068059E-2,7.0045297567387574E-2,0.15414756093906151,null,1.8039574747065537E-2,6.7969998361922884E-2,0.15177409416889009,null,1.1260389648863568E-3,2.3622563545290403,null,146.21983513774549,null,4.120311621611035E-3,1.7732534125788655,null,47.473100856050237,null,9.0675035846506796E-3,2.6291850331979245,null,22.209422400183289,null,22.209422400183289,47.473100856050237,146.21983513774549,22.209422400183289,47.473100856050237,null,{"$f":"IF(EMCI!$F$27=\"A\",'2nd milking (D)'!AF44,IF(EMCI!$F$27=\"B\",'2nd milking (D)'!AG44,IF(EMCI!$F$27=\"S\",'2nd milking (D)'!AH44,IF(EMCI!$F$27=\"P\",'2nd milking (D)'!AI44,IF(EMCI!$F$27=\"FS\",'2nd milking (D)'!AJ44,\"error\")))))","v":47.473100856050237}]
[{"$f":"E41","v":10.5},{"$f":"AL41","v":40.052759383081742},null,null,9.5,1.2941176470588236,5.8823529411764719E-2,null,1.6969219662457756E-2,6.5925906524142819E-2,0.14941796445957814,null,1.5931597149244706E-2,6.3913022066697509E-2,0.14707922474126942,null,9.9818939190928001E-4,2.3632545439209496,null,165.50415073758344,null,3.8779945014201667E-3,1.7771314070802857,null,50.425852020523074,null,8.7892920270340093E-3,2.6379743252249583,null,22.858603454629716,null,22.858603454629716,50.425852020523074,165.50415073758344,22.858603454629716,50.425852020523074,null,{"$f":"IF(EMCI!$F$27=\"A\",'2nd milking (D)'!AF45,IF(EMCI!$F$27=\"B\",'2nd milking (D)'!AG45,IF(EMCI!$F$27=\"S\",'2nd milking (D)'!AH45,IF(EMCI!$F$27=\"P\",'2nd milking (D)'!AI45,IF(EMCI!$F$27=\"FS\",'2nd milking (D)'!AJ45,\"error\")))))","v":50.425852020523074}]
[{"$f":"E40","v":10.75},{"$f":"AL40","v":37.974249046236586},null,null,9.25,1.3529411764705883,5.8823529411764719E-2,null,1.4926707207426384E-2,6.1931345001347733E-2,0.14475792640001692,null,1.3954549837002799E-2,5.9980875339025456E-2,0.1424541193206629,null,8.7804160043684638E-4,2.3641325855213866,null,188.88946223755457,null,3.6430202941969262E-3,1.7807744273744825,null,53.670866829297296,null,8.515172141177467E-3,2.6464894973661357,null,23.540986519913428,null,23.540986519913428,53.670866829297296,188.88946223755457,23.540986519913428,53.670866829297296,null,{"$f":"IF(EMCI!$F$27=\"A\",'2nd milking (D)'!AF46,IF(EMCI!$F$27=\"B\",'2nd milking (D)'!AG46,IF(EMCI!$F$27=\"S\",'2nd milking (D)'!AH46,IF(EMCI!$F$27=\"P\",'2nd milking (D)'!AI46,IF(EMCI!$F$27=\"FS\",'2nd milking (D)'!AJ46,\"error\")))))","v":53.670866829297296}]
[{"$f":"E39","v":11},{"$f":"AL39","v":36.059190470242555},null,null,9,1.411764705882353,5.8823529411764719E-2,null,1.3015125037973942E-2,5.8061613089890336E-2,0.1401678519285815,null,1.2108432810339827E-2,5.6173558263382765E-2,0.13789917123031473,null,7.6559559046905559E-4,2.3648981811118555,null,217.62534096385588,null,3.4153890052876675E-3,1.7841898163797703,null,57.24775647186452,null,8.2451677605047957E-3,2.6547346651266404,null,24.25877766361776,null,24.25877766361776,57.24775647186452,217.62534096385588,24.25877766361776,57.24775647186452,null,{"$f":"IF(EMCI!$F$27=\"A\",'2nd milking (D)'!AF47,IF(EMCI!$F$27=\"B\",'2nd milking (D)'!AG47,IF(EMCI!$F$27=\"S\",'2nd milking (D)'!AH47,IF(EMCI!$F$27=\"P\",'2nd milking (D)'!AI47,IF(EMCI!$F$27=\"FS\",'2nd milking (D)'!AJ47,\"error\")))))","v":57.24775647186452}]
[{"$f":"E38","v":11.25},{"$f":"AL38","v":34.291036249594328},null,null,8.75,1.4705882352941178,5.8823529411764719E-2,null,1.1234473154100443E-2,5.4316710868272958E-2,0.13564812285312758,null,1.0393246069255789E-2,5.249107091270714E-2,0.13341475108351158,null,6.6085136200590849E-4,2.3655590324738616,null,253.47624312668452,null,3.1951006393101749E-3,1.7873849170190805,null,61.203077535291882,null,7.9793013443016248E-3,2.6627139664709421,null,25.014370648115726,null,25.014370648115726,61.203077535291882,253.47624312668452,25.014370648115726,61.203077535291882,null,{"$f":"IF(EMCI!$F$27=\"A\",'2nd milking (D)'!AF48,IF(EMCI!$F$27=\"B\",'2nd milking (D)'!AG48,IF(EMCI!$F$27=\"S\",'2nd milking (D)'!AH48,IF(EMCI!$F$27=\"P\",'2nd milking (D)'!AI48,IF(EMCI!$F$27=\"FS\",'2nd milking (D)'!AJ48,\"error\")))))","v":61.203077535291882}]
[{"$f":"E37","v":11.5},{"$f":"AL37","v":32.65528120645439},null,null,8.5,1.5294117647058822,5.8823529411764497E-2,null,9.5847515558058708E-3,5.0696638404250462E-2,0.13119909890466158,null,8.8089896137506871E-3,4.8933413349926902E-2,0.12900120803295215,null,5.6380891504740217E-4,2.366122841388909,null,298.9987812563262,null,2.9821552002500164E-3,1.7903670722193306,null,65.591846308131366,null,7.7175940532153596E-3,2.6704315605241575,null,25.810366354285112,null,25.810366354285112,65.591846308131366,298.9987812563262,25.810366354285112,65.591846308131366,null,{"$f":"IF(EMCI!$F$27=\"A\",'2nd milking (D)'!AF49,IF(EMCI!$F$27=\"B\",'2nd milking (D)'!AG49,IF(EMCI!$F$27=\"S\",'2nd milking (D)'!AH49,IF(EMCI!$F$27=\"P\",'2nd milking (D)'!AI49,IF(EMCI!$F$27=\"FS\",'2nd milking (D)'!AJ49,\"error\")))))","v":65.591846308131366}]
[{"$f":"E36","v":11.75},{"$f":"AL36","v":31.139167236899965},null,null,8.25,1.588235294117647,5.8823529411764719E-2,null,8.0659602430902377E-3,4.7201395756256849E-2,0.12682111895344028,null,7.3556634438245181E-3,4.5500585629291837E-2,0.12465887095441666,null,4.744682495935435E-4,2.3665973096385025,null,358.01022035237122,null,2.7765526915445211E-3,1.793143624910875,null,70.479452752903754,null,7.4600658207906066E-3,2.6778916263449482,null,26.649594595396497,null,26.649594595396497,70.479452752903754,358.01022035237122,26.649594595396497,70.479452752903754,null,{"$f":"IF(EMCI!$F$27=\"A\",'2nd milking (D)'!AF50,IF(EMCI!$F$27=\"B\",'2nd milking (D)'!AG50,IF(EMCI!$F$27=\"S\",'2nd milking (D)'!AH50,IF(EMCI!$F$27=\"P\",'2nd milking (D)'!AI50,IF(EMCI!$F$27=\"FS\",'2nd milking (D)'!AJ50,\"error\")))))","v":70.479452752903754}]
[{"$f":"E35","v":12},{"$f":"AL35","v":29.731436751170019},null,null,8,1.6470588235294117,5.8823529411764719E-2,null,6.6780992159535344E-3,4.3830982974647166E-2,0.12251450216103232,null,6.0332675594772841E-3,4.2192587797532113E-2,0.12038804956802177,null,3.9282936564432567E-4,2.3669901390041468,null,436.41523188538559,null,2.5782931161557163E-3,1.7957219180270307,null,75.944099407915218,null,7.2067354212371967E-3,2.6850983617661854,null,27.535138663084876,null,27.535138663084876,75.944099407915218,436.41523188538559,27.535138663084876,75.944099407915218,null,{"$f":"IF(EMCI!$F$27=\"A\",'2nd milking (D)'!AF51,IF(EMCI!$F$27=\"B\",'2nd milking (D)'!AG51,IF(EMCI!$F$27=\"S\",'2nd milking (D)'!AH51,IF(EMCI!$F$27=\"P\",'2nd milking (D)'!AI51,IF(EMCI!$F$27=\"FS\",'2nd milking (D)'!AJ51,\"error\")))))","v":75.944099407915218}]
[{"$f":"E34","v":12.25},{"$f":"AL34","v":28.42212577499641},null,null,7.75,1.7058823529411764,5.8823529411764719E-2,null,5.4211684743957671E-3,4.0585400102778259E-2,0.11827954907154804,null,4.8418019607089843E-3,3.9009419894865949E-2,0.11618903550019019,null,3.1889226319975109E-4,2.3673090312673466,null,543.74197666423117,null,2.3873764766340158E-3,1.7981092945036647,null,82.07993643908911,null,6.9576205336204745E-3,2.6920559822998058,null,28.470363003355676,null,28.470363003355676,82.07993643908911,543.74197666423117,28.470363003355676,82.07993643908911,null,{"$f":"IF(EMCI!$F$27=\"A\",'2nd milking (D)'!AF52,IF(EMCI!$F$27=\"B\",'2nd milking (D)'!AG52,IF(EMCI!$F$27=\"S\",'2nd milking (D)'!AH52,IF(EMCI!$F$27=\"P\",'2nd milking (D)'!AI52,IF(EMCI!$F$27=\"FS\",'2nd milking (D)'!AJ52,\"error\")))))","v":82.07993643908911}]
[{"$f":"E33","v":12.5},{"$f":"AL33","v":27.202389584911266},null,null,7.5,1.7647058823529411,{"$f":"F53-F52","v":5.8823529411764719E-2},null,4.295168018416934E-3,3.7464647177948653E-2,0.11411654264509592,null,3.7812666475196171E-3,3.595108195587611E-2,0.1120621032893214,null,2.5265694225981973E-4,2.3675616882096064,null,696.17896783798199,null,2.2038027751734505E-3,1.8003130972788381,null,89.001129552880712,null,6.7127378026527029E-3,2.6987687201024584,null,29.458944487008591,null,29.458944487008591,89.001129552880712,696.17896783798199,29.458944487008591,89.001129552880712,null,{"$f":"IF(EMCI!$F$27=\"A\",'2nd milking (D)'!AF53,IF(EMCI!$F$27=\"B\",'2nd milking (D)'!AG53,IF(EMCI!$F$27=\"S\",'2nd milking (D)'!AH53,IF(EMCI!$F$27=\"P\",'2nd milking (D)'!AI53,IF(EMCI!$F$27=\"FS\",'2nd milking (D)'!AJ53,\"error\")))))","v":89.001129552880712}]
[{"$f":"E32","v":12.75},{"$f":"AL32","v":26.064355159550235},null,null,{"$f":"E53-0.25","v":7.25},1.8235294117647058,5.8823529411764719E-2,null,3.3000978480170352E-3,3.44687242322156E-2,0.11002574923637776,null,2.8516616199091853E-3,3.3017574010271708E-2,0.10800751133800611,null,1.9412340282453153E-4,{"$f":"R53+Q54","v":2.3677558116124309},null,923.05628760799334,null,2.0275720136597418E-3,{"$f":"W53+V54","v":1.8023406692924979},null,96.847192035148197,null,6.4721028962575165E-3,{"$f":"AB53+AA54","v":2.7052408229987157},null,30.504907817850178,null,30.504907817850178,96.847192035148197,923.05628760799334,30.504907817850178,96.847192035148197,null,{"$f":"IF(EMCI!$F$27=\"A\",'2nd milking (D)'!AF54,IF(EMCI!$F$27=\"B\",'2nd milking (D)'!AG54,IF(EMCI!$F$27=\"S\",'2nd milking (D)'!AH54,IF(EMCI!$F$27=\"P\",'2nd milking (D)'!AI54,IF(EMCI!$F$27=\"FS\",'2nd milking (D)'!AJ54,\"error\")))))","v":96.847192035148197}]
[{"$f":"E31","v":13},{"$f":"AL31","v":25.000995835203501},null,null,7,1.8823529411764706,5.8823529411764719E-2,null,2.4359579631960701E-3,3.1597631293105111E-2,0.10600741952120002,null,2.0529868778776873E-3,3.0208896083549652E-2,0.10402550281449537,null,1.4329164489388651E-4,2.3678991032573249,null,1282.0836436439658,null,1.8586841937120657E-3,{"$f":"W54+V55","v":1.80419935348621},null,105.79005064187278,null,6.2357305600705907E-3,{"$f":"AB54+AA55","v":2.7114765535587861},null,31.612665716266807,null,31.612665716266807,105.79005064187278,1282.0836436439658,31.612665716266807,105.79005064187278,null,{"$f":"IF(EMCI!$F$27=\"A\",'2nd milking (D)'!AF55,IF(EMCI!$F$27=\"B\",'2nd milking (D)'!AG55,IF(EMCI!$F$27=\"S\",'2nd milking (D)'!AH55,IF(EMCI!$F$27=\"P\",'2nd milking (D)'!AI55,IF(EMCI!$F$27=\"FS\",'2nd milking (D)'!AJ55,\"error\")))))","v":105.79005064187278}]
[{"$f":"E30","v":13.25},{"$f":"AL30","v":24.006024427314578},null,null,6.75,1.9411764705882353,5.8823529411764719E-2,null,1.7027483639540388E-3,2.8851368384228526E-2,0.1020617893735461,null,1.3852424214251236E-3,2.7525048197569259E-2,0.10011630650600498,null,1.0016166846788466E-4,2.3679992649257926,null,1900.0289728107166,null,1.6971393167193255E-3,1.8058964928029293,null,116.04352095118738,null,6.0036346690321247E-3,2.7174801882278183,null,32.787064628430898,null,32.787064628430898,116.04352095118738,1900.0289728107166,32.787064628430898,116.04352095118738,null,{"$f":"IF(EMCI!$F$27=\"A\",'2nd milking (D)'!AF56,IF(EMCI!$F$27=\"B\",'2nd milking (D)'!AG56,IF(EMCI!$F$27=\"S\",'2nd milking (D)'!AH56,IF(EMCI!$F$27=\"P\",'2nd milking (D)'!AI56,IF(EMCI!$F$27=\"FS\",'2nd milking (D)'!AJ56,\"error\")))))","v":116.04352095118738}]
[{"$f":"E29","v":13.5},{"$f":"AL29","v":23.07380177306122},null,null,6.5,2,5.8823529411764719E-2,null,1.100469050290942E-3,2.622993552581766E-2,9.8189080695726974E-2,null,8.4842825055149364E-4,2.4966030371050753E-2,9.6280137626312767E-2,null,6.4733473546526012E-5,2.368063998399339,null,3102.1315000883756,null,1.5429373838716273E-3,1.8074394301868009,null,127.87617904667448,null,5.7758282762192352E-3,2.7232560165040374,null,34.033436846692339,null,34.033436846692339,127.87617904667448,3102.1315000883756,34.033436846692339,127.87617904667448,null,{"$f":"IF(EMCI!$F$27=\"A\",'2nd milking (D)'!AF57,IF(EMCI!$F$27=\"B\",'2nd milking (D)'!AG57,IF(EMCI!$F$27=\"S\",'2nd milking (D)'!AH57,IF(EMCI!$F$27=\"P\",'2nd milking (D)'!AI57,IF(EMCI!$F$27=\"FS\",'2nd milking (D)'!AJ57,\"error\")))))","v":127.87617904667448}]
[{"$f":"E28","v":13.75},{"$f":"AL28","v":22.199258203556759},null,null,6.25,2.0588235294117645,5.8823529411764497E-2,null,6.2912002220677889E-4,2.3733332735188999E-2,9.4389502204009934E-2,null,4.4254436525679775E-4,2.2531842620007458E-2,9.2517198579988219E-2,null,3.7007060129810392E-5,2.3681010054594687,null,5947.1980690869359,null,1.3960783961875832E-3,1.8088355085829884,null,141.62909555312504,null,5.5523236590593883E-3,2.7288083401630967,null,35.357660089639516,null,35.357660089639516,141.62909555312504,5947.1980690869359,35.357660089639516,141.62909555312504,null,{"$f":"IF(EMCI!$F$27=\"A\",'2nd milking (D)'!AF58,IF(EMCI!$F$27=\"B\",'2nd milking (D)'!AG58,IF(EMCI!$F$27=\"S\",'2nd milking (D)'!AH58,IF(EMCI!$F$27=\"P\",'2nd milking (D)'!AI58,IF(EMCI!$F$27=\"FS\",'2nd milking (D)'!AJ58,\"error\")))))","v":141.62909555312504}]
[{"$f":"E27","v":14},{"$f":"AL27","v":21.377825898075148},null,null,6,2.1176470588235294,5.8823529411764941E-2,null,2.887012797015501E-4,2.1361560027146304E-2,9.0663250172005841E-2,null,1.6759076554103596E-4,2.0222484958120589E-2,8.8827679685481262E-2,null,1.6982428217738308E-5,2.3681179878876866,null,15704.218568462089,null,1.256562354538023E-3,1.8100920709375263,null,157.74065035373047,null,5.3331323630591886E-3,2.7341414725261557,null,36.766225787249098,null,36.766225787249098,157.74065035373047,15704.218568462089,36.766225787249098,157.74065035373047,null,{"$f":"IF(EMCI!$F$27=\"A\",'2nd milking (D)'!AF59,IF(EMCI!$F$27=\"B\",'2nd milking (D)'!AG59,IF(EMCI!$F$27=\"S\",'2nd milking (D)'!AH59,IF(EMCI!$F$27=\"P\",'2nd milking (D)'!AI59,IF(EMCI!$F$27=\"FS\",'2nd milking (D)'!AJ59,\"error\")))))","v":157.74065035373047}]
[{"$f":"E26","v":14.25},{"$f":"AL26","v":20.605380430411174},null,null,5.75,2.1764705882352939,5.8823529411764497E-2,null,7.921282277525533E-5,1.911461741432929E-2,8.7010509133988265E-2,null,2.3567451404208249E-5,1.8037957397063781E-2,8.5211759859187261E-2,null,4.6595778103091204E-6,2.3681226474654968,null,111674.24544108957,null,1.1243892596664248E-3,1.8112164601971927,null,176.78185337780414,null,5.118265243175762E-3,2.7392597377693315,null,38.266317555453064,null,38.266317555453064,176.78185337780414,111674.24544108957,38.266317555453064,176.78185337780414,null,{"$f":"IF(EMCI!$F$27=\"A\",'2nd milking (D)'!AF60,IF(EMCI!$F$27=\"B\",'2nd milking (D)'!AG60,IF(EMCI!$F$27=\"S\",'2nd milking (D)'!AH60,IF(EMCI!$F$27=\"P\",'2nd milking (D)'!AI60,IF(EMCI!$F$27=\"FS\",'2nd milking (D)'!AJ60,\"error\")))))","v":176.78185337780414}]
[{"$f":"E25","v":14.5},{"$f":"AL25","v":19.878190107088034},null,null,5.5,2.2352941176470589,5.8823529411764941E-2,null,0,1.6992504907515658E-2,8.3431452550209242E-2,null,0,1.5978259946784049E-2,8.1669607262505536E-2,null,0,2.3681226474654968,null,111674.24544108957,null,9.9955911220680734E-4,1.8122160193093995,null,199.50758038156758,null,4.9077325029535041E-3,2.7441674702722851,null,39.86590163538677,null,39.86590163538677,199.50758038156758,111674.24544108957,39.86590163538677,199.50758038156758,null,{"$f":"IF(EMCI!$F$27=\"A\",'2nd milking (D)'!AF61,IF(EMCI!$F$27=\"B\",'2nd milking (D)'!AG61,IF(EMCI!$F$27=\"S\",'2nd milking (D)'!AH61,IF(EMCI!$F$27=\"P\",'2nd milking (D)'!AI61,IF(EMCI!$F$27=\"FS\",'2nd milking (D)'!AJ61,\"error\")))))","v":199.50758038156758}]
[{"$f":"E24","v":14.75},{"$f":"AL24","v":19.1928719326121},null,null,5.25,2.2941176470588234,5.8823529411764497E-2,null,0,1.4995222515882417E-2,7.9926243436178462E-2,null,0,1.4043392615744832E-2,7.8201379913805977E-2,null,0,2.3681226474654968,null,111674.24544108957,null,8.8207191269896264E-4,1.8130980912220984,null,226.93247963493437,null,4.7015437315398928E-3,2.7488690140038252,null,41.573831428289253,null,41.573831428289253,226.93247963493437,111674.24544108957,41.573831428289253,226.93247963493437,null,{"$f":"IF(EMCI!$F$27=\"A\",'2nd milking (D)'!AF62,IF(EMCI!$F$27=\"B\",'2nd milking (D)'!AG62,IF(EMCI!$F$27=\"S\",'2nd milking (D)'!AH62,IF(EMCI!$F$27=\"P\",'2nd milking (D)'!AI62,IF(EMCI!$F$27=\"FS\",'2nd milking (D)'!AJ62,\"error\")))))","v":226.93247963493437}]
[{"$f":"E23","v":15},{"$f":"AL23","v":18.546353229268494},null,null,5,2.3529411764705883,5.8823529411764941E-2,null,0,1.3122770247231881E-2,7.6495034957773558E-2,null,0,1.2233355411136097E-2,7.4807226267127047E-2,null,0,2.3681226474654968,null,111674.24544108957,null,7.7192766160187848E-4,1.8138700188837003,null,260.44612242818891,null,4.4997079386925806E-3,2.7533687219425178,null,43.399968693721867,null,43.399968693721867,260.44612242818891,111674.24544108957,43.399968693721867,260.44612242818891,null,{"$f":"IF(EMCI!$F$27=\"A\",'2nd milking (D)'!AF63,IF(EMCI!$F$27=\"B\",'2nd milking (D)'!AG63,IF(EMCI!$F$27=\"S\",'2nd milking (D)'!AH63,IF(EMCI!$F$27=\"P\",'2nd milking (D)'!AI63,IF(EMCI!$F$27=\"FS\",'2nd milking (D)'!AJ63,\"error\")))))","v":260.44612242818891}]
[null,null,null,null,null,null,null,null,null,null,null,null,null,null,null,null,null,null,null,null,null,null,null,null,null,null,null,null,null,null,null,null,null,null,null,0]
[null,null,null,null,null,null,null,null,null,null,null,null,null,null,null,null,null,null,null,null,null,null,null,null,null,null,null,null,null,null,null,null,null,null,null,0]
[null,null,null,null,null,null,null,null,null,null,null,null,null,null,null,null,null,null,null,null,null,null,null,null,null,null,null,null,null,null,null,null,null,null,null,0]
[null,null,null,null,null,null,null,null,null,null,null,null,null,null,null,null,null,null,null,null,null,null,null,null,null,null,null,null,null,null,null,null,null,null,null,0]
[null,null,null,null,null,null,null,null,null,null,null,null,null,null,null,null,null,null,null,null,null,null,null,null,null,null,null,null,null,null,null,null,null,null,null,0]
[null,null,null,null,null,null,null,null,null,null,null,null,null,null,null,null,null,null,null,null,null,null,null,null,null,null,null,null,null,null,null,null,null,null,null,0]
[null,null,null,null,null,null,null,null,null,null,null,null,null,null,null,null,null,null,null,null,null,null,null,null,null,null,null,null,null,null,null,null,null,null,null,0]
[null,null,null,null,null,null,null,null,null,null,null,null,null,null,null,null,null,null,null,null,null,null,null,null,null,null,null,null,null,null,null,null,null,null,null,0]
[null,null,null,null,null,null,null,null,null,null,null,null,null,null,null,null,null,null,null,null,null,null,null,null,null,null,null,null,null,null,null,null,null,null,null,0]
[null,null,null,null,null,null,null,null,null,null,null,null,null,null,null,null,null,null,null,null,null,null,null,null,null,null,null,null,null,null,null,null,null,null,null,0]
[null,null,null,null,null,null,null,null,null,null,null,null,null,null,null,null,null,null,null,null,null,null,null,null,null,null,null,null,null,null,null,null,null,null,null,0]
[null,null,null,null,null,null,null,null,null,null,null,null,null,null,null,null,null,null,null,null,null,null,null,null,null,null,null,null,null,null,null,null,null,null,null,0]
[null,null,null,null,null,null,null,null,null,null,null,null,null,null,null,null,null,null,null,null,null,null,null,null,null,null,null,null,null,null,null,null,null,null,null,0]
[null,null,null,null,null,null,null,null,null,null,null,null,null,null,null,null,null,null,null,null,null,null,null,null,null,null,null,null,null,null,null,null,null,null,null,0]
[null,null,null,null,null,null,null,null,null,null,null,null,null,null,null,null,null,null,null,null,null,null,null,null,null,null,null,null,null,null,null,null,null,null,null,0]
[null,null,null,null,null,null,null,null,null,null,null,null,null,null,null,null,null,null,null,null,null,null,null,null,null,null,null,null,null,null,null,null,null,null,null,0]
[null,null,null,null,null,null,null,null,null,null,null,null,null,null,null,null,null,null,null,null,null,null,null,null,null,null,null,null,null,null,null,null,null,null,null,0]
[null,null,null,null,null,null,null,null,null,null,null,null,null,null,null,null,null,null,null,null,null,null,null,null,null,null,null,null,null,null,null,null,null,null,null,0]
[null,null,null,null,null,null,null,null,null,null,null,null,null,null,null,null,null,null,null,null,null,null,null,null,null,null,null,null,null,null,null,null,null,null,null,0]
[null,null,null,null,null,null,null,null,null,null,null,null,null,null,null,null,null,null,null,null,null,null,null,null,null,null,null,null,null,null,null,null,null,null,null,0]
[null,null,null,null,null,null,null,null,null,null,null,null,null,null,null,null,null,null,null,null,null,null,null,null,null,null,null,null,null,null,null,null,null,null,null,0]
[null,null,null,null,null,null,null,null,null,null,null,null,null,null,null,null,null,null,null,null,null,null,null,null,null,null,null,null,null,null,null,null,null,null,null,0]
[null,null,null,null,null,null,null,null,null,null,null,null,null,null,null,null,null,null,null,null,null,null,null,null,null,null,null,null,null,null,null,null,null,null,null,0]
[null,null,null,null,null,null,null,null,null,null,null,null,null,null,null,null,null,null,null,null,null,null,null,null,null,null,null,null,null,null,null,null,null,null,null,0]
[null,null,null,null,null,null,null,null,null,null,null,null,null,null,null,null,null,null,null,null,null,null,null,null,null,null,null,null,null,null,null,null,null,null,null,{"$f":"MIN(AG88:AH88)","v":0}]
[null,null,null,null,null,null,null,null,null,null,null,null,null,null,null,null,null,null,null,null,null,null,null,null,null,null,null,null,null,null,null,null,null,null,null,0]
[null,null,null,null,null,null,null,null,null,null,null,null,null,null,null,null,null,null,null,null,null,null,null,null,null,null,null,null,null,null,null,null,null,null,null,0]
[null,null,null,null,null,null,null,null,null,null,null,null,null,null,null,null,null,null,null,null,null,null,null,null,null,null,null,null,null,null,null,null,null,null,null,0]
[null,null,null,null,null,null,null,null,null,null,null,null,null,null,null,null,null,null,null,null,null,null,null,null,null,null,null,null,null,null,null,null,null,null,null,0]
[null,null,null,null,null,null,null,null,null,null,null,null,null,null,null,null,null,null,null,null,null,null,null,null,null,null,null,null,null,null,null,null,null,null,null,0]
[null,null,null,null,null,null,null,null,null,null,null,null,null,null,null,null,null,null,null,null,null,null,null,null,null,null,null,null,null,null,null,null,null,null,null,0]
[null,null,null,null,null,null,null,null,null,null,null,null,null,null,null,null,null,null,null,null,null,null,null,null,null,null,null,null,null,null,null,null,null,null,null,0]
[null,null,null,null,null,null,null,null,null,null,null,null,null,null,null,null,null,null,null,null,null,null,null,null,null,null,null,null,null,null,null,null,null,null,null,0]
[null,null,null,null,null,null,null,null,null,null,null,null,null,null,null,null,null,null,null,null,null,null,null,null,null,null,null,null,null,null,null,null,null,null,null,0]
[null,null,null,null,null,null,null,null,null,null,null,null,null,null,null,null,null,null,null,null,null,null,null,null,null,null,null,null,null,null,null,null,null,null,null,0]
[null,null,null,null,null,null,null,null,null,null,null,null,null,null,null,null,null,null,null,null,null,null,null,null,null,null,null,null,null,null,null,null,null,null,null,0]
[null,null,null,null,null,null,null,null,null,null,null,null,null,null,null,null,null,null,null,null,null,null,null,null,null,null,null,null,null,null,null,null,null,null,null,0]
[null,null,null,null,null,null,null,null,null,null,null,null,null,null,null,null,null,null,null,null,null,null,null,null,null,null,null,null,null,null,null,null,null,null,null,0]
[null,null,null,null,null,null,null,null,null,null,null,null,null,null,null,null,null,null,null,null,null,null,null,null,null,null,null,null,null,null,null,null,null,null,null,0]
[null,null,null,null,null,null,null,null,null,null,null,null,null,null,null,null,null,null,null,null,null,null,null,null,null,null,null,null,null,null,null,null,null,null,null,0]

{"sheet":"2nd milking (DF)","index":10,"n_rows":103,"n_cols":38,"rows_kept":103,"cut":false,"hidden":false,"merged":[]}
[]
["Entry",null,null,null,"Milk cooling curve (2nd milking)",null,null,null,null,null,null,null,null,null,"Entry: ","Temp","Time"]
[null,null,null,null,null,null,null,null,null,null,null,null,null,null,null,{"$f":"E5","v":15},{"$f":"F5","v":0}]
["Milking",{"$f":"EMCI!F9","v":1},2,null,"T","t",null,null,null,null,null,null,null,null,null,{"$f":"E6","v":20},{"$f":"F6","v":0.5}]
["Time",{"$f":"EMCI!F11/60","v":0.5},"F",null,15,0]
["Milk T",{"$f":"EMCI!F13","v":20},null,null,{"$f":"B6","v":20},{"$f":"B5","v":0.5}]
["Volume",{"$f":"EMCI!F31","v":0},"D",null,null,null,null,null,null,null,null,null,null,null,null,"x","y","xy","xx"]
[null,null,null,null,null,null,null,null,null,null,null,null,null,null,null,{"$f":"Q3","v":0},{"$f":"P3","v":15},{"$f":"P8*Q8","v":0},{"$f":"P8*P8","v":0}]
[null,null,null,null,null,null,"Flexible",null,null,null,null,null,null,null,null,{"$f":"Q4","v":0.5},{"$f":"P4","v":20},{"$f":"P9*Q9","v":10},{"$f":"P9*P9","v":0.25}]
["Outcome",{"$f":"IF(OR(B6>P15,B6<5,B5>2.35),\"out\",LOOKUP(B6,A23:A103,B23:B103))","v":"out"},null,null,"slope ",-4.25,{"$f":"P12","v":10},null,null,null,null,null,null,null,"sum",{"$f":"SUM(P8:P9)","v":0.5},{"$f":"SUM(Q8:Q9)","v":35},10,0.25]
[null,null,null,null,"intercept",15,{"$f":"P13","v":15}]
[null,null,null,null,null,null,null,null,null,null,null,null,null,null,"slope",{"$f":"(2*R10-P10*Q10)/(2*S10-(P10^2))","v":10}]
[null,null,null,null,null,null,null,null,null,null,null,null,null,null,"intercept",{"$f":"(Q10-P12*P10)/2","v":15}]
[null,null,null,null,null,"No (logs)","Nf (logs)","Tmin",null,"N after milk (logs)","GR at 5C","Growth storage","N after stroage (logs)"]
[null,null,null,null,"S aureus",{"$f":"'1st milking (D)'!M15","v":2.2999003824240902},{"$f":"'1st milking (D)'!G15","v":5},5.6,null,{"$f":"R63","v":2.2709059197814918},0,{"$f":"K15*(12-$F$6)","v":0},{"$f":"J15+L15","v":2.2709059197814918},null,"TEST(max)",{"$f":"F10*Q4+F11","v":12.875}]
[null,null,null,null,"B cereus",{"$f":"'1st milking (D)'!M16","v":1.6245322964232896},{"$f":"'1st milking (D)'!G16","v":5},1.5,null,{"$f":"W63","v":1.5440637643776145},1.2233355411136097E-2,{"$f":"K16*(12-$F$6)","v":0.14068358722806512},{"$f":"J16+L16","v":1.6847473516056797}]
[null,null,null,null,"Pseudo",{"$f":"'1st milking (D)'!M17","v":2.3743277965238057},{"$f":"'1st milking (D)'!G17","v":6},-6.1,null,{"$f":"AB63","v":2.2132354032208532},7.4807226267127047E-2,{"$f":"K17*(12-$F$6)","v":0.86028310207196101},{"$f":"J17+L17","v":3.0735185052928142}]
[]
[]
[]
["Lookup function",null,null,null,"Cooling curve profile",null,null,null,"Growth (log/h) during cooling",null,null,null,"Growth (log/h) to calculate NMTL",null,null,null,"Saureus","Growth acc",null,"Time to NMTL (depending on initial logs)",null,"B cereus","Growth acc",null,"Time to NMTL (depending on initial logs)",null,"Pseudo","Growth acc",null,"Time to NMTL (depending on initial logs)",null,"NMTL","NMTL","NMTL","NMTL","NMTL",null,"NMTL"]
[{"$f":"E22","v":"Temp"},"NMTL",null,null,"Temp","Time","Time interval",null,"S. aureus","B.cereus","Pseudo",null,"S. aureus","B.cereus","Pseudo",null,"Growth interval",{"$f":"F15","v":2.2999003824240902},null,{"$f":"R22","v":2.2999003824240902},null,"Growth interval",{"$f":"F16","v":1.6245322964232896},null,{"$f":"W22","v":1.6245322964232896},null,"Growth interval",{"$f":"F17","v":2.3743277965238057},null,{"$f":"AB22","v":2.3743277965238057},null,"Shorter of 3 microorganisms","B. cereus","S. aureus","Pseudo","Food Safety",null,"Entry"]
[{"$f":"E63","v":5},{"$f":"AL63","v":282.50108980537146},null,null,{"$f":"E5","v":15},{"$f":"(E23-$G$11)/$G$10","v":0},{"$f":"F23","v":0},null,{"$f":"IF(E23>H15,(0.00033*(E23-5.6)*((6.5-2.8)*(1-EXP(0.5*(6.5-9.8)))*(36.7-0.9324)*(1-EXP(0.42*(-5-0.9324)))))^2,0)","v":9.2552000270036947E-2},{"$f":"IF(E23>$H$16,(((0.175*(E23-1.5)*SQRT(0.995-0.92)*(1-EXP(0.4395*(E23-45)))))^2)/2.3,0)","v":0.18200169390981913},{"$f":"IF(E23>$H$17,((0.1709*(E23+6.1)*SQRT(0.995-0.947)*(1-EXP(0.1723*(E23-41.2))))^2)/2.3,0)","v":0.26545898738016671},null,{"$f":"IF(E23>$H$15,(0.00033*(E23-5.6)*((6.5-2.8)*(1-EXP(0.5*(6.5-9.8)))*(36.7-0.9324)*(1-EXP(0.42*(-5-0.9324)))))^2,0)","v":9.2552000270036947E-2},{"$f":"IF(E23>$H$16,(((0.175*(E23-1.5)*SQRT(0.995-0.92)*(1-EXP(0.4395*(E23-45)))))^2)/2.3,0)","v":0.18200169390981913},{"$f":"IF(E23>$H$17,((0.1709*(E23+6.1)*SQRT(0.995-0.947)*(1-EXP(0.1723*(E23-41.2))))^2)/2.3,0)","v":0.26545898738016671},null,{"$f":"G23*I23","v":0},{"$f":"R22","v":2.2999003824240902},null,{"$f":"($G$15-R23)/M23","v":29.173865607419486},null,{"$f":"G23*J23","v":0},{"$f":"W22","v":1.6245322964232896},null,{"$f":"($G$16-W23)/N23","v":18.546353229268494},null,{"$f":"G23*K23","v":0},{"$f":"AB22","v":2.3743277965238057},null,{"$f":"($G$17-AB23)/O23","v":13.658125645916932},null,{"$f":"+MIN(AG23:AI23)","v":13.658125645916932},{"$f":"Y23","v":18.546353229268494},{"$f":"T23","v":29.173865607419486},{"$f":"AD23","v":13.658125645916932},{"$f":"MIN(AG23:AH23)","v":18.546353229268494},null,{"$f":"IF(EMCI!$F$27=\"A\",'2nd milking (DF)'!AF23,IF(EMCI!$F$27=\"B\",'2nd milking (DF)'!AG23,IF(EMCI!$F$27=\"S\",'2nd milking (DF)'!AH23,IF(EMCI!$F$27=\"P\",'2nd milking (DF)'!AI23,IF(EMCI!$F$27=\"FS\",'2nd milking (DF)'!AJ23,\"error\")))))","v":18.546353229268494}]
[{"$f":"E62","v":5.25},{"$f":"AL62","v":246.06647844424211},null,null,{"$f":"E23-0.25","v":14.75},{"$f":"(E24-$G$11)/$G$10","v":-2.5000000000000001E-2},{"$f":"F24-F23","v":-2.5000000000000001E-2},null,{"$f":"IF(E24>$H$15,(0.00033*(((E24+E23)/2)-5.6)*((6.5-2.8)*(1-EXP(0.5*(6.5-9.8)))*(36.7-0.9324)*(1-EXP(0.42*(-5-0.9324)))))^2,0)","v":9.0106877186850329E-2},{"$f":"IF(E24>$H$16,(((0.175*(((E24+E23)/2)-1.5)*SQRT(0.995-0.92)*(1-EXP(0.4395*(((E24+E23)/2)-45)))))^2)/2.3,0)","v":0.17864693176209925},{"$f":"IF(E24>$H$17,((0.1709*(((E24+E23)/2)+6.1)*SQRT(0.995-0.947)*(1-EXP(0.1723*(((E24+E23)/2)-41.2))))^2)/2.3,0)","v":0.26244685184914474},null,{"$f":"IF(E24>$H$15,(0.00033*(E24-5.6)*((6.5-2.8)*(1-EXP(0.5*(6.5-9.8)))*(36.7-0.9324)*(1-EXP(0.42*(-5-0.9324)))))^2,0)","v":8.7694486675058483E-2},{"$f":"IF(E24>$H$16,(((0.175*(E24-1.5)*SQRT(0.995-0.92)*(1-EXP(0.4395*(E24-45)))))^2)/2.3,0)","v":0.17532337382058064},{"$f":"IF(E24>$H$17,((0.1709*(E24+6.1)*SQRT(0.995-0.947)*(1-EXP(0.1723*(E24-41.2))))^2)/2.3,0)","v":0.25944782857356635},null,-2.2526719296712583E-3,{"$f":"R23+Q24","v":2.2976477104944188},null,{"$f":"IF(M24=0,T23,($G$15-R24)/M24)","v":30.815532332366878},null,-4.4661732940524815E-3,{"$f":"W23+V24","v":1.620066123129237},null,{"$f":"($G$16-W24)/N24","v":19.278284482077446},null,-6.5611712962286191E-3,{"$f":"AB23+AA24","v":2.3677666252275769},null,{"$f":"($G$17-AB24)/O24","v":13.999860375561033},null,{"$f":"+MIN(AG24:AI24)","v":13.999860375561033},19.278284482077446,30.815532332366878,13.999860375561033,{"$f":"MIN(AG24:AH24)","v":19.278284482077446},null,{"$f":"IF(EMCI!$F$27=\"A\",'2nd milking (DF)'!AF24,IF(EMCI!$F$27=\"B\",'2nd milking (DF)'!AG24,IF(EMCI!$F$27=\"S\",'2nd milking (DF)'!AH24,IF(EMCI!$F$27=\"P\",'2nd milking (DF)'!AI24,IF(EMCI!$F$27=\"FS\",'2nd milking (DF)'!AJ24,\"error\")))))","v":19.278284482077446}]
[{"$f":"E61","v":5.5},{"$f":"AL61","v":216.24590520563811},null,null,{"$f":"E24-0.25","v":14.5},-0.05,{"$f":"F25-F24","v":-2.5000000000000001E-2},null,{"$f":"IF(E25>$H$15,(0.00033*(((E25+E24)/2)-5.6)*((6.5-2.8)*(1-EXP(0.5*(6.5-9.8)))*(36.7-0.9324)*(1-EXP(0.42*(-5-0.9324)))))^2,0)","v":8.5314828734661369E-2},{"$f":"IF(E25>$H$16,(((0.175*(((E25+E24)/2)-1.5)*SQRT(0.995-0.92)*(1-EXP(0.4395*(((E25+E24)/2)-45)))))^2)/2.3,0)","v":0.17203102030883713},{"$f":"IF(E25>$H$17,((0.1709*(((E25+E24)/2)+6.1)*SQRT(0.995-0.947)*(1-EXP(0.1723*(((E25+E24)/2)-41.2))))^2)/2.3,0)","v":0.25646208952582694},null,{"$f":"IF(E25>$H$15,(0.00033*(E25-5.6)*((6.5-2.8)*(1-EXP(0.5*(6.5-9.8)))*(36.7-0.9324)*(1-EXP(0.42*(-5-0.9324)))))^2,0)","v":8.2967903365658943E-2},0.16876987143576827,0.25348980194113641,null,-2.1328707183665345E-3,{"$f":"R24+Q25","v":2.2955148397760525},null,{"$f":"IF(M25=0,T24,($G$15-R25)/M25)","v":32.596763935381723},null,-4.3007755077209284E-3,{"$f":"W24+V25","v":1.6157653476215161},null,{"$f":"($G$16-W25)/N25","v":20.052362566777695},null,-6.4115522381456742E-3,{"$f":"AB24+AA25","v":2.361355072989431},null,14.354206359179329,null,14.354206359179329,20.052362566777695,32.596763935381723,14.354206359179329,20.052362566777695,null,{"$f":"IF(EMCI!$F$27=\"A\",'2nd milking (DF)'!AF25,IF(EMCI!$F$27=\"B\",'2nd milking (DF)'!AG25,IF(EMCI!$F$27=\"S\",'2nd milking (DF)'!AH25,IF(EMCI!$F$27=\"P\",'2nd milking (DF)'!AI25,IF(EMCI!$F$27=\"FS\",'2nd milking (DF)'!AJ25,\"error\")))))","v":20.052362566777695}]
[{"$f":"E60","v":5.75},{"$f":"AL60","v":191.52991644957504},null,null,14.25,-7.4999999999999997E-2,-2.4999999999999994E-2,null,8.065371056805129E-2,0.16553992739654555,0.25053112844137798,null,7.8372250341838381E-2,0.16234118837349831,0.24758622715594111,null,-2.0163427642012816E-3,2.2934984970118513,null,34.533926117766519,null,-4.1384981849136382E-3,1.6116268494366024,null,20.871925261306878,null,-6.2632782110344483E-3,2.3550917947783967,null,14.721772883294811,null,14.721772883294811,20.871925261306878,34.533926117766519,14.721772883294811,20.871925261306878,null,{"$f":"IF(EMCI!$F$27=\"A\",'2nd milking (DF)'!AF26,IF(EMCI!$F$27=\"B\",'2nd milking (DF)'!AG26,IF(EMCI!$F$27=\"S\",'2nd milking (DF)'!AH26,IF(EMCI!$F$27=\"P\",'2nd milking (DF)'!AI26,IF(EMCI!$F$27=\"FS\",'2nd milking (DF)'!AJ26,\"error\")))))","v":20.871925261306878}]
[{"$f":"E59","v":6},{"$f":"AL59","v":170.81632721690477},null,null,14,-0.1,-2.5000000000000008E-2,null,7.612352268702019E-2,0.15917365453694315,0.24465525183959377,null,7.3907527603596743E-2,0.15603732604596116,0.24173835198745908,null,-1.9030880671755054E-3,2.2915954089446759,null,36.645855691207267,null,-3.9793413634235802E-3,1.6076475080731789,null,21.740647432830244,null,-6.1163812959898461E-3,2.3489754134824068,null,15.103207896060288,null,15.103207896060288,21.740647432830244,36.645855691207267,15.103207896060288,21.740647432830244,null,{"$f":"IF(EMCI!$F$27=\"A\",'2nd milking (DF)'!AF27,IF(EMCI!$F$27=\"B\",'2nd milking (DF)'!AG27,IF(EMCI!$F$27=\"S\",'2nd milking (DF)'!AH27,IF(EMCI!$F$27=\"P\",'2nd milking (DF)'!AI27,IF(EMCI!$F$27=\"FS\",'2nd milking (DF)'!AJ27,\"error\")))))","v":21.740647432830244}]
[{"$f":"E58","v":6.25},{"$f":"AL58","v":153.28513637307836},null,null,13.75,-0.125,-2.4999999999999994E-2,null,7.1724265091567985E-2,0.1529322030491248,0.23883567294716018,null,6.9573735150934013E-2,0.1498582856851797,0.23594735602819444,null,-1.7931066272891991E-3,2.2898023023173866,null,38.954322228109234,null,-3.8233050762281192E-3,1.6038242029969507,null,22.662582729243884,null,-5.9708918236790033E-3,2.3430045216587279,null,15.49920092304099,null,15.49920092304099,22.662582729243884,38.954322228109234,15.49920092304099,22.662582729243884,null,{"$f":"IF(EMCI!$F$27=\"A\",'2nd milking (DF)'!AF28,IF(EMCI!$F$27=\"B\",'2nd milking (DF)'!AG28,IF(EMCI!$F$27=\"S\",'2nd milking (DF)'!AH28,IF(EMCI!$F$27=\"P\",'2nd milking (DF)'!AI28,IF(EMCI!$F$27=\"FS\",'2nd milking (DF)'!AJ28,\"error\")))))","v":22.662582729243884}]
[{"$f":"E57","v":6.5},{"$f":"AL57","v":138.31607124176014},null,null,13.5,-0.15,-2.4999999999999994E-2,null,6.745593778169473E-2,0.14681557408368173,0.23307353860860081,null,6.5370872983850206E-2,0.14380406836559409,0.23021435423897771,null,-1.686398444542368E-3,2.288115903872844,null,41.484593555865828,null,-3.6703893520920426E-3,1.6001538136448588,null,23.642211413043533,null,-5.8268384652150193E-3,2.3371776831935129,null,15.910486246240907,null,15.910486246240907,23.642211413043533,41.484593555865828,15.910486246240907,23.642211413043533,null,{"$f":"IF(EMCI!$F$27=\"A\",'2nd milking (DF)'!AF29,IF(EMCI!$F$27=\"B\",'2nd milking (DF)'!AG29,IF(EMCI!$F$27=\"S\",'2nd milking (DF)'!AH29,IF(EMCI!$F$27=\"P\",'2nd milking (DF)'!AI29,IF(EMCI!$F$27=\"FS\",'2nd milking (DF)'!AJ29,\"error\")))))","v":23.642211413043533}]
[{"$f":"E56","v":6.75},{"$f":"AL56","v":125.4329315704142},null,null,13.25,-0.17499999999999999,-2.4999999999999994E-2,null,6.3318540757400427E-2,0.14082376864384633,0.22736993274391495,null,6.1298941102345371E-2,0.13787467502385675,0.22454040032089267,null,-1.5829635189350104E-3,2.2865329403539092,null,44.266132674553987,null,-3.5205942160961572E-3,1.5966332194287627,null,24.684495393968074,null,-5.6842483185978723E-3,2.3314934348749152,null,16.337846373669905,null,16.337846373669905,24.684495393968074,44.266132674553987,16.337846373669905,24.684495393968074,null,{"$f":"IF(EMCI!$F$27=\"A\",'2nd milking (DF)'!AF30,IF(EMCI!$F$27=\"B\",'2nd milking (DF)'!AG30,IF(EMCI!$F$27=\"S\",'2nd milking (DF)'!AH30,IF(EMCI!$F$27=\"P\",'2nd milking (DF)'!AI30,IF(EMCI!$F$27=\"FS\",'2nd milking (DF)'!AJ30,\"error\")))))","v":24.684495393968074}]
[{"$f":"E55","v":7},{"$f":"AL55","v":114.26522151890728},null,null,13,-0.2,-2.5000000000000022E-2,null,5.9312074018685053E-2,0.13495678760402277,0.22172587963671017,null,5.7357939506419459E-2,0.13207010647617853,0.21892648992149663,null,-1.4828018504671277E-3,2.2850501385034421,null,47.333462199992432,null,-3.3739196901005721E-3,1.5932592997386621,null,25.794941725709982,null,-5.543146990917759E-3,2.3259502878839973,null,16.782115829991408,null,16.782115829991408,25.794941725709982,47.333462199992432,16.782115829991408,25.794941725709982,null,{"$f":"IF(EMCI!$F$27=\"A\",'2nd milking (DF)'!AF31,IF(EMCI!$F$27=\"B\",'2nd milking (DF)'!AG31,IF(EMCI!$F$27=\"S\",'2nd milking (DF)'!AH31,IF(EMCI!$F$27=\"P\",'2nd milking (DF)'!AI31,IF(EMCI!$F$27=\"FS\",'2nd milking (DF)'!AJ31,\"error\")))))","v":25.794941725709982}]
[{"$f":"E54","v":7.25},{"$f":"AL54","v":104.52119410628148},null,null,12.75,-0.22500000000000001,-2.4999999999999994E-2,null,5.5436537565548595E-2,0.12921463172602407,0.21614234706036106,null,5.3547868196072462E-2,0.12639036343352611,0.21337356368273519,null,-1.3859134391387147E-3,2.2836642250643036,null,50.727243986436228,null,-3.230365793150601E-3,1.5900289339455116,null,26.979676087789183,null,-5.4035586765090252E-3,2.3205467292074884,null,17.244185302465514,null,17.244185302465514,26.979676087789183,50.727243986436228,17.244185302465514,26.979676087789183,null,{"$f":"IF(EMCI!$F$27=\"A\",'2nd milking (DF)'!AF32,IF(EMCI!$F$27=\"B\",'2nd milking (DF)'!AG32,IF(EMCI!$F$27=\"S\",'2nd milking (DF)'!AH32,IF(EMCI!$F$27=\"P\",'2nd milking (DF)'!AI32,IF(EMCI!$F$27=\"FS\",'2nd milking (DF)'!AJ32,\"error\")))))","v":26.979676087789183}]
[{"$f":"E53","v":7.5},{"$f":"AL53","v":95.968587208997661},null,null,12.5,-0.25,-2.4999999999999994E-2,null,5.1691931397991081E-2,0.12359730167329401,0.21062024924946207,null,4.9868727171304417E-2,0.12083544651493101,0.20788251013768322,null,-1.2922982849497768E-3,2.2823719267793536,null,54.495637393858139,null,-3.0899325418323495E-3,1.5869390014036793,null,28.24552808827157,null,-5.2655062312365504E-3,2.3152812229762518,null,17.725006180574365,null,17.725006180574365,28.24552808827157,54.495637393858139,17.725006180574365,28.24552808827157,null,{"$f":"IF(EMCI!$F$27=\"A\",'2nd milking (DF)'!AF33,IF(EMCI!$F$27=\"B\",'2nd milking (DF)'!AG33,IF(EMCI!$F$27=\"S\",'2nd milking (DF)'!AH33,IF(EMCI!$F$27=\"P\",'2nd milking (DF)'!AI33,IF(EMCI!$F$27=\"FS\",'2nd milking (DF)'!AJ33,\"error\")))))","v":28.24552808827157}]
[{"$f":"E52","v":7.75},{"$f":"AL52","v":88.42064140038201},null,null,12.25,-0.27500000000000002,-2.5000000000000022E-2,null,4.807825551601249E-2,0.11810479802336256,0.20516044972357486,null,4.6320516432115315E-2,0.11540535625914415,0.2024541684629837,null,-1.2019563879003133E-3,2.2811699703914532,null,58.696021526295105,null,-2.9526199505840664E-3,1.5839863814530952,null,29.600130611582742,null,-5.129011243089376E-3,2.3101522117331625,null,18.225595532459888,null,18.225595532459888,29.600130611582742,58.696021526295105,18.225595532459888,29.600130611582742,null,{"$f":"IF(EMCI!$F$27=\"A\",'2nd milking (DF)'!AF34,IF(EMCI!$F$27=\"B\",'2nd milking (DF)'!AG34,IF(EMCI!$F$27=\"S\",'2nd milking (DF)'!AH34,IF(EMCI!$F$27=\"P\",'2nd milking (DF)'!AI34,IF(EMCI!$F$27=\"FS\",'2nd milking (DF)'!AJ34,\"error\")))))","v":29.600130611582742}]
[{"$f":"E51","v":8},{"$f":"AL51","v":81.725807132407994},null,null,12,-0.3,-2.4999999999999967E-2,null,4.459550991961285E-2,0.11273712127874896,0.19976376397001153,null,4.2903235978505136E-2,0.11010009313483672,0.19708933109359619,null,-1.1148877479903198E-3,2.2800550826434627,null,63.397197328407849,null,-2.8184280319687202E-3,1.5811679534211265,null,31.052035917825414,null,-4.9940940992502817E-3,2.3051581176339124,null,18.747041566706805,null,18.747041566706805,31.052035917825414,63.397197328407849,18.747041566706805,31.052035917825414,null,{"$f":"IF(EMCI!$F$27=\"A\",'2nd milking (DF)'!AF35,IF(EMCI!$F$27=\"B\",'2nd milking (DF)'!AG35,IF(EMCI!$F$27=\"S\",'2nd milking (DF)'!AH35,IF(EMCI!$F$27=\"P\",'2nd milking (DF)'!AI35,IF(EMCI!$F$27=\"FS\",'2nd milking (DF)'!AJ35,\"error\")))))","v":31.052035917825414}]
[{"$f":"E50","v":8.25},{"$f":"AL50","v":75.760069249851199},null,null,11.75,-0.32500000000000001,-2.5000000000000022E-2,null,4.1243694608792139E-2,0.10749427187650554,0.19443096199213733,null,3.961688581047388E-2,0.10491965754952723,0.19178874620621136,null,-1.0310923652198044E-3,2.279023990278243,null,68.682228652166984,null,-2.687356796912641E-3,1.5784805966242139,null,32.610851801157096,null,-4.8607740498034374E-3,2.3002973435841092,null,19.29050963416784,null,19.29050963416784,32.610851801157096,68.682228652166984,19.29050963416784,32.610851801157096,null,{"$f":"IF(EMCI!$F$27=\"A\",'2nd milking (DF)'!AF36,IF(EMCI!$F$27=\"B\",'2nd milking (DF)'!AG36,IF(EMCI!$F$27=\"S\",'2nd milking (DF)'!AH36,IF(EMCI!$F$27=\"P\",'2nd milking (DF)'!AI36,IF(EMCI!$F$27=\"FS\",'2nd milking (DF)'!AJ36,\"error\")))))","v":32.610851801157096}]
[{"$f":"E49","v":8.5},{"$f":"AL49","v":70.42115494064906},null,null,11.5,-0.35,-2.4999999999999967E-2,null,3.8022809583550352E-2,0.10237625019656743,0.18916277072942361,null,3.6461465928021568E-2,9.9864049857391432E-2,0.18655312007743888,null,-9.5057023958875755E-4,2.2780734200386541,null,74.652143315759446,null,-2.5594062549141824E-3,1.5759211903692998,null,34.287401868043375,null,-4.7290692682355837E-3,2.2955682743158734,null,19.857248831573568,null,19.857248831573568,34.287401868043375,74.652143315759446,19.857248831573568,34.287401868043375,null,{"$f":"IF(EMCI!$F$27=\"A\",'2nd milking (DF)'!AF37,IF(EMCI!$F$27=\"B\",'2nd milking (DF)'!AG37,IF(EMCI!$F$27=\"S\",'2nd milking (DF)'!AH37,IF(EMCI!$F$27=\"P\",'2nd milking (DF)'!AI37,IF(EMCI!$F$27=\"FS\",'2nd milking (DF)'!AJ37,\"error\")))))","v":34.287401868043375}]
[{"$f":"E48","v":8.75},{"$f":"AL48","v":65.62411487200248},null,null,11.25,-0.375,-2.5000000000000022E-2,null,3.4932854843887522E-2,9.7383056569056464E-2,0.18395987635523695,null,3.3436976331148192E-2,9.4933270366092032E-2,0.18138311932263304,null,-8.7332137109718882E-4,2.2772000986675569,null,81.430805057454336,null,-2.4345764142264139E-3,1.5734866139550734,null,36.093914945005395,null,-4.5989969088809281E-3,2.2909692774069925,null,20.448599276736516,null,20.448599276736516,36.093914945005395,81.430805057454336,20.448599276736516,36.093914945005395,null,{"$f":"IF(EMCI!$F$27=\"A\",'2nd milking (DF)'!AF38,IF(EMCI!$F$27=\"B\",'2nd milking (DF)'!AG38,IF(EMCI!$F$27=\"S\",'2nd milking (DF)'!AH38,IF(EMCI!$F$27=\"P\",'2nd milking (DF)'!AI38,IF(EMCI!$F$27=\"FS\",'2nd milking (DF)'!AJ38,\"error\")))))","v":36.093914945005395}]
[{"$f":"E47","v":9},{"$f":"AL47","v":61.29791766819185},null,null,11,-0.4,-2.5000000000000022E-2,null,3.1973830389803601E-2,9.2514691280667832E-2,0.17882292645810682,null,3.054341701985375E-2,9.0127319342750936E-2,0.17627937302097987,null,-7.9934575974509076E-4,2.2764007529078119,null,89.171399693812958,null,-2.3128672820166979E-3,1.5711737466730566,null,38.044249827149983,null,-4.4705731614526744E-3,2.28649870424554,null,21.066000134414466,null,21.066000134414466,38.044249827149983,89.171399693812958,21.066000134414466,38.044249827149983,null,{"$f":"IF(EMCI!$F$27=\"A\",'2nd milking (DF)'!AF39,IF(EMCI!$F$27=\"B\",'2nd milking (DF)'!AG39,IF(EMCI!$F$27=\"S\",'2nd milking (DF)'!AH39,IF(EMCI!$F$27=\"P\",'2nd milking (DF)'!AI39,IF(EMCI!$F$27=\"FS\",'2nd milking (DF)'!AJ39,\"error\")))))","v":38.044249827149983}]
[{"$f":"E46","v":9.25},{"$f":"AL46","v":57.382800597302683},null,null,10.75,-0.42499999999999999,-2.4999999999999967E-2,null,2.9145736221298631E-2,8.7771154580253072E-2,0.1737525321119813,null,2.7780787994138238E-2,8.5446197019167794E-2,0.17124247473224119,null,-7.2864340553246477E-4,2.2756721095022794,null,98.065176951516108,null,-2.1942788645063238E-3,1.5689794678085502,null,40.154163109468556,null,-4.343813302799527E-3,2.2821548909427407,null,21.710998482535192,null,21.710998482535192,40.154163109468556,98.065176951516108,21.710998482535192,40.154163109468556,null,{"$f":"IF(EMCI!$F$27=\"A\",'2nd milking (DF)'!AF40,IF(EMCI!$F$27=\"B\",'2nd milking (DF)'!AG40,IF(EMCI!$F$27=\"S\",'2nd milking (DF)'!AH40,IF(EMCI!$F$27=\"P\",'2nd milking (DF)'!AI40,IF(EMCI!$F$27=\"FS\",'2nd milking (DF)'!AJ40,\"error\")))))","v":40.154163109468556}]
[{"$f":"E45","v":9.5},{"$f":"AL45","v":53.828190474481509},null,null,10.5,-0.45,-2.5000000000000022E-2,null,2.644857233837258E-2,8.3152446683698977E-2,0.16874926984075,null,2.5149089254001666E-2,8.0889903596380763E-2,0.1662729844103209,null,-6.6121430845931509E-4,2.2750108951938199,null,108.3533911420902,null,-2.0788111670924764E-3,1.5669006566414578,null,42.441629804490809,null,-4.2187317460187536E-3,2.277936159196722,null,22.385259120736887,null,22.385259120736887,42.441629804490809,108.3533911420902,22.385259120736887,42.441629804490809,null,{"$f":"IF(EMCI!$F$27=\"A\",'2nd milking (DF)'!AF41,IF(EMCI!$F$27=\"B\",'2nd milking (DF)'!AG41,IF(EMCI!$F$27=\"S\",'2nd milking (DF)'!AH41,IF(EMCI!$F$27=\"P\",'2nd milking (DF)'!AI41,IF(EMCI!$F$27=\"FS\",'2nd milking (DF)'!AJ41,\"error\")))))","v":42.441629804490809}]
[{"$f":"E44","v":9.75},{"$f":"AL44","v":50.591058714357594},null,null,10.25,-0.47499999999999998,-2.4999999999999967E-2,null,2.3882338741025473E-2,7.8658567778189678E-2,0.16381368348209219,null,2.2648320799444024E-2,7.6458439248649382E-2,0.16137143021860539,null,-5.9705846852563607E-4,2.2744138367252944,null,120.34385186479759,null,-1.9664641944547394E-3,1.564934192447003,null,44.927228979679654,null,-4.0953420870522995E-3,2.2738408171096696,null,23.090575437316296,null,23.090575437316296,44.927228979679654,120.34385186479759,23.090575437316296,44.927228979679654,null,{"$f":"IF(EMCI!$F$27=\"A\",'2nd milking (DF)'!AF42,IF(EMCI!$F$27=\"B\",'2nd milking (DF)'!AG42,IF(EMCI!$F$27=\"S\",'2nd milking (DF)'!AH42,IF(EMCI!$F$27=\"P\",'2nd milking (DF)'!AI42,IF(EMCI!$F$27=\"FS\",'2nd milking (DF)'!AJ42,\"error\")))))","v":44.927228979679654}]
[{"$f":"E43","v":10},{"$f":"AL43","v":47.634609932376385},null,null,10,-0.5,-2.5000000000000022E-2,null,2.14470354292573E-2,7.428951802592855E-2,0.15894628595549334,null,2.0278482630465319E-2,7.2151804126932312E-2,0.15653831025181383,null,-5.3617588573143292E-4,2.2738776608395628,null,134.43423696134224,null,-1.8572379506482154E-3,1.5630769544963548,null,47.634609932376385,null,-3.9736571488873367E-3,2.269867159960782,null,23.828881467027312,null,23.828881467027312,47.634609932376385,134.43423696134224,23.828881467027312,47.634609932376385,null,{"$f":"IF(EMCI!$F$27=\"A\",'2nd milking (DF)'!AF43,IF(EMCI!$F$27=\"B\",'2nd milking (DF)'!AG43,IF(EMCI!$F$27=\"S\",'2nd milking (DF)'!AH43,IF(EMCI!$F$27=\"P\",'2nd milking (DF)'!AI43,IF(EMCI!$F$27=\"FS\",'2nd milking (DF)'!AJ43,\"error\")))))","v":47.634609932376385}]
[{"$f":"E42","v":10.25},{"$f":"AL42","v":44.927228979679654},null,null,9.75,-0.52500000000000002,-2.5000000000000022E-2,null,1.9142662403068059E-2,7.0045297567387574E-2,0.15414756093906151,null,1.8039574747065537E-2,6.7969998361922884E-2,0.15177409416889009,null,-4.7856656007670191E-4,2.2733990942794859,null,151.14551999980182,null,-1.7511324391846909E-3,1.56132582205717,null,50.591058714357594,null,-3.853689023476541E-3,2.2660134709373057,null,24.602265291121522,null,24.602265291121522,50.591058714357594,151.14551999980182,24.602265291121522,50.591058714357594,null,{"$f":"IF(EMCI!$F$27=\"A\",'2nd milking (DF)'!AF44,IF(EMCI!$F$27=\"B\",'2nd milking (DF)'!AG44,IF(EMCI!$F$27=\"S\",'2nd milking (DF)'!AH44,IF(EMCI!$F$27=\"P\",'2nd milking (DF)'!AI44,IF(EMCI!$F$27=\"FS\",'2nd milking (DF)'!AJ44,\"error\")))))","v":50.591058714357594}]
[{"$f":"E41","v":10.5},{"$f":"AL41","v":42.441629804490809},null,null,9.5,-0.55000000000000004,-2.5000000000000022E-2,null,1.6969219662457756E-2,6.5925906524142819E-2,0.14941796445957814,null,1.5931597149244706E-2,6.3913022066697509E-2,0.14707922474126942,null,-4.2423049156144427E-4,2.2729748637879243,null,171.17085692449612,null,-1.648147663103572E-3,1.5596776743940663,null,53.828190474481509,null,-3.7354491114894566E-3,2.2622780218258161,null,25.412983953031436,null,25.412983953031436,53.828190474481509,171.17085692449612,25.412983953031436,53.828190474481509,null,{"$f":"IF(EMCI!$F$27=\"A\",'2nd milking (DF)'!AF45,IF(EMCI!$F$27=\"B\",'2nd milking (DF)'!AG45,IF(EMCI!$F$27=\"S\",'2nd milking (DF)'!AH45,IF(EMCI!$F$27=\"P\",'2nd milking (DF)'!AI45,IF(EMCI!$F$27=\"FS\",'2nd milking (DF)'!AJ45,\"error\")))))","v":53.828190474481509}]
[{"$f":"E40","v":10.75},{"$f":"AL40","v":40.154163109468556},null,null,9.25,-0.57499999999999996,-2.4999999999999911E-2,null,1.4926707207426384E-2,6.1931345001347733E-2,0.14475792640001692,null,1.3954549837002799E-2,5.9980875339025456E-2,0.1424541193206629,null,-3.7316768018565827E-4,2.2726016961077389,null,195.44867700856341,null,-1.5482836250336879E-3,1.5581293907690326,null,57.382800597302683,null,-3.6189481600004099E-3,2.2586590736658159,null,26.263480088718673,null,26.263480088718673,57.382800597302683,195.44867700856341,26.263480088718673,57.382800597302683,null,{"$f":"IF(EMCI!$F$27=\"A\",'2nd milking (DF)'!AF46,IF(EMCI!$F$27=\"B\",'2nd milking (DF)'!AG46,IF(EMCI!$F$27=\"S\",'2nd milking (DF)'!AH46,IF(EMCI!$F$27=\"P\",'2nd milking (DF)'!AI46,IF(EMCI!$F$27=\"FS\",'2nd milking (DF)'!AJ46,\"error\")))))","v":57.382800597302683}]
[{"$f":"E39","v":11},{"$f":"AL39","v":38.044249827149983},null,null,9,-0.6,-2.5000000000000022E-2,null,1.3015125037973942E-2,5.8061613089890336E-2,0.1401678519285815,null,1.2108432810339827E-2,5.6173558263382765E-2,0.13789917123031473,null,-3.2537812594934885E-4,2.2722763179817895,null,225.27470934875313,null,-1.4515403272472598E-3,1.5566778504417853,null,61.29791766819185,null,-3.5041962982145405E-3,2.2551548773676013,null,27.156400500608374,null,27.156400500608374,61.29791766819185,225.27470934875313,27.156400500608374,61.29791766819185,null,{"$f":"IF(EMCI!$F$27=\"A\",'2nd milking (DF)'!AF47,IF(EMCI!$F$27=\"B\",'2nd milking (DF)'!AG47,IF(EMCI!$F$27=\"S\",'2nd milking (DF)'!AH47,IF(EMCI!$F$27=\"P\",'2nd milking (DF)'!AI47,IF(EMCI!$F$27=\"FS\",'2nd milking (DF)'!AJ47,\"error\")))))","v":61.29791766819185}]
[{"$f":"E38","v":11.25},{"$f":"AL38","v":36.093914945005395},null,null,8.75,-0.625,-2.5000000000000022E-2,null,1.1234473154100443E-2,5.4316710868272958E-2,0.13564812285312758,null,1.0393246069255789E-2,5.249107091270714E-2,0.13341475108351158,null,-2.8086182885251129E-4,2.2719954561529372,null,262.47858711983736,null,-1.3579177717068251E-3,1.5553199326700784,null,65.62411487200248,null,-3.3912030713281927E-3,2.251763674296273,null,28.094616939003252,null,28.094616939003252,65.62411487200248,262.47858711983736,28.094616939003252,65.62411487200248,null,{"$f":"IF(EMCI!$F$27=\"A\",'2nd milking (DF)'!AF48,IF(EMCI!$F$27=\"B\",'2nd milking (DF)'!AG48,IF(EMCI!$F$27=\"S\",'2nd milking (DF)'!AH48,IF(EMCI!$F$27=\"P\",'2nd milking (DF)'!AI48,IF(EMCI!$F$27=\"FS\",'2nd milking (DF)'!AJ48,\"error\")))))","v":65.62411487200248}]
[{"$f":"E37","v":11.5},{"$f":"AL37","v":34.287401868043375},null,null,8.5,-0.65,-2.5000000000000022E-2,null,9.5847515558058708E-3,5.0696638404250462E-2,0.13119909890466158,null,8.8089896137506871E-3,4.8933413349926902E-2,0.12900120803295215,null,-2.3961878889514697E-4,2.2717558373640419,null,309.71136103704947,null,-1.2674159601062628E-3,1.5540525167099721,null,70.42115494064906,null,-3.2799774726165426E-3,2.2484836968236563,null,29.081249395882047,null,29.081249395882047,70.42115494064906,309.71136103704947,29.081249395882047,70.42115494064906,null,{"$f":"IF(EMCI!$F$27=\"A\",'2nd milking (DF)'!AF49,IF(EMCI!$F$27=\"B\",'2nd milking (DF)'!AG49,IF(EMCI!$F$27=\"S\",'2nd milking (DF)'!AH49,IF(EMCI!$F$27=\"P\",'2nd milking (DF)'!AI49,IF(EMCI!$F$27=\"FS\",'2nd milking (DF)'!AJ49,\"error\")))))","v":70.42115494064906}]
[{"$f":"E36","v":11.75},{"$f":"AL36","v":32.610851801157096},null,null,8.25,-0.67500000000000004,-2.5000000000000022E-2,null,8.0659602430902377E-3,4.7201395756256849E-2,0.12682111895344028,null,7.3556634438245181E-3,4.5500585629291837E-2,0.12465887095441666,null,-2.0164900607725611E-4,2.2715541883579644,null,370.93130109598951,null,-1.1800348939064224E-3,1.5528724818160657,null,75.760069249851199,null,-3.1705279738360099E-3,2.2453131688498202,null,30.119692264204254,null,30.119692264204254,75.760069249851199,370.93130109598951,30.119692264204254,75.760069249851199,null,{"$f":"IF(EMCI!$F$27=\"A\",'2nd milking (DF)'!AF50,IF(EMCI!$F$27=\"B\",'2nd milking (DF)'!AG50,IF(EMCI!$F$27=\"S\",'2nd milking (DF)'!AH50,IF(EMCI!$F$27=\"P\",'2nd milking (DF)'!AI50,IF(EMCI!$F$27=\"FS\",'2nd milking (DF)'!AJ50,\"error\")))))","v":75.760069249851199}]
[{"$f":"E35","v":12},{"$f":"AL35","v":31.052035917825414},null,null,8,-0.7,-2.4999999999999911E-2,null,6.6780992159535344E-3,4.3830982974647166E-2,0.12251450216103232,null,6.0332675594772841E-3,4.2192587797532113E-2,0.12038804956802177,null,-1.6695248039883776E-4,2.2713872358775657,null,452.26118968256702,null,-1.0957745743661752E-3,1.5517767072416995,null,81.725807132407994,null,-3.0628625540257974E-3,2.2422503062957944,null,31.213643772681927,null,31.213643772681927,81.725807132407994,452.26118968256702,31.213643772681927,81.725807132407994,null,{"$f":"IF(EMCI!$F$27=\"A\",'2nd milking (DF)'!AF51,IF(EMCI!$F$27=\"B\",'2nd milking (DF)'!AG51,IF(EMCI!$F$27=\"S\",'2nd milking (DF)'!AH51,IF(EMCI!$F$27=\"P\",'2nd milking (DF)'!AI51,IF(EMCI!$F$27=\"FS\",'2nd milking (DF)'!AJ51,\"error\")))))","v":81.725807132407994}]
[{"$f":"E34","v":12.25},{"$f":"AL34","v":29.600130611582742},null,null,7.75,-0.72499999999999998,-2.5000000000000022E-2,null,5.4211684743957671E-3,4.0585400102778259E-2,0.11827954907154804,null,4.8418019607089843E-3,3.9009419894865949E-2,0.11618903550019019,null,-1.355292118598943E-4,2.2712517066657059,null,563.58114509390714,null,-1.0146350025694573E-3,1.55076207223913,null,88.42064140038201,null,-2.9569887267887037E-3,2.2392933175690057,null,32.367139173169555,null,32.367139173169555,88.42064140038201,563.58114509390714,32.367139173169555,88.42064140038201,null,{"$f":"IF(EMCI!$F$27=\"A\",'2nd milking (DF)'!AF52,IF(EMCI!$F$27=\"B\",'2nd milking (DF)'!AG52,IF(EMCI!$F$27=\"S\",'2nd milking (DF)'!AH52,IF(EMCI!$F$27=\"P\",'2nd milking (DF)'!AI52,IF(EMCI!$F$27=\"FS\",'2nd milking (DF)'!AJ52,\"error\")))))","v":88.42064140038201}]
[{"$f":"E33","v":12.5},{"$f":"AL33","v":28.24552808827157},null,null,7.5,-0.75,{"$f":"F53-F52","v":-2.5000000000000022E-2},null,4.295168018416934E-3,3.7464647177948653E-2,0.11411654264509592,null,3.7812666475196171E-3,3.595108195587611E-2,0.1120621032893214,null,-1.0737920046042345E-4,2.2711443274652456,null,721.67766172343102,null,-9.3661617944871709E-4,1.5498254560596814,null,95.968587208997661,null,-2.8529135661274005E-3,2.2364404040028782,null,33.584588237473838,null,33.584588237473838,95.968587208997661,721.67766172343102,33.584588237473838,95.968587208997661,null,{"$f":"IF(EMCI!$F$27=\"A\",'2nd milking (DF)'!AF53,IF(EMCI!$F$27=\"B\",'2nd milking (DF)'!AG53,IF(EMCI!$F$27=\"S\",'2nd milking (DF)'!AH53,IF(EMCI!$F$27=\"P\",'2nd milking (DF)'!AI53,IF(EMCI!$F$27=\"FS\",'2nd milking (DF)'!AJ53,\"error\")))))","v":95.968587208997661}]
[{"$f":"E32","v":12.75},{"$f":"AL32","v":26.979676087789183},null,null,{"$f":"E53-0.25","v":7.25},-0.77500000000000002,-2.5000000000000022E-2,null,3.3000978480170352E-3,3.44687242322156E-2,0.11002574923637776,null,2.8516616199091853E-3,3.3017574010271708E-2,0.10800751133800611,null,-8.250244620042595E-5,{"$f":"R53+Q54","v":2.2710618250190451},null,956.96423303823167,null,-8.6171810580539074E-4,{"$f":"W53+V54","v":1.5489637379538759},null,104.52119410628148,null,-2.7506437309094463E-3,{"$f":"AB53+AA54","v":2.233689760271969},null,34.87081771508911,null,34.87081771508911,104.52119410628148,956.96423303823167,34.87081771508911,104.52119410628148,null,{"$f":"IF(EMCI!$F$27=\"A\",'2nd milking (DF)'!AF54,IF(EMCI!$F$27=\"B\",'2nd milking (DF)'!AG54,IF(EMCI!$F$27=\"S\",'2nd milking (DF)'!AH54,IF(EMCI!$F$27=\"P\",'2nd milking (DF)'!AI54,IF(EMCI!$F$27=\"FS\",'2nd milking (DF)'!AJ54,\"error\")))))","v":104.52119410628148}]
[{"$f":"E31","v":13},{"$f":"AL31","v":25.794941725709982},null,null,7,-0.8,-2.5000000000000022E-2,null,2.4359579631960701E-3,3.1597631293105111E-2,0.10600741952120002,null,2.0529868778776873E-3,3.0208896083549652E-2,0.10402550281449537,null,-6.0898949079901805E-5,2.2710009260699651,null,1329.2822780977478,null,-7.899407823276285E-4,{"$f":"W54+V55","v":1.5481737971715483},null,114.26522151890728,null,-2.6501854880300029E-3,{"$f":"AB54+AA55","v":2.2310395747839391},null,36.231119516308432,null,36.231119516308432,114.26522151890728,1329.2822780977478,36.231119516308432,114.26522151890728,null,{"$f":"IF(EMCI!$F$27=\"A\",'2nd milking (DF)'!AF55,IF(EMCI!$F$27=\"B\",'2nd milking (DF)'!AG55,IF(EMCI!$F$27=\"S\",'2nd milking (DF)'!AH55,IF(EMCI!$F$27=\"P\",'2nd milking (DF)'!AI55,IF(EMCI!$F$27=\"FS\",'2nd milking (DF)'!AJ55,\"error\")))))","v":114.26522151890728}]
[{"$f":"E30","v":13.25},{"$f":"AL30","v":24.684495393968074},null,null,6.75,-0.82499999999999996,-2.4999999999999911E-2,null,1.7027483639540388E-3,2.8851368384228526E-2,0.1020617893735461,null,1.3852424214251236E-3,2.7525048197569259E-2,0.10011630650600498,null,-4.2568709098850821E-5,2.270958357360866,null,1970.0823483528054,null,-7.212842096057106E-4,1.5474525129619425,null,125.4329315704142,null,-2.5515447343386435E-3,2.2284880300496006,null,37.671305520286886,null,37.671305520286886,125.4329315704142,1970.0823483528054,37.671305520286886,125.4329315704142,null,{"$f":"IF(EMCI!$F$27=\"A\",'2nd milking (DF)'!AF56,IF(EMCI!$F$27=\"B\",'2nd milking (DF)'!AG56,IF(EMCI!$F$27=\"S\",'2nd milking (DF)'!AH56,IF(EMCI!$F$27=\"P\",'2nd milking (DF)'!AI56,IF(EMCI!$F$27=\"FS\",'2nd milking (DF)'!AJ56,\"error\")))))","v":125.4329315704142}]
[{"$f":"E29","v":13.5},{"$f":"AL29","v":23.642211413043533},null,null,6.5,-0.85,-2.5000000000000022E-2,null,1.100469050290942E-3,2.622993552581766E-2,9.8189080695726974E-2,null,8.4842825055149364E-4,2.4966030371050753E-2,9.6280137626312767E-2,null,-2.7511726257273573E-5,2.2709308456346089,null,3216.6174954587464,null,-6.5574838814544205E-4,1.546796764573797,null,138.31607124176014,null,-2.4547270173931766E-3,2.2260333030322075,null,39.197770069829964,null,39.197770069829964,138.31607124176014,3216.6174954587464,39.197770069829964,138.31607124176014,null,{"$f":"IF(EMCI!$F$27=\"A\",'2nd milking (DF)'!AF57,IF(EMCI!$F$27=\"B\",'2nd milking (DF)'!AG57,IF(EMCI!$F$27=\"S\",'2nd milking (DF)'!AH57,IF(EMCI!$F$27=\"P\",'2nd milking (DF)'!AI57,IF(EMCI!$F$27=\"FS\",'2nd milking (DF)'!AJ57,\"error\")))))","v":138.31607124176014}]
[{"$f":"E28","v":13.75},{"$f":"AL28","v":22.662582729243884},null,null,6.25,-0.875,-2.5000000000000022E-2,null,6.2912002220677889E-4,2.3733332735188999E-2,9.4389502204009934E-2,null,4.4254436525679775E-4,2.2531842620007458E-2,9.2517198579988219E-2,null,-1.5728000555169486E-5,2.2709151176340536,null,6166.8051762049317,null,-5.933333183797255E-4,1.5462034312554174,null,153.28513637307836,null,-2.3597375551002503E-3,2.2236735654771072,null,40.817561410033065,null,40.817561410033065,153.28513637307836,6166.8051762049317,40.817561410033065,153.28513637307836,null,{"$f":"IF(EMCI!$F$27=\"A\",'2nd milking (DF)'!AF58,IF(EMCI!$F$27=\"B\",'2nd milking (DF)'!AG58,IF(EMCI!$F$27=\"S\",'2nd milking (DF)'!AH58,IF(EMCI!$F$27=\"P\",'2nd milking (DF)'!AI58,IF(EMCI!$F$27=\"FS\",'2nd milking (DF)'!AJ58,\"error\")))))","v":153.28513637307836}]
[{"$f":"E27","v":14},{"$f":"AL27","v":21.740647432830244},null,null,6,-0.9,-2.5000000000000022E-2,null,2.887012797015501E-4,2.1361560027146304E-2,9.0663250172005841E-2,null,1.6759076554103596E-4,2.0222484958120589E-2,8.8827679685481262E-2,null,-7.2175319925387586E-6,2.2709079001020611,null,16284.262984822386,null,-5.3403900067865813E-4,1.5456693922547386,null,170.81632721690477,null,-2.2665812543001479E-3,2.2214069842228068,null,42.538463564018976,null,42.538463564018976,170.81632721690477,16284.262984822386,42.538463564018976,170.81632721690477,null,{"$f":"IF(EMCI!$F$27=\"A\",'2nd milking (DF)'!AF59,IF(EMCI!$F$27=\"B\",'2nd milking (DF)'!AG59,IF(EMCI!$F$27=\"S\",'2nd milking (DF)'!AH59,IF(EMCI!$F$27=\"P\",'2nd milking (DF)'!AI59,IF(EMCI!$F$27=\"FS\",'2nd milking (DF)'!AJ59,\"error\")))))","v":170.81632721690477}]
[{"$f":"E26","v":14.25},{"$f":"AL26","v":20.871925261306878},null,null,5.75,-0.92500000000000004,-2.5000000000000022E-2,null,7.921282277525533E-5,1.911461741432929E-2,8.7010509133988265E-2,null,2.3567451404208249E-5,1.8037957397063781E-2,8.5211759859187261E-2,null,-1.9803205693813849E-6,2.2709059197814918,null,115799.2874754033,null,-4.7786543535823265E-4,1.5451915268193803,null,191.52991644957504,null,-2.1752627283497085E-3,2.2192317214944572,null,44.369090425467988,null,44.369090425467988,191.52991644957504,115799.2874754033,44.369090425467988,191.52991644957504,null,{"$f":"IF(EMCI!$F$27=\"A\",'2nd milking (DF)'!AF60,IF(EMCI!$F$27=\"B\",'2nd milking (DF)'!AG60,IF(EMCI!$F$27=\"S\",'2nd milking (DF)'!AH60,IF(EMCI!$F$27=\"P\",'2nd milking (DF)'!AI60,IF(EMCI!$F$27=\"FS\",'2nd milking (DF)'!AJ60,\"error\")))))","v":191.52991644957504}]
[{"$f":"E25","v":14.5},{"$f":"AL25","v":20.052362566777695},null,null,5.5,-0.95,-2.4999999999999911E-2,null,0,1.6992504907515658E-2,8.3431452550209242E-2,null,0,1.5978259946784049E-2,8.1669607262505536E-2,null,0,2.2709059197814918,null,115799.2874754033,null,-4.2481262268788996E-4,1.5447667141966925,null,216.24590520563811,null,-2.0857863137552237E-3,2.2171459351807021,null,46.318994196461674,null,46.318994196461674,216.24590520563811,115799.2874754033,46.318994196461674,216.24590520563811,null,{"$f":"IF(EMCI!$F$27=\"A\",'2nd milking (DF)'!AF61,IF(EMCI!$F$27=\"B\",'2nd milking (DF)'!AG61,IF(EMCI!$F$27=\"S\",'2nd milking (DF)'!AH61,IF(EMCI!$F$27=\"P\",'2nd milking (DF)'!AI61,IF(EMCI!$F$27=\"FS\",'2nd milking (DF)'!AJ61,\"error\")))))","v":216.24590520563811}]
[{"$f":"E24","v":14.75},{"$f":"AL24","v":19.278284482077446},null,null,5.25,-0.97499999999999998,-2.5000000000000022E-2,null,0,1.4995222515882417E-2,7.9926243436178462E-2,null,0,1.4043392615744832E-2,7.8201379913805977E-2,null,0,2.2709059197814918,null,115799.2874754033,null,-3.7488056289706079E-4,1.5443918336337954,null,246.06647844424211,null,-1.9981560859044633E-3,2.2151477790947975,null,48.398790725648176,null,48.398790725648176,246.06647844424211,115799.2874754033,48.398790725648176,246.06647844424211,null,{"$f":"IF(EMCI!$F$27=\"A\",'2nd milking (DF)'!AF62,IF(EMCI!$F$27=\"B\",'2nd milking (DF)'!AG62,IF(EMCI!$F$27=\"S\",'2nd milking (DF)'!AH62,IF(EMCI!$F$27=\"P\",'2nd milking (DF)'!AI62,IF(EMCI!$F$27=\"FS\",'2nd milking (DF)'!AJ62,\"error\")))))","v":246.06647844424211}]
[{"$f":"E23","v":15},{"$f":"AL23","v":18.546353229268494},null,null,5,-1,-2.5000000000000022E-2,null,0,1.3122770247231881E-2,7.6495034957773558E-2,null,0,1.2233355411136097E-2,7.4807226267127047E-2,null,0,2.2709059197814918,null,115799.2874754033,null,-3.2806925618079734E-4,1.5440637643776145,null,282.50108980537146,null,-1.9123758739443407E-3,2.2132354032208532,null,50.620304825326556,null,50.620304825326556,282.50108980537146,115799.2874754033,50.620304825326556,282.50108980537146,null,{"$f":"IF(EMCI!$F$27=\"A\",'2nd milking (DF)'!AF63,IF(EMCI!$F$27=\"B\",'2nd milking (DF)'!AG63,IF(EMCI!$F$27=\"S\",'2nd milking (DF)'!AH63,IF(EMCI!$F$27=\"P\",'2nd milking (DF)'!AI63,IF(EMCI!$F$27=\"FS\",'2nd milking (DF)'!AJ63,\"error\")))))","v":282.50108980537146}]
[null,null,null,null,null,null,null,null,null,null,null,null,null,null,null,null,null,null,null,null,null,null,null,null,null,null,null,null,null,null,null,null,null,null,null,0]
[null,null,null,null,null,null,null,null,null,null,null,null,null,null,null,null,null,null,null,null,null,null,null,null,null,null,null,null,null,null,null,null,null,null,null,0]
[null,null,null,null,null,null,null,null,null,null,null,null,null,null,null,null,null,null,null,null,null,null,null,null,null,null,null,null,null,null,null,null,null,null,null,0]
[null,null,null,null,null,null,null,null,null,null,null,null,null,null,null,null,null,null,null,null,null,null,null,null,null,null,null,null,null,null,null,null,null,null,null,0]
[null,null,null,null,null,null,null,null,null,null,null,null,null,null,null,null,null,null,null,null,null,null,null,null,null,null,null,null,null,null,null,null,null,null,null,0]
[null,null,null,null,null,null,null,null,null,null,null,null,null,null,null,null,null,null,null,null,null,null,null,null,null,null,null,null,null,null,null,null,null,null,null,0]
[null,null,null,null,null,null,null,null,null,null,null,null,null,null,null,null,null,null,null,null,null,null,null,null,null,null,null,null,null,null,null,null,null,null,null,0]
[null,null,null,null,null,null,null,null,null,null,null,null,null,null,null,null,null,null,null,null,null,null,null,null,null,null,null,null,null,null,null,null,null,null,null,0]
[null,null,null,null,null,null,null,null,null,null,null,null,null,null,null,null,null,null,null,null,null,null,null,null,null,null,null,null,null,null,null,null,null,null,null,0]
[null,null,null,null,null,null,null,null,null,null,null,null,null,null,null,null,null,null,null,null,null,null,null,null,null,null,null,null,null,null,null,null,null,null,null,0]
[null,null,null,null,null,null,null,null,null,null,null,null,null,null,null,null,null,null,null,null,null,null,null,null,null,null,null,null,null,null,null,null,null,null,null,0]
[null,null,null,null,null,null,null,null,null,null,null,null,null,null,null,null,null,null,null,null,null,null,null,null,null,null,null,null,null,null,null,null,null,null,null,0]
[null,null,null,null,null,null,null,null,null,null,null,null,null,null,null,null,null,null,null,null,null,null,null,null,null,null,null,null,null,null,null,null,null,null,null,0]
[null,null,null,null,null,null,null,null,null,null,null,null,null,null,null,null,null,null,null,null,null,null,null,null,null,null,null,null,null,null,null,null,null,null,null,0]
[null,null,null,null,null,null,null,null,null,null,null,null,null,null,null,null,null,null,null,null,null,null,null,null,null,null,null,null,null,null,null,null,null,null,null,0]
[null,null,null,null,null,null,null,null,null,null,null,null,null,null,null,null,null,null,null,null,null,null,null,null,null,null,null,null,null,null,null,null,null,null,null,0]
[null,null,null,null,null,null,null,null,null,null,null,null,null,null,null,null,null,null,null,null,null,null,null,null,null,null,null,null,null,null,null,null,null,null,null,0]
[null,null,null,null,null,null,null,null,null,null,null,null,null,null,null,null,null,null,null,null,null,null,null,null,null,null,null,null,null,null,null,null,null,null,null,0]
[null,null,null,null,null,null,null,null,null,null,null,null,null,null,null,null,null,null,null,null,null,null,null,null,null,null,null,null,null,null,null,null,null,null,null,0]
[null,null,null,null,null,null,null,null,null,null,null,null,null,null,null,null,null,null,null,null,null,null,null,null,null,null,null,null,null,null,null,null,null,null,null,0]
[null,null,null,null,null,null,null,null,null,null,null,null,null,null,null,null,null,null,null,null,null,null,null,null,null,null,null,null,null,null,null,null,null,null,null,0]
[null,null,null,null,null,null,null,null,null,null,null,null,null,null,null,null,null,null,null,null,null,null,null,null,null,null,null,null,null,null,null,null,null,null,null,0]
[null,null,null,null,null,null,null,null,null,null,null,null,null,null,null,null,null,null,null,null,null,null,null,null,null,null,null,null,null,null,null,null,null,null,null,0]
[null,null,null,null,null,null,null,null,null,null,null,null,null,null,null,null,null,null,null,null,null,null,null,null,null,null,null,null,null,null,null,null,null,null,null,0]
[null,null,null,null,null,null,null,null,null,null,null,null,null,null,null,null,null,null,null,null,null,null,null,null,null,null,null,null,null,null,null,null,null,null,null,{"$f":"MIN(AG88:AH88)","v":0}]
[null,null,null,null,null,null,null,null,null,null,null,null,null,null,null,null,null,null,null,null,null,null,null,null,null,null,null,null,null,null,null,null,null,null,null,0]
[null,null,null,null,null,null,null,null,null,null,null,null,null,null,null,null,null,null,null,null,null,null,null,null,null,null,null,null,null,null,null,null,null,null,null,0]
[null,null,null,null,null,null,null,null,null,null,null,null,null,null,null,null,null,null,null,null,null,null,null,null,null,null,null,null,null,null,null,null,null,null,null,0]
[null,null,null,null,null,null,null,null,null,null,null,null,null,null,null,null,null,null,null,null,null,null,null,null,null,null,null,null,null,null,null,null,null,null,null,0]
[null,null,null,null,null,null,null,null,null,null,null,null,null,null,null,null,null,null,null,null,null,null,null,null,null,null,null,null,null,null,null,null,null,null,null,0]
[null,null,null,null,null,null,null,null,null,null,null,null,null,null,null,null,null,null,null,null,null,null,null,null,null,null,null,null,null,null,null,null,null,null,null,0]
[null,null,null,null,null,null,null,null,null,null,null,null,null,null,null,null,null,null,null,null,null,null,null,null,null,null,null,null,null,null,null,null,null,null,null,0]
[null,null,null,null,null,null,null,null,null,null,null,null,null,null,null,null,null,null,null,null,null,null,null,null,null,null,null,null,null,null,null,null,null,null,null,0]
[null,null,null,null,null,null,null,null,null,null,null,null,null,null,null,null,null,null,null,null,null,null,null,null,null,null,null,null,null,null,null,null,null,null,null,0]
[null,null,null,null,null,null,null,null,null,null,null,null,null,null,null,null,null,null,null,null,null,null,null,null,null,null,null,null,null,null,null,null,null,null,null,0]
[null,null,null,null,null,null,null,null,null,null,null,null,null,null,null,null,null,null,null,null,null,null,null,null,null,null,null,null,null,null,null,null,null,null,null,0]
[null,null,null,null,null,null,null,null,null,null,null,null,null,null,null,null,null,null,null,null,null,null,null,null,null,null,null,null,null,null,null,null,null,null,null,0]
[null,null,null,null,null,null,null,null,null,null,null,null,null,null,null,null,null,null,null,null,null,null,null,null,null,null,null,null,null,null,null,null,null,null,null,0]
[null,null,null,null,null,null,null,null,null,null,null,null,null,null,null,null,null,null,null,null,null,null,null,null,null,null,null,null,null,null,null,null,null,null,null,0]
[null,null,null,null,null,null,null,null,null,null,null,null,null,null,null,null,null,null,null,null,null,null,null,null,null,null,null,null,null,null,null,null,null,null,null,0]

{"sheet":"2nd milking (DO)","index":11,"n_rows":103,"n_cols":38,"rows_kept":103,"cut":false,"hidden":false,"merged":[]}
[]
["Entry",null,null,null,"Milk cooling curve (2nd milking)",null,null,null,null,null,null,null,null,null,"Entry: ","Temp","Time"]
[null,null,null,null,null,null,null,null,null,null,null,null,null,null,null,{"$f":"E5","v":15},{"$f":"F5","v":1.6764705882352942}]
["Milking",{"$f":"EMCI!F9","v":1},2,null,"T","t",null,null,null,null,null,null,null,null,null,{"$f":"E6","v":20},{"$f":"F6","v":0.5}]
["Time",{"$f":"EMCI!F11/60","v":0.5},"O",null,15,{"$f":"F6-((E6-F11)/F10)","v":1.6764705882352942}]
["Milk T",{"$f":"EMCI!F13","v":20},null,null,{"$f":"B6","v":20},{"$f":"B5","v":0.5}]
["Volume",{"$f":"EMCI!F31","v":0},"D",null,null,null,null,null,null,null,null,null,null,null,null,"x","y","xy","xx"]
[null,null,null,null,null,null,null,null,null,null,null,null,null,null,null,{"$f":"Q3","v":1.6764705882352942},{"$f":"P3","v":15},{"$f":"P8*Q8","v":25.147058823529413},{"$f":"P8*P8","v":2.8105536332179932}]
[null,null,null,null,null,null,"Outside!!",null,null,null,null,null,null,null,null,{"$f":"Q4","v":0.5},{"$f":"P4","v":20},{"$f":"P9*Q9","v":10},{"$f":"P9*P9","v":0.25}]
["Outcome",{"$f":"IF(OR(B6>E5,B6<5,B5>2.35),\"out\",LOOKUP(B6,A23:A103,B23:B103))","v":"out"},null,null,"slope ",-4.25,{"$f":"P12","v":-4.2500000000000089},null,null,null,null,null,null,null,"sum",{"$f":"SUM(P8:P9)","v":2.1764705882352944},{"$f":"SUM(Q8:Q9)","v":35},35.147058823529413,3.0605536332179932]
[null,null,null,null,"intercept",15,{"$f":"P13","v":22.125000000000011}]
[null,null,null,null,null,null,null,null,null,null,null,null,null,null,"slope",{"$f":"(2*R10-P10*Q10)/(2*S10-(P10^2))","v":-4.2500000000000089}]
[null,null,null,null,null,null,null,null,null,null,null,null,null,null,"intercept",{"$f":"(Q10-P12*P10)/2","v":22.125000000000011}]
[null,null,null,null,null,"No (logs)","Nf (logs)","Tmin",null,"N after milk (logs)","GR at 5C","Growth storage","N after stroage (logs)"]
[null,null,null,null,"S aureus",{"$f":"'1st milking (D)'!M15","v":2.2999003824240902},{"$f":"'1st milking (D)'!G15","v":5},5.6,null,{"$f":"R63","v":2.5232833538005583},0,{"$f":"K15*(12-$F$6)","v":0},{"$f":"J15+L15","v":2.5232833538005583},null,"TEST(max)",{"$f":"F10*Q4+F11","v":12.875}]
[null,null,null,null,"B cereus",{"$f":"'1st milking (D)'!M16","v":1.6245322964232896},{"$f":"'1st milking (D)'!G16","v":5},1.5,null,{"$f":"W63","v":2.1189905057325147},1.2233355411136097E-2,{"$f":"K16*(12-$F$6)","v":0.14068358722806512},{"$f":"J16+L16","v":2.2596740929605796}]
[null,null,null,null,"Pseudo",{"$f":"'1st milking (D)'!M17","v":2.3743277965238057},{"$f":"'1st milking (D)'!G17","v":6},-6.1,null,{"$f":"AB63","v":3.1984029066680901},7.4807226267127047E-2,{"$f":"K17*(12-$F$6)","v":0.86028310207196101},{"$f":"J17+L17","v":4.0586860087400511}]
[]
[]
[]
["Lookup function",null,null,null,"Cooling curve profile",null,null,null,"Growth (log/h) during cooling",null,null,null,"Growth (log/h) to calculate NMTL",null,null,null,"Saureus","Growth acc",null,"Time to NMTL (depending on initial logs)",null,"B cereus","Growth acc",null,"Time to NMTL (depending on initial logs)",null,"Pseudo","Growth acc",null,"Time to NMTL (depending on initial logs)",null,"NMTL","NMTL","NMTL","NMTL","NMTL",null,"NMTL"]
[{"$f":"E22","v":"Temp"},"NMTL",null,null,"Temp","Time","Time interval",null,"S. aureus","B.cereus","Pseudo",null,"S. aureus","B.cereus","Pseudo",null,"Growth interval",{"$f":"F15","v":2.2999003824240902},null,{"$f":"R22","v":2.2999003824240902},null,"Growth interval",{"$f":"F16","v":1.6245322964232896},null,{"$f":"W22","v":1.6245322964232896},null,"Growth interval",{"$f":"F17","v":2.3743277965238057},null,{"$f":"AB22","v":2.3743277965238057},null,"Shorter of 3 microorganisms","B. cereus","S. aureus","Pseudo","Food Safety",null,"Entry"]
[{"$f":"E63","v":5},{"$f":"AL63","v":235.50443827086761},null,null,{"$f":"E5","v":15},{"$f":"(E23-$G$11)/$G$10","v":1.676470588235293},{"$f":"IF(E6=E5,F5,F23)","v":1.676470588235293},null,{"$f":"IF(E23>H15,(0.00033*(E23-5.6)*((6.5-2.8)*(1-EXP(0.5*(6.5-9.8)))*(36.7-0.9324)*(1-EXP(0.42*(-5-0.9324)))))^2,0)","v":9.2552000270036947E-2},{"$f":"IF(E23>$H$16,(((0.175*(E23-1.5)*SQRT(0.995-0.92)*(1-EXP(0.4395*(E23-45)))))^2)/2.3,0)","v":0.18200169390981913},{"$f":"IF(E23>$H$17,((0.1709*(E23+6.1)*SQRT(0.995-0.947)*(1-EXP(0.1723*(E23-41.2))))^2)/2.3,0)","v":0.26545898738016671},null,{"$f":"IF(E23>$H$15,(0.00033*(E23-5.6)*((6.5-2.8)*(1-EXP(0.5*(6.5-9.8)))*(36.7-0.9324)*(1-EXP(0.42*(-5-0.9324)))))^2,0)","v":9.2552000270036947E-2},{"$f":"IF(E23>$H$16,(((0.175*(E23-1.5)*SQRT(0.995-0.92)*(1-EXP(0.4395*(E23-45)))))^2)/2.3,0)","v":0.18200169390981913},{"$f":"IF(E23>$H$17,((0.1709*(E23+6.1)*SQRT(0.995-0.947)*(1-EXP(0.1723*(E23-41.2))))^2)/2.3,0)","v":0.26545898738016671},null,{"$f":"G23*I23","v":0.15516070633506185},{"$f":"R22+Q23","v":2.4550610887591522},null,{"$f":"($G$15-R23)/M23","v":27.497395019184189},null,{"$f":"G23*J23","v":0.30512048684881421},{"$f":"W22+V23","v":1.9296527832721038},null,{"$f":"($G$16-W23)/N23","v":16.869882641033204},null,{"$f":"G23*K23","v":0.44503418472557332},{"$f":"AB22+AA23","v":2.8193619812493789},null,{"$f":"($G$17-AB23)/O23","v":11.981655057681641},null,{"$f":"+MIN(AG23:AI23)","v":11.981655057681641},{"$f":"Y23","v":16.869882641033204},{"$f":"T23","v":27.497395019184189},{"$f":"AD23","v":11.981655057681641},{"$f":"MIN(AG23:AH23)","v":16.869882641033204},null,{"$f":"IF(EMCI!$F$27=\"A\",'2nd milking (DO)'!AF23,IF(EMCI!$F$27=\"B\",'2nd milking (DO)'!AG23,IF(EMCI!$F$27=\"S\",'2nd milking (DO)'!AH23,IF(EMCI!$F$27=\"P\",'2nd milking (DO)'!AI23,IF(EMCI!$F$27=\"FS\",'2nd milking (DO)'!AJ23,\"error\")))))","v":16.869882641033204}]
[{"$f":"E62","v":5.25},{"$f":"AL62","v":205.20550131868856},null,null,{"$f":"E23-0.25","v":14.75},{"$f":"(E24-$G$11)/$G$10","v":1.7352941176470578},{"$f":"F24-F23","v":5.8823529411764719E-2},null,{"$f":"IF(E24>$H$15,(0.00033*(((E24+E23)/2)-5.6)*((6.5-2.8)*(1-EXP(0.5*(6.5-9.8)))*(36.7-0.9324)*(1-EXP(0.42*(-5-0.9324)))))^2,0)","v":9.0106877186850329E-2},{"$f":"IF(E24>$H$16,(((0.175*(((E24+E23)/2)-1.5)*SQRT(0.995-0.92)*(1-EXP(0.4395*(((E24+E23)/2)-45)))))^2)/2.3,0)","v":0.17864693176209925},{"$f":"IF(E24>$H$17,((0.1709*(((E24+E23)/2)+6.1)*SQRT(0.995-0.947)*(1-EXP(0.1723*(((E24+E23)/2)-41.2))))^2)/2.3,0)","v":0.26244685184914474},null,{"$f":"IF(E24>$H$15,(0.00033*(E24-5.6)*((6.5-2.8)*(1-EXP(0.5*(6.5-9.8)))*(36.7-0.9324)*(1-EXP(0.42*(-5-0.9324)))))^2,0)","v":8.7694486675058483E-2},{"$f":"IF(E24>$H$16,(((0.175*(E24-1.5)*SQRT(0.995-0.92)*(1-EXP(0.4395*(E24-45)))))^2)/2.3,0)","v":0.17532337382058064},{"$f":"IF(E24>$H$17,((0.1709*(E24+6.1)*SQRT(0.995-0.947)*(1-EXP(0.1723*(E24-41.2))))^2)/2.3,0)","v":0.25944782857356635},null,5.3004045404029618E-3,{"$f":"R23+Q24","v":2.4603614932995552},null,{"$f":"IF(M24=0,T23,($G$15-R24)/M24)","v":28.960070387443785},null,1.0508643044829371E-2,{"$f":"W23+V24","v":1.9401614263169331},null,{"$f":"($G$16-W24)/N24","v":17.452542162543548},null,1.5438050108773223E-2,{"$f":"AB23+AA24","v":2.8348000313581521},null,{"$f":"($G$17-AB24)/O24","v":12.199755095442461},null,{"$f":"+MIN(AG24:AI24)","v":12.199755095442461},17.452542162543548,28.960070387443785,12.199755095442461,{"$f":"MIN(AG24:AH24)","v":17.452542162543548},null,{"$f":"IF(EMCI!$F$27=\"A\",'2nd milking (DO)'!AF24,IF(EMCI!$F$27=\"B\",'2nd milking (DO)'!AG24,IF(EMCI!$F$27=\"S\",'2nd milking (DO)'!AH24,IF(EMCI!$F$27=\"P\",'2nd milking (DO)'!AI24,IF(EMCI!$F$27=\"FS\",'2nd milking (DO)'!AJ24,\"error\")))))","v":17.452542162543548}]
[{"$f":"E61","v":5.5},{"$f":"AL61","v":180.41160323105029},null,null,{"$f":"E24-0.25","v":14.5},1.7941176470588223,{"$f":"F25-F24","v":5.8823529411764497E-2},null,{"$f":"IF(E25>$H$15,(0.00033*(((E25+E24)/2)-5.6)*((6.5-2.8)*(1-EXP(0.5*(6.5-9.8)))*(36.7-0.9324)*(1-EXP(0.42*(-5-0.9324)))))^2,0)","v":8.5314828734661369E-2},{"$f":"IF(E25>$H$16,(((0.175*(((E25+E24)/2)-1.5)*SQRT(0.995-0.92)*(1-EXP(0.4395*(((E25+E24)/2)-45)))))^2)/2.3,0)","v":0.17203102030883713},{"$f":"IF(E25>$H$17,((0.1709*(((E25+E24)/2)+6.1)*SQRT(0.995-0.947)*(1-EXP(0.1723*(((E25+E24)/2)-41.2))))^2)/2.3,0)","v":0.25646208952582694},null,8.2967903365658943E-2,0.16876987143576827,0.25348980194113641,null,5.0185193373330035E-3,{"$f":"R24+Q25","v":2.4653800126368881},null,{"$f":"IF(M25=0,T24,($G$15-R25)/M25)","v":30.549403860339211},null,1.0119471782872737E-2,{"$f":"W24+V25","v":1.9502808980998059},null,18.070281596800761,null,1.5086005266225061E-2,{"$f":"AB24+AA25","v":2.849886036624377},null,12.426984988165795,null,12.426984988165795,18.070281596800761,30.549403860339211,12.426984988165795,18.070281596800761,null,{"$f":"IF(EMCI!$F$27=\"A\",'2nd milking (DO)'!AF25,IF(EMCI!$F$27=\"B\",'2nd milking (DO)'!AG25,IF(EMCI!$F$27=\"S\",'2nd milking (DO)'!AH25,IF(EMCI!$F$27=\"P\",'2nd milking (DO)'!AI25,IF(EMCI!$F$27=\"FS\",'2nd milking (DO)'!AJ25,\"error\")))))","v":18.070281596800761}]
[{"$f":"E60","v":5.75},{"$f":"AL60","v":159.86638561544646},null,null,14.25,1.852941176470587,5.8823529411764719E-2,null,8.065371056805129E-2,0.16553992739654555,0.25053112844137798,null,7.8372250341838381E-2,0.16234118837349831,0.24758622715594111,null,4.7443359157677244E-3,2.4701243485526558,null,32.280247669458468,null,9.7376427880320939E-3,1.9600185408878379,null,18.725879054907974,null,1.4737125202434002E-2,2.864623161826811,null,12.663777279494571,null,12.663777279494571,18.725879054907974,32.280247669458468,12.663777279494571,18.725879054907974,null,{"$f":"IF(EMCI!$F$27=\"A\",'2nd milking (DO)'!AF26,IF(EMCI!$F$27=\"B\",'2nd milking (DO)'!AG26,IF(EMCI!$F$27=\"S\",'2nd milking (DO)'!AH26,IF(EMCI!$F$27=\"P\",'2nd milking (DO)'!AI26,IF(EMCI!$F$27=\"FS\",'2nd milking (DO)'!AJ26,\"error\")))))","v":18.725879054907974}]
[{"$f":"E59","v":6},{"$f":"AL59","v":142.65247066262438},null,null,14,1.9117647058823515,5.8823529411764497E-2,null,7.612352268702019E-2,0.15917365453694315,0.24465525183959377,null,7.3907527603596743E-2,0.15603732604596116,0.24173835198745908,null,4.4778542757070543E-3,2.474602202828363,null,34.169696633834327,null,9.3631561492319177E-3,1.9693816970370699,null,19.422393216801563,null,1.4391485402328994E-2,2.8790146472291398,null,12.910592494370819,null,12.910592494370819,19.422393216801563,34.169696633834327,12.910592494370819,19.422393216801563,null,{"$f":"IF(EMCI!$F$27=\"A\",'2nd milking (DO)'!AF27,IF(EMCI!$F$27=\"B\",'2nd milking (DO)'!AG27,IF(EMCI!$F$27=\"S\",'2nd milking (DO)'!AH27,IF(EMCI!$F$27=\"P\",'2nd milking (DO)'!AI27,IF(EMCI!$F$27=\"FS\",'2nd milking (DO)'!AJ27,\"error\")))))","v":19.422393216801563}]
[{"$f":"E58","v":6.25},{"$f":"AL58","v":128.08734967842781},null,null,13.75,1.970588235294116,5.8823529411764497E-2,null,7.1724265091567985E-2,0.1529322030491248,0.23883567294716018,null,6.9573735150934013E-2,0.1498582856851797,0.23594735602819444,null,4.2190744171510426E-3,2.478821277245514,null,36.237507117952106,null,8.9960119440661325E-3,1.9783777089811361,null,20.163198032083777,null,1.4049157232185843E-2,2.8930638044613257,null,13.167921216999829,null,13.167921216999829,20.163198032083777,36.237507117952106,13.167921216999829,20.163198032083777,null,{"$f":"IF(EMCI!$F$27=\"A\",'2nd milking (DO)'!AF28,IF(EMCI!$F$27=\"B\",'2nd milking (DO)'!AG28,IF(EMCI!$F$27=\"S\",'2nd milking (DO)'!AH28,IF(EMCI!$F$27=\"P\",'2nd milking (DO)'!AI28,IF(EMCI!$F$27=\"FS\",'2nd milking (DO)'!AJ28,\"error\")))))","v":20.163198032083777}]
[{"$f":"E57","v":6.5},{"$f":"AL57","v":115.65475328078203},null,null,13.5,2.0294117647058805,5.8823529411764497E-2,null,6.745593778169473E-2,0.14681557408368173,0.23307353860860081,null,6.5370872983850206E-2,0.14380406836559409,0.23021435423897771,null,3.9679963400996755E-3,2.4827892735856136,null,38.50661023046549,null,8.6362102402165412E-3,1.9870139192213525,null,20.952022533317429,null,1.3710208153447057E-2,2.9067740126147728,null,13.436286358470308,null,13.436286358470308,20.952022533317429,38.50661023046549,13.436286358470308,20.952022533317429,null,{"$f":"IF(EMCI!$F$27=\"A\",'2nd milking (DO)'!AF29,IF(EMCI!$F$27=\"B\",'2nd milking (DO)'!AG29,IF(EMCI!$F$27=\"S\",'2nd milking (DO)'!AH29,IF(EMCI!$F$27=\"P\",'2nd milking (DO)'!AI29,IF(EMCI!$F$27=\"FS\",'2nd milking (DO)'!AJ29,\"error\")))))","v":20.952022533317429}]
[{"$f":"E56","v":6.75},{"$f":"AL56","v":104.95832739734799},null,null,13.25,2.0882352941176454,5.8823529411764941E-2,null,6.3318540757400427E-2,0.14082376864384633,0.22736993274391495,null,6.1298941102345371E-2,0.13787467502385675,0.22454040032089267,null,3.7246200445529812E-3,2.4865138936301667,null,41.003744292634515,null,8.2837510966968751E-3,1.9952976703180494,null,21.792996641058558,null,1.3374701926112698E-2,2.9201487145408853,null,13.716245633559359,null,13.716245633559359,21.792996641058558,41.003744292634515,13.716245633559359,21.792996641058558,null,{"$f":"IF(EMCI!$F$27=\"A\",'2nd milking (DO)'!AF30,IF(EMCI!$F$27=\"B\",'2nd milking (DO)'!AG30,IF(EMCI!$F$27=\"S\",'2nd milking (DO)'!AH30,IF(EMCI!$F$27=\"P\",'2nd milking (DO)'!AI30,IF(EMCI!$F$27=\"FS\",'2nd milking (DO)'!AJ30,\"error\")))))","v":21.792996641058558}]
[{"$f":"E55","v":7},{"$f":"AL55","v":95.689698546750463},null,null,13,2.1470588235294099,5.8823529411764497E-2,null,5.9312074018685053E-2,0.13495678760402277,0.22172587963671017,null,5.7357939506419459E-2,0.13207010647617853,0.21892648992149663,null,3.4889455305108729E-3,2.4900028391606774,null,43.760239339811108,null,7.9386345649424886E-3,2.003236304882992,null,22.690704013762069,null,1.3042698802159376E-2,2.9331914133430446,null,14.008394268581483,null,14.008394268581483,22.690704013762069,43.760239339811108,14.008394268581483,22.690704013762069,null,{"$f":"IF(EMCI!$F$27=\"A\",'2nd milking (DO)'!AF31,IF(EMCI!$F$27=\"B\",'2nd milking (DO)'!AG31,IF(EMCI!$F$27=\"S\",'2nd milking (DO)'!AH31,IF(EMCI!$F$27=\"P\",'2nd milking (DO)'!AI31,IF(EMCI!$F$27=\"FS\",'2nd milking (DO)'!AJ31,\"error\")))))","v":22.690704013762069}]
[{"$f":"E54","v":7.25},{"$f":"AL54","v":87.606038013538651},null,null,12.75,2.2058823529411744,5.8823529411764497E-2,null,5.5436537565548595E-2,0.12921463172602407,0.21614234706036106,null,5.3547868196072462E-2,0.12639036343352611,0.21337356368273519,null,3.2609727979734352E-3,2.4932638119586508,null,46.812996903305461,null,7.600860689766095E-3,2.0108371655727582,null,23.650243208607954,null,1.2714255709432959E-2,2.9459056690524776,null,14.313367964780539,null,14.313367964780539,23.650243208607954,46.812996903305461,14.313367964780539,23.650243208607954,null,{"$f":"IF(EMCI!$F$27=\"A\",'2nd milking (DO)'!AF32,IF(EMCI!$F$27=\"B\",'2nd milking (DO)'!AG32,IF(EMCI!$F$27=\"S\",'2nd milking (DO)'!AH32,IF(EMCI!$F$27=\"P\",'2nd milking (DO)'!AI32,IF(EMCI!$F$27=\"FS\",'2nd milking (DO)'!AJ32,\"error\")))))","v":23.650243208607954}]
[{"$f":"E53","v":7.5},{"$f":"AL53","v":80.514027906724493},null,null,12.5,2.2647058823529389,5.8823529411764497E-2,null,5.1691931397991081E-2,0.12359730167329401,0.21062024924946207,null,4.9868727171304417E-2,0.12083544651493101,0.20788251013768322,null,3.0407018469406411E-3,2.4963045138055913,null,50.205722668516216,null,7.2704295101937398E-3,2.0181075950829519,null,24.677298681133198,null,1.2389426426438902E-2,2.9582950954789164,null,14.63184614475996,null,14.63184614475996,24.677298681133198,50.205722668516216,14.63184614475996,24.677298681133198,null,{"$f":"IF(EMCI!$F$27=\"A\",'2nd milking (DO)'!AF33,IF(EMCI!$F$27=\"B\",'2nd milking (DO)'!AG33,IF(EMCI!$F$27=\"S\",'2nd milking (DO)'!AH33,IF(EMCI!$F$27=\"P\",'2nd milking (DO)'!AI33,IF(EMCI!$F$27=\"FS\",'2nd milking (DO)'!AJ33,\"error\")))))","v":24.677298681133198}]
[{"$f":"E52","v":7.75},{"$f":"AL52","v":74.25822343563658},null,null,12.25,2.3235294117647034,5.8823529411764497E-2,null,4.807825551601249E-2,0.11810479802336256,0.20516044972357486,null,4.6320516432115315E-2,0.11540535625914415,0.2024541684629837,null,2.8281326774124895E-3,2.4991326464830039,null,53.990489445041561,null,6.9473410601977731E-3,2.0250549361431496,null,25.778223474970908,null,1.2068261748445537E-2,2.9703633572273618,null,14.964555512852138,null,14.964555512852138,25.778223474970908,53.990489445041561,14.964555512852138,25.778223474970908,null,{"$f":"IF(EMCI!$F$27=\"A\",'2nd milking (DO)'!AF34,IF(EMCI!$F$27=\"B\",'2nd milking (DO)'!AG34,IF(EMCI!$F$27=\"S\",'2nd milking (DO)'!AH34,IF(EMCI!$F$27=\"P\",'2nd milking (DO)'!AI34,IF(EMCI!$F$27=\"FS\",'2nd milking (DO)'!AJ34,\"error\")))))","v":25.778223474970908}]
[{"$f":"E51","v":8},{"$f":"AL51","v":68.712485923741582},null,null,12,2.3823529411764679,5.8823529411764497E-2,null,4.459550991961285E-2,0.11273712127874896,0.19976376397001153,null,4.2903235978505136E-2,0.11010009313483672,0.19708933109359619,null,2.623265289388982E-3,2.5017559117723929,null,58.229735618992642,null,6.6315953693381509E-3,2.0316865315124879,null,26.960135854311183,null,1.1750809645294754E-2,2.9821141668726567,null,15.312273964206478,null,15.312273964206478,26.960135854311183,58.229735618992642,15.312273964206478,26.960135854311183,null,{"$f":"IF(EMCI!$F$27=\"A\",'2nd milking (DO)'!AF35,IF(EMCI!$F$27=\"B\",'2nd milking (DO)'!AG35,IF(EMCI!$F$27=\"S\",'2nd milking (DO)'!AH35,IF(EMCI!$F$27=\"P\",'2nd milking (DO)'!AI35,IF(EMCI!$F$27=\"FS\",'2nd milking (DO)'!AJ35,\"error\")))))","v":26.960135854311183}]
[{"$f":"E50","v":8.25},{"$f":"AL50","v":63.773594297921875},null,null,11.75,2.4411764705882328,5.8823529411764941E-2,null,4.1243694608792139E-2,0.10749427187650554,0.19443096199213733,null,3.961688581047388E-2,0.10491965754952723,0.19178874620621136,null,2.4260996828701356E-3,2.5041820114552631,null,62.998843485191223,null,6.3231924633238802E-3,2.0380097239758119,null,28.23103263204975,null,1.1437115411302242E-2,2.9935512822839589,null,15.675834881800133,null,15.675834881800133,28.23103263204975,62.998843485191223,15.675834881800133,28.23103263204975,null,{"$f":"IF(EMCI!$F$27=\"A\",'2nd milking (DO)'!AF36,IF(EMCI!$F$27=\"B\",'2nd milking (DO)'!AG36,IF(EMCI!$F$27=\"S\",'2nd milking (DO)'!AH36,IF(EMCI!$F$27=\"P\",'2nd milking (DO)'!AI36,IF(EMCI!$F$27=\"FS\",'2nd milking (DO)'!AJ36,\"error\")))))","v":28.23103263204975}]
[{"$f":"E49","v":8.5},{"$f":"AL49","v":59.356424211845734},null,null,11.5,2.4999999999999973,5.8823529411764497E-2,null,3.8022809583550352E-2,0.10237625019656743,0.18916277072942361,null,3.6461465928021568E-2,9.9864049857391432E-2,0.18655312007743888,null,2.2366358578558951E-3,2.5064186473131191,null,68.389498041835452,null,6.0221323645039447E-3,2.0440318563403159,null,29.599922573547605,null,1.1127221807613115E-2,3.0046785040915722,null,16.05613186563194,null,16.05613186563194,29.599922573547605,68.389498041835452,16.05613186563194,29.599922573547605,null,{"$f":"IF(EMCI!$F$27=\"A\",'2nd milking (DO)'!AF37,IF(EMCI!$F$27=\"B\",'2nd milking (DO)'!AG37,IF(EMCI!$F$27=\"S\",'2nd milking (DO)'!AH37,IF(EMCI!$F$27=\"P\",'2nd milking (DO)'!AI37,IF(EMCI!$F$27=\"FS\",'2nd milking (DO)'!AJ37,\"error\")))))","v":29.599922573547605}]
[{"$f":"E48","v":8.75},{"$f":"AL48","v":55.390270108363403},null,null,11.25,2.5588235294117618,5.8823529411764497E-2,null,3.4932854843887522E-2,9.7383056569056464E-2,0.18395987635523695,null,3.3436976331148192E-2,9.4933270366092032E-2,0.18138311932263304,null,2.0548738143463174E-3,2.5084735211274656,null,74.514108398956949,null,5.7284150922974186E-3,2.0497602714326133,null,31.076984045639115,null,1.082116919736684E-2,3.015499673288939,null,16.454123944149494,null,16.454123944149494,31.076984045639115,74.514108398956949,16.454123944149494,31.076984045639115,null,{"$f":"IF(EMCI!$F$27=\"A\",'2nd milking (DO)'!AF38,IF(EMCI!$F$27=\"B\",'2nd milking (DO)'!AG38,IF(EMCI!$F$27=\"S\",'2nd milking (DO)'!AH38,IF(EMCI!$F$27=\"P\",'2nd milking (DO)'!AI38,IF(EMCI!$F$27=\"FS\",'2nd milking (DO)'!AJ38,\"error\")))))","v":31.076984045639115}]
[{"$f":"E47","v":9},{"$f":"AL47","v":51.816010713153901},null,null,11,2.6176470588235263,5.8823529411764497E-2,null,3.1973830389803601E-2,9.2514691280667832E-2,0.17882292645810682,null,3.054341701985375E-2,9.0127319342750936E-2,0.17627937302097987,null,1.8808135523413817E-3,2.510354334679807,null,81.511694114050186,null,5.442040663568677E-3,2.0552023120961818,null,32.673752080707729,null,1.0518995674006246E-2,3.0260186689629451,null,16.870841324600732,null,16.870841324600732,32.673752080707729,81.511694114050186,16.870841324600732,32.673752080707729,null,{"$f":"IF(EMCI!$F$27=\"A\",'2nd milking (DO)'!AF39,IF(EMCI!$F$27=\"B\",'2nd milking (DO)'!AG39,IF(EMCI!$F$27=\"S\",'2nd milking (DO)'!AH39,IF(EMCI!$F$27=\"P\",'2nd milking (DO)'!AI39,IF(EMCI!$F$27=\"FS\",'2nd milking (DO)'!AJ39,\"error\")))))","v":32.673752080707729}]
[{"$f":"E46","v":9.25},{"$f":"AL46","v":48.583903941139965},null,null,10.75,2.6764705882352908,5.8823529411764497E-2,null,2.9145736221298631E-2,8.7771154580253072E-2,0.1737525321119813,null,2.7780787994138238E-2,8.5446197019167794E-2,0.17124247473224119,null,1.7144550718410899E-3,2.5120687897516478,null,89.555818602888692,null,5.1630090929560444E-3,2.060365321189138,null,34.40334129968857,null,1.0220737183057688E-2,3.0362394061460027,null,17.307391746634146,null,17.307391746634146,34.40334129968857,89.555818602888692,17.307391746634146,34.40334129968857,null,{"$f":"IF(EMCI!$F$27=\"A\",'2nd milking (DO)'!AF40,IF(EMCI!$F$27=\"B\",'2nd milking (DO)'!AG40,IF(EMCI!$F$27=\"S\",'2nd milking (DO)'!AH40,IF(EMCI!$F$27=\"P\",'2nd milking (DO)'!AI40,IF(EMCI!$F$27=\"FS\",'2nd milking (DO)'!AJ40,\"error\")))))","v":34.40334129968857}]
[{"$f":"E45","v":9.5},{"$f":"AL45","v":45.651856409262507},null,null,10.5,2.7352941176470558,5.8823529411764941E-2,null,2.644857233837258E-2,8.3152446683698977E-2,0.16874926984075,null,2.5149089254001666E-2,8.0889903596380763E-2,0.1662729844103209,null,1.5557983728454522E-3,2.5136245881244932,null,98.865425573209592,null,4.8913203931587827E-3,2.0652566415822968,null,36.280712770549172,null,9.9264276376912156E-3,3.0461658337836939,null,17.764967512262658,null,17.764967512262658,36.280712770549172,98.865425573209592,17.764967512262658,36.280712770549172,null,{"$f":"IF(EMCI!$F$27=\"A\",'2nd milking (DO)'!AF41,IF(EMCI!$F$27=\"B\",'2nd milking (DO)'!AG41,IF(EMCI!$F$27=\"S\",'2nd milking (DO)'!AH41,IF(EMCI!$F$27=\"P\",'2nd milking (DO)'!AI41,IF(EMCI!$F$27=\"FS\",'2nd milking (DO)'!AJ41,\"error\")))))","v":36.280712770549172}]
[{"$f":"E44","v":9.75},{"$f":"AL44","v":42.984054303126619},null,null,10.25,2.7941176470588203,5.8823529411764497E-2,null,2.3882338741025473E-2,7.8658567778189678E-2,0.16381368348209219,null,2.2648320799444024E-2,7.6458439248649382E-2,0.16137143021860539,null,1.4048434553544345E-3,2.5150294315798476,null,109.71985916417935,null,4.6269745751876118E-3,2.0698836161574845,null,38.322994984419267,null,9.63609902835833E-3,3.0558019328120523,null,18.244853275449838,null,18.244853275449838,38.322994984419267,109.71985916417935,18.244853275449838,38.322994984419267,null,{"$f":"IF(EMCI!$F$27=\"A\",'2nd milking (DO)'!AF42,IF(EMCI!$F$27=\"B\",'2nd milking (DO)'!AG42,IF(EMCI!$F$27=\"S\",'2nd milking (DO)'!AH42,IF(EMCI!$F$27=\"P\",'2nd milking (DO)'!AI42,IF(EMCI!$F$27=\"FS\",'2nd milking (DO)'!AJ42,\"error\")))))","v":38.322994984419267}]
[{"$f":"E43","v":10},{"$f":"AL43","v":40.549871865252911},null,null,10,2.8529411764705848,5.8823529411764497E-2,null,2.14470354292573E-2,7.428951802592855E-2,0.15894628595549334,null,2.0278482630465319E-2,7.2151804126932312E-2,0.15653831025181383,null,1.2615903193680721E-3,2.5162910218992156,null,122.4800209838872,null,4.3699716485840166E-3,2.0742535878060684,null,40.549871865252911,null,9.3497815267936935E-3,3.065151714338846,null,18.748434686308027,null,18.748434686308027,40.549871865252911,122.4800209838872,18.748434686308027,40.549871865252911,null,{"$f":"IF(EMCI!$F$27=\"A\",'2nd milking (DO)'!AF43,IF(EMCI!$F$27=\"B\",'2nd milking (DO)'!AG43,IF(EMCI!$F$27=\"S\",'2nd milking (DO)'!AH43,IF(EMCI!$F$27=\"P\",'2nd milking (DO)'!AI43,IF(EMCI!$F$27=\"FS\",'2nd milking (DO)'!AJ43,\"error\")))))","v":40.549871865252911}]
[{"$f":"E42","v":10.25},{"$f":"AL42","v":38.322994984419267},null,null,9.75,2.9117647058823493,5.8823529411764497E-2,null,1.9142662403068059E-2,7.0045297567387574E-2,0.15414756093906151,null,1.8039574747065537E-2,6.7969998361922884E-2,0.15177409416889009,null,1.1260389648863525E-3,2.5174170608641018,null,137.6187063134476,null,4.1203116216110194E-3,2.0783738994276795,null,42.984054303126619,null,9.0675035846506449E-3,3.0742192179234968,null,19.277207998492639,null,19.277207998492639,42.984054303126619,137.6187063134476,19.277207998492639,42.984054303126619,null,{"$f":"IF(EMCI!$F$27=\"A\",'2nd milking (DO)'!AF44,IF(EMCI!$F$27=\"B\",'2nd milking (DO)'!AG44,IF(EMCI!$F$27=\"S\",'2nd milking (DO)'!AH44,IF(EMCI!$F$27=\"P\",'2nd milking (DO)'!AI44,IF(EMCI!$F$27=\"FS\",'2nd milking (DO)'!AJ44,\"error\")))))","v":42.984054303126619}]
[{"$f":"E41","v":10.5},{"$f":"AL41","v":36.280712770549172},null,null,9.5,2.9705882352941138,5.8823529411764497E-2,null,1.6969219662457756E-2,6.5925906524142819E-2,0.14941796445957814,null,1.5931597149244706E-2,6.3913022066697509E-2,0.14707922474126942,null,9.9818939190927632E-4,2.5184152502560111,null,155.76496985813111,null,3.877994501420152E-3,2.0822518939290995,null,45.651856409262507,null,8.7892920270339764E-3,3.0830085099505307,null,19.832790764166855,null,19.832790764166855,45.651856409262507,155.76496985813111,19.832790764166855,45.651856409262507,null,{"$f":"IF(EMCI!$F$27=\"A\",'2nd milking (DO)'!AF45,IF(EMCI!$F$27=\"B\",'2nd milking (DO)'!AG45,IF(EMCI!$F$27=\"S\",'2nd milking (DO)'!AH45,IF(EMCI!$F$27=\"P\",'2nd milking (DO)'!AI45,IF(EMCI!$F$27=\"FS\",'2nd milking (DO)'!AJ45,\"error\")))))","v":45.651856409262507}]
[{"$f":"E40","v":10.75},{"$f":"AL40","v":34.40334129968857},null,null,9.25,3.0294117647058787,5.8823529411764941E-2,null,1.4926707207426384E-2,6.1931345001347733E-2,0.14475792640001692,null,1.3954549837002799E-2,5.9980875339025456E-2,0.1424541193206629,null,8.7804160043684963E-4,2.5192932918564481,null,177.77045745793586,null,3.6430202941969401E-3,2.0858949142232963,null,48.583903941139965,null,8.5151721411774999E-3,3.091523682091708,null,20.416933759292274,null,20.416933759292274,48.583903941139965,177.77045745793586,20.416933759292274,48.583903941139965,null,{"$f":"IF(EMCI!$F$27=\"A\",'2nd milking (DO)'!AF46,IF(EMCI!$F$27=\"B\",'2nd milking (DO)'!AG46,IF(EMCI!$F$27=\"S\",'2nd milking (DO)'!AH46,IF(EMCI!$F$27=\"P\",'2nd milking (DO)'!AI46,IF(EMCI!$F$27=\"FS\",'2nd milking (DO)'!AJ46,\"error\")))))","v":48.583903941139965}]
[{"$f":"E39","v":11},{"$f":"AL39","v":32.673752080707729},null,null,9,3.0882352941176432,5.8823529411764497E-2,null,1.3015125037973942E-2,5.8061613089890336E-2,0.1401678519285815,null,1.2108432810339827E-2,5.6173558263382765E-2,0.13789917123031473,null,7.6559559046905277E-4,2.520058887446917,null,204.81107269599514,null,3.4153890052876549E-3,2.0893103032285838,null,51.816010713153901,null,8.2451677605047645E-3,3.0997688498522127,null,21.031534303450709,null,21.031534303450709,51.816010713153901,204.81107269599514,21.031534303450709,51.816010713153901,null,{"$f":"IF(EMCI!$F$27=\"A\",'2nd milking (DO)'!AF47,IF(EMCI!$F$27=\"B\",'2nd milking (DO)'!AG47,IF(EMCI!$F$27=\"S\",'2nd milking (DO)'!AH47,IF(EMCI!$F$27=\"P\",'2nd milking (DO)'!AI47,IF(EMCI!$F$27=\"FS\",'2nd milking (DO)'!AJ47,\"error\")))))","v":51.816010713153901}]
[{"$f":"E38","v":11.25},{"$f":"AL38","v":31.076984045639115},null,null,8.75,3.1470588235294077,5.8823529411764497E-2,null,1.1234473154100443E-2,5.4316710868272958E-2,0.13564812285312758,null,1.0393246069255789E-2,5.249107091270714E-2,0.13341475108351158,null,6.60851362005906E-4,2.5207197388089231,null,238.54724930693442,null,3.1951006393101627E-3,2.0925054038678939,null,55.390270108363403,null,7.9793013443015936E-3,3.1077481511965144,null,21.678651163491413,null,21.678651163491413,55.390270108363403,238.54724930693442,21.678651163491413,55.390270108363403,null,{"$f":"IF(EMCI!$F$27=\"A\",'2nd milking (DO)'!AF48,IF(EMCI!$F$27=\"B\",'2nd milking (DO)'!AG48,IF(EMCI!$F$27=\"S\",'2nd milking (DO)'!AH48,IF(EMCI!$F$27=\"P\",'2nd milking (DO)'!AI48,IF(EMCI!$F$27=\"FS\",'2nd milking (DO)'!AJ48,\"error\")))))","v":55.390270108363403}]
[{"$f":"E37","v":11.5},{"$f":"AL37","v":29.599922573547605},null,null,8.5,3.2058823529411722,5.8823529411764497E-2,null,9.5847515558058708E-3,5.0696638404250462E-2,0.13119909890466158,null,8.8089896137506871E-3,4.8933413349926902E-2,0.12900120803295215,null,5.6380891504740217E-4,2.5212835477239706,null,281.38487624128811,null,2.9821552002500164E-3,2.0954875590681437,null,59.356424211845734,null,7.7175940532153596E-3,3.1154657452497299,null,22.360521259719079,null,22.360521259719079,59.356424211845734,281.38487624128811,22.360521259719079,59.356424211845734,null,{"$f":"IF(EMCI!$F$27=\"A\",'2nd milking (DO)'!AF49,IF(EMCI!$F$27=\"B\",'2nd milking (DO)'!AG49,IF(EMCI!$F$27=\"S\",'2nd milking (DO)'!AH49,IF(EMCI!$F$27=\"P\",'2nd milking (DO)'!AI49,IF(EMCI!$F$27=\"FS\",'2nd milking (DO)'!AJ49,\"error\")))))","v":59.356424211845734}]
[{"$f":"E36","v":11.75},{"$f":"AL36","v":28.23103263204975},null,null,8.25,3.2647058823529367,5.8823529411764497E-2,null,8.0659602430902377E-3,4.7201395756256849E-2,0.12682111895344028,null,7.3556634438245181E-3,4.5500585629291837E-2,0.12465887095441666,null,4.7446824959354171E-4,2.521758015973564,null,336.91617390502768,null,2.7765526915445107E-3,2.0982641117596881,null,63.773594297921875,null,7.460065820790578E-3,3.1229258110705205,null,23.079578427928517,null,23.079578427928517,63.773594297921875,336.91617390502768,23.079578427928517,63.773594297921875,null,{"$f":"IF(EMCI!$F$27=\"A\",'2nd milking (DO)'!AF50,IF(EMCI!$F$27=\"B\",'2nd milking (DO)'!AG50,IF(EMCI!$F$27=\"S\",'2nd milking (DO)'!AH50,IF(EMCI!$F$27=\"P\",'2nd milking (DO)'!AI50,IF(EMCI!$F$27=\"FS\",'2nd milking (DO)'!AJ50,\"error\")))))","v":63.773594297921875}]
[{"$f":"E35","v":12},{"$f":"AL35","v":26.960135854311183},null,null,8,3.3235294117647016,5.8823529411764941E-2,null,6.6780992159535344E-3,4.3830982974647166E-2,0.12251450216103232,null,6.0332675594772841E-3,4.2192587797532113E-2,0.12038804956802177,null,3.9282936564432713E-4,2.5221508453392083,null,410.69770737558173,null,2.5782931161557258E-3,2.1008424048758436,null,68.712485923741582,null,7.2067354212372245E-3,3.1301325464917578,null,23.838474531367062,null,23.838474531367062,68.712485923741582,410.69770737558173,23.838474531367062,68.712485923741582,null,{"$f":"IF(EMCI!$F$27=\"A\",'2nd milking (DO)'!AF51,IF(EMCI!$F$27=\"B\",'2nd milking (DO)'!AG51,IF(EMCI!$F$27=\"S\",'2nd milking (DO)'!AH51,IF(EMCI!$F$27=\"P\",'2nd milking (DO)'!AI51,IF(EMCI!$F$27=\"FS\",'2nd milking (DO)'!AJ51,\"error\")))))","v":68.712485923741582}]
[{"$f":"E34","v":12.25},{"$f":"AL34","v":25.778223474970908},null,null,7.75,3.3823529411764661,5.8823529411764497E-2,null,5.4211684743957671E-3,4.0585400102778259E-2,0.11827954907154804,null,4.8418019607089843E-3,3.9009419894865949E-2,0.11618903550019019,null,3.188922631997499E-4,2.5224697376024081,null,511.69591042811004,null,2.3873764766340067E-3,2.1032297813524776,null,74.25822343563658,null,6.9576205336204485E-3,3.1370901670253781,null,24.640103264906916,null,24.640103264906916,74.25822343563658,511.69591042811004,24.640103264906916,74.25822343563658,null,{"$f":"IF(EMCI!$F$27=\"A\",'2nd milking (DO)'!AF52,IF(EMCI!$F$27=\"B\",'2nd milking (DO)'!AG52,IF(EMCI!$F$27=\"S\",'2nd milking (DO)'!AH52,IF(EMCI!$F$27=\"P\",'2nd milking (DO)'!AI52,IF(EMCI!$F$27=\"FS\",'2nd milking (DO)'!AJ52,\"error\")))))","v":74.25822343563658}]
[{"$f":"E33","v":12.5},{"$f":"AL33","v":24.677298681133198},null,null,7.5,3.4411764705882306,{"$f":"F53-F52","v":5.8823529411764497E-2},null,4.295168018416934E-3,3.7464647177948653E-2,0.11411654264509592,null,3.7812666475196171E-3,3.595108195587611E-2,0.1120621032893214,null,2.5265694225981876E-4,2.522722394544668,null,655.14491211042798,null,2.2038027751734423E-3,2.1054335841276512,null,80.514027906724493,null,6.7127378026526777E-3,3.1438029048280307,null,25.487627050849238,null,25.487627050849238,80.514027906724493,655.14491211042798,25.487627050849238,80.514027906724493,null,{"$f":"IF(EMCI!$F$27=\"A\",'2nd milking (DO)'!AF53,IF(EMCI!$F$27=\"B\",'2nd milking (DO)'!AG53,IF(EMCI!$F$27=\"S\",'2nd milking (DO)'!AH53,IF(EMCI!$F$27=\"P\",'2nd milking (DO)'!AI53,IF(EMCI!$F$27=\"FS\",'2nd milking (DO)'!AJ53,\"error\")))))","v":80.514027906724493}]
[{"$f":"E32","v":12.75},{"$f":"AL32","v":23.650243208607954},null,null,{"$f":"E53-0.25","v":7.25},3.4999999999999951,5.8823529411764497E-2,null,3.3000978480170352E-3,3.44687242322156E-2,0.11002574923637776,null,2.8516616199091853E-3,3.3017574010271708E-2,0.10800751133800611,null,1.941234028245308E-4,{"$f":"R53+Q54","v":2.5229165179474924},null,868.64565724014392,null,2.027572013659734E-3,{"$f":"W53+V54","v":2.1074611561413108},null,87.606038013538651,null,6.4721028962574922E-3,{"$f":"AB53+AA54","v":3.150275007724288},null,26.384507493720388,null,26.384507493720388,87.606038013538651,868.64565724014392,26.384507493720388,87.606038013538651,null,{"$f":"IF(EMCI!$F$27=\"A\",'2nd milking (DO)'!AF54,IF(EMCI!$F$27=\"B\",'2nd milking (DO)'!AG54,IF(EMCI!$F$27=\"S\",'2nd milking (DO)'!AH54,IF(EMCI!$F$27=\"P\",'2nd milking (DO)'!AI54,IF(EMCI!$F$27=\"FS\",'2nd milking (DO)'!AJ54,\"error\")))))","v":87.606038013538651}]
[{"$f":"E31","v":13},{"$f":"AL31","v":22.690704013762069},null,null,7,3.5588235294117596,5.8823529411764497E-2,null,2.4359579631960701E-3,3.1597631293105111E-2,0.10600741952120002,null,2.0529868778776873E-3,3.0208896083549652E-2,0.10402550281449537,null,1.4329164489388597E-4,2.5230598095923864,null,1206.5056124314813,null,1.8586841937120588E-3,{"$f":"W54+V55","v":2.1093198403350231},null,95.689698546750463,null,6.2357305600705673E-3,{"$f":"AB54+AA55","v":3.1565107382843585},null,27.334539942443975,null,27.334539942443975,95.689698546750463,1206.5056124314813,27.334539942443975,95.689698546750463,null,{"$f":"IF(EMCI!$F$27=\"A\",'2nd milking (DO)'!AF55,IF(EMCI!$F$27=\"B\",'2nd milking (DO)'!AG55,IF(EMCI!$F$27=\"S\",'2nd milking (DO)'!AH55,IF(EMCI!$F$27=\"P\",'2nd milking (DO)'!AI55,IF(EMCI!$F$27=\"FS\",'2nd milking (DO)'!AJ55,\"error\")))))","v":95.689698546750463}]
[{"$f":"E30","v":13.25},{"$f":"AL30","v":21.792996641058558},null,null,6.75,3.6176470588235246,5.8823529411764941E-2,null,1.7027483639540388E-3,2.8851368384228526E-2,0.1020617893735461,null,1.3852424214251236E-3,2.7525048197569259E-2,0.10011630650600498,null,1.0016166846788504E-4,2.5231599712608541,null,1788.0191874220814,null,1.6971393167193318E-3,2.1110169796517426,null,104.95832739734799,null,6.0036346690321473E-3,3.1625143729533907,null,28.34189280520868,null,28.34189280520868,104.95832739734799,1788.0191874220814,28.34189280520868,104.95832739734799,null,{"$f":"IF(EMCI!$F$27=\"A\",'2nd milking (DO)'!AF56,IF(EMCI!$F$27=\"B\",'2nd milking (DO)'!AG56,IF(EMCI!$F$27=\"S\",'2nd milking (DO)'!AH56,IF(EMCI!$F$27=\"P\",'2nd milking (DO)'!AI56,IF(EMCI!$F$27=\"FS\",'2nd milking (DO)'!AJ56,\"error\")))))","v":104.95832739734799}]
[{"$f":"E29","v":13.5},{"$f":"AL29","v":20.952022533317429},null,null,6.5,3.676470588235289,5.8823529411764497E-2,null,1.100469050290942E-3,2.622993552581766E-2,9.8189080695726974E-2,null,8.4842825055149364E-4,2.4966030371050753E-2,9.6280137626312767E-2,null,6.4733473546525768E-5,2.5232247047344005,null,2919.251325796437,null,1.5429373838716216E-3,2.1125599170356142,null,115.65475328078203,null,5.7758282762192135E-3,3.1682902012296097,null,29.41115237870725,null,29.41115237870725,115.65475328078203,2919.251325796437,29.41115237870725,115.65475328078203,null,{"$f":"IF(EMCI!$F$27=\"A\",'2nd milking (DO)'!AF57,IF(EMCI!$F$27=\"B\",'2nd milking (DO)'!AG57,IF(EMCI!$F$27=\"S\",'2nd milking (DO)'!AH57,IF(EMCI!$F$27=\"P\",'2nd milking (DO)'!AI57,IF(EMCI!$F$27=\"FS\",'2nd milking (DO)'!AJ57,\"error\")))))","v":115.65475328078203}]
[{"$f":"E28","v":13.75},{"$f":"AL28","v":20.163198032083777},null,null,6.25,3.7352941176470535,5.8823529411764497E-2,null,6.2912002220677889E-4,2.3733332735188999E-2,9.4389502204009934E-2,null,4.4254436525679775E-4,2.2531842620007458E-2,9.2517198579988219E-2,null,3.7007060129810392E-5,2.5232617117945302,null,5596.587557426652,null,1.3960783961875832E-3,2.1139559954318017,null,128.08734967842781,null,5.5523236590593883E-3,3.173842524888669,null,30.547374093562734,null,30.547374093562734,128.08734967842781,5596.587557426652,30.547374093562734,128.08734967842781,null,{"$f":"IF(EMCI!$F$27=\"A\",'2nd milking (DO)'!AF58,IF(EMCI!$F$27=\"B\",'2nd milking (DO)'!AG58,IF(EMCI!$F$27=\"S\",'2nd milking (DO)'!AH58,IF(EMCI!$F$27=\"P\",'2nd milking (DO)'!AI58,IF(EMCI!$F$27=\"FS\",'2nd milking (DO)'!AJ58,\"error\")))))","v":128.08734967842781}]
[{"$f":"E27","v":14},{"$f":"AL27","v":19.422393216801563},null,null,6,3.794117647058818,5.8823529411764497E-2,null,2.887012797015501E-4,2.1361560027146304E-2,9.0663250172005841E-2,null,1.6759076554103596E-4,2.0222484958120589E-2,8.8827679685481262E-2,null,1.6982428217738179E-5,2.5232786942227481,null,14778.387686109152,null,1.2565623545380134E-3,2.1152125577863399,null,142.65247066262438,null,5.3331323630591478E-3,3.179175657251728,null,31.756141247144736,null,31.756141247144736,142.65247066262438,14778.387686109152,31.756141247144736,142.65247066262438,null,{"$f":"IF(EMCI!$F$27=\"A\",'2nd milking (DO)'!AF59,IF(EMCI!$F$27=\"B\",'2nd milking (DO)'!AG59,IF(EMCI!$F$27=\"S\",'2nd milking (DO)'!AH59,IF(EMCI!$F$27=\"P\",'2nd milking (DO)'!AI59,IF(EMCI!$F$27=\"FS\",'2nd milking (DO)'!AJ59,\"error\")))))","v":142.65247066262438}]
[{"$f":"E26","v":14.25},{"$f":"AL26","v":18.725879054907974},null,null,5.75,3.8529411764705825,5.8823529411764497E-2,null,7.921282277525533E-5,1.911461741432929E-2,8.7010509133988265E-2,null,2.3567451404208249E-5,1.8037957397063781E-2,8.5211759859187261E-2,null,4.6595778103091204E-6,2.5232833538005583,null,105090.55916657981,null,1.1243892596664248E-3,2.1163369470460065,null,159.86638561544646,null,5.118265243175762E-3,3.1842939224949038,null,33.04363250046778,null,33.04363250046778,159.86638561544646,105090.55916657981,33.04363250046778,159.86638561544646,null,{"$f":"IF(EMCI!$F$27=\"A\",'2nd milking (DO)'!AF60,IF(EMCI!$F$27=\"B\",'2nd milking (DO)'!AG60,IF(EMCI!$F$27=\"S\",'2nd milking (DO)'!AH60,IF(EMCI!$F$27=\"P\",'2nd milking (DO)'!AI60,IF(EMCI!$F$27=\"FS\",'2nd milking (DO)'!AJ60,\"error\")))))","v":159.86638561544646}]
[{"$f":"E25","v":14.5},{"$f":"AL25","v":18.070281596800761},null,null,5.5,3.9117647058823475,5.8823529411764941E-2,null,0,1.6992504907515658E-2,8.3431452550209242E-2,null,0,1.5978259946784049E-2,8.1669607262505536E-2,null,0,2.5232833538005583,null,105090.55916657981,null,9.9955911220680734E-4,2.1173365061582134,null,180.41160323105029,null,4.9077325029535041E-3,3.1892016549978575,null,34.416699666101835,null,34.416699666101835,180.41160323105029,105090.55916657981,34.416699666101835,180.41160323105029,null,{"$f":"IF(EMCI!$F$27=\"A\",'2nd milking (DO)'!AF61,IF(EMCI!$F$27=\"B\",'2nd milking (DO)'!AG61,IF(EMCI!$F$27=\"S\",'2nd milking (DO)'!AH61,IF(EMCI!$F$27=\"P\",'2nd milking (DO)'!AI61,IF(EMCI!$F$27=\"FS\",'2nd milking (DO)'!AJ61,\"error\")))))","v":180.41160323105029}]
[{"$f":"E24","v":14.75},{"$f":"AL24","v":17.452542162543548},null,null,5.25,3.970588235294112,5.8823529411764497E-2,null,0,1.4995222515882417E-2,7.9926243436178462E-2,null,0,1.4043392615744832E-2,7.8201379913805977E-2,null,0,2.5232833538005583,null,105090.55916657981,null,8.8207191269896264E-4,2.1182185780709126,null,205.20550131868856,null,4.7015437315398928E-3,3.1939031987293975,null,35.882957619974214,null,35.882957619974214,205.20550131868856,105090.55916657981,35.882957619974214,205.20550131868856,null,{"$f":"IF(EMCI!$F$27=\"A\",'2nd milking (DO)'!AF62,IF(EMCI!$F$27=\"B\",'2nd milking (DO)'!AG62,IF(EMCI!$F$27=\"S\",'2nd milking (DO)'!AH62,IF(EMCI!$F$27=\"P\",'2nd milking (DO)'!AI62,IF(EMCI!$F$27=\"FS\",'2nd milking (DO)'!AJ62,\"error\")))))","v":205.20550131868856}]
[{"$f":"E23","v":15},{"$f":"AL23","v":16.869882641033204},null,null,5,4.029411764705876,5.8823529411764053E-2,null,0,1.3122770247231881E-2,7.6495034957773558E-2,null,0,1.2233355411136097E-2,7.4807226267127047E-2,null,0,2.5232833538005583,null,105090.55916657981,null,7.7192766160186677E-4,2.1189905057325147,null,235.50443827086761,null,4.4997079386925121E-3,3.1984029066680901,null,37.450888545549923,null,37.450888545549923,235.50443827086761,105090.55916657981,37.450888545549923,235.50443827086761,null,{"$f":"IF(EMCI!$F$27=\"A\",'2nd milking (DO)'!AF63,IF(EMCI!$F$27=\"B\",'2nd milking (DO)'!AG63,IF(EMCI!$F$27=\"S\",'2nd milking (DO)'!AH63,IF(EMCI!$F$27=\"P\",'2nd milking (DO)'!AI63,IF(EMCI!$F$27=\"FS\",'2nd milking (DO)'!AJ63,\"error\")))))","v":235.50443827086761}]
[null,null,null,null,null,null,null,null,null,null,null,null,null,null,null,null,null,null,null,null,null,null,null,null,null,null,null,null,null,null,null,null,null,null,null,0]
[null,null,null,null,null,null,null,null,null,null,null,null,null,null,null,null,null,null,null,null,null,null,null,null,null,null,null,null,null,null,null,null,null,null,null,0]
[null,null,null,null,null,null,null,null,null,null,null,null,null,null,null,null,null,null,null,null,null,null,null,null,null,null,null,null,null,null,null,null,null,null,null,0]
[null,null,null,null,null,null,null,null,null,null,null,null,null,null,null,null,null,null,null,null,null,null,null,null,null,null,null,null,null,null,null,null,null,null,null,0]
[null,null,null,null,null,null,null,null,null,null,null,null,null,null,null,null,null,null,null,null,null,null,null,null,null,null,null,null,null,null,null,null,null,null,null,0]
[null,null,null,null,null,null,null,null,null,null,null,null,null,null,null,null,null,null,null,null,null,null,null,null,null,null,null,null,null,null,null,null,null,null,null,0]
[null,null,null,null,null,null,null,null,null,null,null,null,null,null,null,null,null,null,null,null,null,null,null,null,null,null,null,null,null,null,null,null,null,null,null,0]
[null,null,null,null,null,null,null,null,null,null,null,null,null,null,null,null,null,null,null,null,null,null,null,null,null,null,null,null,null,null,null,null,null,null,null,0]
[null,null,null,null,null,null,null,null,null,null,null,null,null,null,null,null,null,null,null,null,null,null,null,null,null,null,null,null,null,null,null,null,null,null,null,0]
[null,null,null,null,null,null,null,null,null,null,null,null,null,null,null,null,null,null,null,null,null,null,null,null,null,null,null,null,null,null,null,null,null,null,null,0]
[null,null,null,null,null,null,null,null,null,null,null,null,null,null,null,null,null,null,null,null,null,null,null,null,null,null,null,null,null,null,null,null,null,null,null,0]
[null,null,null,null,null,null,null,null,null,null,null,null,null,null,null,null,null,null,null,null,null,null,null,null,null,null,null,null,null,null,null,null,null,null,null,0]
[null,null,null,null,null,null,null,null,null,null,null,null,null,null,null,null,null,null,null,null,null,null,null,null,null,null,null,null,null,null,null,null,null,null,null,0]
[null,null,null,null,null,null,null,null,null,null,null,null,null,null,null,null,null,null,null,null,null,null,null,null,null,null,null,null,null,null,null,null,null,null,null,0]
[null,null,null,null,null,null,null,null,null,null,null,null,null,null,null,null,null,null,null,null,null,null,null,null,null,null,null,null,null,null,null,null,null,null,null,0]
[null,null,null,null,null,null,null,null,null,null,null,null,null,null,null,null,null,null,null,null,null,null,null,null,null,null,null,null,null,null,null,null,null,null,null,0]
[null,null,null,null,null,null,null,null,null,null,null,null,null,null,null,null,null,null,null,null,null,null,null,null,null,null,null,null,null,null,null,null,null,null,null,0]
[null,null,null,null,null,null,null,null,null,null,null,null,null,null,null,null,null,null,null,null,null,null,null,null,null,null,null,null,null,null,null,null,null,null,null,0]
[null,null,null,null,null,null,null,null,null,null,null,null,null,null,null,null,null,null,null,null,null,null,null,null,null,null,null,null,null,null,null,null,null,null,null,0]
[null,null,null,null,null,null,null,null,null,null,null,null,null,null,null,null,null,null,null,null,null,null,null,null,null,null,null,null,null,null,null,null,null,null,null,0]
[null,null,null,null,null,null,null,null,null,null,null,null,null,null,null,null,null,null,null,null,null,null,null,null,null,null,null,null,null,null,null,null,null,null,null,0]
[null,null,null,null,null,null,null,null,null,null,null,null,null,null,null,null,null,null,null,null,null,null,null,null,null,null,null,null,null,null,null,null,null,null,null,0]
[null,null,null,null,null,null,null,null,null,null,null,null,null,null,null,null,null,null,null,null,null,null,null,null,null,null,null,null,null,null,null,null,null,null,null,0]
[null,null,null,null,null,null,null,null,null,null,null,null,null,null,null,null,null,null,null,null,null,null,null,null,null,null,null,null,null,null,null,null,null,null,null,0]
[null,null,null,null,null,null,null,null,null,null,null,null,null,null,null,null,null,null,null,null,null,null,null,null,null,null,null,null,null,null,null,null,null,null,null,{"$f":"MIN(AG88:AH88)","v":0}]
[null,null,null,null,null,null,null,null,null,null,null,null,null,null,null,null,null,null,null,null,null,null,null,null,null,null,null,null,null,null,null,null,null,null,null,0]
[null,null,null,null,null,null,null,null,null,null,null,null,null,null,null,null,null,null,null,null,null,null,null,null,null,null,null,null,null,null,null,null,null,null,null,0]
[null,null,null,null,null,null,null,null,null,null,null,null,null,null,null,null,null,null,null,null,null,null,null,null,null,null,null,null,null,null,null,null,null,null,null,0]
[null,null,null,null,null,null,null,null,null,null,null,null,null,null,null,null,null,null,null,null,null,null,null,null,null,null,null,null,null,null,null,null,null,null,null,0]
[null,null,null,null,null,null,null,null,null,null,null,null,null,null,null,null,null,null,null,null,null,null,null,null,null,null,null,null,null,null,null,null,null,null,null,0]
[null,null,null,null,null,null,null,null,null,null,null,null,null,null,null,null,null,null,null,null,null,null,null,null,null,null,null,null,null,null,null,null,null,null,null,0]
[null,null,null,null,null,null,null,null,null,null,null,null,null,null,null,null,null,null,null,null,null,null,null,null,null,null,null,null,null,null,null,null,null,null,null,0]
[null,null,null,null,null,null,null,null,null,null,null,null,null,null,null,null,null,null,null,null,null,null,null,null,null,null,null,null,null,null,null,null,null,null,null,0]
[null,null,null,null,null,null,null,null,null,null,null,null,null,null,null,null,null,null,null,null,null,null,null,null,null,null,null,null,null,null,null,null,null,null,null,0]
[null,null,null,null,null,null,null,null,null,null,null,null,null,null,null,null,null,null,null,null,null,null,null,null,null,null,null,null,null,null,null,null,null,null,null,0]
[null,null,null,null,null,null,null,null,null,null,null,null,null,null,null,null,null,null,null,null,null,null,null,null,null,null,null,null,null,null,null,null,null,null,null,0]
[null,null,null,null,null,null,null,null,null,null,null,null,null,null,null,null,null,null,null,null,null,null,null,null,null,null,null,null,null,null,null,null,null,null,null,0]
[null,null,null,null,null,null,null,null,null,null,null,null,null,null,null,null,null,null,null,null,null,null,null,null,null,null,null,null,null,null,null,null,null,null,null,0]
[null,null,null,null,null,null,null,null,null,null,null,null,null,null,null,null,null,null,null,null,null,null,null,null,null,null,null,null,null,null,null,null,null,null,null,0]
[null,null,null,null,null,null,null,null,null,null,null,null,null,null,null,null,null,null,null,null,null,null,null,null,null,null,null,null,null,null,null,null,null,null,null,0]

{"sheet":"2nd milking (DO2)","index":12,"n_rows":63,"n_cols":22,"rows_kept":63,"cut":false,"hidden":false,"merged":[]}
[]
["Entry",null,null,null,null,null,"Milk cooling curve (2nd milking)",null,null,null,null,null,null,null,null,null,"Entry: ","Temp","Time"]
[null,null,null,null,null,null,null,null,null,null,null,null,null,null,null,null,null,{"$f":"G5","v":22.5},{"$f":"H5","v":-8.8235294117647078E-2}]
["Milking",{"$f":"EMCI!F9","v":1},2,null,null,null,"T","t",null,null,null,null,null,null,null,null,null,{"$f":"G6","v":20},{"$f":"H6","v":0.5}]
["Time",{"$f":"EMCI!F11/60","v":0.5},"O2",null,null,null,{"$f":"(25+B6)/2","v":22.5},{"$f":"H6-((G6-G5)/H10)","v":-8.8235294117647078E-2}]
["Milk T",{"$f":"EMCI!F13","v":20},null,null,null,null,{"$f":"B6","v":20},{"$f":"B5","v":0.5}]
["Volume",{"$f":"EMCI!F31","v":0},"D",null,null,null,null,null,null,null,null,null,null,null,null,null,null,"x","y","xy","xx"]
[null,null,null,null,null,null,null,null,null,null,null,null,null,null,null,null,null,{"$f":"S3","v":-8.8235294117647078E-2},{"$f":"R3","v":22.5},{"$f":"R8*S8","v":-1.9852941176470593},{"$f":"R8*R8","v":7.7854671280276847E-3}]
[null,null,null,null,null,null,null,null,"Outside!!",null,null,null,null,null,null,null,null,{"$f":"S4","v":0.5},{"$f":"R4","v":20},{"$f":"R9*S9","v":10},{"$f":"R9*R9","v":0.25}]
["Outcome",{"$f":"IF(EMCI!F27=\"A\",'2nd milking (DO2)'!N18,(IF(EMCI!F27=\"B\",'2nd milking (DO2)'!N16,(IF(EMCI!F27=\"S\",'2nd milking (DO2)'!N15,(IF(EMCI!F27=\"P\",'2nd milking (DO2)'!N17,(IF(EMCI!F27=\"FS\",'2nd milking (DO2)'!N19,\"error\")))))))))","v":0},null,null,null,null,"slope ",-4.25,{"$f":"R12","v":-4.2500000000000053},null,null,null,null,null,null,null,"sum",{"$f":"SUM(R8:R9)","v":0.41176470588235292},{"$f":"SUM(S8:S9)","v":42.5},8.0147058823529402,0.25778546712802769]
[null,null,null,null,null,null,"intercept",15,{"$f":"R13","v":22.125}]
[null,null,null,null,null,null,null,null,null,null,null,null,null,null,null,null,"slope",{"$f":"(2*T10-R10*S10)/(2*U10-(R10^2))","v":-4.2500000000000053}]
[null,null,null,null,null,null,null,null,null,null,null,null,null,null,null,null,"intercept",{"$f":"(S10-R12*R10)/2","v":22.125}]
[null,null,null,null,null,null,null,"No (logs)","Nf (logs)","Tmin","N after milk (logs)","GR","Time to NMTL","Time to NMTLcorr","Growth storage","N after storage"]
[null,null,null,null,null,null,"S aureus",{"$f":"'1st milking (DO2)'!O15","v":4.6558651590883997},{"$f":"'1st milking (D)'!G15","v":5},5.6,{"$f":"LOOKUP(B6,A23:A63,C23:C63)","v":4.7806935542346496},{"$f":"IF(B6>J15,(0.00033*(B6-5.6)*((6.5-2.8)*(1-EXP(0.5*(6.5-9.8)))*(36.7-0.9324)*(1-EXP(0.42*(-5-0.9324)))))^2,(0.00033*(5.61-5.6)*((6.5-2.8)*(1-EXP(0.5*(6.5-9.8)))*(36.7-0.9324)*(1-EXP(0.42*(-5-0.9324)))))^2)","v":0.21719763214118218},{"$f":"(I15-K15)/L15","v":1.0097091925145734},{"$f":"IF(M15>0,M15,0)","v":1.0097091925145734},{"$f":"(12-$H$6)*L15","v":2.497772769623595},{"$f":"K15+O15","v":7.278466323858245},"TEST(max)",{"$f":"H10*S4+H11","v":12.875}]
[null,null,null,null,null,null,"B cereus",{"$f":"'1st milking (DO2)'!O16","v":5.1604833536938264},{"$f":"'1st milking (D)'!G16","v":5},1.5,{"$f":"LOOKUP(B6,A23:A63,D23:D63)","v":5.3510536376150633},{"$f":"IF(B6>$J$16,(((0.175*(B6-1.5)*SQRT(0.995-0.92)*(1-EXP(0.4395*(B6-45)))))^2)/2.3,0)","v":0.34177342612421274},{"$f":"(I16-K16)/L16","v":-1.0271531101645033},{"$f":"IF(M16>0,M16,0)","v":0},{"$f":"(12-$H$6)*L16","v":3.9303944004284466},{"$f":"K16+O16","v":9.2814480380435107}]
[null,null,null,null,null,null,"Pseudo",{"$f":"'1st milking (DO2)'!O17","v":5.7657458807316537},{"$f":"'1st milking (D)'!G17","v":6},-6.1,{"$f":"LOOKUP(B6,A23:A63,E23:E63)","v":5.976368139347322},{"$f":"IF(B6>$J$17,((0.1709*(B6+6.1)*SQRT(0.995-0.947)*(1-EXP(0.1723*(B6-41.2))))^2)/2.3,0)","v":0.39397462167172831},5.998320539633327E-2,5.998320539633327E-2,{"$f":"(12-$H$6)*L17","v":4.5307081492248757},{"$f":"K17+O17","v":10.507076288572197}]
[null,null,null,null,null,null,"All",null,null,null,null,null,{"$f":"MIN(M15:M17)","v":-1.0271531101645033},0]
[null,null,null,null,null,null,"FS",null,null,null,null,null,{"$f":"MIN(M15:M16)","v":-1.0271531101645033},0]
[]
["Lookup function",null,"Accumulated growth",null,null,null,"Cooling curve profile",null,null,null,"Growth (log/h)",null,null,null,"Saureus","Growth acc",null,"B cereus","Growth acc",null,"Pseudo","Growth acc"]
[{"$f":"G22","v":"Temp"},"NMTL","S.aureus","B.cereus","Pseudomonas",null,"Temp","Time","Time interval",null,"S. aureus","B.cereus","Pseudo",null,"Growth interval",{"$f":"H15","v":4.6558651590883997},null,"Growth interval",{"$f":"H16","v":5.1604833536938264},null,"Growth interval",{"$f":"H17","v":5.7657458807316537}]
[{"$f":"G63","v":12.5},null,{"$f":"P63","v":4.9990017062509864},{"$f":"S63","v":5.7427126572092453},{"$f":"V63","v":6.501976100507914},null,{"$f":"G5","v":22.5},{"$f":"(G23-$I$11)/$I$10","v":-8.8235294117646954E-2},{"$f":"IF(G6=G5,H5,H23)","v":-8.8235294117646954E-2},null,{"$f":"IF(G23>J15,(0.00033*(G23-5.6)*((6.5-2.8)*(1-EXP(0.5*(6.5-9.8)))*(36.7-0.9324)*(1-EXP(0.42*(-5-0.9324)))))^2,0)","v":0.29915999091359485},{"$f":"IF(G23>$J$16,(((0.175*(G23-1.5)*SQRT(0.995-0.92)*(1-EXP(0.4395*(G23-45)))))^2)/2.3,0)","v":0.44035612242055694},{"$f":"IF(G23>$J$17,((0.1709*(G23+6.1)*SQRT(0.995-0.947)*(1-EXP(0.1723*(G23-41.2))))^2)/2.3,0)","v":0.45960559165784953},null,{"$f":"I23*K23","v":-2.6396469786493633E-2},{"$f":"P22+O23","v":4.6294686893019064},null,{"$f":"I23*L23","v":-3.885495197828439E-2},{"$f":"S22+R23","v":5.121628401715542},null,{"$f":"I23*M23","v":-4.0553434558045498E-2},{"$f":"V22+U23","v":5.7251924461736081}]
[{"$f":"G62","v":12.75},null,{"$f":"P62","v":4.9959610044040454},{"$f":"S62","v":5.7354422276990515},{"$f":"V62","v":6.4895866740814752},null,{"$f":"G23-0.25","v":22.25},{"$f":"(G24-$I$11)/$I$10","v":-2.9411764705882314E-2},{"$f":"H24-H23","v":5.8823529411764636E-2},null,{"$f":"IF(G24>$J$15,(0.00033*(((G24+G23)/2)-5.6)*((6.5-2.8)*(1-EXP(0.5*(6.5-9.8)))*(36.7-0.9324)*(1-EXP(0.42*(-5-0.9324)))))^2,0)","v":0.29475091354672428},{"$f":"IF(G24>$J$16,(((0.175*(((G24+G23)/2)-1.5)*SQRT(0.995-0.92)*(1-EXP(0.4395*(((G24+G23)/2)-45)))))^2)/2.3,0)","v":0.43513175048769465},{"$f":"IF(G24>$J$17,((0.1709*(((G24+G23)/2)+6.1)*SQRT(0.995-0.947)*(1-EXP(0.1723*(((G24+G23)/2)-41.2))))^2)/2.3,0)","v":0.45640351867799828},null,{"$f":"I24*K24","v":1.7338289032160233E-2},{"$f":"P23+O24","v":4.6468069783340669},null,2.5595985322805537E-2,{"$f":"S23+R24","v":5.1472243870383476},null,2.6847265804588103E-2,{"$f":"V23+U24","v":5.7520397119781963}]
[{"$f":"G61","v":13},null,{"$f":"P61","v":4.9927000316060717},{"$f":"S61","v":5.7278413670092858},{"$f":"V61","v":6.4768724183720421},null,{"$f":"G24-0.25","v":22},2.9411764705882314E-2,{"$f":"H25-H24","v":5.8823529411764629E-2},null,{"$f":"IF(G25>$J$15,(0.00033*(((G25+G24)/2)-5.6)*((6.5-2.8)*(1-EXP(0.5*(6.5-9.8)))*(36.7-0.9324)*(1-EXP(0.42*(-5-0.9324)))))^2,0)","v":0.28603095652716731},{"$f":"IF(G25>$J$16,(((0.175*(((G25+G24)/2)-1.5)*SQRT(0.995-0.92)*(1-EXP(0.4395*(((G25+G24)/2)-45)))))^2)/2.3,0)","v":0.42477608817075047},{"$f":"IF(G25>$J$17,((0.1709*(((G25+G24)/2)+6.1)*SQRT(0.995-0.947)*(1-EXP(0.1723*(((G25+G24)/2)-41.2))))^2)/2.3,0)","v":0.44996143296436864},null,1.6825350383950995E-2,{"$f":"P24+O25","v":4.6636323287180179},null,2.4986828715926467E-2,{"$f":"S24+R25","v":5.1722112157542739},null,2.6468319586139297E-2,{"$f":"V24+U25","v":5.7785080315643356}]
[{"$f":"G60","v":13.25},null,{"$f":"P60","v":4.989211086075561},{"$f":"S60","v":5.7199027324443437},{"$f":"V60","v":6.4638297195698824},null,21.75,8.8235294117646954E-2,5.8823529411764636E-2,null,0.27744192979318916,0.41454460826142248,0.44347426997580658,null,1.6320113517246403E-2,4.6799524422352645,null,2.4384976956554234E-2,5.1965961927108282,null,2.6086721763282708E-2,5.8045947533276179]
[{"$f":"G59","v":13.5},null,{"$f":"P59","v":4.9854864660310083},{"$f":"S59","v":5.7116189813476472},{"$f":"V59","v":6.4504550176437698},null,21.5,0.14705882352941158,5.8823529411764622E-2,null,0.26898383334479004,0.40443738981380772,0.43694836075960397,null,1.5822578432046451E-2,4.6957750206673108,null,2.3790434694929832E-2,5.220386627405758,null,2.5702844750564904E-2,5.8302975980781824]
[{"$f":"G58","v":13.75},null,{"$f":"P58","v":4.9815184696909087},{"$f":"S58","v":5.7029827711074308},{"$f":"V58","v":6.4367448094903228},null,21.25,0.20588235294117621,5.8823529411764636E-2,null,0.26065666718196989,0.39445450233996598,0.43038972876538417,null,1.5332745128351153E-2,4.7111077657956617,null,2.3203206019997973E-2,5.243589833425756,null,2.5317042868551978E-2,5.855614640946734]
[{"$f":"G57","v":14},null,{"$f":"P57","v":4.9772993952737581},{"$f":"S57","v":5.6939867591633648},{"$f":"V57","v":6.4226956522581373},null,21,0.26470588235294085,5.8823529411764636E-2,null,0.25246043130472862,0.38459600695047985,0.42380410304068805,null,1.4850613606160488E-2,4.7259583794018223,null,2.2623294526498788E-2,5.2662131279522546,null,2.4929653120040442E-2,5.880544294066774]
[{"$f":"G56","v":14.25},null,{"$f":"P56","v":4.9728215409980514},{"$f":"S56","v":5.6846236030141331},{"$f":"V56","v":6.4083041668558085},null,20.75,0.32352941176470545,5.8823529411764608E-2,null,0.24439512571306626,0.37486195735986705,0.41719693101874022,null,1.4376183865474462E-2,4.7403345632672966,null,2.205070337410979E-2,5.2882638313263648,null,2.4540995942278796E-2,5.9050852900090529]
[{"$f":"G55","v":14.5},null,{"$f":"P55","v":4.9680772050822837},{"$f":"S55","v":5.674885960226101},{"$f":"V55","v":6.393567041653375},null,20.5,0.38235294117647012,5.8823529411764663E-2,null,0.23646075040698289,0.3652524007727313,0.41057339089394834,null,1.3909455906293101E-2,4.7542440191735897,null,2.1485435339572412E-2,5.3097492666659374,null,2.4151375934938119E-2,5.929236665943991]
[{"$f":"G54","v":14.75},null,{"$f":"P54","v":4.9630586857449508},{"$f":"S54","v":5.6647664884432283},{"$f":"V54","v":6.37848103638715},null,20.25,0.44117647058823473,5.8823529411764608E-2,null,0.22865730538647838,0.35576737866468883,0.40393840358322086,null,1.3450429728616353E-2,4.7676944489022057,null,2.0927492862628721E-2,5.3306767595285658,null,2.3761082563718835E-2,5.9529977485077099]
[{"$f":"G53","v":15},null,{"$f":"P53","v":4.9577582812045478},{"$f":"S53","v":5.6542578453983987},{"$f":"V53","v":6.3630429862783764},null,20,0.49999999999999939,5.8823529411764663E-2,null,0.22098479065155283,0.34640692747046126,0.39729664427340144,null,1.2999105332444274E-2,4.7806935542346496,null,2.0376878086497706E-2,5.3510536376150633,null,2.3370390839611833E-2,5.976368139347322]
[{"$f":"G52","v":15.25},null,{"$f":"P52","v":4.9521682896795705},{"$f":"S52","v":5.6433526889263703},{"$f":"V52","v":6.3472498063766061},null,19.75,0.55882352941176405,5.8823529411764663E-2,null,0.21344320620220619,0.33717107919008338,0.39065255355701073,null,1.2555482717776826E-2,4.7932490369524263,null,1.9833592893534303E-2,5.3708872305085977,null,2.2979561973941791E-2,5.9993477013212635]
[{"$f":"G51","v":15.5},null,{"$f":"P51","v":4.9462810093885139},{"$f":"S51","v":5.6320436769785678},{"$f":"V51","v":6.3310984961391954},null,19.5,0.61764705882352866,5.8823529411764608E-2,null,0.20603255203843862,0.32805986192289105,0.38401034816011931,null,1.2119561884614017E-2,4.80536859883704,null,1.9297638936640618E-2,5.3901848694452381,null,2.2588844009418744E-2,6.0219365453306821]
[{"$f":"G50","v":15.75},null,{"$f":"P50","v":4.9400887385498731},{"$f":"S50","v":5.6203234676399809},{"$f":"V50","v":6.3145861442588291},null,19.25,0.67647058823529327,5.8823529411764608E-2,null,0.19875282816024986,0.31907330033781717,0.37737403126756752,null,1.1691342832955854E-2,4.8170599416699957,null,1.8769017666930392E-2,5.4089538871121681,null,2.2198472427503935E-2,6.0441350177581858]
[{"$f":"G49","v":16},null,{"$f":"P49","v":4.9335837753821439},{"$f":"S49","v":5.6081847191484568},{"$f":"V49","v":6.2977099337514835},null,19,0.73529411764705788,5.8823529411764608E-2,null,0.19160403456764008,0.310211416087533,0.37074740245191135,null,1.1270825562802339E-2,4.8283307672327984,null,1.8247730358090145E-2,5.4272016174702582,null,2.1808670732465337E-2,6.065943688490651]
[{"$f":"G48","v":16.25},null,{"$f":"P48","v":4.9267584181038213},{"$f":"S48","v":5.5956200899167259},{"$f":"V48","v":6.2804671473177951},null,18.75,0.79411764705882248,5.8823529411764608E-2,null,0.18458617126060919,0.30147422817308023,0.36413406721347463,null,1.0858010074153464E-2,4.8391887773069522,null,1.7733778127828219E-2,5.4449353955980868,null,2.1419651012557297E-2,6.0873633395032085]
[{"$f":"G47","v":16.5},null,{"$f":"P47","v":4.9196049649334013},{"$f":"S47","v":5.5826222385575361},{"$f":"V47","v":6.2628551729913422},null,18.5,0.8529411764705872,5.8823529411764719E-2,null,0.17769923823915723,0.29286175326486019,0.35753744613968486,null,1.0452896367009251E-2,4.8496416736739612,null,1.7227161956756484E-2,5.4621625575548434,null,2.1031614478804996E-2,6.1083949539820139]
[{"$f":"G46","v":16.75},null,{"$f":"P46","v":4.9121157140893787},{"$f":"S46","v":5.5691838239123328},{"$f":"V46","v":6.244871510087914},null,18.25,0.91176470588235181,5.8823529411764608E-2,null,0.17094323550328427,0.28437400598515961,0.3509607836925473,null,1.0055484441369646E-2,4.8596971581153312,null,1.6727882705009359E-2,5.4788904402598524,null,2.0644751981914511E-2,6.1290397059639288]
[{"$f":"G45","v":17},null,{"$f":"P45","v":4.9042829637902488},{"$f":"S45","v":5.5552975050839715},{"$f":"V45","v":6.2265137754704201},null,18,0.97058823529411642,5.8823529411764608E-2,null,0.16431816305299018,0.27601099915677957,0.34440715663364052,null,9.6657742972347006E-3,4.8693629324125656,null,1.6235941126869359E-2,5.4951263813867222,null,2.0259244507861172E-2,6.1492989504717901]
[{"$f":"G44","v":17.25},null,{"$f":"P44","v":4.8960990122545072},{"$f":"S44","v":5.5409559414740208},{"$f":"V44","v":6.2077797101446803},null,17.75,1.0294117647058811,5.8823529411764719E-2,null,0.15782402088827502,0.26777274402179801,0.33787948209643159,null,9.2837659346044141E-3,4.8786466983471701,null,1.575133788363518E-2,5.5108777192703577,null,1.9875263652731276E-2,6.1691742141245216]
[{"$f":"G43","v":17.5},null,{"$f":"P43","v":4.887556157700649},{"$f":"S43","v":5.5261517928253001},{"$f":"V43","v":6.1886671862019345},null,17.5,1.0882352941176456,5.8823529411764497E-2,null,0.15146080900913889,0.25965925043401999,0.3313805253160243,null,8.909459353478727E-3,4.887556157700649,null,1.5274073554942298E-2,5.5261517928253001,null,1.9492972077413125E-2,6.1886671862019345]
[{"$f":"G42","v":17.75},null,{"$f":"P42","v":4.8786466983471701},{"$f":"S42","v":5.5108777192703577},{"$f":"V42","v":6.1691742141245216},null,17.25,1.1470588235294104,5.8823529411764719E-2,null,0.14522852741558157,0.25167052702825038,0.32491290702667763,null,8.5428545538577417E-3,4.8960990122545072,null,1.4804148648720613E-2,5.5409559414740208,null,1.9112523942745749E-2,6.2077797101446803]
[{"$f":"G41","v":18},null,{"$f":"P41","v":4.8693629324125656},{"$f":"S41","v":5.4951263813867222},{"$f":"V41","v":6.1492989504717901},null,17,1.2058823529411749,5.8823529411764497E-2,null,0.13912717610760325,0.24380658136915562,0.31847911053757483,null,8.1839515357413385E-3,4.9042829637902488,null,1.4341563609950279E-2,5.5552975050839715,null,1.8734065325739631E-2,6.2265137754704201]
[{"$f":"G40","v":18.25},null,{"$f":"P40","v":4.8596971581153312},{"$f":"S40","v":5.4788904402598524},{"$f":"V40","v":6.1290397059639288},null,16.75,1.2647058823529396,5.8823529411764719E-2,null,0.13315675508520389,0.23606742008214923,0.31208148849739786,null,7.8327502991296424E-3,4.9121157140893787,null,1.3886318828361723E-2,5.5691838239123328,null,1.8357734617493997E-2,6.244871510087914]
[{"$f":"G39","v":18.5},null,{"$f":"P39","v":4.8496416736739612},{"$f":"S39","v":5.4621625575548434},{"$f":"V39","v":6.1083949539820139},null,16.5,1.3235294117647043,5.8823529411764719E-2,null,0.12731726434838342,0.2284530489684527,0.30572226935828517,null,7.4892508440225561E-3,4.9196049649334013,null,1.3438414645203104E-2,5.5826222385575361,null,1.7983662903428545E-2,6.2628551729913422]
[{"$f":"G38","v":18.75},null,{"$f":"P38","v":4.8391887773069522},{"$f":"S38","v":5.4449353955980868},{"$f":"V38","v":6.0873633395032085},null,16.25,1.3823529411764688,5.8823529411764497E-2,null,0.12160870389714186,0.22096347310622474,0.29940356354970438,null,7.153453170420084E-3,4.9267584181038213,null,1.2997851359189645E-2,5.5956200899167259,null,1.7611974326453134E-2,6.2804671473177951]
[{"$f":"G37","v":19},null,{"$f":"P37","v":4.8283307672327984},{"$f":"S37","v":5.4272016174702582},{"$f":"V37","v":6.065943688490651},null,16,1.4411764705882335,5.8823529411764719E-2,null,0.11603107373147929,0.21359869693942879,0.29312736937270262,null,6.8253572783223129E-3,4.9335837753821439,null,1.2564629231731107E-2,5.6081847191484568,null,1.7242786433688394E-2,6.2977099337514835]
[{"$f":"G36","v":19.25},null,{"$f":"P36","v":4.8170599416699957},{"$f":"S36","v":5.4089538871121681},{"$f":"V36","v":6.0441350177581858},null,15.75,1.4999999999999982,5.8823529411764719E-2,null,0.11058437385139566,0.20635872435590988,0.2868955786248723,null,6.5049631677291577E-3,4.9400887385498731,null,1.2138748491524113E-2,5.6203234676399809,null,1.6876210507345432E-2,6.3145861442588291]
[{"$f":"G35","v":19.5},null,{"$f":"P35","v":4.80536859883704},{"$f":"S35","v":5.3901848694452381},{"$f":"V35","v":6.0219365453306821},null,15.5,1.5588235294117627,5.8823529411764497E-2,null,0.10526860425689091,0.19924355875597805,0.28070998196622399,null,6.1922708386406202E-3,4.9462810093885139,null,1.1720209338586902E-2,5.6320436769785678,null,1.6512351880366059E-2,6.3310984961391954]
[{"$f":"G34","v":19.75},null,{"$f":"P34","v":4.7932490369524263},{"$f":"S34","v":5.3708872305085977},{"$f":"V34","v":5.9993477013212635},null,15.25,1.6176470588235274,5.8823529411764719E-2,null,0.1000837649479651,0.19225320311263966,0.27457227403597939,null,5.8872802910567724E-3,4.9521682896795705,null,1.1309011947802336E-2,5.6433526889263703,null,1.6151310237410555E-2,6.3472498063766061]
[{"$f":"G33","v":20},null,{"$f":"P33","v":4.7806935542346496},{"$f":"S33","v":5.3510536376150633},{"$f":"V33","v":5.976368139347322},null,15,1.6764705882352919,{"$f":"H53-H52","v":5.8823529411764497E-2},null,9.5029855924618267E-2,0.18538766002448215,0.26848405833009958,null,5.5899915249775249E-3,4.9577582812045478,null,1.0905156472028324E-2,5.6542578453983987,null,1.5793179901770506E-2,6.3630429862783764]
[{"$f":"G32","v":20.25},null,{"$f":"P32","v":4.7676944489022057},{"$f":"S32","v":5.3306767595285658},{"$f":"V32","v":5.9529977485077099},null,{"$f":"G53-0.25","v":14.75},1.7352941176470567,5.8823529411764719E-2,null,9.0106877186850329E-2,0.17864693176209925,0.26244685184914474,null,5.3004045404029618E-3,{"$f":"P53+O54","v":4.9630586857449508},null,1.0508643044829371E-2,{"$f":"S53+R54","v":5.6647664884432283},null,1.5438050108773223E-2,{"$f":"V53+U54","v":6.37848103638715}]
[{"$f":"G31","v":20.5},null,{"$f":"P31","v":4.7542440191735897},{"$f":"S31","v":5.3097492666659374},{"$f":"V31","v":5.929236665943991},null,14.5,1.7941176470588214,5.8823529411764719E-2,null,8.5314828734661369E-2,0.17203102030883713,0.25646208952582694,null,5.0185193373330226E-3,4.9680772050822837,null,1.0119471782872775E-2,{"$f":"S54+R55","v":5.674885960226101},null,1.5086005266225118E-2,{"$f":"V54+U55","v":6.393567041653375}]
[{"$f":"G30","v":20.75},null,{"$f":"P30","v":4.7403345632672966},{"$f":"S30","v":5.2882638313263648},{"$f":"V30","v":5.9050852900090529},null,14.25,1.8529411764705859,5.8823529411764497E-2,null,8.065371056805129E-2,0.16553992739654555,0.25053112844137798,null,4.7443359157677062E-3,4.9728215409980514,null,9.7376427880320558E-3,5.6846236030141331,null,1.4737125202433947E-2,6.4083041668558085]
[{"$f":"G29","v":21},null,{"$f":"P29","v":4.7259583794018223},{"$f":"S29","v":5.2662131279522546},{"$f":"V29","v":5.880544294066774},null,14,1.9117647058823506,5.8823529411764719E-2,null,7.612352268702019E-2,0.15917365453694315,0.24465525183959377,null,4.4778542757070708E-3,4.9772993952737581,null,9.3631561492319524E-3,5.6939867591633648,null,1.4391485402329049E-2,6.4226956522581373]
[{"$f":"G28","v":21.25},null,{"$f":"P28","v":4.7111077657956617},{"$f":"S28","v":5.243589833425756},{"$f":"V28","v":5.855614640946734},null,13.75,1.9705882352941151,5.8823529411764497E-2,null,7.1724265091567985E-2,0.1529322030491248,0.23883567294716018,null,4.2190744171510426E-3,4.9815184696909087,null,8.9960119440661325E-3,5.7029827711074308,null,1.4049157232185843E-2,6.4367448094903228]
[{"$f":"G27","v":21.5},null,{"$f":"P27","v":4.6957750206673108},{"$f":"S27","v":5.220386627405758},{"$f":"V27","v":5.8302975980781824},null,13.5,2.02941176470588,5.8823529411764941E-2,null,6.745593778169473E-2,0.14681557408368173,0.23307353860860081,null,3.9679963400997059E-3,4.9854864660310083,null,8.6362102402166071E-3,5.7116189813476472,null,1.3710208153447161E-2,6.4504550176437698]
[{"$f":"G26","v":21.75},null,{"$f":"P26","v":4.6799524422352645},{"$f":"S26","v":5.1965961927108282},{"$f":"V26","v":5.8045947533276179},null,13.25,2.0882352941176445,5.8823529411764497E-2,null,6.3318540757400427E-2,0.14082376864384633,0.22736993274391495,null,3.724620044552953E-3,4.989211086075561,null,8.2837510966968127E-3,5.7199027324443437,null,1.3374701926112597E-2,6.4638297195698824]
[{"$f":"G25","v":22},null,{"$f":"P25","v":4.6636323287180179},{"$f":"S25","v":5.1722112157542739},{"$f":"V25","v":5.7785080315643356},null,13,2.147058823529409,5.8823529411764497E-2,null,5.9312074018685053E-2,0.13495678760402277,0.22172587963671017,null,3.4889455305108729E-3,4.9927000316060717,null,7.9386345649424886E-3,5.7278413670092858,null,1.3042698802159376E-2,6.4768724183720421]
[{"$f":"G24","v":22.25},null,{"$f":"P24","v":4.6468069783340669},{"$f":"S24","v":5.1472243870383476},{"$f":"V24","v":5.7520397119781963},null,12.75,2.2058823529411735,5.8823529411764497E-2,null,5.5436537565548595E-2,0.12921463172602407,0.21614234706036106,null,3.2609727979734352E-3,4.9959610044040454,null,7.600860689766095E-3,5.7354422276990515,null,1.2714255709432959E-2,6.4895866740814752]
[{"$f":"G23","v":22.5},null,{"$f":"P23","v":4.6294686893019064},{"$f":"S23","v":5.121628401715542},{"$f":"V23","v":5.7251924461736081},null,12.5,2.2647058823529385,5.8823529411764941E-2,null,5.1691931397991081E-2,0.12359730167329401,0.21062024924946207,null,3.0407018469406641E-3,4.9990017062509864,null,7.2704295101937945E-3,5.7427126572092453,null,1.2389426426438995E-2,6.501976100507914]

{"sheet":"3rd milking (D)","index":13,"n_rows":103,"n_cols":38,"rows_kept":103,"cut":false,"hidden":false,"merged":[]}
[]
["Entry",null,null,null,"Milk cooling curve (3rd milking)"]
[]
["Milking",{"$f":"EMCI!F9","v":1},3,null,"T","t"]
["Time",{"$f":"EMCI!F11/60","v":0.5},null,null,15,0]
["Milk T",{"$f":"EMCI!F13","v":20},null,null,5,{"$f":"(E6-25)/-8.5","v":2.3529411764705883}]
["Volume",{"$f":"EMCI!F31","v":0},"D"]
[]
[]
["Outcome",{"$f":"IF(OR(B6>E5,B6<E6,B5>2.35),\"out\",LOOKUP(B6,A23:A103,B23:B103))","v":"out"},null,null,"slope ",-4.25]
[null,null,null,null,"intercept",15]
[]
[]
[null,null,null,null,null,"No (logs)","Nf (logs)","Tmin",null,"N after milk (logs)","GR at 5C","Growth storage","N after stroage (logs)"]
[null,null,null,null,"S aureus",{"$f":"'2nd milking (D)'!M15","v":2.3681226474654968},{"$f":"'2nd milking (D)'!G15","v":5},5.6,null,{"$f":"R63","v":2.4363449125069034},0,{"$f":"K15*(12-$F$6)","v":0},{"$f":"J15+L15","v":2.4363449125069034}]
[null,null,null,null,"B cereus",{"$f":"'2nd milking (D)'!M16","v":1.931885918144072},{"$f":"'2nd milking (D)'!G16","v":5},1.5,null,{"$f":"W63","v":2.1212236406044829},1.2233355411136097E-2,{"$f":"K16*(12-$F$6)","v":0.11801589926037176},{"$f":"J16+L16","v":2.2392395398648546}]
[null,null,null,null,"Pseudo",{"$f":"'2nd milking (D)'!M17","v":3.4750384341665668},{"$f":"'2nd milking (D)'!G17","v":6},-6.1,null,{"$f":"AB63","v":3.8540793595852789},7.4807226267127047E-2,{"$f":"K17*(12-$F$6)","v":0.72166971222404908},{"$f":"J17+L17","v":4.5757490718093283}]
[]
[]
[]
["Lookup function",null,null,null,"Cooling curve profile",null,null,null,"Growth (log/h) during cooling",null,null,null,"Growth (log/h) to calculate NMTL",null,null,null,"Saureus","Growth acc",null,"Time to NMTL (depending on initial logs)",null,"B cereus","Growth acc",null,"Time to NMTL (depending on initial logs)",null,"Pseudo","Growth acc",null,"Time to NMTL (depending on initial logs)",null,"NMTL","NMTL","NMTL","NMTL","NMTL",null,"NMTL"]
[{"$f":"E22","v":"Temp"},"NMTL",null,null,"Temp","Time","Time interval",null,"S. aureus","B.cereus","Pseudo",null,"S. aureus","B.cereus","Pseudo",null,"Growth interval",{"$f":"F15","v":2.3681226474654968},null,{"$f":"R22","v":2.3681226474654968},null,"Growth interval",{"$f":"F16","v":1.931885918144072},null,{"$f":"W22","v":1.931885918144072},null,"Growth interval",{"$f":"F17","v":3.4750384341665668},null,{"$f":"AB22","v":3.4750384341665668},null,"Shorter of 3 microorganisms","B. cereus","S. aureus","Pseudo","Food Safety",null,"Entry"]
[{"$f":"E63","v":5},{"$f":"AL63","v":235.32189351540868},null,null,{"$f":"E5","v":15},{"$f":"(E23-$F$11)/$F$10","v":0},{"$f":"F23","v":0},null,{"$f":"IF(E23>H15,(0.00033*(E23-5.6)*((6.5-2.8)*(1-EXP(0.5*(6.5-9.8)))*(36.7-0.9324)*(1-EXP(0.42*(-5-0.9324)))))^2,0)","v":9.2552000270036947E-2},{"$f":"IF(E23>$H$16,(((0.175*(E23-1.5)*SQRT(0.995-0.92)*(1-EXP(0.4395*(E23-45)))))^2)/2.3,0)","v":0.18200169390981913},{"$f":"IF(E23>$H$17,((0.1709*(E23+6.1)*SQRT(0.995-0.947)*(1-EXP(0.1723*(E23-41.2))))^2)/2.3,0)","v":0.26545898738016671},null,{"$f":"IF(E23>$H$15,(0.00033*(E23-5.6)*((6.5-2.8)*(1-EXP(0.5*(6.5-9.8)))*(36.7-0.9324)*(1-EXP(0.42*(-5-0.9324)))))^2,0)","v":9.2552000270036947E-2},{"$f":"IF(E23>$H$16,(((0.175*(E23-1.5)*SQRT(0.995-0.92)*(1-EXP(0.4395*(E23-45)))))^2)/2.3,0)","v":0.18200169390981913},{"$f":"IF(E23>$H$17,((0.1709*(E23+6.1)*SQRT(0.995-0.947)*(1-EXP(0.1723*(E23-41.2))))^2)/2.3,0)","v":0.26545898738016671},null,{"$f":"G23*I23","v":0},{"$f":"R22","v":2.3681226474654968},null,{"$f":"($G$15-R23)/M23","v":28.436741992129097},null,{"$f":"G23*J23","v":0},{"$f":"W22","v":1.931885918144072},null,{"$f":"($G$16-W23)/N23","v":16.857612783407181},null,{"$f":"G23*K23","v":0},{"$f":"AB22","v":3.4750384341665668},null,{"$f":"($G$17-AB23)/O23","v":9.5116823534680641},null,{"$f":"+MIN(AG23:AI23)","v":9.5116823534680641},{"$f":"Y23","v":16.857612783407181},{"$f":"T23","v":28.436741992129097},{"$f":"AD23","v":9.5116823534680641},{"$f":"MIN(AG23:AH23)","v":16.857612783407181},null,{"$f":"IF(EMCI!$F$27=\"A\",'3rd milking (D)'!AF23,IF(EMCI!$F$27=\"B\",'3rd milking (D)'!AG23,IF(EMCI!$F$27=\"S\",'3rd milking (D)'!AH23,IF(EMCI!$F$27=\"P\",'3rd milking (D)'!AI23,IF(EMCI!$F$27=\"FS\",'3rd milking (D)'!AJ23,\"error\")))))","v":16.857612783407181}]
[{"$f":"E62","v":5.25},{"$f":"AL62","v":205.04648455307705},null,null,{"$f":"E23-0.25","v":14.75},{"$f":"(E24-$F$11)/$F$10","v":5.8823529411764705E-2},{"$f":"F24-F23","v":5.8823529411764705E-2},null,{"$f":"IF(E24>$H$15,(0.00033*(((E24+E23)/2)-5.6)*((6.5-2.8)*(1-EXP(0.5*(6.5-9.8)))*(36.7-0.9324)*(1-EXP(0.42*(-5-0.9324)))))^2,0)","v":9.0106877186850329E-2},{"$f":"IF(E24>$H$16,(((0.175*(((E24+E23)/2)-1.5)*SQRT(0.995-0.92)*(1-EXP(0.4395*(((E24+E23)/2)-45)))))^2)/2.3,0)","v":0.17864693176209925},{"$f":"IF(E24>$H$17,((0.1709*(((E24+E23)/2)+6.1)*SQRT(0.995-0.947)*(1-EXP(0.1723*(((E24+E23)/2)-41.2))))^2)/2.3,0)","v":0.26244685184914474},null,{"$f":"IF(E24>$H$15,(0.00033*(E24-5.6)*((6.5-2.8)*(1-EXP(0.5*(6.5-9.8)))*(36.7-0.9324)*(1-EXP(0.42*(-5-0.9324)))))^2,0)","v":8.7694486675058483E-2},{"$f":"IF(E24>$H$16,(((0.175*(E24-1.5)*SQRT(0.995-0.92)*(1-EXP(0.4395*(E24-45)))))^2)/2.3,0)","v":0.17532337382058064},{"$f":"IF(E24>$H$17,((0.1709*(E24+6.1)*SQRT(0.995-0.947)*(1-EXP(0.1723*(E24-41.2))))^2)/2.3,0)","v":0.25944782857356635},null,5.3004045404029601E-3,{"$f":"R23+Q24","v":2.3734230520058999},null,{"$f":"IF(M24=0,T23,($G$15-R24)/M24)","v":29.951449031528853},null,1.0508643044829367E-2,{"$f":"W23+V24","v":1.9423945611889013},null,{"$f":"($G$16-W24)/N24","v":17.439804928349925},null,1.543805010877322E-2,{"$f":"AB23+AA24","v":3.49047648427534},null,{"$f":"($G$17-AB24)/O24","v":9.6725554787716614},null,{"$f":"+MIN(AG24:AI24)","v":9.6725554787716614},17.439804928349925,29.951449031528853,9.6725554787716614,{"$f":"MIN(AG24:AH24)","v":17.439804928349925},null,{"$f":"IF(EMCI!$F$27=\"A\",'3rd milking (D)'!AF24,IF(EMCI!$F$27=\"B\",'3rd milking (D)'!AG24,IF(EMCI!$F$27=\"S\",'3rd milking (D)'!AH24,IF(EMCI!$F$27=\"P\",'3rd milking (D)'!AI24,IF(EMCI!$F$27=\"FS\",'3rd milking (D)'!AJ24,\"error\")))))","v":17.439804928349925}]
[{"$f":"E61","v":5.5},{"$f":"AL61","v":180.2718424010597},null,null,{"$f":"E24-0.25","v":14.5},0.11764705882352941,{"$f":"F25-F24","v":5.8823529411764705E-2},null,{"$f":"IF(E25>$H$15,(0.00033*(((E25+E24)/2)-5.6)*((6.5-2.8)*(1-EXP(0.5*(6.5-9.8)))*(36.7-0.9324)*(1-EXP(0.42*(-5-0.9324)))))^2,0)","v":8.5314828734661369E-2},{"$f":"IF(E25>$H$16,(((0.175*(((E25+E24)/2)-1.5)*SQRT(0.995-0.92)*(1-EXP(0.4395*(((E25+E24)/2)-45)))))^2)/2.3,0)","v":0.17203102030883713},{"$f":"IF(E25>$H$17,((0.1709*(((E25+E24)/2)+6.1)*SQRT(0.995-0.947)*(1-EXP(0.1723*(((E25+E24)/2)-41.2))))^2)/2.3,0)","v":0.25646208952582694},null,8.2967903365658943E-2,0.16876987143576827,0.25348980194113641,null,5.0185193373330217E-3,{"$f":"R24+Q25","v":2.3784415713432328},null,{"$f":"IF(M25=0,T24,($G$15-R25)/M25)","v":31.597260173044827},null,1.0119471782872771E-2,{"$f":"W24+V25","v":1.9525140329717741},null,{"$f":"($G$16-W25)/N25","v":18.057049763103372},null,1.5086005266225114E-2,{"$f":"AB24+AA25","v":3.5055624895415649},null,9.8403860484994006,null,9.8403860484994006,18.057049763103372,31.597260173044827,9.8403860484994006,18.057049763103372,null,{"$f":"IF(EMCI!$F$27=\"A\",'3rd milking (D)'!AF25,IF(EMCI!$F$27=\"B\",'3rd milking (D)'!AG25,IF(EMCI!$F$27=\"S\",'3rd milking (D)'!AH25,IF(EMCI!$F$27=\"P\",'3rd milking (D)'!AI25,IF(EMCI!$F$27=\"FS\",'3rd milking (D)'!AJ25,\"error\")))))","v":18.057049763103372}]
[{"$f":"E60","v":5.75},{"$f":"AL60","v":159.74258363372476},null,null,14.25,0.17647058823529413,5.8823529411764719E-2,null,8.065371056805129E-2,0.16553992739654555,0.25053112844137798,null,7.8372250341838381E-2,0.16234118837349831,0.24758622715594111,null,4.7443359157677244E-3,2.3831859072590005,null,{"$f":"IF(M26=0,T25,($G$15-R26)/M26)","v":33.389548996324208},null,9.7376427880320939E-3,1.9622516757598061,null,18.712123242878125,null,1.4737125202434002E-2,3.5202996147439989,null,10.0155021292609,null,10.0155021292609,18.712123242878125,33.389548996324208,10.0155021292609,18.712123242878125,null,{"$f":"IF(EMCI!$F$27=\"A\",'3rd milking (D)'!AF26,IF(EMCI!$F$27=\"B\",'3rd milking (D)'!AG26,IF(EMCI!$F$27=\"S\",'3rd milking (D)'!AH26,IF(EMCI!$F$27=\"P\",'3rd milking (D)'!AI26,IF(EMCI!$F$27=\"FS\",'3rd milking (D)'!AJ26,\"error\")))))","v":18.712123242878125}]
[{"$f":"E59","v":6},{"$f":"AL59","v":142.54204235094099},null,null,14,0.23529411764705882,5.8823529411764691E-2,null,7.612352268702019E-2,0.15917365453694315,0.24465525183959377,null,7.3907527603596743E-2,0.15603732604596116,0.24173835198745908,null,4.477854275707069E-3,2.3876637615347076,null,35.346010388502862,null,9.3631561492319472E-3,1.9716148319090381,null,19.408081673989617,null,1.4391485402329042E-2,3.5346911001463281,null,10.19825310955031,null,10.19825310955031,19.408081673989617,35.346010388502862,10.19825310955031,19.408081673989617,null,{"$f":"IF(EMCI!$F$27=\"A\",'3rd milking (D)'!AF27,IF(EMCI!$F$27=\"B\",'3rd milking (D)'!AG27,IF(EMCI!$F$27=\"S\",'3rd milking (D)'!AH27,IF(EMCI!$F$27=\"P\",'3rd milking (D)'!AI27,IF(EMCI!$F$27=\"FS\",'3rd milking (D)'!AJ27,\"error\")))))","v":19.408081673989617}]
[{"$f":"E58","v":6.25},{"$f":"AL58","v":127.98823950312483},null,null,13.75,0.29411764705882354,5.8823529411764719E-2,null,7.1724265091567985E-2,0.1529322030491248,0.23883567294716018,null,6.9573735150934013E-2,0.1498582856851797,0.23594735602819444,null,4.2190744171510591E-3,2.3918828359518587,null,37.487094208612831,null,8.9960119440661672E-3,1.9806108438531043,null,20.148296387761892,null,1.4049157232185897E-2,3.5487402573785141,null,10.389011277280741,null,10.389011277280741,20.148296387761892,37.487094208612831,10.389011277280741,20.148296387761892,null,{"$f":"IF(EMCI!$F$27=\"A\",'3rd milking (D)'!AF28,IF(EMCI!$F$27=\"B\",'3rd milking (D)'!AG28,IF(EMCI!$F$27=\"S\",'3rd milking (D)'!AH28,IF(EMCI!$F$27=\"P\",'3rd milking (D)'!AI28,IF(EMCI!$F$27=\"FS\",'3rd milking (D)'!AJ28,\"error\")))))","v":20.148296387761892}]
[{"$f":"E57","v":6.5},{"$f":"AL57","v":115.56530634673689},null,null,13.5,0.35294117647058826,5.8823529411764719E-2,null,6.745593778169473E-2,0.14681557408368173,0.23307353860860081,null,6.5370872983850206E-2,{"$f":"IF(E29>$H$16,(((0.175*(E29-1.5)*SQRT(0.995-0.92)*(1-EXP(0.4395*(E29-45)))))^2)/2.3,0)","v":0.14380406836559409},{"$f":"IF(E29>$H$17,((0.1709*(E29+6.1)*SQRT(0.995-0.947)*(1-EXP(0.1723*(E29-41.2))))^2)/2.3,0)","v":0.23021435423897771},null,3.9679963400996911E-3,2.3958508322919583,null,39.836536500765312,null,8.6362102402165741E-3,1.9892470540933209,null,20.936493522926074,null,1.3710208153447109E-2,3.5624504655319611,null,10.588173541679774,null,10.588173541679774,20.936493522926074,39.836536500765312,10.588173541679774,20.936493522926074,null,{"$f":"IF(EMCI!$F$27=\"A\",'3rd milking (D)'!AF29,IF(EMCI!$F$27=\"B\",'3rd milking (D)'!AG29,IF(EMCI!$F$27=\"S\",'3rd milking (D)'!AH29,IF(EMCI!$F$27=\"P\",'3rd milking (D)'!AI29,IF(EMCI!$F$27=\"FS\",'3rd milking (D)'!AJ29,\"error\")))))","v":20.936493522926074}]
[{"$f":"E56","v":6.75},{"$f":"AL56","v":104.87719639056685},null,null,13.25,0.41176470588235292,5.8823529411764663E-2,null,6.3318540757400427E-2,0.14082376864384633,0.22736993274391495,null,6.1298941102345371E-2,0.13787467502385675,0.22454040032089267,null,3.7246200445529634E-3,2.3995754523365114,null,42.422014163699693,null,8.283751096696837E-3,1.9975308051900178,null,21.776799795107102,null,1.3374701926112635E-2,3.5758251674580737,null,10.796163314385815,null,10.796163314385815,21.776799795107102,42.422014163699693,10.796163314385815,21.776799795107102,null,{"$f":"IF(EMCI!$F$27=\"A\",'3rd milking (D)'!AF30,IF(EMCI!$F$27=\"B\",'3rd milking (D)'!AG30,IF(EMCI!$F$27=\"S\",'3rd milking (D)'!AH30,IF(EMCI!$F$27=\"P\",'3rd milking (D)'!AI30,IF(EMCI!$F$27=\"FS\",'3rd milking (D)'!AJ30,\"error\")))))","v":21.776799795107102}]
[{"$f":"E55","v":7},{"$f":"AL55","v":95.615775459134412},null,null,13,0.47058823529411764,5.8823529411764719E-2,null,5.9312074018685053E-2,0.13495678760402277,0.22172587963671017,null,5.7357939506419459E-2,0.13207010647617853,0.21892648992149663,null,3.4889455305108863E-3,2.4030643978670221,null,45.275956990092553,null,7.9386345649425181E-3,2.0054694397549602,null,22.673795305716382,null,1.3042698802159424E-2,3.5888678662602329,null,11.013432566357586,null,11.013432566357586,22.673795305716382,45.275956990092553,11.013432566357586,22.673795305716382,null,{"$f":"IF(EMCI!$F$27=\"A\",'3rd milking (D)'!AF31,IF(EMCI!$F$27=\"B\",'3rd milking (D)'!AG31,IF(EMCI!$F$27=\"S\",'3rd milking (D)'!AH31,IF(EMCI!$F$27=\"P\",'3rd milking (D)'!AI31,IF(EMCI!$F$27=\"FS\",'3rd milking (D)'!AJ31,\"error\")))))","v":22.673795305716382}]
[{"$f":"E54","v":7.25},{"$f":"AL54","v":87.538403278434444},null,null,12.75,0.52941176470588236,5.8823529411764719E-2,null,5.5436537565548595E-2,0.12921463172602407,0.21614234706036106,null,5.3547868196072462E-2,0.12639036343352611,0.21337356368273519,null,3.2609727979734473E-3,2.4063253706649954,null,48.436561841041524,null,7.6008606897661236E-3,2.0130703004447263,null,23.632574655315576,null,1.2714255709433006E-2,3.601582121969666,null,11.240464079217132,null,11.240464079217132,23.632574655315576,48.436561841041524,11.240464079217132,23.632574655315576,null,{"$f":"IF(EMCI!$F$27=\"A\",'3rd milking (D)'!AF32,IF(EMCI!$F$27=\"B\",'3rd milking (D)'!AG32,IF(EMCI!$F$27=\"S\",'3rd milking (D)'!AH32,IF(EMCI!$F$27=\"P\",'3rd milking (D)'!AI32,IF(EMCI!$F$27=\"FS\",'3rd milking (D)'!AJ32,\"error\")))))","v":23.632574655315576}]
[{"$f":"E53","v":7.5},{"$f":"AL53","v":80.451911977231489},null,null,12.5,0.58823529411764708,5.8823529411764719E-2,null,5.1691931397991081E-2,0.12359730167329401,0.21062024924946207,null,4.9868727171304417E-2,0.12083544651493101,0.20788251013768322,null,3.0407018469406524E-3,2.4093660725119359,null,51.949068573355788,null,7.2704295101937667E-3,2.0203407299549201,null,24.658817888150882,null,1.2389426426438949E-2,3.6139715483961048,null,11.477773911925532,null,11.477773911925532,24.658817888150882,51.949068573355788,11.477773911925532,24.658817888150882,null,{"$f":"IF(EMCI!$F$27=\"A\",'3rd milking (D)'!AF33,IF(EMCI!$F$27=\"B\",'3rd milking (D)'!AG33,IF(EMCI!$F$27=\"S\",'3rd milking (D)'!AH33,IF(EMCI!$F$27=\"P\",'3rd milking (D)'!AI33,IF(EMCI!$F$27=\"FS\",'3rd milking (D)'!AJ33,\"error\")))))","v":24.658817888150882}]
[{"$f":"E52","v":7.75},{"$f":"AL52","v":74.200977394091041},null,null,12.25,0.6470588235294118,5.8823529411764719E-2,null,4.807825551601249E-2,0.11810479802336256,0.20516044972357486,null,4.6320516432115315E-2,0.11540535625914415,0.2024541684629837,null,2.8281326774124999E-3,2.4121942051893486,null,55.867377873543155,null,6.9473410601977991E-3,2.0272880710151178,null,25.758873117722725,null,1.2068261748445584E-2,3.6260398101445506,null,11.725914106280797,null,11.725914106280797,25.758873117722725,55.867377873543155,11.725914106280797,25.758873117722725,null,{"$f":"IF(EMCI!$F$27=\"A\",'3rd milking (D)'!AF34,IF(EMCI!$F$27=\"B\",'3rd milking (D)'!AG34,IF(EMCI!$F$27=\"S\",'3rd milking (D)'!AH34,IF(EMCI!$F$27=\"P\",'3rd milking (D)'!AI34,IF(EMCI!$F$27=\"FS\",'3rd milking (D)'!AJ34,\"error\")))))","v":25.758873117722725}]
[{"$f":"E51","v":8},{"$f":"AL51","v":68.659558739405682},null,null,12,0.70588235294117652,5.8823529411764719E-2,null,4.459550991961285E-2,0.11273712127874896,0.19976376397001153,null,4.2903235978505136E-2,0.11010009313483672,0.19708933109359619,null,2.6232652893889916E-3,2.4148174704787375,null,60.256119860433365,null,6.631595369338176E-3,2.0339196663844561,null,26.939853084257273,null,1.1750809645294798E-2,3.6377906197898455,null,11.985475657677075,null,11.985475657677075,26.939853084257273,60.256119860433365,11.985475657677075,26.939853084257273,null,{"$f":"IF(EMCI!$F$27=\"A\",'3rd milking (D)'!AF35,IF(EMCI!$F$27=\"B\",'3rd milking (D)'!AG35,IF(EMCI!$F$27=\"S\",'3rd milking (D)'!AH35,IF(EMCI!$F$27=\"P\",'3rd milking (D)'!AI35,IF(EMCI!$F$27=\"FS\",'3rd milking (D)'!AJ35,\"error\")))))","v":26.939853084257273}]
[{"$f":"E50","v":8.25},{"$f":"AL50","v":63.724515042323659},null,null,11.75,0.76470588235294112,5.8823529411764608E-2,null,4.1243694608792139E-2,0.10749427187650554,0.19443096199213733,null,3.961688581047388E-2,0.10491965754952723,0.19178874620621136,null,2.4260996828701217E-3,2.4172435701616077,null,65.193322922812001,null,6.3231924633238446E-3,2.0402428588477801,null,28.209748394909401,null,1.1437115411302178E-2,3.6492277352011477,null,12.257091780929109,null,12.257091780929109,28.209748394909401,65.193322922812001,12.257091780929109,28.209748394909401,null,{"$f":"IF(EMCI!$F$27=\"A\",'3rd milking (D)'!AF36,IF(EMCI!$F$27=\"B\",'3rd milking (D)'!AG36,IF(EMCI!$F$27=\"S\",'3rd milking (D)'!AH36,IF(EMCI!$F$27=\"P\",'3rd milking (D)'!AI36,IF(EMCI!$F$27=\"FS\",'3rd milking (D)'!AJ36,\"error\")))))","v":28.209748394909401}]
[{"$f":"E49","v":8.5},{"$f":"AL49","v":59.310788015245279},null,null,11.5,0.82352941176470584,5.8823529411764719E-2,null,3.8022809583550352E-2,0.10237625019656743,0.18916277072942361,null,3.6461465928021568E-2,9.9864049857391432E-2,0.18655312007743888,null,2.2366358578559033E-3,2.4194802060194638,null,70.773890415561723,null,6.0221323645039682E-3,2.0462649912122841,null,29.577560823997519,null,1.1127221807613157E-2,3.660354957008761,null,12.541441504811305,null,12.541441504811305,29.577560823997519,70.773890415561723,12.541441504811305,29.577560823997519,null,{"$f":"IF(EMCI!$F$27=\"A\",'3rd milking (D)'!AF37,IF(EMCI!$F$27=\"B\",'3rd milking (D)'!AG37,IF(EMCI!$F$27=\"S\",'3rd milking (D)'!AH37,IF(EMCI!$F$27=\"P\",'3rd milking (D)'!AI37,IF(EMCI!$F$27=\"FS\",'3rd milking (D)'!AJ37,\"error\")))))","v":29.577560823997519}]
[{"$f":"E48","v":8.75},{"$f":"AL48","v":55.347726970394618},null,null,11.25,0.88235294117647056,5.8823529411764719E-2,null,3.4932854843887522E-2,9.7383056569056464E-2,0.18395987635523695,null,3.3436976331148192E-2,9.4933270366092032E-2,0.18138311932263304,null,2.0548738143463252E-3,2.4215350798338102,null,77.114177269797651,null,5.7284150922974402E-3,2.0519934063045815,null,31.053460839671846,null,1.0821169197366882E-2,3.6711761262061278,null,12.839253633363228,null,12.839253633363228,31.053460839671846,77.114177269797651,12.839253633363228,31.053460839671846,null,{"$f":"IF(EMCI!$F$27=\"A\",'3rd milking (D)'!AF38,IF(EMCI!$F$27=\"B\",'3rd milking (D)'!AG38,IF(EMCI!$F$27=\"S\",'3rd milking (D)'!AH38,IF(EMCI!$F$27=\"P\",'3rd milking (D)'!AI38,IF(EMCI!$F$27=\"FS\",'3rd milking (D)'!AJ38,\"error\")))))","v":31.053460839671846}]
[{"$f":"E47","v":9},{"$f":"AL47","v":51.776256513117325},null,null,11,0.94117647058823528,5.8823529411764719E-2,null,3.1973830389803601E-2,9.2514691280667832E-2,0.17882292645810682,null,3.054341701985375E-2,9.0127319342750936E-2,0.17627937302097987,null,1.8808135523413886E-3,2.4234158933861516,null,84.358082952507374,null,5.4420406635686969E-3,2.0574354469681504,null,32.648974522823465,null,1.0518995674006286E-2,3.6816951218801339,null,13.151311117063896,null,13.151311117063896,32.648974522823465,84.358082952507374,13.151311117063896,32.648974522823465,null,{"$f":"IF(EMCI!$F$27=\"A\",'3rd milking (D)'!AF39,IF(EMCI!$F$27=\"B\",'3rd milking (D)'!AG39,IF(EMCI!$F$27=\"S\",'3rd milking (D)'!AH39,IF(EMCI!$F$27=\"P\",'3rd milking (D)'!AI39,IF(EMCI!$F$27=\"FS\",'3rd milking (D)'!AJ39,\"error\")))))","v":32.648974522823465}]
[{"$f":"E46","v":9.25},{"$f":"AL46","v":48.546673159505879},null,null,10.75,1,5.8823529411764719E-2,null,2.9145736221298631E-2,8.7771154580253072E-2,0.1737525321119813,null,2.7780787994138238E-2,8.5446197019167794E-2,0.17124247473224119,null,1.7144550718410964E-3,2.4251303484579929,null,92.685263358451394,null,5.1630090929560644E-3,2.0625984560611066,null,34.377206317092828,null,1.0220737183057726E-2,3.6919158590631915,null,13.478455882781324,null,13.478455882781324,34.377206317092828,92.685263358451394,13.478455882781324,34.377206317092828,null,{"$f":"IF(EMCI!$F$27=\"A\",'3rd milking (D)'!AF40,IF(EMCI!$F$27=\"B\",'3rd milking (D)'!AG40,IF(EMCI!$F$27=\"S\",'3rd milking (D)'!AH40,IF(EMCI!$F$27=\"P\",'3rd milking (D)'!AI40,IF(EMCI!$F$27=\"FS\",'3rd milking (D)'!AJ40,\"error\")))))","v":34.377206317092828}]
[{"$f":"E45","v":9.5},{"$f":"AL45","v":45.616916192077369},null,null,10.5,1.0588235294117647,5.8823529411764719E-2,null,2.644857233837258E-2,8.3152446683698977E-2,0.16874926984075,null,2.5149089254001666E-2,8.0889903596380763E-2,0.1662729844103209,null,1.5557983728454463E-3,2.4266861468308383,null,102.32234762774567,null,4.8913203931587644E-3,2.0674897764542655,null,36.253105680261228,null,9.9264276376911792E-3,3.7018422867008827,null,13.821594178088656,null,13.821594178088656,36.253105680261228,102.32234762774567,13.821594178088656,36.253105680261228,null,{"$f":"IF(EMCI!$F$27=\"A\",'3rd milking (D)'!AF41,IF(EMCI!$F$27=\"B\",'3rd milking (D)'!AG41,IF(EMCI!$F$27=\"S\",'3rd milking (D)'!AH41,IF(EMCI!$F$27=\"P\",'3rd milking (D)'!AI41,IF(EMCI!$F$27=\"FS\",'3rd milking (D)'!AJ41,\"error\")))))","v":36.253105680261228}]
[{"$f":"E44","v":9.75},{"$f":"AL44","v":42.951199588902881},null,null,10.25,1.1176470588235294,5.8823529411764719E-2,null,2.3882338741025473E-2,7.8658567778189678E-2,0.16381368348209219,null,2.2648320799444024E-2,7.6458439248649382E-2,0.16137143021860539,null,1.4048434553544399E-3,2.4280909902861927,null,113.55848552696865,null,4.6269745751876291E-3,2.0721167510294531,null,38.293787811294713,null,9.6360990283583664E-3,3.711478385729241,null,14.181702493251516,null,14.181702493251516,38.293787811294713,113.55848552696865,14.181702493251516,38.293787811294713,null,{"$f":"IF(EMCI!$F$27=\"A\",'3rd milking (D)'!AF42,IF(EMCI!$F$27=\"B\",'3rd milking (D)'!AG42,IF(EMCI!$F$27=\"S\",'3rd milking (D)'!AH42,IF(EMCI!$F$27=\"P\",'3rd milking (D)'!AI42,IF(EMCI!$F$27=\"FS\",'3rd milking (D)'!AJ42,\"error\")))))","v":38.293787811294713}]
[{"$f":"E43","v":10},{"$f":"AL43","v":40.518921358900499},null,null,10,1.1764705882352942,5.8823529411764719E-2,null,2.14470354292573E-2,7.428951802592855E-2,0.15894628595549334,null,2.0278482630465319E-2,7.2151804126932312E-2,0.15653831025181383,null,1.2615903193680766E-3,2.4293525806055607,null,126.76724714759646,null,4.3699716485840331E-3,2.076486722678037,null,40.518921358900499,null,9.3497815267937281E-3,3.7208281672560348,null,14.559834133111552,null,14.559834133111552,40.518921358900499,126.76724714759646,14.559834133111552,40.518921358900499,null,{"$f":"IF(EMCI!$F$27=\"A\",'3rd milking (D)'!AF43,IF(EMCI!$F$27=\"B\",'3rd milking (D)'!AG43,IF(EMCI!$F$27=\"S\",'3rd milking (D)'!AH43,IF(EMCI!$F$27=\"P\",'3rd milking (D)'!AI43,IF(EMCI!$F$27=\"FS\",'3rd milking (D)'!AJ43,\"error\")))))","v":40.518921358900499}]
[{"$f":"E42","v":10.25},{"$f":"AL42","v":38.293787811294713},null,null,9.75,1.2352941176470589,5.8823529411764719E-2,null,1.9142662403068059E-2,7.0045297567387574E-2,0.15414756093906151,null,1.8039574747065537E-2,6.7969998361922884E-2,0.15177409416889009,null,1.1260389648863568E-3,2.4304786195704469,null,142.43802398099945,null,4.120311621611035E-3,2.0806070342996481,null,42.951199588902881,null,9.0675035846506796E-3,3.7298956708406856,null,14.957126521428643,null,14.957126521428643,42.951199588902881,142.43802398099945,14.957126521428643,42.951199588902881,null,{"$f":"IF(EMCI!$F$27=\"A\",'3rd milking (D)'!AF44,IF(EMCI!$F$27=\"B\",'3rd milking (D)'!AG44,IF(EMCI!$F$27=\"S\",'3rd milking (D)'!AH44,IF(EMCI!$F$27=\"P\",'3rd milking (D)'!AI44,IF(EMCI!$F$27=\"FS\",'3rd milking (D)'!AJ44,\"error\")))))","v":42.951199588902881}]
[{"$f":"E41","v":10.5},{"$f":"AL41","v":36.253105680261228},null,null,9.5,1.2941176470588236,5.8823529411764719E-2,null,1.6969219662457756E-2,6.5925906524142819E-2,0.14941796445957814,null,1.5931597149244706E-2,6.3913022066697509E-2,0.14707922474126942,null,9.9818939190928001E-4,2.4314768089623562,null,161.22195200996617,null,3.8779945014201667E-3,2.0844850288010681,null,45.616916192077369,null,8.7892920270340093E-3,3.7386849628677195,null,15.374809332250791,null,15.374809332250791,45.616916192077369,161.22195200996617,15.374809332250791,45.616916192077369,null,{"$f":"IF(EMCI!$F$27=\"A\",'3rd milking (D)'!AF45,IF(EMCI!$F$27=\"B\",'3rd milking (D)'!AG45,IF(EMCI!$F$27=\"S\",'3rd milking (D)'!AH45,IF(EMCI!$F$27=\"P\",'3rd milking (D)'!AI45,IF(EMCI!$F$27=\"FS\",'3rd milking (D)'!AJ45,\"error\")))))","v":45.616916192077369}]
[{"$f":"E40","v":10.75},{"$f":"AL40","v":34.377206317092828},null,null,9.25,1.3529411764705883,5.8823529411764719E-2,null,1.4926707207426384E-2,6.1931345001347733E-2,0.14475792640001692,null,1.3954549837002799E-2,5.9980875339025456E-2,0.1424541193206629,null,8.7804160043684638E-4,2.4323548505627932,null,184.00057181555729,null,3.6430202941969262E-3,2.0881280490952649,null,48.546673159505879,null,8.515172141177467E-3,3.7472001350088968,null,15.814213556858061,null,15.814213556858061,48.546673159505879,184.00057181555729,15.814213556858061,48.546673159505879,null,{"$f":"IF(EMCI!$F$27=\"A\",'3rd milking (D)'!AF46,IF(EMCI!$F$27=\"B\",'3rd milking (D)'!AG46,IF(EMCI!$F$27=\"S\",'3rd milking (D)'!AH46,IF(EMCI!$F$27=\"P\",'3rd milking (D)'!AI46,IF(EMCI!$F$27=\"FS\",'3rd milking (D)'!AJ46,\"error\")))))","v":48.546673159505879}]
[{"$f":"E39","v":11},{"$f":"AL39","v":32.648974522823465},null,null,9,1.411764705882353,5.8823529411764719E-2,null,1.3015125037973942E-2,5.8061613089890336E-2,0.1401678519285815,null,1.2108432810339827E-2,5.6173558263382765E-2,0.13789917123031473,null,7.6559559046905559E-4,2.4331204461532621,null,211.99106391826257,null,3.4153890052876675E-3,2.0915434381005524,null,51.776256513117325,null,8.2451677605047957E-3,3.7554453027694015,null,16.27678163113697,null,16.27678163113697,51.776256513117325,211.99106391826257,16.27678163113697,51.776256513117325,null,{"$f":"IF(EMCI!$F$27=\"A\",'3rd milking (D)'!AF47,IF(EMCI!$F$27=\"B\",'3rd milking (D)'!AG47,IF(EMCI!$F$27=\"S\",'3rd milking (D)'!AH47,IF(EMCI!$F$27=\"P\",'3rd milking (D)'!AI47,IF(EMCI!$F$27=\"FS\",'3rd milking (D)'!AJ47,\"error\")))))","v":51.776256513117325}]
[{"$f":"E38","v":11.25},{"$f":"AL38","v":31.053460839671846},null,null,8.75,1.4705882352941178,5.8823529411764719E-2,null,1.1234473154100443E-2,5.4316710868272958E-2,0.13564812285312758,null,1.0393246069255789E-2,5.249107091270714E-2,0.13341475108351158,null,6.6085136200590849E-4,2.4337812975152682,null,246.91214711791065,null,3.1951006393101749E-3,2.0947385387398625,null,55.347726970394618,null,7.9793013443016248E-3,3.7634246041137032,null,16.764078767319379,null,16.764078767319379,55.347726970394618,246.91214711791065,16.764078767319379,55.347726970394618,null,{"$f":"IF(EMCI!$F$27=\"A\",'3rd milking (D)'!AF48,IF(EMCI!$F$27=\"B\",'3rd milking (D)'!AG48,IF(EMCI!$F$27=\"S\",'3rd milking (D)'!AH48,IF(EMCI!$F$27=\"P\",'3rd milking (D)'!AI48,IF(EMCI!$F$27=\"FS\",'3rd milking (D)'!AJ48,\"error\")))))","v":55.347726970394618}]
[{"$f":"E37","v":11.5},{"$f":"AL37","v":29.577560823997519},null,null,8.5,1.5294117647058822,5.8823529411764497E-2,null,9.5847515558058708E-3,5.0696638404250462E-2,0.13119909890466158,null,8.8089896137506871E-3,4.8933413349926902E-2,0.12900120803295215,null,5.6380891504740217E-4,2.4343451064303157,null,291.25416263004098,null,2.9821552002500164E-3,2.0977206939401123,null,59.310788015245279,null,7.7175940532153596E-3,3.7711421981669186,null,17.277805656391532,null,17.277805656391532,59.310788015245279,291.25416263004098,17.277805656391532,59.310788015245279,null,{"$f":"IF(EMCI!$F$27=\"A\",'3rd milking (D)'!AF49,IF(EMCI!$F$27=\"B\",'3rd milking (D)'!AG49,IF(EMCI!$F$27=\"S\",'3rd milking (D)'!AH49,IF(EMCI!$F$27=\"P\",'3rd milking (D)'!AI49,IF(EMCI!$F$27=\"FS\",'3rd milking (D)'!AJ49,\"error\")))))","v":59.310788015245279}]
[{"$f":"E36","v":11.75},{"$f":"AL36","v":28.209748394909401},null,null,8.25,1.588235294117647,5.8823529411764719E-2,null,8.0659602430902377E-3,4.7201395756256849E-2,0.12682111895344028,null,7.3556634438245181E-3,4.5500585629291837E-2,0.12465887095441666,null,4.744682495935435E-4,2.4348195746799091,null,348.73542609860709,null,2.7765526915445211E-3,2.1004972466316567,null,63.724515042323659,null,7.4600658207906066E-3,3.7786022639877093,null,17.819812733781113,null,17.819812733781113,63.724515042323659,348.73542609860709,17.819812733781113,63.724515042323659,null,{"$f":"IF(EMCI!$F$27=\"A\",'3rd milking (D)'!AF50,IF(EMCI!$F$27=\"B\",'3rd milking (D)'!AG50,IF(EMCI!$F$27=\"S\",'3rd milking (D)'!AH50,IF(EMCI!$F$27=\"P\",'3rd milking (D)'!AI50,IF(EMCI!$F$27=\"FS\",'3rd milking (D)'!AJ50,\"error\")))))","v":63.724515042323659}]
[{"$f":"E35","v":12},{"$f":"AL35","v":26.939853084257273},null,null,8,1.6470588235294117,5.8823529411764719E-2,null,6.6780992159535344E-3,4.3830982974647166E-2,0.12251450216103232,null,6.0332675594772841E-3,4.2192587797532113E-2,0.12038804956802177,null,3.9282936564432567E-4,2.4352124040455534,null,425.10755087027121,null,2.5782931161557163E-3,2.1030755397478123,null,68.659558739405682,null,7.2067354212371967E-3,3.7858089994089466,null,18.392116231935372,null,18.392116231935372,68.659558739405682,425.10755087027121,18.392116231935372,68.659558739405682,null,{"$f":"IF(EMCI!$F$27=\"A\",'3rd milking (D)'!AF51,IF(EMCI!$F$27=\"B\",'3rd milking (D)'!AG51,IF(EMCI!$F$27=\"S\",'3rd milking (D)'!AH51,IF(EMCI!$F$27=\"P\",'3rd milking (D)'!AI51,IF(EMCI!$F$27=\"FS\",'3rd milking (D)'!AJ51,\"error\")))))","v":68.659558739405682}]
[{"$f":"E34","v":12.25},{"$f":"AL34","v":25.758873117722725},null,null,7.75,1.7058823529411764,5.8823529411764719E-2,null,5.4211684743957671E-3,4.0585400102778259E-2,0.11827954907154804,null,4.8418019607089843E-3,3.9009419894865949E-2,0.11618903550019019,null,3.1889226319975109E-4,2.4355312963087532,null,529.65171324680364,null,2.3873764766340158E-3,2.1054629162244463,null,74.200977394091041,null,6.9576205336204745E-3,3.7927666199425669,null,18.996916280054844,null,18.996916280054844,74.200977394091041,529.65171324680364,18.996916280054844,74.200977394091041,null,{"$f":"IF(EMCI!$F$27=\"A\",'3rd milking (D)'!AF52,IF(EMCI!$F$27=\"B\",'3rd milking (D)'!AG52,IF(EMCI!$F$27=\"S\",'3rd milking (D)'!AH52,IF(EMCI!$F$27=\"P\",'3rd milking (D)'!AI52,IF(EMCI!$F$27=\"FS\",'3rd milking (D)'!AJ52,\"error\")))))","v":74.200977394091041}]
[{"$f":"E33","v":12.5},{"$f":"AL33","v":24.658817888150882},null,null,7.5,1.7647058823529411,{"$f":"F53-F52","v":5.8823529411764719E-2},null,4.295168018416934E-3,3.7464647177948653E-2,0.11411654264509592,null,3.7812666475196171E-3,3.595108195587611E-2,0.1120621032893214,null,2.5265694225981973E-4,2.435783953251013,null,678.13679535957237,null,2.2038027751734505E-3,2.1076667189996199,null,80.451911977231489,null,6.7127378026527029E-3,3.7994793577452195,null,19.636617354695609,null,19.636617354695609,80.451911977231489,678.13679535957237,19.636617354695609,80.451911977231489,null,{"$f":"IF(EMCI!$F$27=\"A\",'3rd milking (D)'!AF53,IF(EMCI!$F$27=\"B\",'3rd milking (D)'!AG53,IF(EMCI!$F$27=\"S\",'3rd milking (D)'!AH53,IF(EMCI!$F$27=\"P\",'3rd milking (D)'!AI53,IF(EMCI!$F$27=\"FS\",'3rd milking (D)'!AJ53,\"error\")))))","v":80.451911977231489}]
[{"$f":"E32","v":12.75},{"$f":"AL32","v":23.632574655315576},null,null,{"$f":"E53-0.25","v":7.25},1.8235294117647058,5.8823529411764719E-2,null,3.3000978480170352E-3,3.44687242322156E-2,0.11002574923637776,null,2.8516616199091853E-3,3.3017574010271708E-2,0.10800751133800611,null,1.9412340282453153E-4,{"$f":"R53+Q54","v":2.4359780766538375},null,899.1325988487431,null,2.0275720136597418E-3,{"$f":"W53+V54","v":2.1096942910132794},null,87.538403278434444,null,6.4721028962575165E-3,{"$f":"AB53+AA54","v":3.8059514606414768},null,20.313851436612747,null,20.313851436612747,87.538403278434444,899.1325988487431,20.313851436612747,87.538403278434444,null,{"$f":"IF(EMCI!$F$27=\"A\",'3rd milking (D)'!AF54,IF(EMCI!$F$27=\"B\",'3rd milking (D)'!AG54,IF(EMCI!$F$27=\"S\",'3rd milking (D)'!AH54,IF(EMCI!$F$27=\"P\",'3rd milking (D)'!AI54,IF(EMCI!$F$27=\"FS\",'3rd milking (D)'!AJ54,\"error\")))))","v":87.538403278434444}]
[{"$f":"E31","v":13},{"$f":"AL31","v":22.673795305716382},null,null,7,1.8823529411764706,5.8823529411764719E-2,null,2.4359579631960701E-3,3.1597631293105111E-2,0.10600741952120002,null,2.0529868778776873E-3,3.0208896083549652E-2,0.10402550281449537,null,1.4329164489388651E-4,2.4361213682987315,null,1248.8529075995482,null,1.8586841937120657E-3,{"$f":"W54+V55","v":2.1115529752069917},null,95.615775459134412,null,6.2357305600705907E-3,{"$f":"AB54+AA55","v":3.8121871912015473},null,21.031504290826589,null,21.031504290826589,95.615775459134412,1248.8529075995482,21.031504290826589,95.615775459134412,null,{"$f":"IF(EMCI!$F$27=\"A\",'3rd milking (D)'!AF55,IF(EMCI!$F$27=\"B\",'3rd milking (D)'!AG55,IF(EMCI!$F$27=\"S\",'3rd milking (D)'!AH55,IF(EMCI!$F$27=\"P\",'3rd milking (D)'!AI55,IF(EMCI!$F$27=\"FS\",'3rd milking (D)'!AJ55,\"error\")))))","v":95.615775459134412}]
[{"$f":"E30","v":13.25},{"$f":"AL30","v":21.776799795107102},null,null,6.75,1.9411764705882353,5.8823529411764719E-2,null,1.7027483639540388E-3,2.8851368384228526E-2,0.1020617893735461,null,1.3852424214251236E-3,2.7525048197569259E-2,0.10011630650600498,null,1.0016166846788466E-4,2.4362215299671992,null,1850.7796399963056,null,1.6971393167193255E-3,2.1132501145237108,null,104.87719639056685,null,6.0036346690321247E-3,3.8181908258705795,null,21.792745360602726,null,21.792745360602726,104.87719639056685,1850.7796399963056,21.792745360602726,104.87719639056685,null,{"$f":"IF(EMCI!$F$27=\"A\",'3rd milking (D)'!AF56,IF(EMCI!$F$27=\"B\",'3rd milking (D)'!AG56,IF(EMCI!$F$27=\"S\",'3rd milking (D)'!AH56,IF(EMCI!$F$27=\"P\",'3rd milking (D)'!AI56,IF(EMCI!$F$27=\"FS\",'3rd milking (D)'!AJ56,\"error\")))))","v":104.87719639056685}]
[{"$f":"E29","v":13.5},{"$f":"AL29","v":20.936493522926074},null,null,6.5,2,5.8823529411764719E-2,null,1.100469050290942E-3,2.622993552581766E-2,9.8189080695726974E-2,null,8.4842825055149364E-4,2.4966030371050753E-2,9.6280137626312767E-2,null,6.4733473546526012E-5,2.4362862634407456,null,3021.7213239808957,null,1.5429373838716273E-3,2.1147930519075824,null,115.56530634673689,null,5.7758282762192352E-3,3.8239666541467985,null,22.601061854511777,null,22.601061854511777,115.56530634673689,3021.7213239808957,22.601061854511777,115.56530634673689,null,{"$f":"IF(EMCI!$F$27=\"A\",'3rd milking (D)'!AF57,IF(EMCI!$F$27=\"B\",'3rd milking (D)'!AG57,IF(EMCI!$F$27=\"S\",'3rd milking (D)'!AH57,IF(EMCI!$F$27=\"P\",'3rd milking (D)'!AI57,IF(EMCI!$F$27=\"FS\",'3rd milking (D)'!AJ57,\"error\")))))","v":115.56530634673689}]
[{"$f":"E28","v":13.75},{"$f":"AL28","v":20.148296387761892},null,null,6.25,2.0588235294117645,5.8823529411764497E-2,null,6.2912002220677889E-4,2.3733332735188999E-2,9.4389502204009934E-2,null,4.4254436525679775E-4,2.2531842620007458E-2,9.2517198579988219E-2,null,3.7007060129810392E-5,2.4363232705008753,null,5793.0389148927143,null,1.3960783961875832E-3,2.1161891303037699,null,127.98823950312483,null,5.5523236590593883E-3,3.8295189778058578,null,23.460297712296107,null,23.460297712296107,127.98823950312483,5793.0389148927143,23.460297712296107,127.98823950312483,null,{"$f":"IF(EMCI!$F$27=\"A\",'3rd milking (D)'!AF58,IF(EMCI!$F$27=\"B\",'3rd milking (D)'!AG58,IF(EMCI!$F$27=\"S\",'3rd milking (D)'!AH58,IF(EMCI!$F$27=\"P\",'3rd milking (D)'!AI58,IF(EMCI!$F$27=\"FS\",'3rd milking (D)'!AJ58,\"error\")))))","v":127.98823950312483}]
[{"$f":"E27","v":14},{"$f":"AL27","v":19.408081673989617},null,null,6,2.1176470588235294,5.8823529411764941E-2,null,2.887012797015501E-4,2.1361560027146304E-2,9.0663250172005841E-2,null,1.6759076554103596E-4,2.0222484958120589E-2,8.8827679685481262E-2,null,1.6982428217738308E-5,2.4363402529290932,null,15297.142051917974,null,1.256562354538023E-3,2.1174456926583081,null,142.54204235094099,null,5.3331323630591886E-3,3.8348521101689168,null,24.374698264070194,null,24.374698264070194,142.54204235094099,15297.142051917974,24.374698264070194,142.54204235094099,null,{"$f":"IF(EMCI!$F$27=\"A\",'3rd milking (D)'!AF59,IF(EMCI!$F$27=\"B\",'3rd milking (D)'!AG59,IF(EMCI!$F$27=\"S\",'3rd milking (D)'!AH59,IF(EMCI!$F$27=\"P\",'3rd milking (D)'!AI59,IF(EMCI!$F$27=\"FS\",'3rd milking (D)'!AJ59,\"error\")))))","v":142.54204235094099}]
[{"$f":"E26","v":14.25},{"$f":"AL26","v":18.712123242878125},null,null,5.75,2.1764705882352939,5.8823529411764497E-2,null,7.921282277525533E-5,1.911461741432929E-2,8.7010509133988265E-2,null,2.3567451404208249E-5,1.8037957397063781E-2,8.5211759859187261E-2,null,4.6595778103091204E-6,2.4363449125069034,null,108779.47910122031,null,1.1243892596664248E-3,2.1185700819179747,null,159.74258363372476,null,5.118265243175762E-3,3.8399703754120926,null,25.348961553632552,null,25.348961553632552,159.74258363372476,108779.47910122031,25.348961553632552,159.74258363372476,null,{"$f":"IF(EMCI!$F$27=\"A\",'3rd milking (D)'!AF60,IF(EMCI!$F$27=\"B\",'3rd milking (D)'!AG60,IF(EMCI!$F$27=\"S\",'3rd milking (D)'!AH60,IF(EMCI!$F$27=\"P\",'3rd milking (D)'!AI60,IF(EMCI!$F$27=\"FS\",'3rd milking (D)'!AJ60,\"error\")))))","v":159.74258363372476}]
[{"$f":"E25","v":14.5},{"$f":"AL25","v":18.057049763103372},null,null,5.5,2.2352941176470589,5.8823529411764941E-2,null,0,1.6992504907515658E-2,8.3431452550209242E-2,null,0,1.5978259946784049E-2,8.1669607262505536E-2,null,0,2.4363449125069034,null,108779.47910122031,null,9.9955911220680734E-4,2.1195696410301816,null,180.2718424010597,null,4.9077325029535041E-3,3.8448781079150463,null,26.388297486944925,null,26.388297486944925,180.2718424010597,108779.47910122031,26.388297486944925,180.2718424010597,null,{"$f":"IF(EMCI!$F$27=\"A\",'3rd milking (D)'!AF61,IF(EMCI!$F$27=\"B\",'3rd milking (D)'!AG61,IF(EMCI!$F$27=\"S\",'3rd milking (D)'!AH61,IF(EMCI!$F$27=\"P\",'3rd milking (D)'!AI61,IF(EMCI!$F$27=\"FS\",'3rd milking (D)'!AJ61,\"error\")))))","v":180.2718424010597}]
[{"$f":"E24","v":14.75},{"$f":"AL24","v":17.439804928349925},null,null,5.25,2.2941176470588234,5.8823529411764497E-2,null,0,1.4995222515882417E-2,7.9926243436178462E-2,null,0,1.4043392615744832E-2,7.8201379913805977E-2,null,0,2.4363449125069034,null,108779.47910122031,null,8.8207191269896264E-4,2.1204517129428808,null,205.04648455307705,null,4.7015437315398928E-3,3.8495796516465863,null,27.498496199473969,null,27.498496199473969,205.04648455307705,108779.47910122031,27.498496199473969,205.04648455307705,null,{"$f":"IF(EMCI!$F$27=\"A\",'3rd milking (D)'!AF62,IF(EMCI!$F$27=\"B\",'3rd milking (D)'!AG62,IF(EMCI!$F$27=\"S\",'3rd milking (D)'!AH62,IF(EMCI!$F$27=\"P\",'3rd milking (D)'!AI62,IF(EMCI!$F$27=\"FS\",'3rd milking (D)'!AJ62,\"error\")))))","v":205.04648455307705}]
[{"$f":"E23","v":15},{"$f":"AL23","v":16.857612783407181},null,null,5,2.3529411764705883,5.8823529411764941E-2,null,0,1.3122770247231881E-2,7.6495034957773558E-2,null,0,1.2233355411136097E-2,7.4807226267127047E-2,null,0,2.4363449125069034,null,108779.47910122031,null,7.7192766160187848E-4,2.1212236406044829,null,235.32189351540868,null,4.4997079386925806E-3,3.8540793595852789,null,28.686007321697943,null,28.686007321697943,235.32189351540868,108779.47910122031,28.686007321697943,235.32189351540868,null,{"$f":"IF(EMCI!$F$27=\"A\",'3rd milking (D)'!AF63,IF(EMCI!$F$27=\"B\",'3rd milking (D)'!AG63,IF(EMCI!$F$27=\"S\",'3rd milking (D)'!AH63,IF(EMCI!$F$27=\"P\",'3rd milking (D)'!AI63,IF(EMCI!$F$27=\"FS\",'3rd milking (D)'!AJ63,\"error\")))))","v":235.32189351540868}]
[null,null,null,null,null,null,null,null,null,null,null,null,null,null,null,null,null,null,null,null,null,null,null,null,null,null,null,null,null,null,null,null,null,null,null,0]
[null,null,null,null,null,null,null,null,null,null,null,null,null,null,null,null,null,null,null,null,null,null,null,null,null,null,null,null,null,null,null,null,null,null,null,0]
[null,null,null,null,null,null,null,null,null,null,null,null,null,null,null,null,null,null,null,null,null,null,null,null,null,null,null,null,null,null,null,null,null,null,null,0]
[null,null,null,null,null,null,null,null,null,null,null,null,null,null,null,null,null,null,null,null,null,null,null,null,null,null,null,null,null,null,null,null,null,null,null,0]
[null,null,null,null,null,null,null,null,null,null,null,null,null,null,null,null,null,null,null,null,null,null,null,null,null,null,null,null,null,null,null,null,null,null,null,0]
[null,null,null,null,null,null,null,null,null,null,null,null,null,null,null,null,null,null,null,null,null,null,null,null,null,null,null,null,null,null,null,null,null,null,null,0]
[null,null,null,null,null,null,null,null,null,null,null,null,null,null,null,null,null,null,null,null,null,null,null,null,null,null,null,null,null,null,null,null,null,null,null,0]
[null,null,null,null,null,null,null,null,null,null,null,null,null,null,null,null,null,null,null,null,null,null,null,null,null,null,null,null,null,null,null,null,null,null,null,0]
[null,null,null,null,null,null,null,null,null,null,null,null,null,null,null,null,null,null,null,null,null,null,null,null,null,null,null,null,null,null,null,null,null,null,null,0]
[null,null,null,null,null,null,null,null,null,null,null,null,null,null,null,null,null,null,null,null,null,null,null,null,null,null,null,null,null,null,null,null,null,null,null,0]
[null,null,null,null,null,null,null,null,null,null,null,null,null,null,null,null,null,null,null,null,null,null,null,null,null,null,null,null,null,null,null,null,null,null,null,0]
[null,null,null,null,null,null,null,null,null,null,null,null,null,null,null,null,null,null,null,null,null,null,null,null,null,null,null,null,null,null,null,null,null,null,null,0]
[null,null,null,null,null,null,null,null,null,null,null,null,null,null,null,null,null,null,null,null,null,null,null,null,null,null,null,null,null,null,null,null,null,null,null,0]
[null,null,null,null,null,null,null,null,null,null,null,null,null,null,null,null,null,null,null,null,null,null,null,null,null,null,null,null,null,null,null,null,null,null,null,0]
[null,null,null,null,null,null,null,null,null,null,null,null,null,null,null,null,null,null,null,null,null,null,null,null,null,null,null,null,null,null,null,null,null,null,null,0]
[null,null,null,null,null,null,null,null,null,null,null,null,null,null,null,null,null,null,null,null,null,null,null,null,null,null,null,null,null,null,null,null,null,null,null,0]
[null,null,null,null,null,null,null,null,null,null,null,null,null,null,null,null,null,null,null,null,null,null,null,null,null,null,null,null,null,null,null,null,null,null,null,0]
[null,null,null,null,null,null,null,null,null,null,null,null,null,null,null,null,null,null,null,null,null,null,null,null,null,null,null,null,null,null,null,null,null,null,null,0]
[null,null,null,null,null,null,null,null,null,null,null,null,null,null,null,null,null,null,null,null,null,null,null,null,null,null,null,null,null,null,null,null,null,null,null,0]
[null,null,null,null,null,null,null,null,null,null,null,null,null,null,null,null,null,null,null,null,null,null,null,null,null,null,null,null,null,null,null,null,null,null,null,0]
[null,null,null,null,null,null,null,null,null,null,null,null,null,null,null,null,null,null,null,null,null,null,null,null,null,null,null,null,null,null,null,null,null,null,null,0]
[null,null,null,null,null,null,null,null,null,null,null,null,null,null,null,null,null,null,null,null,null,null,null,null,null,null,null,null,null,null,null,null,null,null,null,0]
[null,null,null,null,null,null,null,null,null,null,null,null,null,null,null,null,null,null,null,null,null,null,null,null,null,null,null,null,null,null,null,null,null,null,null,0]
[null,null,null,null,null,null,null,null,null,null,null,null,null,null,null,null,null,null,null,null,null,null,null,null,null,null,null,null,null,null,null,null,null,null,null,0]
[null,null,null,null,null,null,null,null,null,null,null,null,null,null,null,null,null,null,null,null,null,null,null,null,null,null,null,null,null,null,null,null,null,null,null,{"$f":"MIN(AG88:AH88)","v":0}]
[null,null,null,null,null,null,null,null,null,null,null,null,null,null,null,null,null,null,null,null,null,null,null,null,null,null,null,null,null,null,null,null,null,null,null,0]
[null,null,null,null,null,null,null,null,null,null,null,null,null,null,null,null,null,null,null,null,null,null,null,null,null,null,null,null,null,null,null,null,null,null,null,0]
[null,null,null,null,null,null,null,null,null,null,null,null,null,null,null,null,null,null,null,null,null,null,null,null,null,null,null,null,null,null,null,null,null,null,null,0]
[null,null,null,null,null,null,null,null,null,null,null,null,null,null,null,null,null,null,null,null,null,null,null,null,null,null,null,null,null,null,null,null,null,null,null,0]
[null,null,null,null,null,null,null,null,null,null,null,null,null,null,null,null,null,null,null,null,null,null,null,null,null,null,null,null,null,null,null,null,null,null,null,0]
[null,null,null,null,null,null,null,null,null,null,null,null,null,null,null,null,null,null,null,null,null,null,null,null,null,null,null,null,null,null,null,null,null,null,null,0]
[null,null,null,null,null,null,null,null,null,null,null,null,null,null,null,null,null,null,null,null,null,null,null,null,null,null,null,null,null,null,null,null,null,null,null,0]
[null,null,null,null,null,null,null,null,null,null,null,null,null,null,null,null,null,null,null,null,null,null,null,null,null,null,null,null,null,null,null,null,null,null,null,0]
[null,null,null,null,null,null,null,null,null,null,null,null,null,null,null,null,null,null,null,null,null,null,null,null,null,null,null,null,null,null,null,null,null,null,null,0]
[null,null,null,null,null,null,null,null,null,null,null,null,null,null,null,null,null,null,null,null,null,null,null,null,null,null,null,null,null,null,null,null,null,null,null,0]
[null,null,null,null,null,null,null,null,null,null,null,null,null,null,null,null,null,null,null,null,null,null,null,null,null,null,null,null,null,null,null,null,null,null,null,0]
[null,null,null,null,null,null,null,null,null,null,null,null,null,null,null,null,null,null,null,null,null,null,null,null,null,null,null,null,null,null,null,null,null,null,null,0]
[null,null,null,null,null,null,null,null,null,null,null,null,null,null,null,null,null,null,null,null,null,null,null,null,null,null,null,null,null,null,null,null,null,null,null,0]
[null,null,null,null,null,null,null,null,null,null,null,null,null,null,null,null,null,null,null,null,null,null,null,null,null,null,null,null,null,null,null,null,null,null,null,0]
[null,null,null,null,null,null,null,null,null,null,null,null,null,null,null,null,null,null,null,null,null,null,null,null,null,null,null,null,null,null,null,null,null,null,null,0]

{"sheet":"3rd milking (DF)","index":14,"n_rows":103,"n_cols":38,"rows_kept":103,"cut":false,"hidden":false,"merged":[]}
[]
["Entry",null,null,null,"Milk cooling curve (3rd milking)",null,null,null,null,null,null,null,null,null,"Entry: ","Temp","Time"]
[null,null,null,null,null,null,null,null,null,null,null,null,null,null,null,{"$f":"E5","v":15},{"$f":"F5","v":0}]
["Milking",{"$f":"EMCI!F9","v":1},3,null,"T","t",null,null,null,null,null,null,null,null,null,{"$f":"E6","v":20},{"$f":"F6","v":0.5}]
["Time",{"$f":"EMCI!F11/60","v":0.5},"F",null,15,0]
["Milk T",{"$f":"EMCI!F13","v":20},null,null,{"$f":"B6","v":20},{"$f":"B5","v":0.5}]
["Volume",{"$f":"EMCI!F31","v":0},"D",null,null,null,null,null,null,null,null,null,null,null,null,"x","y","xy","xx"]
[null,null,null,null,null,null,null,null,null,null,null,null,null,null,null,{"$f":"Q3","v":0},{"$f":"P3","v":15},{"$f":"P8*Q8","v":0},{"$f":"P8*P8","v":0}]
[null,null,null,null,null,null,"Flexible",null,null,null,null,null,null,null,null,{"$f":"Q4","v":0.5},{"$f":"P4","v":20},{"$f":"P9*Q9","v":10},{"$f":"P9*P9","v":0.25}]
["Outcome",{"$f":"IF(OR(B6>P15,B6<5,B5>2.35),\"out\",LOOKUP(B6,A23:A103,B23:B103))","v":"out"},null,null,"slope ",-4.25,{"$f":"P12","v":10},null,null,null,null,null,null,null,"sum",{"$f":"SUM(P8:P9)","v":0.5},{"$f":"SUM(Q8:Q9)","v":35},10,0.25]
[null,null,null,null,"intercept",15,{"$f":"P13","v":15}]
[null,null,null,null,null,null,null,null,null,null,null,null,null,null,"slope",{"$f":"(2*R10-P10*Q10)/(2*S10-(P10^2))","v":10}]
[null,null,null,null,null,null,null,null,null,null,null,null,null,null,"intercept",{"$f":"(Q10-P12*P10)/2","v":15}]
[null,null,null,null,null,"No (logs)","Nf (logs)","Tmin",null,"N after milk (logs)","GR at 5C","Growth storage","N after stroage (logs)"]
[null,null,null,null,"S aureus",{"$f":"'2nd milking (D)'!M15","v":2.3681226474654968},{"$f":"'2nd milking (D)'!G15","v":5},5.6,null,{"$f":"R63","v":2.3391281848228984},0,{"$f":"K15*(12-$F$6)","v":0},{"$f":"J15+L15","v":2.3391281848228984},null,"TEST(max)",{"$f":"F10*Q4+F11","v":12.875}]
[null,null,null,null,"B cereus",{"$f":"'2nd milking (D)'!M16","v":1.931885918144072},{"$f":"'2nd milking (D)'!G16","v":5},1.5,null,{"$f":"W63","v":1.8514173860983969},1.2233355411136097E-2,{"$f":"K16*(12-$F$6)","v":0.14068358722806512},{"$f":"J16+L16","v":1.9921009733264621}]
[null,null,null,null,"Pseudo",{"$f":"'2nd milking (D)'!M17","v":3.4750384341665668},{"$f":"'2nd milking (D)'!G17","v":6},-6.1,null,{"$f":"AB63","v":3.3139460408636143},7.4807226267127047E-2,{"$f":"K17*(12-$F$6)","v":0.86028310207196101},{"$f":"J17+L17","v":4.1742291429355749}]
[]
[]
[]
["Lookup function",null,null,null,"Cooling curve profile",null,null,null,"Growth (log/h) during cooling",null,null,null,"Growth (log/h) to calculate NMTL",null,null,null,"Saureus","Growth acc",null,"Time to NMTL (depending on initial logs)",null,"B cereus","Growth acc",null,"Time to NMTL (depending on initial logs)",null,"Pseudo","Growth acc",null,"Time to NMTL (depending on initial logs)",null,"NMTL","NMTL","NMTL","NMTL","NMTL",null,"NMTL"]
[{"$f":"E22","v":"Temp"},"NMTL",null,null,"Temp","Time","Time interval",null,"S. aureus","B.cereus","Pseudo",null,"S. aureus","B.cereus","Pseudo",null,"Growth interval",{"$f":"F15","v":2.3681226474654968},null,{"$f":"R22","v":2.3681226474654968},null,"Growth interval",{"$f":"F16","v":1.931885918144072},null,{"$f":"W22","v":1.931885918144072},null,"Growth interval",{"$f":"F17","v":3.4750384341665668},null,{"$f":"AB22","v":3.4750384341665668},null,"Shorter of 3 microorganisms","B. cereus","S. aureus","Pseudo","Food Safety",null,"Entry"]
[{"$f":"E63","v":5},{"$f":"AL63","v":257.3768608925912},null,null,{"$f":"E5","v":15},{"$f":"(E23-$G$11)/$G$10","v":0},{"$f":"F23","v":0},null,{"$f":"IF(E23>H15,(0.00033*(E23-5.6)*((6.5-2.8)*(1-EXP(0.5*(6.5-9.8)))*(36.7-0.9324)*(1-EXP(0.42*(-5-0.9324)))))^2,0)","v":9.2552000270036947E-2},{"$f":"IF(E23>$H$16,(((0.175*(E23-1.5)*SQRT(0.995-0.92)*(1-EXP(0.4395*(E23-45)))))^2)/2.3,0)","v":0.18200169390981913},{"$f":"IF(E23>$H$17,((0.1709*(E23+6.1)*SQRT(0.995-0.947)*(1-EXP(0.1723*(E23-41.2))))^2)/2.3,0)","v":0.26545898738016671},null,{"$f":"IF(E23>$H$15,(0.00033*(E23-5.6)*((6.5-2.8)*(1-EXP(0.5*(6.5-9.8)))*(36.7-0.9324)*(1-EXP(0.42*(-5-0.9324)))))^2,0)","v":9.2552000270036947E-2},{"$f":"IF(E23>$H$16,(((0.175*(E23-1.5)*SQRT(0.995-0.92)*(1-EXP(0.4395*(E23-45)))))^2)/2.3,0)","v":0.18200169390981913},{"$f":"IF(E23>$H$17,((0.1709*(E23+6.1)*SQRT(0.995-0.947)*(1-EXP(0.1723*(E23-41.2))))^2)/2.3,0)","v":0.26545898738016671},null,{"$f":"G23*I23","v":0},{"$f":"R22","v":2.3681226474654968},null,{"$f":"($G$15-R23)/M23","v":28.436741992129097},null,{"$f":"G23*J23","v":0},{"$f":"W22","v":1.931885918144072},null,{"$f":"($G$16-W23)/N23","v":16.857612783407181},null,{"$f":"G23*K23","v":0},{"$f":"AB22","v":3.4750384341665668},null,{"$f":"($G$17-AB23)/O23","v":9.5116823534680641},null,{"$f":"+MIN(AG23:AI23)","v":9.5116823534680641},{"$f":"Y23","v":16.857612783407181},{"$f":"T23","v":28.436741992129097},{"$f":"AD23","v":9.5116823534680641},{"$f":"MIN(AG23:AH23)","v":16.857612783407181},null,{"$f":"IF(EMCI!$F$27=\"A\",'3rd milking (DF)'!AF23,IF(EMCI!$F$27=\"B\",'3rd milking (DF)'!AG23,IF(EMCI!$F$27=\"S\",'3rd milking (DF)'!AH23,IF(EMCI!$F$27=\"P\",'3rd milking (DF)'!AI23,IF(EMCI!$F$27=\"FS\",'3rd milking (DF)'!AJ23,\"error\")))))","v":16.857612783407181}]
[{"$f":"E62","v":5.25},{"$f":"AL62","v":224.18048336238482},null,null,{"$f":"E23-0.25","v":14.75},{"$f":"(E24-$G$11)/$G$10","v":-2.5000000000000001E-2},{"$f":"F24-F23","v":-2.5000000000000001E-2},null,{"$f":"IF(E24>$H$15,(0.00033*(((E24+E23)/2)-5.6)*((6.5-2.8)*(1-EXP(0.5*(6.5-9.8)))*(36.7-0.9324)*(1-EXP(0.42*(-5-0.9324)))))^2,0)","v":9.0106877186850329E-2},{"$f":"IF(E24>$H$16,(((0.175*(((E24+E23)/2)-1.5)*SQRT(0.995-0.92)*(1-EXP(0.4395*(((E24+E23)/2)-45)))))^2)/2.3,0)","v":0.17864693176209925},{"$f":"IF(E24>$H$17,((0.1709*(((E24+E23)/2)+6.1)*SQRT(0.995-0.947)*(1-EXP(0.1723*(((E24+E23)/2)-41.2))))^2)/2.3,0)","v":0.26244685184914474},null,{"$f":"IF(E24>$H$15,(0.00033*(E24-5.6)*((6.5-2.8)*(1-EXP(0.5*(6.5-9.8)))*(36.7-0.9324)*(1-EXP(0.42*(-5-0.9324)))))^2,0)","v":8.7694486675058483E-2},{"$f":"IF(E24>$H$16,(((0.175*(E24-1.5)*SQRT(0.995-0.92)*(1-EXP(0.4395*(E24-45)))))^2)/2.3,0)","v":0.17532337382058064},{"$f":"IF(E24>$H$17,((0.1709*(E24+6.1)*SQRT(0.995-0.947)*(1-EXP(0.1723*(E24-41.2))))^2)/2.3,0)","v":0.25944782857356635},null,-2.2526719296712583E-3,{"$f":"R23+Q24","v":2.3658699755358255},null,{"$f":"IF(M24=0,T23,($G$15-R24)/M24)","v":30.037578465162021},null,-4.4661732940524815E-3,{"$f":"W23+V24","v":1.9274197448500194},null,{"$f":"($G$16-W24)/N24","v":17.525217477815275},null,-6.5611712962286191E-3,{"$f":"AB23+AA24","v":3.468477262870338},null,{"$f":"($G$17-AB24)/O24","v":9.7573479456269556},null,{"$f":"+MIN(AG24:AI24)","v":9.7573479456269556},17.525217477815275,30.037578465162021,9.7573479456269556,{"$f":"MIN(AG24:AH24)","v":17.525217477815275},null,{"$f":"IF(EMCI!$F$27=\"A\",'3rd milking (DF)'!AF24,IF(EMCI!$F$27=\"B\",'3rd milking (DF)'!AG24,IF(EMCI!$F$27=\"S\",'3rd milking (DF)'!AH24,IF(EMCI!$F$27=\"P\",'3rd milking (DF)'!AI24,IF(EMCI!$F$27=\"FS\",'3rd milking (DF)'!AJ24,\"error\")))))","v":17.525217477815275}]
[{"$f":"E61","v":5.5},{"$f":"AL61","v":197.01016722513017},null,null,{"$f":"E24-0.25","v":14.5},-0.05,{"$f":"F25-F24","v":-2.5000000000000001E-2},null,{"$f":"IF(E25>$H$15,(0.00033*(((E25+E24)/2)-5.6)*((6.5-2.8)*(1-EXP(0.5*(6.5-9.8)))*(36.7-0.9324)*(1-EXP(0.42*(-5-0.9324)))))^2,0)","v":8.5314828734661369E-2},{"$f":"IF(E25>$H$16,(((0.175*(((E25+E24)/2)-1.5)*SQRT(0.995-0.92)*(1-EXP(0.4395*(((E25+E24)/2)-45)))))^2)/2.3,0)","v":0.17203102030883713},{"$f":"IF(E25>$H$17,((0.1709*(((E25+E24)/2)+6.1)*SQRT(0.995-0.947)*(1-EXP(0.1723*(((E25+E24)/2)-41.2))))^2)/2.3,0)","v":0.25646208952582694},null,8.2967903365658943E-2,0.16876987143576827,0.25348980194113641,null,-2.1328707183665345E-3,{"$f":"R24+Q25","v":2.3637371048174591},null,{"$f":"IF(M25=0,T24,($G$15-R25)/M25)","v":31.774490956628302},null,-4.3007755077209284E-3,{"$f":"W24+V25","v":1.9231189693422985},null,18.231222222793033,null,-6.4115522381456742E-3,{"$f":"AB24+AA25","v":3.4620657106321922},null,10.011977878136292,null,10.011977878136292,18.231222222793033,31.774490956628302,10.011977878136292,18.231222222793033,null,{"$f":"IF(EMCI!$F$27=\"A\",'3rd milking (DF)'!AF25,IF(EMCI!$F$27=\"B\",'3rd milking (DF)'!AG25,IF(EMCI!$F$27=\"S\",'3rd milking (DF)'!AH25,IF(EMCI!$F$27=\"P\",'3rd milking (DF)'!AI25,IF(EMCI!$F$27=\"FS\",'3rd milking (DF)'!AJ25,\"error\")))))","v":18.231222222793033}]
[{"$f":"E60","v":5.75},{"$f":"AL60","v":174.49064670549561},null,null,14.25,-7.4999999999999997E-2,-2.4999999999999994E-2,null,8.065371056805129E-2,0.16553992739654555,0.25053112844137798,null,7.8372250341838381E-2,0.16234118837349831,0.24758622715594111,null,-2.0163427642012816E-3,2.3617207620532579,null,{"$f":"IF(M26=0,T25,($G$15-R26)/M26)","v":33.663436055992875},null,-4.1384981849136382E-3,1.9189804711573848,null,18.978668073773829,null,-6.2632782110344483E-3,3.4558024324211578,null,10.276006047688551,null,10.276006047688551,18.978668073773829,33.663436055992875,10.276006047688551,18.978668073773829,null,{"$f":"IF(EMCI!$F$27=\"A\",'3rd milking (DF)'!AF26,IF(EMCI!$F$27=\"B\",'3rd milking (DF)'!AG26,IF(EMCI!$F$27=\"S\",'3rd milking (DF)'!AH26,IF(EMCI!$F$27=\"P\",'3rd milking (DF)'!AI26,IF(EMCI!$F$27=\"FS\",'3rd milking (DF)'!AJ26,\"error\")))))","v":18.978668073773829}]
[{"$f":"E59","v":6},{"$f":"AL59","v":155.61771921411525},null,null,14,-0.1,-2.5000000000000008E-2,null,7.612352268702019E-2,0.15917365453694315,0.24465525183959377,null,7.3907527603596743E-2,0.15603732604596116,0.24173835198745908,null,-1.9030880671755054E-3,2.3598176739860826,null,35.722779689973443,null,-3.9793413634235802E-3,1.9150011297939613,null,19.770903208744713,null,-6.1163812959898461E-3,3.4496860511251679,null,10.549893833176862,null,10.549893833176862,19.770903208744713,35.722779689973443,10.549893833176862,19.770903208744713,null,{"$f":"IF(EMCI!$F$27=\"A\",'3rd milking (DF)'!AF27,IF(EMCI!$F$27=\"B\",'3rd milking (DF)'!AG27,IF(EMCI!$F$27=\"S\",'3rd milking (DF)'!AH27,IF(EMCI!$F$27=\"P\",'3rd milking (DF)'!AI27,IF(EMCI!$F$27=\"FS\",'3rd milking (DF)'!AJ27,\"error\")))))","v":19.770903208744713}]
[{"$f":"E58","v":6.25},{"$f":"AL58","v":139.64428032307811},null,null,13.75,-0.125,-2.4999999999999994E-2,null,7.1724265091567985E-2,0.1529322030491248,0.23883567294716018,null,6.9573735150934013E-2,0.1498582856851797,0.23594735602819444,null,-1.7931066272891991E-3,2.3580245673587932,null,37.97374723248187,null,-3.8233050762281192E-3,1.9111778247177331,null,20.611620913449013,null,-5.9708918236790033E-3,3.443715159301489,null,10.834132171385928,null,10.834132171385928,20.611620913449013,37.97374723248187,10.834132171385928,20.611620913449013,null,{"$f":"IF(EMCI!$F$27=\"A\",'3rd milking (DF)'!AF28,IF(EMCI!$F$27=\"B\",'3rd milking (DF)'!AG28,IF(EMCI!$F$27=\"S\",'3rd milking (DF)'!AH28,IF(EMCI!$F$27=\"P\",'3rd milking (DF)'!AI28,IF(EMCI!$F$27=\"FS\",'3rd milking (DF)'!AJ28,\"error\")))))","v":20.611620913449013}]
[{"$f":"E57","v":6.5},{"$f":"AL57","v":126.00519854182251},null,null,13.5,-0.15,-2.4999999999999994E-2,null,6.745593778169473E-2,0.14681557408368173,0.23307353860860081,null,6.5370872983850206E-2,0.14380406836559409,0.23021435423897771,null,-1.686398444542368E-3,2.3563381689142506,null,40.44097486259458,null,-3.6703893520920426E-3,1.9075074353656412,null,21.504903162908391,null,-5.8268384652150193E-3,3.437888320836274,null,11.129243819888332,null,11.129243819888332,21.504903162908391,40.44097486259458,11.129243819888332,21.504903162908391,null,{"$f":"IF(EMCI!$F$27=\"A\",'3rd milking (DF)'!AF29,IF(EMCI!$F$27=\"B\",'3rd milking (DF)'!AG29,IF(EMCI!$F$27=\"S\",'3rd milking (DF)'!AH29,IF(EMCI!$F$27=\"P\",'3rd milking (DF)'!AI29,IF(EMCI!$F$27=\"FS\",'3rd milking (DF)'!AJ29,\"error\")))))","v":21.504903162908391}]
[{"$f":"E56","v":6.75},{"$f":"AL56","v":114.26660700979363},null,null,13.25,-0.17499999999999999,-2.4999999999999994E-2,null,6.3318540757400427E-2,0.14082376864384633,0.22736993274391495,null,6.1298941102345371E-2,0.13787467502385675,0.22454040032089267,null,-1.5829635189350104E-3,2.3547552053953158,null,43.153189060609627,null,-3.5205942160961572E-3,1.9039868411495451,null,22.455270761760598,null,-5.6842483185978723E-3,3.4322040725176763,null,11.43578582657136,null,11.43578582657136,22.455270761760598,43.153189060609627,11.43578582657136,22.455270761760598,null,{"$f":"IF(EMCI!$F$27=\"A\",'3rd milking (DF)'!AF30,IF(EMCI!$F$27=\"B\",'3rd milking (DF)'!AG30,IF(EMCI!$F$27=\"S\",'3rd milking (DF)'!AH30,IF(EMCI!$F$27=\"P\",'3rd milking (DF)'!AI30,IF(EMCI!$F$27=\"FS\",'3rd milking (DF)'!AJ30,\"error\")))))","v":22.455270761760598}]
[{"$f":"E55","v":7},{"$f":"AL55","v":104.09094633616888},null,null,13,-0.2,-2.5000000000000022E-2,null,5.9312074018685053E-2,0.13495678760402277,0.22172587963671017,null,5.7357939506419459E-2,0.13207010647617853,0.21892648992149663,null,-1.4828018504671277E-3,2.3532724035448487,null,46.144049441645848,null,-3.3739196901005721E-3,1.9006129214594445,null,23.467741196222867,null,-5.543146990917759E-3,3.4266609255267584,null,11.754352227526224,null,11.754352227526224,23.467741196222867,46.144049441645848,11.754352227526224,23.467741196222867,null,{"$f":"IF(EMCI!$F$27=\"A\",'3rd milking (DF)'!AF31,IF(EMCI!$F$27=\"B\",'3rd milking (DF)'!AG31,IF(EMCI!$F$27=\"S\",'3rd milking (DF)'!AH31,IF(EMCI!$F$27=\"P\",'3rd milking (DF)'!AI31,IF(EMCI!$F$27=\"FS\",'3rd milking (DF)'!AJ31,\"error\")))))","v":23.467741196222867}]
[{"$f":"E54","v":7.25},{"$f":"AL54","v":95.212405349567703},null,null,12.75,-0.22500000000000001,-2.4999999999999994E-2,null,5.5436537565548595E-2,0.12921463172602407,0.21614234706036106,null,5.3547868196072462E-2,0.12639036343352611,0.21337356368273519,null,-1.3859134391387147E-3,2.3518864901057102,null,49.453201389789761,null,-3.230365793150601E-3,1.897382555666294,null,24.547895583554521,null,-5.4035586765090252E-3,3.4212573668502495,null,12.085576997645681,null,12.085576997645681,24.547895583554521,49.453201389789761,12.085576997645681,24.547895583554521,null,{"$f":"IF(EMCI!$F$27=\"A\",'3rd milking (DF)'!AF32,IF(EMCI!$F$27=\"B\",'3rd milking (DF)'!AG32,IF(EMCI!$F$27=\"S\",'3rd milking (DF)'!AH32,IF(EMCI!$F$27=\"P\",'3rd milking (DF)'!AI32,IF(EMCI!$F$27=\"FS\",'3rd milking (DF)'!AJ32,\"error\")))))","v":24.547895583554521}]
[{"$f":"E53","v":7.5},{"$f":"AL53","v":87.41936963334841},null,null,12.5,-0.25,-2.4999999999999994E-2,null,5.1691931397991081E-2,0.12359730167329401,0.21062024924946207,null,4.9868727171304417E-2,0.12083544651493101,0.20788251013768322,null,-1.2922982849497768E-3,2.3505941918207602,null,53.127600371235609,null,-3.0899325418323495E-3,1.8942926231244617,null,25.701956391511182,null,-5.2655062312365504E-3,3.4159918606190129,null,12.430137281243939,null,12.430137281243939,25.701956391511182,53.127600371235609,12.430137281243939,25.701956391511182,null,{"$f":"IF(EMCI!$F$27=\"A\",'3rd milking (DF)'!AF33,IF(EMCI!$F$27=\"B\",'3rd milking (DF)'!AG33,IF(EMCI!$F$27=\"S\",'3rd milking (DF)'!AH33,IF(EMCI!$F$27=\"P\",'3rd milking (DF)'!AI33,IF(EMCI!$F$27=\"FS\",'3rd milking (DF)'!AJ33,\"error\")))))","v":25.701956391511182}]
[{"$f":"E52","v":7.75},{"$f":"AL52","v":80.541682355383927},null,null,12.25,-0.27500000000000002,-2.5000000000000022E-2,null,4.807825551601249E-2,0.11810479802336256,0.20516044972357486,null,4.6320516432115315E-2,0.11540535625914415,0.2024541684629837,null,-1.2019563879003133E-3,2.3493922354328598,null,57.223191119894324,null,-2.9526199505840664E-3,1.8913400031738776,null,26.936877954309054,null,-5.129011243089376E-3,3.4108628493759237,null,12.788756933386971,null,12.788756933386971,26.936877954309054,57.223191119894324,12.788756933386971,26.936877954309054,null,{"$f":"IF(EMCI!$F$27=\"A\",'3rd milking (DF)'!AF34,IF(EMCI!$F$27=\"B\",'3rd milking (DF)'!AG34,IF(EMCI!$F$27=\"S\",'3rd milking (DF)'!AH34,IF(EMCI!$F$27=\"P\",'3rd milking (DF)'!AI34,IF(EMCI!$F$27=\"FS\",'3rd milking (DF)'!AJ34,\"error\")))))","v":26.936877954309054}]
[{"$f":"E51","v":8},{"$f":"AL51","v":74.441266463898458},null,null,12,-0.3,-2.4999999999999967E-2,null,4.459550991961285E-2,0.11273712127874896,0.19976376397001153,null,4.2903235978505136E-2,0.11010009313483672,0.19708933109359619,null,-1.1148877479903198E-3,2.3482773476848693,null,61.807054685657391,null,-2.8184280319687202E-3,1.8885215751419089,null,28.260452250912667,null,-4.9940940992502817E-3,3.4058687552766735,null,13.162210406464842,null,13.162210406464842,28.260452250912667,61.807054685657391,13.162210406464842,28.260452250912667,null,{"$f":"IF(EMCI!$F$27=\"A\",'3rd milking (DF)'!AF35,IF(EMCI!$F$27=\"B\",'3rd milking (DF)'!AG35,IF(EMCI!$F$27=\"S\",'3rd milking (DF)'!AH35,IF(EMCI!$F$27=\"P\",'3rd milking (DF)'!AI35,IF(EMCI!$F$27=\"FS\",'3rd milking (DF)'!AJ35,\"error\")))))","v":28.260452250912667}]
[{"$f":"E50","v":8.25},{"$f":"AL50","v":69.005131539271105},null,null,11.75,-0.32500000000000001,-2.5000000000000022E-2,null,4.1243694608792139E-2,0.10749427187650554,0.19443096199213733,null,3.961688581047388E-2,0.10491965754952723,0.19178874620621136,null,-1.0310923652198044E-3,2.3472462553196496,null,66.960178479728398,null,-2.687356796912641E-3,1.8858342183449963,null,29.681432959166536,null,-4.8607740498034374E-3,3.4010079812268703,null,13.551327020922761,null,13.551327020922761,29.681432959166536,66.960178479728398,13.551327020922761,29.681432959166536,null,{"$f":"IF(EMCI!$F$27=\"A\",'3rd milking (DF)'!AF36,IF(EMCI!$F$27=\"B\",'3rd milking (DF)'!AG36,IF(EMCI!$F$27=\"S\",'3rd milking (DF)'!AH36,IF(EMCI!$F$27=\"P\",'3rd milking (DF)'!AI36,IF(EMCI!$F$27=\"FS\",'3rd milking (DF)'!AJ36,\"error\")))))","v":29.681432959166536}]
[{"$f":"E49","v":8.5},{"$f":"AL49","v":64.140096647762959},null,null,11.5,-0.35,-2.4999999999999967E-2,null,3.8022809583550352E-2,0.10237625019656743,0.18916277072942361,null,3.6461465928021568E-2,9.9864049857391432E-2,0.18655312007743888,null,-9.5057023958875755E-4,2.3462956850800607,null,72.781064813976656,null,-2.5594062549141824E-3,1.8832748120900822,null,31.209681485586511,null,-4.7290692682355837E-3,3.3962789119586345,null,13.956995664079761,null,13.956995664079761,31.209681485586511,72.781064813976656,13.956995664079761,31.209681485586511,null,{"$f":"IF(EMCI!$F$27=\"A\",'3rd milking (DF)'!AF37,IF(EMCI!$F$27=\"B\",'3rd milking (DF)'!AG37,IF(EMCI!$F$27=\"S\",'3rd milking (DF)'!AH37,IF(EMCI!$F$27=\"P\",'3rd milking (DF)'!AI37,IF(EMCI!$F$27=\"FS\",'3rd milking (DF)'!AJ37,\"error\")))))","v":31.209681485586511}]
[{"$f":"E48","v":8.75},{"$f":"AL48","v":59.768764307105215},null,null,11.25,-0.375,-2.5000000000000022E-2,null,3.4932854843887522E-2,9.7383056569056464E-2,0.18395987635523695,null,3.3436976331148192E-2,9.4933270366092032E-2,0.18138311932263304,null,-8.7332137109718882E-4,2.3454223637089635,null,79.390481065064677,null,-2.4345764142264139E-3,1.8808402356758558,null,32.85633953508291,null,-4.5989969088809281E-3,3.3916799150497536,null,14.380169966703066,null,14.380169966703066,32.85633953508291,79.390481065064677,14.380169966703066,32.85633953508291,null,{"$f":"IF(EMCI!$F$27=\"A\",'3rd milking (DF)'!AF38,IF(EMCI!$F$27=\"B\",'3rd milking (DF)'!AG38,IF(EMCI!$F$27=\"S\",'3rd milking (DF)'!AH38,IF(EMCI!$F$27=\"P\",'3rd milking (DF)'!AI38,IF(EMCI!$F$27=\"FS\",'3rd milking (DF)'!AJ38,\"error\")))))","v":32.85633953508291}]
[{"$f":"E47","v":9},{"$f":"AL47","v":55.826417709444648},null,null,11,-0.4,-2.5000000000000022E-2,null,3.1973830389803601E-2,9.2514691280667832E-2,0.17882292645810682,null,3.054341701985375E-2,9.0127319342750936E-2,0.17627937302097987,null,-7.9934575974509076E-4,2.3446230179492185,null,86.937783690827402,null,-2.3128672820166979E-3,1.878527368393839,null,34.634033879730886,null,-4.4705731614526744E-3,3.3872093418883011,null,14.821874013590563,null,14.821874013590563,34.634033879730886,86.937783690827402,14.821874013590563,34.634033879730886,null,{"$f":"IF(EMCI!$F$27=\"A\",'3rd milking (DF)'!AF39,IF(EMCI!$F$27=\"B\",'3rd milking (DF)'!AG39,IF(EMCI!$F$27=\"S\",'3rd milking (DF)'!AH39,IF(EMCI!$F$27=\"P\",'3rd milking (DF)'!AI39,IF(EMCI!$F$27=\"FS\",'3rd milking (DF)'!AJ39,\"error\")))))","v":34.634033879730886}]
[{"$f":"E46","v":9.25},{"$f":"AL46","v":52.258606927511266},null,null,10.75,-0.42499999999999999,-2.4999999999999967E-2,null,2.9145736221298631E-2,8.7771154580253072E-2,0.1737525321119813,null,2.7780787994138238E-2,8.5446197019167794E-2,0.17124247473224119,null,-7.2864340553246477E-4,2.343894374543686,null,95.609441532643132,null,-2.1942788645063238E-3,1.8763330895293326,null,36.557120380324804,null,-4.343813302799527E-3,3.3828655285855018,null,15.28320865198142,null,15.28320865198142,36.557120380324804,95.609441532643132,15.28320865198142,36.557120380324804,null,{"$f":"IF(EMCI!$F$27=\"A\",'3rd milking (DF)'!AF40,IF(EMCI!$F$27=\"B\",'3rd milking (DF)'!AG40,IF(EMCI!$F$27=\"S\",'3rd milking (DF)'!AH40,IF(EMCI!$F$27=\"P\",'3rd milking (DF)'!AI40,IF(EMCI!$F$27=\"FS\",'3rd milking (DF)'!AJ40,\"error\")))))","v":36.557120380324804}]
[{"$f":"E45","v":9.5},{"$f":"AL45","v":49.019254646035812},null,null,10.5,-0.45,-2.5000000000000022E-2,null,2.644857233837258E-2,8.3152446683698977E-2,0.16874926984075,null,2.5149089254001666E-2,8.0889903596380763E-2,0.1662729844103209,null,-6.6121430845931509E-4,2.3432331602352265,null,105.64067799560712,null,-2.0788111670924764E-3,1.8742542783622402,null,38.641976101670295,null,-4.2187317460187536E-3,3.3786467968394831,null,15.7653584703313,null,15.7653584703313,38.641976101670295,105.64067799560712,15.7653584703313,38.641976101670295,null,{"$f":"IF(EMCI!$F$27=\"A\",'3rd milking (DF)'!AF41,IF(EMCI!$F$27=\"B\",'3rd milking (DF)'!AG41,IF(EMCI!$F$27=\"S\",'3rd milking (DF)'!AH41,IF(EMCI!$F$27=\"P\",'3rd milking (DF)'!AI41,IF(EMCI!$F$27=\"FS\",'3rd milking (DF)'!AJ41,\"error\")))))","v":38.641976101670295}]
[{"$f":"E44","v":9.75},{"$f":"AL44","v":46.069157447210245},null,null,10.25,-0.47499999999999998,-2.4999999999999967E-2,null,2.3882338741025473E-2,7.8658567778189678E-2,0.16381368348209219,null,2.2648320799444024E-2,7.6458439248649382E-2,0.16137143021860539,null,-5.9705846852563607E-4,2.342636101766701,null,117.33160801477753,null,-1.9664641944547394E-3,1.8722878141677854,null,40.907350667473438,null,-4.0953420870522995E-3,3.3745514547524307,null,16.269599530046595,null,16.269599530046595,40.907350667473438,117.33160801477753,16.269599530046595,40.907350667473438,null,{"$f":"IF(EMCI!$F$27=\"A\",'3rd milking (DF)'!AF42,IF(EMCI!$F$27=\"B\",'3rd milking (DF)'!AG42,IF(EMCI!$F$27=\"S\",'3rd milking (DF)'!AH42,IF(EMCI!$F$27=\"P\",'3rd milking (DF)'!AI42,IF(EMCI!$F$27=\"FS\",'3rd milking (DF)'!AJ42,\"error\")))))","v":40.907350667473438}]
[{"$f":"E43","v":10},{"$f":"AL43","v":43.374790993128883},null,null,10,-0.5,-2.5000000000000022E-2,null,2.14470354292573E-2,7.428951802592855E-2,0.15894628595549334,null,2.0278482630465319E-2,7.2151804126932312E-2,0.15653831025181383,null,-5.3617588573143292E-4,2.3420999258809694,null,131.06996822957268,null,-1.8572379506482154E-3,1.8704305762171372,null,43.374790993128883,null,-3.9736571488873367E-3,3.3705777976035431,null,16.797307944404551,null,16.797307944404551,43.374790993128883,131.06996822957268,16.797307944404551,43.374790993128883,null,{"$f":"IF(EMCI!$F$27=\"A\",'3rd milking (DF)'!AF43,IF(EMCI!$F$27=\"B\",'3rd milking (DF)'!AG43,IF(EMCI!$F$27=\"S\",'3rd milking (DF)'!AH43,IF(EMCI!$F$27=\"P\",'3rd milking (DF)'!AI43,IF(EMCI!$F$27=\"FS\",'3rd milking (DF)'!AJ43,\"error\")))))","v":43.374790993128883}]
[{"$f":"E42","v":10.25},{"$f":"AL42","v":40.907350667473438},null,null,9.75,-0.52500000000000002,-2.5000000000000022E-2,null,1.9142662403068059E-2,7.0045297567387574E-2,0.15414756093906151,null,1.8039574747065537E-2,6.7969998361922884E-2,0.15177409416889009,null,-4.7856656007670191E-4,2.3416213593208925,null,147.36370884305578,null,-1.7511324391846909E-3,1.8686794437779524,null,46.069157447210245,null,-3.853689023476541E-3,3.3667241085800668,null,17.349969412366878,null,17.349969412366878,46.069157447210245,147.36370884305578,17.349969412366878,46.069157447210245,null,{"$f":"IF(EMCI!$F$27=\"A\",'3rd milking (DF)'!AF44,IF(EMCI!$F$27=\"B\",'3rd milking (DF)'!AG44,IF(EMCI!$F$27=\"S\",'3rd milking (DF)'!AH44,IF(EMCI!$F$27=\"P\",'3rd milking (DF)'!AI44,IF(EMCI!$F$27=\"FS\",'3rd milking (DF)'!AJ44,\"error\")))))","v":46.069157447210245}]
[{"$f":"E41","v":10.5},{"$f":"AL41","v":38.641976101670295},null,null,9.5,-0.55000000000000004,-2.5000000000000022E-2,null,1.6969219662457756E-2,6.5925906524142819E-2,0.14941796445957814,null,1.5931597149244706E-2,6.3913022066697509E-2,0.14707922474126942,null,-4.2423049156144427E-4,2.341197128829331,null,166.88865819687885,null,-1.648147663103572E-3,1.8670312961148487,null,49.019254646035812,null,-3.7354491114894566E-3,3.3629886594685772,null,17.929189830652511,null,17.929189830652511,49.019254646035812,166.88865819687885,17.929189830652511,49.019254646035812,null,{"$f":"IF(EMCI!$F$27=\"A\",'3rd milking (DF)'!AF45,IF(EMCI!$F$27=\"B\",'3rd milking (DF)'!AG45,IF(EMCI!$F$27=\"S\",'3rd milking (DF)'!AH45,IF(EMCI!$F$27=\"P\",'3rd milking (DF)'!AI45,IF(EMCI!$F$27=\"FS\",'3rd milking (DF)'!AJ45,\"error\")))))","v":49.019254646035812}]
[{"$f":"E40","v":10.75},{"$f":"AL40","v":36.557120380324804},null,null,9.25,-0.57499999999999996,-2.4999999999999911E-2,null,1.4926707207426384E-2,6.1931345001347733E-2,0.14475792640001692,null,1.3954549837002799E-2,5.9980875339025456E-2,0.1424541193206629,null,-3.7316768018565827E-4,2.3408239611491455,null,190.55978658656613,null,-1.5482836250336879E-3,1.865483012489815,null,52.258606927511266,null,-3.6189481600004099E-3,3.359369711308577,null,18.536707125663305,null,18.536707125663305,52.258606927511266,190.55978658656613,18.536707125663305,52.258606927511266,null,{"$f":"IF(EMCI!$F$27=\"A\",'3rd milking (DF)'!AF46,IF(EMCI!$F$27=\"B\",'3rd milking (DF)'!AG46,IF(EMCI!$F$27=\"S\",'3rd milking (DF)'!AH46,IF(EMCI!$F$27=\"P\",'3rd milking (DF)'!AI46,IF(EMCI!$F$27=\"FS\",'3rd milking (DF)'!AJ46,\"error\")))))","v":52.258606927511266}]
[{"$f":"E39","v":11},{"$f":"AL39","v":34.634033879730886},null,null,9,-0.6,-2.5000000000000022E-2,null,1.3015125037973942E-2,5.8061613089890336E-2,0.1401678519285815,null,1.2108432810339827E-2,5.6173558263382765E-2,0.13789917123031473,null,-3.2537812594934885E-4,2.3404985830231961,null,219.6404323031598,null,-1.4515403272472598E-3,1.8640314721625677,null,55.826417709444648,null,-3.5041962982145405E-3,3.3558655150103625,null,19.174404468127584,null,19.174404468127584,55.826417709444648,219.6404323031598,19.174404468127584,55.826417709444648,null,{"$f":"IF(EMCI!$F$27=\"A\",'3rd milking (DF)'!AF47,IF(EMCI!$F$27=\"B\",'3rd milking (DF)'!AG47,IF(EMCI!$F$27=\"S\",'3rd milking (DF)'!AH47,IF(EMCI!$F$27=\"P\",'3rd milking (DF)'!AI47,IF(EMCI!$F$27=\"FS\",'3rd milking (DF)'!AJ47,\"error\")))))","v":55.826417709444648}]
[{"$f":"E38","v":11.25},{"$f":"AL38","v":32.85633953508291},null,null,8.75,-0.625,-2.5000000000000022E-2,null,1.1234473154100443E-2,5.4316710868272958E-2,0.13564812285312758,null,1.0393246069255789E-2,5.249107091270714E-2,0.13341475108351158,null,-2.8086182885251129E-4,2.3402177211943438,null,255.91449111106351,null,-1.3579177717068251E-3,1.8626735543908608,null,59.768764307105215,null,-3.3912030713281927E-3,3.3524743119390341,null,19.844325058206906,null,19.844325058206906,59.768764307105215,255.91449111106351,19.844325058206906,59.768764307105215,null,{"$f":"IF(EMCI!$F$27=\"A\",'3rd milking (DF)'!AF48,IF(EMCI!$F$27=\"B\",'3rd milking (DF)'!AG48,IF(EMCI!$F$27=\"S\",'3rd milking (DF)'!AH48,IF(EMCI!$F$27=\"P\",'3rd milking (DF)'!AI48,IF(EMCI!$F$27=\"FS\",'3rd milking (DF)'!AJ48,\"error\")))))","v":59.768764307105215}]
[{"$f":"E37","v":11.5},{"$f":"AL37","v":31.209681485586511},null,null,8.5,-0.65,-2.5000000000000022E-2,null,9.5847515558058708E-3,5.0696638404250462E-2,0.13119909890466158,null,8.8089896137506871E-3,4.8933413349926902E-2,0.12900120803295215,null,-2.3961878889514697E-4,2.3399781024054485,null,301.96674241076425,null,-1.2674159601062628E-3,1.8614061384307545,null,64.140096647762959,null,-3.2799774726165426E-3,3.3491943344664175,null,20.548688697988464,null,20.548688697988464,64.140096647762959,301.96674241076425,20.548688697988464,64.140096647762959,null,{"$f":"IF(EMCI!$F$27=\"A\",'3rd milking (DF)'!AF49,IF(EMCI!$F$27=\"B\",'3rd milking (DF)'!AG49,IF(EMCI!$F$27=\"S\",'3rd milking (DF)'!AH49,IF(EMCI!$F$27=\"P\",'3rd milking (DF)'!AI49,IF(EMCI!$F$27=\"FS\",'3rd milking (DF)'!AJ49,\"error\")))))","v":64.140096647762959}]
[{"$f":"E36","v":11.75},{"$f":"AL36","v":29.681432959166536},null,null,8.25,-0.67500000000000004,-2.5000000000000022E-2,null,8.0659602430902377E-3,4.7201395756256849E-2,0.12682111895344028,null,7.3556634438245181E-3,4.5500585629291837E-2,0.12465887095441666,null,-2.0164900607725611E-4,2.339776453399371,null,361.65650684222538,null,-1.1800348939064224E-3,1.8602261035368481,null,69.005131539271105,null,-3.1705279738360099E-3,3.3460238064925814,null,21.28991040258887,null,21.28991040258887,69.005131539271105,361.65650684222538,21.28991040258887,69.005131539271105,null,{"$f":"IF(EMCI!$F$27=\"A\",'3rd milking (DF)'!AF50,IF(EMCI!$F$27=\"B\",'3rd milking (DF)'!AG50,IF(EMCI!$F$27=\"S\",'3rd milking (DF)'!AH50,IF(EMCI!$F$27=\"P\",'3rd milking (DF)'!AI50,IF(EMCI!$F$27=\"FS\",'3rd milking (DF)'!AJ50,\"error\")))))","v":69.005131539271105}]
[{"$f":"E35","v":12},{"$f":"AL35","v":28.260452250912667},null,null,8,-0.7,-2.4999999999999911E-2,null,6.6780992159535344E-3,4.3830982974647166E-2,0.12251450216103232,null,6.0332675594772841E-3,4.2192587797532113E-2,0.12038804956802177,null,-1.6695248039883776E-4,2.3396095009189724,null,440.9535086674527,null,-1.0957745743661752E-3,1.8591303289624819,null,74.441266463898458,null,-3.0628625540257974E-3,3.3429609439385555,null,22.070621341532423,null,22.070621341532423,74.441266463898458,440.9535086674527,22.070621341532423,74.441266463898458,null,{"$f":"IF(EMCI!$F$27=\"A\",'3rd milking (DF)'!AF51,IF(EMCI!$F$27=\"B\",'3rd milking (DF)'!AG51,IF(EMCI!$F$27=\"S\",'3rd milking (DF)'!AH51,IF(EMCI!$F$27=\"P\",'3rd milking (DF)'!AI51,IF(EMCI!$F$27=\"FS\",'3rd milking (DF)'!AJ51,\"error\")))))","v":74.441266463898458}]
[{"$f":"E34","v":12.25},{"$f":"AL34","v":26.936877954309054},null,null,7.75,-0.72499999999999998,-2.5000000000000022E-2,null,5.4211684743957671E-3,4.0585400102778259E-2,0.11827954907154804,null,4.8418019607089843E-3,3.9009419894865949E-2,0.11618903550019019,null,-1.355292118598943E-4,2.3394739717071125,null,549.4908816764796,null,-1.0146350025694573E-3,1.8581156939599124,null,80.541682355383927,null,-2.9569887267887037E-3,3.3400039552117669,null,22.893692449868723,null,22.893692449868723,80.541682355383927,549.4908816764796,22.893692449868723,80.541682355383927,null,{"$f":"IF(EMCI!$F$27=\"A\",'3rd milking (DF)'!AF52,IF(EMCI!$F$27=\"B\",'3rd milking (DF)'!AG52,IF(EMCI!$F$27=\"S\",'3rd milking (DF)'!AH52,IF(EMCI!$F$27=\"P\",'3rd milking (DF)'!AI52,IF(EMCI!$F$27=\"FS\",'3rd milking (DF)'!AJ52,\"error\")))))","v":80.541682355383927}]
[{"$f":"E33","v":12.5},{"$f":"AL33","v":25.701956391511182},null,null,7.5,-0.75,{"$f":"F53-F52","v":-2.5000000000000022E-2},null,4.295168018416934E-3,3.7464647177948653E-2,0.11411654264509592,null,3.7812666475196171E-3,3.595108195587611E-2,0.1120621032893214,null,-1.0737920046042345E-4,2.3393665925066522,null,703.6354892450214,null,-9.3661617944871709E-4,1.8571790777804638,null,87.41936963334841,null,-2.8529135661274005E-3,3.3371510416456394,null,23.76226110516086,null,23.76226110516086,87.41936963334841,703.6354892450214,23.76226110516086,87.41936963334841,null,{"$f":"IF(EMCI!$F$27=\"A\",'3rd milking (DF)'!AF53,IF(EMCI!$F$27=\"B\",'3rd milking (DF)'!AG53,IF(EMCI!$F$27=\"S\",'3rd milking (DF)'!AH53,IF(EMCI!$F$27=\"P\",'3rd milking (DF)'!AI53,IF(EMCI!$F$27=\"FS\",'3rd milking (DF)'!AJ53,\"error\")))))","v":87.41936963334841}]
[{"$f":"E32","v":12.75},{"$f":"AL32","v":24.547895583554521},null,null,{"$f":"E53-0.25","v":7.25},-0.77500000000000002,-2.5000000000000022E-2,null,3.3000978480170352E-3,3.44687242322156E-2,0.11002574923637776,null,2.8516616199091853E-3,3.3017574010271708E-2,0.10800751133800611,null,-8.250244620042595E-5,{"$f":"R53+Q54","v":2.3392840900604517},null,933.04054427898154,null,-8.6171810580539074E-4,{"$f":"W53+V54","v":1.8563173596746583},null,95.212405349567703,null,-2.7506437309094463E-3,{"$f":"AB53+AA54","v":3.3344003979147301},null,24.67976133385168,null,24.67976133385168,95.212405349567703,933.04054427898154,24.67976133385168,95.212405349567703,null,{"$f":"IF(EMCI!$F$27=\"A\",'3rd milking (DF)'!AF54,IF(EMCI!$F$27=\"B\",'3rd milking (DF)'!AG54,IF(EMCI!$F$27=\"S\",'3rd milking (DF)'!AH54,IF(EMCI!$F$27=\"P\",'3rd milking (DF)'!AI54,IF(EMCI!$F$27=\"FS\",'3rd milking (DF)'!AJ54,\"error\")))))","v":95.212405349567703}]
[{"$f":"E31","v":13},{"$f":"AL31","v":23.467741196222867},null,null,7,-0.8,-2.5000000000000022E-2,null,2.4359579631960701E-3,3.1597631293105111E-2,0.10600741952120002,null,2.0529868778776873E-3,3.0208896083549652E-2,0.10402550281449537,null,-6.0898949079901805E-5,2.3392231911113717,null,1296.0515420533302,null,-7.899407823276285E-4,{"$f":"W54+V55","v":1.8555274188923307},null,104.09094633616888,null,-2.6501854880300029E-3,{"$f":"AB54+AA55","v":3.3317502124267002},null,25.649958090868218,null,25.649958090868218,104.09094633616888,1296.0515420533302,25.649958090868218,104.09094633616888,null,{"$f":"IF(EMCI!$F$27=\"A\",'3rd milking (DF)'!AF55,IF(EMCI!$F$27=\"B\",'3rd milking (DF)'!AG55,IF(EMCI!$F$27=\"S\",'3rd milking (DF)'!AH55,IF(EMCI!$F$27=\"P\",'3rd milking (DF)'!AI55,IF(EMCI!$F$27=\"FS\",'3rd milking (DF)'!AJ55,\"error\")))))","v":104.09094633616888}]
[{"$f":"E30","v":13.25},{"$f":"AL30","v":22.455270761760598},null,null,6.75,-0.82499999999999996,-2.4999999999999911E-2,null,1.7027483639540388E-3,2.8851368384228526E-2,0.1020617893735461,null,1.3852424214251236E-3,2.7525048197569259E-2,0.10011630650600498,null,-4.2568709098850821E-5,2.3391806224022726,null,1920.8330155383942,null,-7.212842096057106E-4,1.8548061346827249,null,114.26660700979363,null,-2.5515447343386435E-3,3.3291986676923617,null,26.676986252458722,null,26.676986252458722,114.26660700979363,1920.8330155383942,26.676986252458722,114.26660700979363,null,{"$f":"IF(EMCI!$F$27=\"A\",'3rd milking (DF)'!AF56,IF(EMCI!$F$27=\"B\",'3rd milking (DF)'!AG56,IF(EMCI!$F$27=\"S\",'3rd milking (DF)'!AH56,IF(EMCI!$F$27=\"P\",'3rd milking (DF)'!AI56,IF(EMCI!$F$27=\"FS\",'3rd milking (DF)'!AJ56,\"error\")))))","v":114.26660700979363}]
[{"$f":"E29","v":13.5},{"$f":"AL29","v":21.504903162908391},null,null,6.5,-0.85,-2.5000000000000022E-2,null,1.100469050290942E-3,2.622993552581766E-2,9.8189080695726974E-2,null,8.4842825055149364E-4,2.4966030371050753E-2,9.6280137626312767E-2,null,-2.7511726257273573E-5,2.3391531106760155,null,3136.2073193512665,null,-6.5574838814544205E-4,1.8541503862945794,null,126.00519854182251,null,-2.4547270173931766E-3,3.3267439406749686,null,27.765395077649401,null,27.765395077649401,126.00519854182251,3136.2073193512665,27.765395077649401,126.00519854182251,null,{"$f":"IF(EMCI!$F$27=\"A\",'3rd milking (DF)'!AF57,IF(EMCI!$F$27=\"B\",'3rd milking (DF)'!AG57,IF(EMCI!$F$27=\"S\",'3rd milking (DF)'!AH57,IF(EMCI!$F$27=\"P\",'3rd milking (DF)'!AI57,IF(EMCI!$F$27=\"FS\",'3rd milking (DF)'!AJ57,\"error\")))))","v":126.00519854182251}]
[{"$f":"E28","v":13.75},{"$f":"AL28","v":20.611620913449013},null,null,6.25,-0.875,-2.5000000000000022E-2,null,6.2912002220677889E-4,2.3733332735188999E-2,9.4389502204009934E-2,null,4.4254436525679775E-4,2.2531842620007458E-2,9.2517198579988219E-2,null,-1.5728000555169486E-5,2.3391373826754602,null,6012.6460220107101,null,-5.933333183797255E-4,1.8535570529761998,null,139.64428032307811,null,-2.3597375551002503E-3,3.3243842031198683,null,28.920199032689652,null,28.920199032689652,139.64428032307811,6012.6460220107101,28.920199032689652,139.64428032307811,null,{"$f":"IF(EMCI!$F$27=\"A\",'3rd milking (DF)'!AF58,IF(EMCI!$F$27=\"B\",'3rd milking (DF)'!AG58,IF(EMCI!$F$27=\"S\",'3rd milking (DF)'!AH58,IF(EMCI!$F$27=\"P\",'3rd milking (DF)'!AI58,IF(EMCI!$F$27=\"FS\",'3rd milking (DF)'!AJ58,\"error\")))))","v":139.64428032307811}]
[{"$f":"E27","v":14},{"$f":"AL27","v":19.770903208744713},null,null,6,-0.9,-2.5000000000000022E-2,null,2.887012797015501E-4,2.1361560027146304E-2,9.0663250172005841E-2,null,1.6759076554103596E-4,2.0222484958120589E-2,8.8827679685481262E-2,null,-7.2175319925387586E-6,2.3391301651434677,null,15877.186468278271,null,-5.3403900067865813E-4,1.853023013975521,null,155.61771921411525,null,-2.2665812543001479E-3,3.3221176218655679,null,30.146936040840068,null,30.146936040840068,155.61771921411525,15877.186468278271,30.146936040840068,155.61771921411525,null,{"$f":"IF(EMCI!$F$27=\"A\",'3rd milking (DF)'!AF59,IF(EMCI!$F$27=\"B\",'3rd milking (DF)'!AG59,IF(EMCI!$F$27=\"S\",'3rd milking (DF)'!AH59,IF(EMCI!$F$27=\"P\",'3rd milking (DF)'!AI59,IF(EMCI!$F$27=\"FS\",'3rd milking (DF)'!AJ59,\"error\")))))","v":155.61771921411525}]
[{"$f":"E26","v":14.25},{"$f":"AL26","v":18.978668073773829},null,null,5.75,-0.92500000000000004,-2.5000000000000022E-2,null,7.921282277525533E-5,1.911461741432929E-2,8.7010509133988265E-2,null,2.3567451404208249E-5,1.8037957397063781E-2,8.5211759859187261E-2,null,-1.9803205693813849E-6,2.3391281848228984,null,112904.52113553403,null,-4.7786543535823265E-4,1.8525451485401627,null,174.49064670549561,null,-2.1752627283497085E-3,3.3199423591372184,null,31.451734423647469,null,31.451734423647469,174.49064670549561,112904.52113553403,31.451734423647469,174.49064670549561,null,{"$f":"IF(EMCI!$F$27=\"A\",'3rd milking (DF)'!AF60,IF(EMCI!$F$27=\"B\",'3rd milking (DF)'!AG60,IF(EMCI!$F$27=\"S\",'3rd milking (DF)'!AH60,IF(EMCI!$F$27=\"P\",'3rd milking (DF)'!AI60,IF(EMCI!$F$27=\"FS\",'3rd milking (DF)'!AJ60,\"error\")))))","v":174.49064670549561}]
[{"$f":"E25","v":14.5},{"$f":"AL25","v":18.231222222793033},null,null,5.5,-0.95,-2.4999999999999911E-2,null,0,1.6992504907515658E-2,8.3431452550209242E-2,null,0,1.5978259946784049E-2,8.1669607262505536E-2,null,0,2.3391281848228984,null,112904.52113553403,null,-4.2481262268788996E-4,1.8521203359174749,null,197.01016722513017,null,-2.0857863137552237E-3,3.3178565728234632,null,32.841390048019825,null,32.841390048019825,197.01016722513017,112904.52113553403,32.841390048019825,197.01016722513017,null,{"$f":"IF(EMCI!$F$27=\"A\",'3rd milking (DF)'!AF61,IF(EMCI!$F$27=\"B\",'3rd milking (DF)'!AG61,IF(EMCI!$F$27=\"S\",'3rd milking (DF)'!AH61,IF(EMCI!$F$27=\"P\",'3rd milking (DF)'!AI61,IF(EMCI!$F$27=\"FS\",'3rd milking (DF)'!AJ61,\"error\")))))","v":197.01016722513017}]
[{"$f":"E24","v":14.75},{"$f":"AL24","v":17.525217477815275},null,null,5.25,-0.97499999999999998,-2.5000000000000022E-2,null,0,1.4995222515882417E-2,7.9926243436178462E-2,null,0,1.4043392615744832E-2,7.8201379913805977E-2,null,0,2.3391281848228984,null,112904.52113553403,null,-3.7488056289706079E-4,1.8517454553545778,null,224.18048336238482,null,-1.9981560859044633E-3,3.3158584167375587,null,34.323455496832892,null,34.323455496832892,224.18048336238482,112904.52113553403,34.323455496832892,224.18048336238482,null,{"$f":"IF(EMCI!$F$27=\"A\",'3rd milking (DF)'!AF62,IF(EMCI!$F$27=\"B\",'3rd milking (DF)'!AG62,IF(EMCI!$F$27=\"S\",'3rd milking (DF)'!AH62,IF(EMCI!$F$27=\"P\",'3rd milking (DF)'!AI62,IF(EMCI!$F$27=\"FS\",'3rd milking (DF)'!AJ62,\"error\")))))","v":224.18048336238482}]
[{"$f":"E23","v":15},{"$f":"AL23","v":16.857612783407181},null,null,5,-1,-2.5000000000000022E-2,null,0,1.3122770247231881E-2,7.6495034957773558E-2,null,0,1.2233355411136097E-2,7.4807226267127047E-2,null,0,2.3391281848228984,null,112904.52113553403,null,-3.2806925618079734E-4,1.8514173860983969,null,257.3768608925912,null,-1.9123758739443407E-3,3.3139460408636143,null,35.906343453302625,null,35.906343453302625,257.3768608925912,112904.52113553403,35.906343453302625,257.3768608925912,null,{"$f":"IF(EMCI!$F$27=\"A\",'3rd milking (DF)'!AF63,IF(EMCI!$F$27=\"B\",'3rd milking (DF)'!AG63,IF(EMCI!$F$27=\"S\",'3rd milking (DF)'!AH63,IF(EMCI!$F$27=\"P\",'3rd milking (DF)'!AI63,IF(EMCI!$F$27=\"FS\",'3rd milking (DF)'!AJ63,\"error\")))))","v":257.3768608925912}]
[null,null,null,null,null,null,null,null,null,null,null,null,null,null,null,null,null,null,null,null,null,null,null,null,null,null,null,null,null,null,null,null,null,null,null,0]
[null,null,null,null,null,null,null,null,null,null,null,null,null,null,null,null,null,null,null,null,null,null,null,null,null,null,null,null,null,null,null,null,null,null,null,0]
[null,null,null,null,null,null,null,null,null,null,null,null,null,null,null,null,null,null,null,null,null,null,null,null,null,null,null,null,null,null,null,null,null,null,null,0]
[null,null,null,null,null,null,null,null,null,null,null,null,null,null,null,null,null,null,null,null,null,null,null,null,null,null,null,null,null,null,null,null,null,null,null,0]
[null,null,null,null,null,null,null,null,null,null,null,null,null,null,null,null,null,null,null,null,null,null,null,null,null,null,null,null,null,null,null,null,null,null,null,0]
[null,null,null,null,null,null,null,null,null,null,null,null,null,null,null,null,null,null,null,null,null,null,null,null,null,null,null,null,null,null,null,null,null,null,null,0]
[null,null,null,null,null,null,null,null,null,null,null,null,null,null,null,null,null,null,null,null,null,null,null,null,null,null,null,null,null,null,null,null,null,null,null,0]
[null,null,null,null,null,null,null,null,null,null,null,null,null,null,null,null,null,null,null,null,null,null,null,null,null,null,null,null,null,null,null,null,null,null,null,0]
[null,null,null,null,null,null,null,null,null,null,null,null,null,null,null,null,null,null,null,null,null,null,null,null,null,null,null,null,null,null,null,null,null,null,null,0]
[null,null,null,null,null,null,null,null,null,null,null,null,null,null,null,null,null,null,null,null,null,null,null,null,null,null,null,null,null,null,null,null,null,null,null,0]
[null,null,null,null,null,null,null,null,null,null,null,null,null,null,null,null,null,null,null,null,null,null,null,null,null,null,null,null,null,null,null,null,null,null,null,0]
[null,null,null,null,null,null,null,null,null,null,null,null,null,null,null,null,null,null,null,null,null,null,null,null,null,null,null,null,null,null,null,null,null,null,null,0]
[null,null,null,null,null,null,null,null,null,null,null,null,null,null,null,null,null,null,null,null,null,null,null,null,null,null,null,null,null,null,null,null,null,null,null,0]
[null,null,null,null,null,null,null,null,null,null,null,null,null,null,null,null,null,null,null,null,null,null,null,null,null,null,null,null,null,null,null,null,null,null,null,0]
[null,null,null,null,null,null,null,null,null,null,null,null,null,null,null,null,null,null,null,null,null,null,null,null,null,null,null,null,null,null,null,null,null,null,null,0]
[null,null,null,null,null,null,null,null,null,null,null,null,null,null,null,null,null,null,null,null,null,null,null,null,null,null,null,null,null,null,null,null,null,null,null,0]
[null,null,null,null,null,null,null,null,null,null,null,null,null,null,null,null,null,null,null,null,null,null,null,null,null,null,null,null,null,null,null,null,null,null,null,0]
[null,null,null,null,null,null,null,null,null,null,null,null,null,null,null,null,null,null,null,null,null,null,null,null,null,null,null,null,null,null,null,null,null,null,null,0]
[null,null,null,null,null,null,null,null,null,null,null,null,null,null,null,null,null,null,null,null,null,null,null,null,null,null,null,null,null,null,null,null,null,null,null,0]
[null,null,null,null,null,null,null,null,null,null,null,null,null,null,null,null,null,null,null,null,null,null,null,null,null,null,null,null,null,null,null,null,null,null,null,0]
[null,null,null,null,null,null,null,null,null,null,null,null,null,null,null,null,null,null,null,null,null,null,null,null,null,null,null,null,null,null,null,null,null,null,null,0]
[null,null,null,null,null,null,null,null,null,null,null,null,null,null,null,null,null,null,null,null,null,null,null,null,null,null,null,null,null,null,null,null,null,null,null,0]
[null,null,null,null,null,null,null,null,null,null,null,null,null,null,null,null,null,null,null,null,null,null,null,null,null,null,null,null,null,null,null,null,null,null,null,0]
[null,null,null,null,null,null,null,null,null,null,null,null,null,null,null,null,null,null,null,null,null,null,null,null,null,null,null,null,null,null,null,null,null,null,null,0]
[null,null,null,null,null,null,null,null,null,null,null,null,null,null,null,null,null,null,null,null,null,null,null,null,null,null,null,null,null,null,null,null,null,null,null,{"$f":"MIN(AG88:AH88)","v":0}]
[null,null,null,null,null,null,null,null,null,null,null,null,null,null,null,null,null,null,null,null,null,null,null,null,null,null,null,null,null,null,null,null,null,null,null,0]
[null,null,null,null,null,null,null,null,null,null,null,null,null,null,null,null,null,null,null,null,null,null,null,null,null,null,null,null,null,null,null,null,null,null,null,0]
[null,null,null,null,null,null,null,null,null,null,null,null,null,null,null,null,null,null,null,null,null,null,null,null,null,null,null,null,null,null,null,null,null,null,null,0]
[null,null,null,null,null,null,null,null,null,null,null,null,null,null,null,null,null,null,null,null,null,null,null,null,null,null,null,null,null,null,null,null,null,null,null,0]
[null,null,null,null,null,null,null,null,null,null,null,null,null,null,null,null,null,null,null,null,null,null,null,null,null,null,null,null,null,null,null,null,null,null,null,0]
[null,null,null,null,null,null,null,null,null,null,null,null,null,null,null,null,null,null,null,null,null,null,null,null,null,null,null,null,null,null,null,null,null,null,null,0]
[null,null,null,null,null,null,null,null,null,null,null,null,null,null,null,null,null,null,null,null,null,null,null,null,null,null,null,null,null,null,null,null,null,null,null,0]
[null,null,null,null,null,null,null,null,null,null,null,null,null,null,null,null,null,null,null,null,null,null,null,null,null,null,null,null,null,null,null,null,null,null,null,0]
[null,null,null,null,null,null,null,null,null,null,null,null,null,null,null,null,null,null,null,null,null,null,null,null,null,null,null,null,null,null,null,null,null,null,null,0]
[null,null,null,null,null,null,null,null,null,null,null,null,null,null,null,null,null,null,null,null,null,null,null,null,null,null,null,null,null,null,null,null,null,null,null,0]
[null,null,null,null,null,null,null,null,null,null,null,null,null,null,null,null,null,null,null,null,null,null,null,null,null,null,null,null,null,null,null,null,null,null,null,0]
[null,null,null,null,null,null,null,null,null,null,null,null,null,null,null,null,null,null,null,null,null,null,null,null,null,null,null,null,null,null,null,null,null,null,null,0]
[null,null,null,null,null,null,null,null,null,null,null,null,null,null,null,null,null,null,null,null,null,null,null,null,null,null,null,null,null,null,null,null,null,null,null,0]
[null,null,null,null,null,null,null,null,null,null,null,null,null,null,null,null,null,null,null,null,null,null,null,null,null,null,null,null,null,null,null,null,null,null,null,0]
[null,null,null,null,null,null,null,null,null,null,null,null,null,null,null,null,null,null,null,null,null,null,null,null,null,null,null,null,null,null,null,null,null,null,null,0]

{"sheet":"3rd milking (DO)","index":15,"n_rows":103,"n_cols":38,"rows_kept":103,"cut":false,"hidden":false,"merged":[]}
[]
["Entry",null,null,null,"Milk cooling curve (3rd milking)",null,null,null,null,null,null,null,null,null,"Entry: ","Temp","Time"]
[null,null,null,null,null,null,null,null,null,null,null,null,null,null,null,{"$f":"E5","v":15},{"$f":"F5","v":1.6764705882352942}]
["Milking",{"$f":"EMCI!F9","v":1},3,null,"T","t",null,null,null,null,null,null,null,null,null,{"$f":"E6","v":20},{"$f":"F6","v":0.5}]
["Time",{"$f":"EMCI!F11/60","v":0.5},"O",null,15,{"$f":"F6-((E6-F11)/F10)","v":1.6764705882352942}]
["Milk T",{"$f":"EMCI!F13","v":20},null,null,{"$f":"B6","v":20},{"$f":"B5","v":0.5}]
["Volume",{"$f":"EMCI!F31","v":0},"D",null,null,null,null,null,null,null,null,null,null,null,null,"x","y","xy","xx"]
[null,null,null,null,null,null,null,null,null,null,null,null,null,null,null,{"$f":"Q3","v":1.6764705882352942},{"$f":"P3","v":15},{"$f":"P8*Q8","v":25.147058823529413},{"$f":"P8*P8","v":2.8105536332179932}]
[null,null,null,null,null,null,"Outside!!!",null,null,null,null,null,null,null,null,{"$f":"Q4","v":0.5},{"$f":"P4","v":20},{"$f":"P9*Q9","v":10},{"$f":"P9*P9","v":0.25}]
["Outcome",{"$f":"IF(OR(B6>E5,B6<5,B5>2.35),\"out\",LOOKUP(B6,A23:A103,B23:B103))","v":"out"},null,null,"slope ",-4.25,{"$f":"P12","v":-4.2500000000000089},null,null,null,null,null,null,null,"sum",{"$f":"SUM(P8:P9)","v":2.1764705882352944},{"$f":"SUM(Q8:Q9)","v":35},35.147058823529413,3.0605536332179932]
[null,null,null,null,"intercept",15,{"$f":"P13","v":22.125000000000011}]
[null,null,null,null,null,null,null,null,null,null,null,null,null,null,"slope",{"$f":"(2*R10-P10*Q10)/(2*S10-(P10^2))","v":-4.2500000000000089}]
[null,null,null,null,null,null,null,null,null,null,null,null,null,null,"intercept",{"$f":"(Q10-P12*P10)/2","v":22.125000000000011}]
[null,null,null,null,null,"No (logs)","Nf (logs)","Tmin",null,"N after milk (logs)","GR at 5C","Growth storage","N after stroage (logs)"]
[null,null,null,null,"S aureus",{"$f":"'2nd milking (D)'!M15","v":2.3681226474654968},{"$f":"'2nd milking (D)'!G15","v":5},5.6,null,{"$f":"R63","v":2.591505618841965},0,{"$f":"K15*(12-$F$6)","v":0},{"$f":"J15+L15","v":2.591505618841965},null,"TEST(max)",{"$f":"F10*Q4+F11","v":12.875}]
[null,null,null,null,"B cereus",{"$f":"'2nd milking (D)'!M16","v":1.931885918144072},{"$f":"'2nd milking (D)'!G16","v":5},1.5,null,{"$f":"W63","v":2.4263441274532971},1.2233355411136097E-2,{"$f":"K16*(12-$F$6)","v":0.14068358722806512},{"$f":"J16+L16","v":2.567027714681362}]
[null,null,null,null,"Pseudo",{"$f":"'2nd milking (D)'!M17","v":3.4750384341665668},{"$f":"'2nd milking (D)'!G17","v":6},-6.1,null,{"$f":"AB63","v":4.2991135443108526},7.4807226267127047E-2,{"$f":"K17*(12-$F$6)","v":0.86028310207196101},{"$f":"J17+L17","v":5.1593966463828131}]
[]
[]
[]
["Lookup function",null,null,null,"Cooling curve profile",null,null,null,"Growth (log/h) during cooling",null,null,null,"Growth (log/h) to calculate NMTL",null,null,null,"Saureus","Growth acc",null,"Time to NMTL (depending on initial logs)",null,"B cereus","Growth acc",null,"Time to NMTL (depending on initial logs)",null,"Pseudo","Growth acc",null,"Time to NMTL (depending on initial logs)",null,"NMTL","NMTL","NMTL","NMTL","NMTL",null,"NMTL"]
[{"$f":"E22","v":"Temp"},"NMTL",null,null,"Temp","Time","Time interval",null,"S. aureus","B.cereus","Pseudo",null,"S. aureus","B.cereus","Pseudo",null,"Growth interval",{"$f":"F15","v":2.3681226474654968},null,{"$f":"R22","v":2.3681226474654968},null,"Growth interval",{"$f":"F16","v":1.931885918144072},null,{"$f":"W22","v":1.931885918144072},null,"Growth interval",{"$f":"F17","v":3.4750384341665668},null,{"$f":"AB22","v":3.4750384341665668},null,"Shorter of 3 microorganisms","B. cereus","S. aureus","Pseudo","Food Safety",null,"Entry"]
[{"$f":"E63","v":5},{"$f":"AL63","v":210.38020935808737},null,null,{"$f":"E5","v":15},{"$f":"(E23-$G$11)/$G$10","v":1.676470588235293},{"$f":"IF(E6=E5,F5,F23)","v":1.676470588235293},null,{"$f":"IF(E23>H15,(0.00033*(E23-5.6)*((6.5-2.8)*(1-EXP(0.5*(6.5-9.8)))*(36.7-0.9324)*(1-EXP(0.42*(-5-0.9324)))))^2,0)","v":9.2552000270036947E-2},{"$f":"IF(E23>$H$16,(((0.175*(E23-1.5)*SQRT(0.995-0.92)*(1-EXP(0.4395*(E23-45)))))^2)/2.3,0)","v":0.18200169390981913},{"$f":"IF(E23>$H$17,((0.1709*(E23+6.1)*SQRT(0.995-0.947)*(1-EXP(0.1723*(E23-41.2))))^2)/2.3,0)","v":0.26545898738016671},null,{"$f":"IF(E23>$H$15,(0.00033*(E23-5.6)*((6.5-2.8)*(1-EXP(0.5*(6.5-9.8)))*(36.7-0.9324)*(1-EXP(0.42*(-5-0.9324)))))^2,0)","v":9.2552000270036947E-2},{"$f":"IF(E23>$H$16,(((0.175*(E23-1.5)*SQRT(0.995-0.92)*(1-EXP(0.4395*(E23-45)))))^2)/2.3,0)","v":0.18200169390981913},{"$f":"IF(E23>$H$17,((0.1709*(E23+6.1)*SQRT(0.995-0.947)*(1-EXP(0.1723*(E23-41.2))))^2)/2.3,0)","v":0.26545898738016671},null,{"$f":"G23*I23","v":0.15516070633506185},{"$f":"R22+Q23","v":2.5232833538005588},null,{"$f":"($G$15-R23)/M23","v":26.760271403893803},null,{"$f":"G23*J23","v":0.30512048684881421},{"$f":"W22+V23","v":2.2370064049928864},null,{"$f":"($G$16-W23)/N23","v":15.181142195171889},null,{"$f":"G23*K23","v":0.44503418472557332},{"$f":"AB22+AA23","v":3.92007261889214},null,{"$f":"($G$17-AB23)/O23","v":7.8352117652327715},null,{"$f":"+MIN(AG23:AI23)","v":7.8352117652327715},{"$f":"Y23","v":15.181142195171889},{"$f":"T23","v":26.760271403893803},{"$f":"AD23","v":7.8352117652327715},{"$f":"MIN(AG23:AH23)","v":15.181142195171889},null,{"$f":"IF(EMCI!$F$27=\"A\",'3rd milking (DO)'!AF23,IF(EMCI!$F$27=\"B\",'3rd milking (DO)'!AG23,IF(EMCI!$F$27=\"S\",'3rd milking (DO)'!AH23,IF(EMCI!$F$27=\"P\",'3rd milking (DO)'!AI23,IF(EMCI!$F$27=\"FS\",'3rd milking (DO)'!AJ23,\"error\")))))","v":15.181142195171889}]
[{"$f":"E62","v":5.25},{"$f":"AL62","v":183.31950623683127},null,null,{"$f":"E23-0.25","v":14.75},{"$f":"(E24-$G$11)/$G$10","v":1.7352941176470578},{"$f":"F24-F23","v":5.8823529411764719E-2},null,{"$f":"IF(E24>$H$15,(0.00033*(((E24+E23)/2)-5.6)*((6.5-2.8)*(1-EXP(0.5*(6.5-9.8)))*(36.7-0.9324)*(1-EXP(0.42*(-5-0.9324)))))^2,0)","v":9.0106877186850329E-2},{"$f":"IF(E24>$H$16,(((0.175*(((E24+E23)/2)-1.5)*SQRT(0.995-0.92)*(1-EXP(0.4395*(((E24+E23)/2)-45)))))^2)/2.3,0)","v":0.17864693176209925},{"$f":"IF(E24>$H$17,((0.1709*(((E24+E23)/2)+6.1)*SQRT(0.995-0.947)*(1-EXP(0.1723*(((E24+E23)/2)-41.2))))^2)/2.3,0)","v":0.26244685184914474},null,{"$f":"IF(E24>$H$15,(0.00033*(E24-5.6)*((6.5-2.8)*(1-EXP(0.5*(6.5-9.8)))*(36.7-0.9324)*(1-EXP(0.42*(-5-0.9324)))))^2,0)","v":8.7694486675058483E-2},{"$f":"IF(E24>$H$16,(((0.175*(E24-1.5)*SQRT(0.995-0.92)*(1-EXP(0.4395*(E24-45)))))^2)/2.3,0)","v":0.17532337382058064},{"$f":"IF(E24>$H$17,((0.1709*(E24+6.1)*SQRT(0.995-0.947)*(1-EXP(0.1723*(E24-41.2))))^2)/2.3,0)","v":0.25944782857356635},null,5.3004045404029618E-3,{"$f":"R23+Q24","v":2.5285837583409618},null,{"$f":"IF(M24=0,T23,($G$15-R24)/M24)","v":28.182116520238928},null,1.0508643044829371E-2,{"$f":"W23+V24","v":2.247515048037716},null,{"$f":"($G$16-W24)/N24","v":15.69947515828137},null,1.5438050108773223E-2,{"$f":"AB23+AA24","v":3.9355106690009132},null,{"$f":"($G$17-AB24)/O24","v":7.9572426655083817},null,{"$f":"+MIN(AG24:AI24)","v":7.9572426655083817},15.69947515828137,28.182116520238928,7.9572426655083817,{"$f":"MIN(AG24:AH24)","v":15.69947515828137},null,{"$f":"IF(EMCI!$F$27=\"A\",'3rd milking (DO)'!AF24,IF(EMCI!$F$27=\"B\",'3rd milking (DO)'!AG24,IF(EMCI!$F$27=\"S\",'3rd milking (DO)'!AH24,IF(EMCI!$F$27=\"P\",'3rd milking (DO)'!AI24,IF(EMCI!$F$27=\"FS\",'3rd milking (DO)'!AJ24,\"error\")))))","v":15.69947515828137}]
[{"$f":"E61","v":5.5},{"$f":"AL61","v":161.17586525054236},null,null,{"$f":"E24-0.25","v":14.5},1.7941176470588223,{"$f":"F25-F24","v":5.8823529411764497E-2},null,{"$f":"IF(E25>$H$15,(0.00033*(((E25+E24)/2)-5.6)*((6.5-2.8)*(1-EXP(0.5*(6.5-9.8)))*(36.7-0.9324)*(1-EXP(0.42*(-5-0.9324)))))^2,0)","v":8.5314828734661369E-2},{"$f":"IF(E25>$H$16,(((0.175*(((E25+E24)/2)-1.5)*SQRT(0.995-0.92)*(1-EXP(0.4395*(((E25+E24)/2)-45)))))^2)/2.3,0)","v":0.17203102030883713},{"$f":"IF(E25>$H$17,((0.1709*(((E25+E24)/2)+6.1)*SQRT(0.995-0.947)*(1-EXP(0.1723*(((E25+E24)/2)-41.2))))^2)/2.3,0)","v":0.25646208952582694},null,8.2967903365658943E-2,{"$f":"IF(E25>$H$16,(((0.175*(E25-1.5)*SQRT(0.995-0.92)*(1-EXP(0.4395*(E25-45)))))^2)/2.3,0)","v":0.16876987143576827},{"$f":"IF(E25>$H$17,((0.1709*(E25+6.1)*SQRT(0.995-0.947)*(1-EXP(0.1723*(E25-41.2))))^2)/2.3,0)","v":0.25348980194113641},null,5.0185193373330035E-3,{"$f":"R24+Q25","v":2.5336022776782947},null,{"$f":"IF(M25=0,T24,($G$15-R25)/M25)","v":29.727130881585786},null,1.0119471782872737E-2,{"$f":"W24+V25","v":2.2576345198205887},null,{"$f":"($G$16-W25)/N25","v":16.249141252816099},null,1.5086005266225061E-2,{"$f":"AB24+AA25","v":3.9505966742671381},null,{"$f":"($G$17-AB25)/O25","v":8.0847565071227585},null,8.0847565071227585,16.249141252816099,29.727130881585786,8.0847565071227585,16.249141252816099,null,{"$f":"IF(EMCI!$F$27=\"A\",'3rd milking (DO)'!AF25,IF(EMCI!$F$27=\"B\",'3rd milking (DO)'!AG25,IF(EMCI!$F$27=\"S\",'3rd milking (DO)'!AH25,IF(EMCI!$F$27=\"P\",'3rd milking (DO)'!AI25,IF(EMCI!$F$27=\"FS\",'3rd milking (DO)'!AJ25,\"error\")))))","v":16.249141252816099}]
[{"$f":"E60","v":5.75},{"$f":"AL60","v":142.82711587136706},null,null,14.25,1.852941176470587,5.8823529411764719E-2,null,8.065371056805129E-2,0.16553992739654555,0.25053112844137798,null,7.8372250341838381E-2,0.16234118837349831,0.24758622715594111,null,4.7443359157677244E-3,2.5383466135940624,null,{"$f":"IF(M26=0,T25,($G$15-R26)/M26)","v":31.409757607684824},null,9.7376427880320939E-3,2.2673721626086207,null,16.832621867374922,null,1.4737125202434002E-2,3.9653337994695721,null,8.2180104438883106,null,8.2180104438883106,16.832621867374922,31.409757607684824,8.2180104438883106,16.832621867374922,null,{"$f":"IF(EMCI!$F$27=\"A\",'3rd milking (DO)'!AF26,IF(EMCI!$F$27=\"B\",'3rd milking (DO)'!AG26,IF(EMCI!$F$27=\"S\",'3rd milking (DO)'!AH26,IF(EMCI!$F$27=\"P\",'3rd milking (DO)'!AI26,IF(EMCI!$F$27=\"FS\",'3rd milking (DO)'!AJ26,\"error\")))))","v":16.832621867374922}]
[{"$f":"E59","v":6},{"$f":"AL59","v":127.45386265983485},null,null,14,1.9117647058823515,5.8823529411764497E-2,null,7.612352268702019E-2,0.15917365453694315,0.24465525183959377,null,7.3907527603596743E-2,0.15603732604596116,0.24173835198745908,null,4.4778542757070543E-3,2.5428244678697696,null,33.246620632600496,null,9.3631561492319177E-3,2.2767353187578525,null,17.452648992716036,null,1.4391485402328994E-2,3.9797252848719009,null,8.3572784314873925,null,8.3572784314873925,17.452648992716036,33.246620632600496,8.3572784314873925,17.452648992716036,null,{"$f":"IF(EMCI!$F$27=\"A\",'3rd milking (DO)'!AF27,IF(EMCI!$F$27=\"B\",'3rd milking (DO)'!AG27,IF(EMCI!$F$27=\"S\",'3rd milking (DO)'!AH27,IF(EMCI!$F$27=\"P\",'3rd milking (DO)'!AI27,IF(EMCI!$F$27=\"FS\",'3rd milking (DO)'!AJ27,\"error\")))))","v":17.452648992716036}]
[{"$f":"E58","v":6.25},{"$f":"AL58","v":114.44649362842755},null,null,13.75,1.970588235294116,5.8823529411764497E-2,null,7.1724265091567985E-2,0.1529322030491248,0.23883567294716018,null,6.9573735150934013E-2,0.1498582856851797,0.23594735602819444,null,4.2190744171510426E-3,2.5470435422869206,null,35.256932122324741,null,8.9960119440661325E-3,2.2857313307019185,null,18.11223621628891,null,1.4049157232185843E-2,3.9937744421040868,null,8.5028524653447697,null,8.5028524653447697,18.11223621628891,35.256932122324741,8.5028524653447697,18.11223621628891,null,{"$f":"IF(EMCI!$F$27=\"A\",'3rd milking (DO)'!AF28,IF(EMCI!$F$27=\"B\",'3rd milking (DO)'!AG28,IF(EMCI!$F$27=\"S\",'3rd milking (DO)'!AH28,IF(EMCI!$F$27=\"P\",'3rd milking (DO)'!AI28,IF(EMCI!$F$27=\"FS\",'3rd milking (DO)'!AJ28,\"error\")))))","v":18.11223621628891}]
[{"$f":"E57","v":6.5},{"$f":"AL57","v":103.3438805808444},null,null,13.5,2.0294117647058805,5.8823529411764497E-2,null,6.745593778169473E-2,0.14681557408368173,0.23307353860860081,null,6.5370872983850206E-2,0.14380406836559409,0.23021435423897771,null,3.9679963400996755E-3,2.5510115386270202,null,37.462991537194242,null,8.6362102402165412E-3,2.2943675409421349,null,18.814714283182287,null,1.3710208153447057E-2,4.0074846502575339,null,8.6550439321177315,null,8.6550439321177315,18.814714283182287,37.462991537194242,8.6550439321177315,18.814714283182287,null,{"$f":"IF(EMCI!$F$27=\"A\",'3rd milking (DO)'!AF29,IF(EMCI!$F$27=\"B\",'3rd milking (DO)'!AG29,IF(EMCI!$F$27=\"S\",'3rd milking (DO)'!AH29,IF(EMCI!$F$27=\"P\",'3rd milking (DO)'!AI29,IF(EMCI!$F$27=\"FS\",'3rd milking (DO)'!AJ29,\"error\")))))","v":18.814714283182287}]
[{"$f":"E56","v":6.75},{"$f":"AL56","v":93.79200283672742},null,null,13.25,2.0882352941176454,5.8823529411764941E-2,null,6.3318540757400427E-2,0.14082376864384633,0.22736993274391495,null,6.1298941102345371E-2,0.13787467502385675,0.22454040032089267,null,3.7246200445529812E-3,2.5547361586715733,null,39.890800678690155,null,8.2837510966968751E-3,2.3026512920388318,null,19.563772008851082,null,1.3374701926112698E-2,4.0208593521836464,null,8.8141850864608156,null,8.8141850864608156,19.563772008851082,39.890800678690155,8.8141850864608156,19.563772008851082,null,{"$f":"IF(EMCI!$F$27=\"A\",'3rd milking (DO)'!AF30,IF(EMCI!$F$27=\"B\",'3rd milking (DO)'!AG30,IF(EMCI!$F$27=\"S\",'3rd milking (DO)'!AH30,IF(EMCI!$F$27=\"P\",'3rd milking (DO)'!AI30,IF(EMCI!$F$27=\"FS\",'3rd milking (DO)'!AJ30,\"error\")))))","v":19.563772008851082}]
[{"$f":"E55","v":7},{"$f":"AL55","v":85.515423364012065},null,null,13,2.1470588235294099,5.8823529411764497E-2,null,5.9312074018685053E-2,0.13495678760402277,0.22172587963671017,null,5.7357939506419459E-2,0.13207010647617853,0.21892648992149663,null,3.4889455305108729E-3,2.558225104202084,null,42.57082658146453,null,7.9386345649424886E-3,2.3105899266037744,null,20.363503484274954,null,1.3042698802159376E-2,4.0339020509858061,null,8.9806306661163013,null,8.9806306661163013,20.363503484274954,42.57082658146453,8.9806306661163013,20.363503484274954,null,{"$f":"IF(EMCI!$F$27=\"A\",'3rd milking (DO)'!AF31,IF(EMCI!$F$27=\"B\",'3rd milking (DO)'!AG31,IF(EMCI!$F$27=\"S\",'3rd milking (DO)'!AH31,IF(EMCI!$F$27=\"P\",'3rd milking (DO)'!AI31,IF(EMCI!$F$27=\"FS\",'3rd milking (DO)'!AJ31,\"error\")))))","v":20.363503484274954}]
[{"$f":"E54","v":7.25},{"$f":"AL54","v":78.29724925682487},null,null,12.75,2.2058823529411744,5.8823529411764497E-2,null,5.5436537565548595E-2,0.12921463172602407,0.21614234706036106,null,5.3547868196072462E-2,0.12639036343352611,0.21337356368273519,null,3.2609727979734352E-3,2.5614860770000574,null,45.538954306659001,null,7.600860689766095E-3,2.3181907872935406,null,21.218462704373291,null,1.2714255709432959E-2,4.0466163066952392,null,9.1547596599607051,null,9.1547596599607051,21.218462704373291,45.538954306659001,9.1547596599607051,21.218462704373291,null,{"$f":"IF(EMCI!$F$27=\"A\",'3rd milking (DO)'!AF32,IF(EMCI!$F$27=\"B\",'3rd milking (DO)'!AG32,IF(EMCI!$F$27=\"S\",'3rd milking (DO)'!AH32,IF(EMCI!$F$27=\"P\",'3rd milking (DO)'!AI32,IF(EMCI!$F$27=\"FS\",'3rd milking (DO)'!AJ32,\"error\")))))","v":21.218462704373291}]
[{"$f":"E53","v":7.5},{"$f":"AL53","v":71.964810331075256},null,null,12.5,2.2647058823529389,5.8823529411764497E-2,null,5.1691931397991081E-2,0.12359730167329401,0.21062024924946207,null,4.9868727171304417E-2,0.12083544651493101,0.20788251013768322,null,3.0407018469406411E-3,2.5645267788469979,null,48.837685645893686,null,7.2704295101937398E-3,2.3254612168037343,null,22.133726984372807,null,1.2389426426438902E-2,4.059005733121678,null,9.3369772454295301,null,9.3369772454295301,22.133726984372807,48.837685645893686,9.3369772454295301,22.133726984372807,null,{"$f":"IF(EMCI!$F$27=\"A\",'3rd milking (DO)'!AF33,IF(EMCI!$F$27=\"B\",'3rd milking (DO)'!AG33,IF(EMCI!$F$27=\"S\",'3rd milking (DO)'!AH33,IF(EMCI!$F$27=\"P\",'3rd milking (DO)'!AI33,IF(EMCI!$F$27=\"FS\",'3rd milking (DO)'!AJ33,\"error\")))))","v":22.133726984372807}]
[{"$f":"E52","v":7.75},{"$f":"AL52","v":66.379264390638497},null,null,12.25,2.3235294117647034,5.8823529411764497E-2,null,4.807825551601249E-2,0.11810479802336256,0.20516044972357486,null,4.6320516432115315E-2,0.11540535625914415,0.2024541684629837,null,2.8281326774124895E-3,2.5673549115244105,null,52.51765903864078,null,6.9473410601977731E-3,2.332408557863932,null,23.114970817697216,null,1.2068261748445537E-2,4.0710739948701233,null,9.5277169137792175,null,9.5277169137792175,23.114970817697216,52.51765903864078,9.5277169137792175,23.114970817697216,null,{"$f":"IF(EMCI!$F$27=\"A\",'3rd milking (DO)'!AF34,IF(EMCI!$F$27=\"B\",'3rd milking (DO)'!AG34,IF(EMCI!$F$27=\"S\",'3rd milking (DO)'!AH34,IF(EMCI!$F$27=\"P\",'3rd milking (DO)'!AI34,IF(EMCI!$F$27=\"FS\",'3rd milking (DO)'!AJ34,\"error\")))))","v":23.114970817697216}]
[{"$f":"E51","v":8},{"$f":"AL51","v":61.427945255232039},null,null,12,2.3823529411764679,5.8823529411764497E-2,null,4.459550991961285E-2,0.11273712127874896,0.19976376397001153,null,4.2903235978505136E-2,0.11010009313483672,0.19708933109359619,null,2.623265289388982E-3,2.5699781768137995,null,56.639592976242184,null,6.6315953693381509E-3,2.3390401532332703,null,24.168552187398436,null,1.1750809645294754E-2,4.0828248045154183,null,9.7274428039645127,null,9.7274428039645127,24.168552187398436,56.639592976242184,9.7274428039645127,24.168552187398436,null,{"$f":"IF(EMCI!$F$27=\"A\",'3rd milking (DO)'!AF35,IF(EMCI!$F$27=\"B\",'3rd milking (DO)'!AG35,IF(EMCI!$F$27=\"S\",'3rd milking (DO)'!AH35,IF(EMCI!$F$27=\"P\",'3rd milking (DO)'!AI35,IF(EMCI!$F$27=\"FS\",'3rd milking (DO)'!AJ35,\"error\")))))","v":24.168552187398436}]
[{"$f":"E50","v":8.25},{"$f":"AL50","v":57.018656587341773},null,null,11.75,2.4411764705882328,5.8823529411764941E-2,null,4.1243694608792139E-2,0.10749427187650554,0.19443096199213733,null,3.961688581047388E-2,0.10491965754952723,0.19178874620621136,null,2.4260996828701356E-3,2.5724042764966697,null,61.276793312752631,null,6.3231924633238802E-3,2.3453633456965943,null,25.301613790059186,null,1.1437115411302242E-2,4.0942619199267209,null,9.9366522685550507,null,9.9366522685550507,25.301613790059186,61.276793312752631,9.9366522685550507,25.301613790059186,null,{"$f":"IF(EMCI!$F$27=\"A\",'3rd milking (DO)'!AF36,IF(EMCI!$F$27=\"B\",'3rd milking (DO)'!AG36,IF(EMCI!$F$27=\"S\",'3rd milking (DO)'!AH36,IF(EMCI!$F$27=\"P\",'3rd milking (DO)'!AI36,IF(EMCI!$F$27=\"FS\",'3rd milking (DO)'!AJ36,\"error\")))))","v":25.301613790059186}]
[{"$f":"E49","v":8.5},{"$f":"AL49","v":53.075365918959619},null,null,11.5,2.4999999999999973,5.8823529411764497E-2,null,3.8022809583550352E-2,0.10237625019656743,0.18916277072942361,null,3.6461465928021568E-2,9.9864049857391432E-2,0.18655312007743888,null,2.2366358578558951E-3,2.5746409123545257,null,66.518419540052662,null,6.0221323645039447E-3,2.3513854780610983,null,26.522202191090738,null,1.1127221807613115E-2,4.1053891417343342,null,10.155878698138128,null,10.155878698138128,26.522202191090738,66.518419540052662,10.155878698138128,26.522202191090738,null,{"$f":"IF(EMCI!$F$27=\"A\",'3rd milking (DO)'!AF37,IF(EMCI!$F$27=\"B\",'3rd milking (DO)'!AG37,IF(EMCI!$F$27=\"S\",'3rd milking (DO)'!AH37,IF(EMCI!$F$27=\"P\",'3rd milking (DO)'!AI37,IF(EMCI!$F$27=\"FS\",'3rd milking (DO)'!AJ37,\"error\")))))","v":26.522202191090738}]
[{"$f":"E48","v":8.75},{"$f":"AL48","v":49.534919543466138},null,null,11.25,2.5588235294117618,5.8823529411764497E-2,null,3.4932854843887522E-2,9.7383056569056464E-2,0.18395987635523695,null,3.3436976331148192E-2,9.4933270366092032E-2,0.18138311932263304,null,2.0548738143463174E-3,2.5766957861688722,null,72.473784406567304,null,5.7284150922974186E-3,2.3571138931533957,null,27.83940863571663,null,1.082116919736684E-2,4.1162103109317014,null,10.385694634116035,null,10.385694634116035,27.83940863571663,72.473784406567304,10.385694634116035,27.83940863571663,null,{"$f":"IF(EMCI!$F$27=\"A\",'3rd milking (DO)'!AF38,IF(EMCI!$F$27=\"B\",'3rd milking (DO)'!AG38,IF(EMCI!$F$27=\"S\",'3rd milking (DO)'!AH38,IF(EMCI!$F$27=\"P\",'3rd milking (DO)'!AI38,IF(EMCI!$F$27=\"FS\",'3rd milking (DO)'!AJ38,\"error\")))))","v":27.83940863571663}]
[{"$f":"E47","v":9},{"$f":"AL47","v":46.344510754406699},null,null,11,2.6176470588235263,5.8823529411764497E-2,null,3.1973830389803601E-2,9.2514691280667832E-2,0.17882292645810682,null,3.054341701985375E-2,9.0127319342750936E-2,0.17627937302097987,null,1.8808135523413817E-3,2.5785765997212136,null,79.27807811106463,null,5.442040663568677E-3,2.3625559338169642,null,29.263536133288635,null,1.0518995674006246E-2,4.126729306605708,null,10.626715203776818,null,10.626715203776818,29.263536133288635,79.27807811106463,10.626715203776818,29.263536133288635,null,{"$f":"IF(EMCI!$F$27=\"A\",'3rd milking (DO)'!AF39,IF(EMCI!$F$27=\"B\",'3rd milking (DO)'!AG39,IF(EMCI!$F$27=\"S\",'3rd milking (DO)'!AH39,IF(EMCI!$F$27=\"P\",'3rd milking (DO)'!AI39,IF(EMCI!$F$27=\"FS\",'3rd milking (DO)'!AJ39,\"error\")))))","v":29.263536133288635}]
[{"$f":"E46","v":9.25},{"$f":"AL46","v":43.459710271348548},null,null,10.75,2.6764705882352908,5.8823529411764497E-2,null,2.9145736221298631E-2,8.7771154580253072E-2,0.1737525321119813,null,2.7780787994138238E-2,8.5446197019167794E-2,0.17124247473224119,null,1.7144550718410899E-3,2.5802910547930544,null,87.100083184015716,null,5.1630090929560444E-3,2.3677189429099204,null,30.806298570544818,null,1.0220737183057688E-2,4.1369500437887661,null,10.879601916080361,null,10.879601916080361,30.806298570544818,87.100083184015716,10.879601916080361,30.806298570544818,null,{"$f":"IF(EMCI!$F$27=\"A\",'3rd milking (DO)'!AF40,IF(EMCI!$F$27=\"B\",'3rd milking (DO)'!AG40,IF(EMCI!$F$27=\"S\",'3rd milking (DO)'!AH40,IF(EMCI!$F$27=\"P\",'3rd milking (DO)'!AI40,IF(EMCI!$F$27=\"FS\",'3rd milking (DO)'!AJ40,\"error\")))))","v":30.806298570544818}]
[{"$f":"E45","v":9.5},{"$f":"AL45","v":40.842920580816802},null,null,10.5,2.7352941176470558,5.8823529411764941E-2,null,2.644857233837258E-2,8.3152446683698977E-2,0.16874926984075,null,2.5149089254001666E-2,8.0889903596380763E-2,0.1662729844103209,null,1.5557983728454522E-3,2.5818468531658998,null,96.152712426726509,null,4.8913203931587827E-3,2.3726102633030792,null,32.481059067728665,null,9.9264276376912156E-3,4.1468764714264577,null,11.145066861857057,null,11.145066861857057,32.481059067728665,96.152712426726509,11.145066861857057,32.481059067728665,null,{"$f":"IF(EMCI!$F$27=\"A\",'3rd milking (DO)'!AF41,IF(EMCI!$F$27=\"B\",'3rd milking (DO)'!AG41,IF(EMCI!$F$27=\"S\",'3rd milking (DO)'!AH41,IF(EMCI!$F$27=\"P\",'3rd milking (DO)'!AI41,IF(EMCI!$F$27=\"FS\",'3rd milking (DO)'!AJ41,\"error\")))))","v":32.481059067728665}]
[{"$f":"E44","v":9.75},{"$f":"AL44","v":38.46215303597927},null,null,10.25,2.7941176470588203,5.8823529411764497E-2,null,2.3882338741025473E-2,7.8658567778189678E-2,0.16381368348209219,null,2.2648320799444024E-2,7.6458439248649382E-2,0.16137143021860539,null,1.4048434553544345E-3,2.5832516966212542,null,106.7076153141593,null,4.6269745751876118E-3,2.3772372378782669,null,34.303116672213051,null,9.63609902835833E-3,4.156512570454816,null,11.423877368180122,null,11.423877368180122,34.303116672213051,106.7076153141593,11.423877368180122,34.303116672213051,null,{"$f":"IF(EMCI!$F$27=\"A\",'3rd milking (DO)'!AF42,IF(EMCI!$F$27=\"B\",'3rd milking (DO)'!AG42,IF(EMCI!$F$27=\"S\",'3rd milking (DO)'!AH42,IF(EMCI!$F$27=\"P\",'3rd milking (DO)'!AI42,IF(EMCI!$F$27=\"FS\",'3rd milking (DO)'!AJ42,\"error\")))))","v":34.303116672213051}]
[{"$f":"E43","v":10},{"$f":"AL43","v":36.290052926005409},null,null,10,2.8529411764705848,5.8823529411764497E-2,null,2.14470354292573E-2,7.428951802592855E-2,0.15894628595549334,null,2.0278482630465319E-2,7.2151804126932312E-2,0.15653831025181383,null,1.2615903193680721E-3,2.5845132869406222,null,119.11575225211764,null,4.3699716485840166E-3,2.3816072095268508,null,36.290052926005409,null,9.3497815267936935E-3,4.1658623519816098,null,11.71686116368525,null,11.71686116368525,36.290052926005409,119.11575225211764,11.71686116368525,36.290052926005409,null,{"$f":"IF(EMCI!$F$27=\"A\",'3rd milking (DO)'!AF43,IF(EMCI!$F$27=\"B\",'3rd milking (DO)'!AG43,IF(EMCI!$F$27=\"S\",'3rd milking (DO)'!AH43,IF(EMCI!$F$27=\"P\",'3rd milking (DO)'!AI43,IF(EMCI!$F$27=\"FS\",'3rd milking (DO)'!AJ43,\"error\")))))","v":36.290052926005409}]
[{"$f":"E42","v":10.25},{"$f":"AL42","v":34.303116672213051},null,null,9.75,2.9117647058823493,5.8823529411764497E-2,null,1.9142662403068059E-2,7.0045297567387574E-2,0.15414756093906151,null,1.8039574747065537E-2,6.7969998361922884E-2,0.15177409416889009,null,1.1260389648863525E-3,2.5856393259055084,null,133.83689515670159,null,4.1203116216110194E-3,2.3857275211484619,null,38.46215303597927,null,9.0675035846506449E-3,4.1749298555662602,null,12.024912119737978,null,12.024912119737978,38.46215303597927,133.83689515670159,12.024912119737978,38.46215303597927,null,{"$f":"IF(EMCI!$F$27=\"A\",'3rd milking (DO)'!AF44,IF(EMCI!$F$27=\"B\",'3rd milking (DO)'!AG44,IF(EMCI!$F$27=\"S\",'3rd milking (DO)'!AH44,IF(EMCI!$F$27=\"P\",'3rd milking (DO)'!AI44,IF(EMCI!$F$27=\"FS\",'3rd milking (DO)'!AJ44,\"error\")))))","v":38.46215303597927}]
[{"$f":"E41","v":10.5},{"$f":"AL41","v":32.481059067728665},null,null,9.5,2.9705882352941138,5.8823529411764497E-2,null,1.6969219662457756E-2,6.5925906524142819E-2,0.14941796445957814,null,1.5931597149244706E-2,6.3913022066697509E-2,0.14707922474126942,null,9.9818939190927632E-4,2.5866375152974177,null,151.48277113051384,null,3.877994501420152E-3,2.3896055156498819,null,40.842920580816802,null,8.7892920270339764E-3,4.183719147593294,null,12.348996641787915,null,12.348996641787915,40.842920580816802,151.48277113051384,12.348996641787915,40.842920580816802,null,{"$f":"IF(EMCI!$F$27=\"A\",'3rd milking (DO)'!AF45,IF(EMCI!$F$27=\"B\",'3rd milking (DO)'!AG45,IF(EMCI!$F$27=\"S\",'3rd milking (DO)'!AH45,IF(EMCI!$F$27=\"P\",'3rd milking (DO)'!AI45,IF(EMCI!$F$27=\"FS\",'3rd milking (DO)'!AJ45,\"error\")))))","v":40.842920580816802}]
[{"$f":"E40","v":10.75},{"$f":"AL40","v":30.806298570544818},null,null,9.25,3.0294117647058787,5.8823529411764941E-2,null,1.4926707207426384E-2,6.1931345001347733E-2,0.14475792640001692,null,1.3954549837002799E-2,5.9980875339025456E-2,0.1424541193206629,null,8.7804160043684963E-4,2.5875155568978547,null,172.88156703593859,null,3.6430202941969401E-3,2.3932485359440787,null,43.459710271348548,null,8.5151721411774999E-3,4.1922343197344718,null,12.690160796236889,null,12.690160796236889,43.459710271348548,172.88156703593859,12.690160796236889,43.459710271348548,null,{"$f":"IF(EMCI!$F$27=\"A\",'3rd milking (DO)'!AF46,IF(EMCI!$F$27=\"B\",'3rd milking (DO)'!AG46,IF(EMCI!$F$27=\"S\",'3rd milking (DO)'!AH46,IF(EMCI!$F$27=\"P\",'3rd milking (DO)'!AI46,IF(EMCI!$F$27=\"FS\",'3rd milking (DO)'!AJ46,\"error\")))))","v":43.459710271348548}]
[{"$f":"E39","v":11},{"$f":"AL39","v":29.263536133288635},null,null,9,3.0882352941176432,5.8823529411764497E-2,null,1.3015125037973942E-2,5.8061613089890336E-2,0.1401678519285815,null,1.2108432810339827E-2,5.6173558263382765E-2,0.13789917123031473,null,7.6559559046905277E-4,2.5882811524883236,null,199.17679565040183,null,3.4153890052876549E-3,2.3966639249493662,null,46.344510754406699,null,8.2451677605047645E-3,4.2004794874949765,null,13.049538270969901,null,13.049538270969901,46.344510754406699,199.17679565040183,13.049538270969901,46.344510754406699,null,{"$f":"IF(EMCI!$F$27=\"A\",'3rd milking (DO)'!AF47,IF(EMCI!$F$27=\"B\",'3rd milking (DO)'!AG47,IF(EMCI!$F$27=\"S\",'3rd milking (DO)'!AH47,IF(EMCI!$F$27=\"P\",'3rd milking (DO)'!AI47,IF(EMCI!$F$27=\"FS\",'3rd milking (DO)'!AJ47,\"error\")))))","v":46.344510754406699}]
[{"$f":"E38","v":11.25},{"$f":"AL38","v":27.83940863571663},null,null,8.75,3.1470588235294077,5.8823529411764497E-2,null,1.1234473154100443E-2,5.4316710868272958E-2,0.13564812285312758,null,1.0393246069255789E-2,5.249107091270714E-2,0.13341475108351158,null,6.60851362005906E-4,2.5889420038503297,null,231.98315329816057,null,3.1951006393101627E-3,2.3998590255886763,null,49.534919543466138,null,7.9793013443015936E-3,4.2084587888392777,null,13.42835928269505,null,13.42835928269505,49.534919543466138,231.98315329816057,13.42835928269505,49.534919543466138,null,{"$f":"IF(EMCI!$F$27=\"A\",'3rd milking (DO)'!AF48,IF(EMCI!$F$27=\"B\",'3rd milking (DO)'!AG48,IF(EMCI!$F$27=\"S\",'3rd milking (DO)'!AH48,IF(EMCI!$F$27=\"P\",'3rd milking (DO)'!AI48,IF(EMCI!$F$27=\"FS\",'3rd milking (DO)'!AJ48,\"error\")))))","v":49.534919543466138}]
[{"$f":"E37","v":11.5},{"$f":"AL37","v":26.522202191090738},null,null,8.5,3.2058823529411722,5.8823529411764497E-2,null,9.5847515558058708E-3,5.0696638404250462E-2,0.13119909890466158,null,8.8089896137506871E-3,4.8933413349926902E-2,0.12900120803295215,null,5.6380891504740217E-4,2.5895058127653772,null,273.64025761500289,null,2.9821552002500164E-3,2.4028411807889261,null,53.075365918959619,null,7.7175940532153596E-3,4.2161763828924927,null,13.827960561825485,null,13.827960561825485,53.075365918959619,273.64025761500289,13.827960561825485,53.075365918959619,null,{"$f":"IF(EMCI!$F$27=\"A\",'3rd milking (DO)'!AF49,IF(EMCI!$F$27=\"B\",'3rd milking (DO)'!AG49,IF(EMCI!$F$27=\"S\",'3rd milking (DO)'!AH49,IF(EMCI!$F$27=\"P\",'3rd milking (DO)'!AI49,IF(EMCI!$F$27=\"FS\",'3rd milking (DO)'!AJ49,\"error\")))))","v":53.075365918959619}]
[{"$f":"E36","v":11.75},{"$f":"AL36","v":25.301613790059186},null,null,8.25,3.2647058823529367,5.8823529411764497E-2,null,8.0659602430902377E-3,4.7201395756256849E-2,0.12682111895344028,null,7.3556634438245181E-3,4.5500585629291837E-2,0.12465887095441666,null,4.7446824959354171E-4,2.5899802810149706,null,327.64137965126355,null,2.7765526915445107E-3,2.4056177334804705,null,57.018656587341773,null,7.460065820790578E-3,4.2236364487132834,null,14.249796566313117,null,14.249796566313117,57.018656587341773,327.64137965126355,14.249796566313117,57.018656587341773,null,{"$f":"IF(EMCI!$F$27=\"A\",'3rd milking (DO)'!AF50,IF(EMCI!$F$27=\"B\",'3rd milking (DO)'!AG50,IF(EMCI!$F$27=\"S\",'3rd milking (DO)'!AH50,IF(EMCI!$F$27=\"P\",'3rd milking (DO)'!AI50,IF(EMCI!$F$27=\"FS\",'3rd milking (DO)'!AJ50,\"error\")))))","v":57.018656587341773}]
[{"$f":"E35","v":12},{"$f":"AL35","v":24.168552187398436},null,null,8,3.3235294117647016,5.8823529411764941E-2,null,6.6780992159535344E-3,4.3830982974647166E-2,0.12251450216103232,null,6.0332675594772841E-3,4.2192587797532113E-2,0.12038804956802177,null,3.9282936564432713E-4,2.5903731103806149,null,399.39002636046735,null,2.5782931161557258E-3,2.408196026596626,null,61.427945255232039,null,7.2067354212372245E-3,4.2308431841345202,null,14.695452100217549,null,14.695452100217549,61.427945255232039,399.39002636046735,14.695452100217549,61.427945255232039,null,{"$f":"IF(EMCI!$F$27=\"A\",'3rd milking (DO)'!AF51,IF(EMCI!$F$27=\"B\",'3rd milking (DO)'!AG51,IF(EMCI!$F$27=\"S\",'3rd milking (DO)'!AH51,IF(EMCI!$F$27=\"P\",'3rd milking (DO)'!AI51,IF(EMCI!$F$27=\"FS\",'3rd milking (DO)'!AJ51,\"error\")))))","v":61.427945255232039}]
[{"$f":"E34","v":12.25},{"$f":"AL34","v":23.114970817697216},null,null,7.75,3.3823529411764661,5.8823529411764497E-2,null,5.4211684743957671E-3,4.0585400102778259E-2,0.11827954907154804,null,4.8418019607089843E-3,3.9009419894865949E-2,0.11618903550019019,null,3.188922631997499E-4,2.5906920026438147,null,497.6056470106825,null,2.3873764766340067E-3,2.41058340307326,null,66.379264390638497,null,6.9576205336204485E-3,4.237800804668141,null,15.166656541606066,null,15.166656541606066,66.379264390638497,497.6056470106825,15.166656541606066,66.379264390638497,null,{"$f":"IF(EMCI!$F$27=\"A\",'3rd milking (DO)'!AF52,IF(EMCI!$F$27=\"B\",'3rd milking (DO)'!AG52,IF(EMCI!$F$27=\"S\",'3rd milking (DO)'!AH52,IF(EMCI!$F$27=\"P\",'3rd milking (DO)'!AI52,IF(EMCI!$F$27=\"FS\",'3rd milking (DO)'!AJ52,\"error\")))))","v":66.379264390638497}]
[{"$f":"E33","v":12.5},{"$f":"AL33","v":22.133726984372807},null,null,7.5,3.4411764705882306,{"$f":"F53-F52","v":5.8823529411764497E-2},null,4.295168018416934E-3,3.7464647177948653E-2,0.11411654264509592,null,3.7812666475196171E-3,3.595108195587611E-2,0.1120621032893214,null,2.5265694225981876E-4,2.5909446595860746,null,637.10273963201837,null,2.2038027751734423E-3,2.4127872058484336,null,71.964810331075256,null,6.7127378026526777E-3,4.244513542470794,null,15.665299918536238,null,15.665299918536238,71.964810331075256,637.10273963201837,15.665299918536238,71.964810331075256,null,{"$f":"IF(EMCI!$F$27=\"A\",'3rd milking (DO)'!AF53,IF(EMCI!$F$27=\"B\",'3rd milking (DO)'!AG53,IF(EMCI!$F$27=\"S\",'3rd milking (DO)'!AH53,IF(EMCI!$F$27=\"P\",'3rd milking (DO)'!AI53,IF(EMCI!$F$27=\"FS\",'3rd milking (DO)'!AJ53,\"error\")))))","v":71.964810331075256}]
[{"$f":"E32","v":12.75},{"$f":"AL32","v":21.218462704373291},null,null,{"$f":"E53-0.25","v":7.25},3.4999999999999951,5.8823529411764497E-2,null,3.3000978480170352E-3,3.44687242322156E-2,0.11002574923637776,null,2.8516616199091853E-3,3.3017574010271708E-2,0.10800751133800611,null,1.941234028245308E-4,{"$f":"R53+Q54","v":2.591138782988899},null,844.72196848089368,null,2.027572013659734E-3,{"$f":"W53+V54","v":2.4148147778620932},null,78.29724925682487,null,6.4721028962574922E-3,{"$f":"AB53+AA54","v":4.2509856453670514},null,16.19345111248294,null,16.19345111248294,78.29724925682487,844.72196848089368,16.19345111248294,78.29724925682487,null,{"$f":"IF(EMCI!$F$27=\"A\",'3rd milking (DO)'!AF54,IF(EMCI!$F$27=\"B\",'3rd milking (DO)'!AG54,IF(EMCI!$F$27=\"S\",'3rd milking (DO)'!AH54,IF(EMCI!$F$27=\"P\",'3rd milking (DO)'!AI54,IF(EMCI!$F$27=\"FS\",'3rd milking (DO)'!AJ54,\"error\")))))","v":78.29724925682487}]
[{"$f":"E31","v":13},{"$f":"AL31","v":20.363503484274954},null,null,7,3.5588235294117596,5.8823529411764497E-2,null,2.4359579631960701E-3,3.1597631293105111E-2,0.10600741952120002,null,2.0529868778776873E-3,3.0208896083549652E-2,0.10402550281449537,null,1.4329164489388597E-4,2.591282074633793,null,1173.2748763870634,null,1.8586841937120588E-3,{"$f":"W54+V55","v":2.4166734620558055},null,85.515423364012065,null,6.2357305600705673E-3,{"$f":"AB54+AA55","v":4.2572213759271218},null,16.753378517003735,null,16.753378517003735,85.515423364012065,1173.2748763870634,16.753378517003735,85.515423364012065,null,{"$f":"IF(EMCI!$F$27=\"A\",'3rd milking (DO)'!AF55,IF(EMCI!$F$27=\"B\",'3rd milking (DO)'!AG55,IF(EMCI!$F$27=\"S\",'3rd milking (DO)'!AH55,IF(EMCI!$F$27=\"P\",'3rd milking (DO)'!AI55,IF(EMCI!$F$27=\"FS\",'3rd milking (DO)'!AJ55,\"error\")))))","v":85.515423364012065}]
[{"$f":"E30","v":13.25},{"$f":"AL30","v":19.563772008851082},null,null,6.75,3.6176470588235246,5.8823529411764941E-2,null,1.7027483639540388E-3,2.8851368384228526E-2,0.1020617893735461,null,1.3852424214251236E-3,2.7525048197569259E-2,0.10011630650600498,null,1.0016166846788504E-4,2.5913822363022607,null,1738.7698546076704,null,1.6971393167193318E-3,2.418370601372525,null,93.79200283672742,null,6.0036346690321473E-3,4.2632250105961536,null,17.347573537380494,null,17.347573537380494,93.79200283672742,1738.7698546076704,17.347573537380494,93.79200283672742,null,{"$f":"IF(EMCI!$F$27=\"A\",'3rd milking (DO)'!AF56,IF(EMCI!$F$27=\"B\",'3rd milking (DO)'!AG56,IF(EMCI!$F$27=\"S\",'3rd milking (DO)'!AH56,IF(EMCI!$F$27=\"P\",'3rd milking (DO)'!AI56,IF(EMCI!$F$27=\"FS\",'3rd milking (DO)'!AJ56,\"error\")))))","v":93.79200283672742}]
[{"$f":"E29","v":13.5},{"$f":"AL29","v":18.814714283182287},null,null,6.5,3.676470588235289,5.8823529411764497E-2,null,1.100469050290942E-3,2.622993552581766E-2,9.8189080695726974E-2,null,8.4842825055149364E-4,2.4966030371050753E-2,9.6280137626312767E-2,null,6.4733473546525768E-5,2.5914469697758071,null,2838.8411496889571,null,1.5429373838716216E-3,2.4199135387563966,null,103.3438805808444,null,5.7758282762192135E-3,4.2690008388723726,null,17.978777386526669,null,17.978777386526669,103.3438805808444,2838.8411496889571,17.978777386526669,103.3438805808444,null,{"$f":"IF(EMCI!$F$27=\"A\",'3rd milking (DO)'!AF57,IF(EMCI!$F$27=\"B\",'3rd milking (DO)'!AG57,IF(EMCI!$F$27=\"S\",'3rd milking (DO)'!AH57,IF(EMCI!$F$27=\"P\",'3rd milking (DO)'!AI57,IF(EMCI!$F$27=\"FS\",'3rd milking (DO)'!AJ57,\"error\")))))","v":103.3438805808444}]
[{"$f":"E28","v":13.75},{"$f":"AL28","v":18.11223621628891},null,null,6.25,3.7352941176470535,5.8823529411764497E-2,null,6.2912002220677889E-4,2.3733332735188999E-2,9.4389502204009934E-2,null,4.4254436525679775E-4,2.2531842620007458E-2,9.2517198579988219E-2,null,3.7007060129810392E-5,2.5914839768359368,null,5442.4284032324304,null,1.3960783961875832E-3,2.4213096171525841,null,114.44649362842755,null,5.5523236590593883E-3,4.2745531625314319,null,18.650011716219304,null,18.650011716219304,114.44649362842755,5442.4284032324304,18.650011716219304,114.44649362842755,null,{"$f":"IF(EMCI!$F$27=\"A\",'3rd milking (DO)'!AF58,IF(EMCI!$F$27=\"B\",'3rd milking (DO)'!AG58,IF(EMCI!$F$27=\"S\",'3rd milking (DO)'!AH58,IF(EMCI!$F$27=\"P\",'3rd milking (DO)'!AI58,IF(EMCI!$F$27=\"FS\",'3rd milking (DO)'!AJ58,\"error\")))))","v":114.44649362842755}]
[{"$f":"E27","v":14},{"$f":"AL27","v":17.452648992716036},null,null,6,3.794117647058818,5.8823529411764497E-2,null,2.887012797015501E-4,2.1361560027146304E-2,9.0663250172005841E-2,null,1.6759076554103596E-4,2.0222484958120589E-2,8.8827679685481262E-2,null,1.6982428217738179E-5,2.5915009592641547,null,14371.311169565037,null,1.2565623545380134E-3,2.4225661795071223,null,127.45386265983485,null,5.3331323630591478E-3,4.2798862948944913,null,19.3646137239658,null,19.3646137239658,127.45386265983485,14371.311169565037,19.3646137239658,127.45386265983485,null,{"$f":"IF(EMCI!$F$27=\"A\",'3rd milking (DO)'!AF59,IF(EMCI!$F$27=\"B\",'3rd milking (DO)'!AG59,IF(EMCI!$F$27=\"S\",'3rd milking (DO)'!AH59,IF(EMCI!$F$27=\"P\",'3rd milking (DO)'!AI59,IF(EMCI!$F$27=\"FS\",'3rd milking (DO)'!AJ59,\"error\")))))","v":127.45386265983485}]
[{"$f":"E26","v":14.25},{"$f":"AL26","v":16.832621867374922},null,null,5.75,3.8529411764705825,5.8823529411764497E-2,null,7.921282277525533E-5,1.911461741432929E-2,8.7010509133988265E-2,null,2.3567451404208249E-5,1.8037957397063781E-2,8.5211759859187261E-2,null,4.6595778103091204E-6,2.591505618841965,null,102195.79282671056,null,1.1243892596664248E-3,2.4236905687667889,null,142.82711587136706,null,5.118265243175762E-3,4.2850045601376667,null,20.126276498647247,null,20.126276498647247,142.82711587136706,102195.79282671056,20.126276498647247,142.82711587136706,null,{"$f":"IF(EMCI!$F$27=\"A\",'3rd milking (DO)'!AF60,IF(EMCI!$F$27=\"B\",'3rd milking (DO)'!AG60,IF(EMCI!$F$27=\"S\",'3rd milking (DO)'!AH60,IF(EMCI!$F$27=\"P\",'3rd milking (DO)'!AI60,IF(EMCI!$F$27=\"FS\",'3rd milking (DO)'!AJ60,\"error\")))))","v":142.82711587136706}]
[{"$f":"E25","v":14.5},{"$f":"AL25","v":16.249141252816099},null,null,5.5,3.9117647058823475,5.8823529411764941E-2,null,0,1.6992504907515658E-2,8.3431452550209242E-2,null,0,1.5978259946784049E-2,8.1669607262505536E-2,null,0,2.591505618841965,null,102195.79282671056,null,9.9955911220680734E-4,2.4246901278789958,null,161.17586525054236,null,4.9077325029535041E-3,4.2899122926406204,null,20.939095517659968,null,20.939095517659968,161.17586525054236,102195.79282671056,20.939095517659968,161.17586525054236,null,{"$f":"IF(EMCI!$F$27=\"A\",'3rd milking (DO)'!AF61,IF(EMCI!$F$27=\"B\",'3rd milking (DO)'!AG61,IF(EMCI!$F$27=\"S\",'3rd milking (DO)'!AH61,IF(EMCI!$F$27=\"P\",'3rd milking (DO)'!AI61,IF(EMCI!$F$27=\"FS\",'3rd milking (DO)'!AJ61,\"error\")))))","v":161.17586525054236}]
[{"$f":"E24","v":14.75},{"$f":"AL24","v":15.69947515828137},null,null,5.25,3.970588235294112,5.8823529411764497E-2,null,0,1.4995222515882417E-2,7.9926243436178462E-2,null,0,1.4043392615744832E-2,7.8201379913805977E-2,null,0,2.591505618841965,null,102195.79282671056,null,8.8207191269896264E-4,2.425572199791695,null,183.31950623683127,null,4.7015437315398928E-3,4.29461383637216,null,21.807622391158912,null,21.807622391158912,183.31950623683127,102195.79282671056,21.807622391158912,183.31950623683127,null,{"$f":"IF(EMCI!$F$27=\"A\",'3rd milking (DO)'!AF62,IF(EMCI!$F$27=\"B\",'3rd milking (DO)'!AG62,IF(EMCI!$F$27=\"S\",'3rd milking (DO)'!AH62,IF(EMCI!$F$27=\"P\",'3rd milking (DO)'!AI62,IF(EMCI!$F$27=\"FS\",'3rd milking (DO)'!AJ62,\"error\")))))","v":183.31950623683127}]
[{"$f":"E23","v":15},{"$f":"AL23","v":15.181142195171889},null,null,5,4.029411764705876,5.8823529411764053E-2,null,0,1.3122770247231881E-2,7.6495034957773558E-2,null,0,1.2233355411136097E-2,7.4807226267127047E-2,null,0,2.591505618841965,null,102195.79282671056,null,7.7192766160186677E-4,2.4263441274532971,null,210.38020935808737,null,4.4997079386925121E-3,4.2991135443108526,null,22.736927173525981,null,22.736927173525981,210.38020935808737,102195.79282671056,22.736927173525981,210.38020935808737,null,{"$f":"IF(EMCI!$F$27=\"A\",'3rd milking (DO)'!AF63,IF(EMCI!$F$27=\"B\",'3rd milking (DO)'!AG63,IF(EMCI!$F$27=\"S\",'3rd milking (DO)'!AH63,IF(EMCI!$F$27=\"P\",'3rd milking (DO)'!AI63,IF(EMCI!$F$27=\"FS\",'3rd milking (DO)'!AJ63,\"error\")))))","v":210.38020935808737}]
[null,null,null,null,null,null,null,null,null,null,null,null,null,null,null,null,null,null,null,null,null,null,null,null,null,null,null,null,null,null,null,null,null,null,null,0]
[null,null,null,null,null,null,null,null,null,null,null,null,null,null,null,null,null,null,null,null,null,null,null,null,null,null,null,null,null,null,null,null,null,null,null,0]
[null,null,null,null,null,null,null,null,null,null,null,null,null,null,null,null,null,null,null,null,null,null,null,null,null,null,null,null,null,null,null,null,null,null,null,0]
[null,null,null,null,null,null,null,null,null,null,null,null,null,null,null,null,null,null,null,null,null,null,null,null,null,null,null,null,null,null,null,null,null,null,null,0]
[null,null,null,null,null,null,null,null,null,null,null,null,null,null,null,null,null,null,null,null,null,null,null,null,null,null,null,null,null,null,null,null,null,null,null,0]
[null,null,null,null,null,null,null,null,null,null,null,null,null,null,null,null,null,null,null,null,null,null,null,null,null,null,null,null,null,null,null,null,null,null,null,0]
[null,null,null,null,null,null,null,null,null,null,null,null,null,null,null,null,null,null,null,null,null,null,null,null,null,null,null,null,null,null,null,null,null,null,null,0]
[null,null,null,null,null,null,null,null,null,null,null,null,null,null,null,null,null,null,null,null,null,null,null,null,null,null,null,null,null,null,null,null,null,null,null,0]
[null,null,null,null,null,null,null,null,null,null,null,null,null,null,null,null,null,null,null,null,null,null,null,null,null,null,null,null,null,null,null,null,null,null,null,0]
[null,null,null,null,null,null,null,null,null,null,null,null,null,null,null,null,null,null,null,null,null,null,null,null,null,null,null,null,null,null,null,null,null,null,null,0]
[null,null,null,null,null,null,null,null,null,null,null,null,null,null,null,null,null,null,null,null,null,null,null,null,null,null,null,null,null,null,null,null,null,null,null,0]
[null,null,null,null,null,null,null,null,null,null,null,null,null,null,null,null,null,null,null,null,null,null,null,null,null,null,null,null,null,null,null,null,null,null,null,0]
[null,null,null,null,null,null,null,null,null,null,null,null,null,null,null,null,null,null,null,null,null,null,null,null,null,null,null,null,null,null,null,null,null,null,null,0]
[null,null,null,null,null,null,null,null,null,null,null,null,null,null,null,null,null,null,null,null,null,null,null,null,null,null,null,null,null,null,null,null,null,null,null,0]
[null,null,null,null,null,null,null,null,null,null,null,null,null,null,null,null,null,null,null,null,null,null,null,null,null,null,null,null,null,null,null,null,null,null,null,0]
[null,null,null,null,null,null,null,null,null,null,null,null,null,null,null,null,null,null,null,null,null,null,null,null,null,null,null,null,null,null,null,null,null,null,null,0]
[null,null,null,null,null,null,null,null,null,null,null,null,null,null,null,null,null,null,null,null,null,null,null,null,null,null,null,null,null,null,null,null,null,null,null,0]
[null,null,null,null,null,null,null,null,null,null,null,null,null,null,null,null,null,null,null,null,null,null,null,null,null,null,null,null,null,null,null,null,null,null,null,0]
[null,null,null,null,null,null,null,null,null,null,null,null,null,null,null,null,null,null,null,null,null,null,null,null,null,null,null,null,null,null,null,null,null,null,null,0]
[null,null,null,null,null,null,null,null,null,null,null,null,null,null,null,null,null,null,null,null,null,null,null,null,null,null,null,null,null,null,null,null,null,null,null,0]
[null,null,null,null,null,null,null,null,null,null,null,null,null,null,null,null,null,null,null,null,null,null,null,null,null,null,null,null,null,null,null,null,null,null,null,0]
[null,null,null,null,null,null,null,null,null,null,null,null,null,null,null,null,null,null,null,null,null,null,null,null,null,null,null,null,null,null,null,null,null,null,null,0]
[null,null,null,null,null,null,null,null,null,null,null,null,null,null,null,null,null,null,null,null,null,null,null,null,null,null,null,null,null,null,null,null,null,null,null,0]
[null,null,null,null,null,null,null,null,null,null,null,null,null,null,null,null,null,null,null,null,null,null,null,null,null,null,null,null,null,null,null,null,null,null,null,0]
[null,null,null,null,null,null,null,null,null,null,null,null,null,null,null,null,null,null,null,null,null,null,null,null,null,null,null,null,null,null,null,null,null,null,null,{"$f":"MIN(AG88:AH88)","v":0}]
[null,null,null,null,null,null,null,null,null,null,null,null,null,null,null,null,null,null,null,null,null,null,null,null,null,null,null,null,null,null,null,null,null,null,null,0]
[null,null,null,null,null,null,null,null,null,null,null,null,null,null,null,null,null,null,null,null,null,null,null,null,null,null,null,null,null,null,null,null,null,null,null,0]
[null,null,null,null,null,null,null,null,null,null,null,null,null,null,null,null,null,null,null,null,null,null,null,null,null,null,null,null,null,null,null,null,null,null,null,0]
[null,null,null,null,null,null,null,null,null,null,null,null,null,null,null,null,null,null,null,null,null,null,null,null,null,null,null,null,null,null,null,null,null,null,null,0]
[null,null,null,null,null,null,null,null,null,null,null,null,null,null,null,null,null,null,null,null,null,null,null,null,null,null,null,null,null,null,null,null,null,null,null,0]
[null,null,null,null,null,null,null,null,null,null,null,null,null,null,null,null,null,null,null,null,null,null,null,null,null,null,null,null,null,null,null,null,null,null,null,0]
[null,null,null,null,null,null,null,null,null,null,null,null,null,null,null,null,null,null,null,null,null,null,null,null,null,null,null,null,null,null,null,null,null,null,null,0]
[null,null,null,null,null,null,null,null,null,null,null,null,null,null,null,null,null,null,null,null,null,null,null,null,null,null,null,null,null,null,null,null,null,null,null,0]
[null,null,null,null,null,null,null,null,null,null,null,null,null,null,null,null,null,null,null,null,null,null,null,null,null,null,null,null,null,null,null,null,null,null,null,0]
[null,null,null,null,null,null,null,null,null,null,null,null,null,null,null,null,null,null,null,null,null,null,null,null,null,null,null,null,null,null,null,null,null,null,null,0]
[null,null,null,null,null,null,null,null,null,null,null,null,null,null,null,null,null,null,null,null,null,null,null,null,null,null,null,null,null,null,null,null,null,null,null,0]
[null,null,null,null,null,null,null,null,null,null,null,null,null,null,null,null,null,null,null,null,null,null,null,null,null,null,null,null,null,null,null,null,null,null,null,0]
[null,null,null,null,null,null,null,null,null,null,null,null,null,null,null,null,null,null,null,null,null,null,null,null,null,null,null,null,null,null,null,null,null,null,null,0]
[null,null,null,null,null,null,null,null,null,null,null,null,null,null,null,null,null,null,null,null,null,null,null,null,null,null,null,null,null,null,null,null,null,null,null,0]
[null,null,null,null,null,null,null,null,null,null,null,null,null,null,null,null,null,null,null,null,null,null,null,null,null,null,null,null,null,null,null,null,null,null,null,0]

{"sheet":"3rd milking (DO2)","index":16,"n_rows":63,"n_cols":22,"rows_kept":63,"cut":false,"hidden":false,"merged":[]}
[]
["Entry",null,null,null,null,null,"Milk cooling curve (3rd milking)",null,null,null,null,null,null,null,null,null,"Entry: ","Temp","Time"]
[null,null,null,null,null,null,null,null,null,null,null,null,null,null,null,null,null,{"$f":"G5","v":22.5},{"$f":"H5","v":-8.8235294117647078E-2}]
["Milking",{"$f":"EMCI!F9","v":1},3,null,null,null,"T","t",null,null,null,null,null,null,null,null,null,{"$f":"G6","v":20},{"$f":"H6","v":0.5}]
["Time",{"$f":"EMCI!F11/60","v":0.5},"O2",null,null,null,{"$f":"(25+B6)/2","v":22.5},{"$f":"H6-((G6-G5)/H10)","v":-8.8235294117647078E-2}]
["Milk T",{"$f":"EMCI!F13","v":20},null,null,null,null,{"$f":"B6","v":20},{"$f":"B5","v":0.5}]
["Volume",{"$f":"EMCI!F31","v":0},"D",null,null,null,null,null,null,null,null,null,null,null,null,null,null,"x","y","xy","xx"]
[null,null,null,null,null,null,null,null,null,null,null,null,null,null,null,null,null,{"$f":"S3","v":-8.8235294117647078E-2},{"$f":"R3","v":22.5},{"$f":"R8*S8","v":-1.9852941176470593},{"$f":"R8*R8","v":7.7854671280276847E-3}]
[null,null,null,null,null,null,null,null,"Outside!!!",null,null,null,null,null,null,null,null,{"$f":"S4","v":0.5},{"$f":"R4","v":20},{"$f":"R9*S9","v":10},{"$f":"R9*R9","v":0.25}]
["Outcome",{"$f":"IF(EMCI!F27=\"A\",'3rd milking (DO2)'!N18,(IF(EMCI!F27=\"B\",'3rd milking (DO2)'!N16,(IF(EMCI!F27=\"S\",'3rd milking (DO2)'!N15,(IF(EMCI!F27=\"P\",'3rd milking (DO2)'!N17,(IF(EMCI!F27=\"FS\",'3rd milking (DO2)'!N19,\"error\")))))))))","v":0},null,null,null,null,"slope ",-4.25,{"$f":"R12","v":-4.2500000000000053},null,null,null,null,null,null,null,"sum",{"$f":"SUM(R8:R9)","v":0.41176470588235292},{"$f":"SUM(S8:S9)","v":42.5},8.0147058823529402,0.25778546712802769]
[null,null,null,null,null,null,"intercept",15,{"$f":"R13","v":22.125}]
[null,null,null,null,null,null,null,null,null,null,null,null,null,null,null,null,"slope",{"$f":"(2*T10-R10*S10)/(2*U10-(R10^2))","v":-4.2500000000000053}]
[null,null,null,null,null,null,null,null,null,null,null,null,null,null,null,null,"intercept",{"$f":"(S10-R12*R10)/2","v":22.125}]
[null,null,null,null,null,null,null,"No (logs)","Nf (logs)","Tmin","N after milk (logs)","GR","Time to NMTL","Time to NMTLcorr","Growth storage","N after storage"]
[null,null,null,null,null,null,"S aureus",{"$f":"'2nd milking (DO2)'!P15","v":7.278466323858245},{"$f":"'2nd milking (D)'!G15","v":5},5.6,{"$f":"LOOKUP(B6,A23:A63,C23:C63)","v":7.4032947190044949},{"$f":"IF(B6>J15,(0.00033*(B6-5.6)*((6.5-2.8)*(1-EXP(0.5*(6.5-9.8)))*(36.7-0.9324)*(1-EXP(0.42*(-5-0.9324)))))^2,(0.00033*(5.61-5.6)*((6.5-2.8)*(1-EXP(0.5*(6.5-9.8)))*(36.7-0.9324)*(1-EXP(0.42*(-5-0.9324)))))^2)","v":0.21719763214118218},{"$f":"(I15-K15)/L15","v":-11.065013441041163},{"$f":"IF(M15>0,M15,0)","v":0},{"$f":"(12-$H$6)*L15","v":2.497772769623595},{"$f":"K15+O15","v":9.9010674886280903},"TEST(max)",{"$f":"H10*S4+H11","v":12.875}]
[null,null,null,null,null,null,"B cereus",{"$f":"'2nd milking (DO2)'!P16","v":9.2814480380435107},{"$f":"'2nd milking (D)'!G16","v":5},1.5,{"$f":"LOOKUP(B6,A23:A63,D23:D63)","v":9.4720183219647485},{"$f":"IF(B6>$J$16,(((0.175*(B6-1.5)*SQRT(0.995-0.92)*(1-EXP(0.4395*(B6-45)))))^2)/2.3,0)","v":0.34177342612421274},{"$f":"(I16-K16)/L16","v":-13.0847455657347},{"$f":"IF(M16>0,M16,0)","v":0},{"$f":"(12-$H$6)*L16","v":3.9303944004284466},{"$f":"K16+O16","v":13.402412722393194}]
[null,null,null,null,null,null,"Pseudo",{"$f":"'2nd milking (DO2)'!P17","v":10.507076288572197},{"$f":"'2nd milking (D)'!G17","v":6},-6.1,{"$f":"LOOKUP(B6,A23:A63,E23:E63)","v":10.717698547187865},{"$f":"IF(B6>$J$17,((0.1709*(B6+6.1)*SQRT(0.995-0.947)*(1-EXP(0.1723*(B6-41.2))))^2)/2.3,0)","v":0.39397462167172831},-11.974625490265197,0,{"$f":"(12-$H$6)*L17","v":4.5307081492248757},{"$f":"K17+O17","v":15.24840669641274}]
[null,null,null,null,null,null,"All",null,null,null,null,null,{"$f":"MIN(M15:M17)","v":-13.0847455657347},0]
[null,null,null,null,null,null,"FS",null,null,null,null,null,{"$f":"MIN(M15:M16)","v":-13.0847455657347},0]
[]
["Lookup function",null,"Accumulated growth",null,null,null,"Cooling curve profile",null,null,null,"Growth (log/h)",null,null,null,"Saureus","Growth acc",null,"B cereus","Growth acc",null,"Pseudo","Growth acc"]
[{"$f":"G22","v":"Temp"},null,"S.aureus","B.cereus","Pseudomonas",null,"Temp","Time","Time interval",null,"S. aureus","B.cereus","Pseudo",null,"Growth interval",{"$f":"H15","v":7.278466323858245},null,"Growth interval",{"$f":"H16","v":9.2814480380435107},null,"Growth interval",{"$f":"H17","v":10.507076288572197}]
[{"$f":"G63","v":12.5},null,{"$f":"P63","v":7.6216028710208317},{"$f":"S63","v":9.8636773415589314},{"$f":"V63","v":11.243306508348459},null,{"$f":"G5","v":22.5},{"$f":"(G23-$I$11)/$I$10","v":-8.8235294117646954E-2},{"$f":"IF(G6=G5,H5,H23)","v":-8.8235294117646954E-2},null,{"$f":"IF(G23>J15,(0.00033*(G23-5.6)*((6.5-2.8)*(1-EXP(0.5*(6.5-9.8)))*(36.7-0.9324)*(1-EXP(0.42*(-5-0.9324)))))^2,0)","v":0.29915999091359485},{"$f":"IF(G23>$J$16,(((0.175*(G23-1.5)*SQRT(0.995-0.92)*(1-EXP(0.4395*(G23-45)))))^2)/2.3,0)","v":0.44035612242055694},{"$f":"IF(G23>$J$17,((0.1709*(G23+6.1)*SQRT(0.995-0.947)*(1-EXP(0.1723*(G23-41.2))))^2)/2.3,0)","v":0.45960559165784953},null,{"$f":"I23*K23","v":-2.6396469786493633E-2},{"$f":"P22+O23","v":7.2520698540717516},null,{"$f":"I23*L23","v":-3.885495197828439E-2},{"$f":"S22+R23","v":9.2425930860652254},null,{"$f":"I23*M23","v":-4.0553434558045498E-2},{"$f":"V22+U23","v":10.466522854014151}]
[{"$f":"G62","v":12.75},null,{"$f":"P62","v":7.6185621691738907},{"$f":"S62","v":9.8564069120487368},{"$f":"V62","v":11.230917081922019},null,{"$f":"G23-0.25","v":22.25},{"$f":"(G24-$I$11)/$I$10","v":-2.9411764705882314E-2},{"$f":"H24-H23","v":5.8823529411764636E-2},null,{"$f":"IF(G24>$J$15,(0.00033*(((G24+G23)/2)-5.6)*((6.5-2.8)*(1-EXP(0.5*(6.5-9.8)))*(36.7-0.9324)*(1-EXP(0.42*(-5-0.9324)))))^2,0)","v":0.29475091354672428},{"$f":"IF(G24>$J$16,(((0.175*(((G24+G23)/2)-1.5)*SQRT(0.995-0.92)*(1-EXP(0.4395*(((G24+G23)/2)-45)))))^2)/2.3,0)","v":0.43513175048769465},{"$f":"IF(G24>$J$17,((0.1709*(((G24+G23)/2)+6.1)*SQRT(0.995-0.947)*(1-EXP(0.1723*(((G24+G23)/2)-41.2))))^2)/2.3,0)","v":0.45640351867799828},null,{"$f":"I24*K24","v":1.7338289032160233E-2},{"$f":"P23+O24","v":7.2694081431039121},null,2.5595985322805537E-2,{"$f":"S23+R24","v":9.2681890713880311},null,2.6847265804588103E-2,{"$f":"V23+U24","v":10.493370119818739}]
[{"$f":"G61","v":13},null,{"$f":"P61","v":7.615301196375917},{"$f":"S61","v":9.8488060513589701},{"$f":"V61","v":11.218202826212586},null,{"$f":"G24-0.25","v":22},2.9411764705882314E-2,{"$f":"H25-H24","v":5.8823529411764629E-2},null,{"$f":"IF(G25>$J$15,(0.00033*(((G25+G24)/2)-5.6)*((6.5-2.8)*(1-EXP(0.5*(6.5-9.8)))*(36.7-0.9324)*(1-EXP(0.42*(-5-0.9324)))))^2,0)","v":0.28603095652716731},{"$f":"IF(G25>$J$16,(((0.175*(((G25+G24)/2)-1.5)*SQRT(0.995-0.92)*(1-EXP(0.4395*(((G25+G24)/2)-45)))))^2)/2.3,0)","v":0.42477608817075047},{"$f":"IF(G25>$J$17,((0.1709*(((G25+G24)/2)+6.1)*SQRT(0.995-0.947)*(1-EXP(0.1723*(((G25+G24)/2)-41.2))))^2)/2.3,0)","v":0.44996143296436864},null,1.6825350383950995E-2,{"$f":"P24+O25","v":7.2862334934878632},null,2.4986828715926467E-2,{"$f":"S24+R25","v":9.2931759001039573},null,2.6468319586139297E-2,{"$f":"V24+U25","v":10.519838439404879}]
[{"$f":"G60","v":13.25},null,{"$f":"P60","v":7.6118122508454062},{"$f":"S60","v":9.840867416794028},{"$f":"V60","v":11.205160127410426},null,21.75,8.8235294117646954E-2,5.8823529411764636E-2,null,0.27744192979318916,0.41454460826142248,0.44347426997580658,null,1.6320113517246403E-2,7.3025536070051098,null,2.4384976956554234E-2,9.3175608770605116,null,2.6086721763282708E-2,10.545925161168162]
[{"$f":"G59","v":13.5},null,{"$f":"P59","v":7.6080876308008536},{"$f":"S59","v":9.8325836656973316},{"$f":"V59","v":11.191785425484314},null,21.5,0.14705882352941158,5.8823529411764622E-2,null,0.26898383334479004,0.40443738981380772,0.43694836075960397,null,1.5822578432046451E-2,7.3183761854371561,null,2.3790434694929832E-2,9.3413513117554423,null,2.5702844750564904E-2,10.571628005918727]
[{"$f":"G58","v":13.75},null,{"$f":"P58","v":7.604119634460754},{"$f":"S58","v":9.8239474554571142},{"$f":"V58","v":11.178075217330866},null,21.25,0.20588235294117621,5.8823529411764636E-2,null,0.26065666718196989,0.39445450233996598,0.43038972876538417,null,1.5332745128351153E-2,7.333708930565507,null,2.3203206019997973E-2,9.3645545177754403,null,2.5317042868551978E-2,10.59694504878728]
[{"$f":"G57","v":14},null,{"$f":"P57","v":7.5999005600436034},{"$f":"S57","v":9.8149514435130474},{"$f":"V57","v":11.16402606009868},null,21,0.26470588235294085,5.8823529411764636E-2,null,0.25246043130472862,0.38459600695047985,0.42380410304068805,null,1.4850613606160488E-2,7.3485595441716676,null,2.2623294526498788E-2,9.3871778123019389,null,2.4929653120040442E-2,10.62187470190732]
[{"$f":"G56","v":14.25},null,{"$f":"P56","v":7.5954227057678967},{"$f":"S56","v":9.8055882873638147},{"$f":"V56","v":11.14963457469635},null,20.75,0.32352941176470545,5.8823529411764608E-2,null,0.24439512571306626,0.37486195735986705,0.41719693101874022,null,1.4376183865474462E-2,7.3629357280371419,null,2.205070337410979E-2,9.4092285156760482,null,2.4540995942278796E-2,10.646415697849598]
[{"$f":"G55","v":14.5},null,{"$f":"P55","v":7.590678369852129},{"$f":"S55","v":9.7958506445757827},{"$f":"V55","v":11.134897449493916},null,20.5,0.38235294117647012,5.8823529411764663E-2,null,0.23646075040698289,0.3652524007727313,0.41057339089394834,null,1.3909455906293101E-2,7.376845183943435,null,2.1485435339572412E-2,9.4307139510156208,null,2.4151375934938119E-2,10.670567073784536]
[{"$f":"G54","v":14.75},null,{"$f":"P54","v":7.5856598505147961},{"$f":"S54","v":9.785731172792909},{"$f":"V54","v":11.119811444227691},null,20.25,0.44117647058823473,5.8823529411764608E-2,null,0.22865730538647838,0.35576737866468883,0.40393840358322086,null,1.3450429728616353E-2,7.390295613672051,null,2.0927492862628721E-2,9.4516414438782501,null,2.3761082563718835E-2,10.694328156348254]
[{"$f":"G53","v":15},null,{"$f":"P53","v":7.580359445974393},{"$f":"S53","v":9.7752225297480795},{"$f":"V53","v":11.104373394118918},null,20,0.49999999999999939,5.8823529411764663E-2,null,0.22098479065155283,0.34640692747046126,0.39729664427340144,null,1.2999105332444274E-2,7.4032947190044949,null,2.0376878086497706E-2,9.4720183219647485,null,2.3370390839611833E-2,10.717698547187865]
[{"$f":"G52","v":15.25},null,{"$f":"P52","v":7.5747694544494157},{"$f":"S52","v":9.764317373276052},{"$f":"V52","v":11.088580214217147},null,19.75,0.55882352941176405,5.8823529411764663E-2,null,0.21344320620220619,0.33717107919008338,0.39065255355701073,null,1.2555482717776826E-2,7.4158502017222716,null,1.9833592893534303E-2,9.4918519148582821,null,2.2979561973941791E-2,10.740678109161808]
[{"$f":"G51","v":15.5},null,{"$f":"P51","v":7.5688821741583592},{"$f":"S51","v":9.7530083613282503},{"$f":"V51","v":11.072428903979738},null,19.5,0.61764705882352866,5.8823529411764608E-2,null,0.20603255203843862,0.32805986192289105,0.38401034816011931,null,1.2119561884614017E-2,7.4279697636068853,null,1.9297638936640618E-2,9.5111495537949224,null,2.2588844009418744E-2,10.763266953171227]
[{"$f":"G50","v":15.75},null,{"$f":"P50","v":7.5626899033197184},{"$f":"S50","v":9.7412881519896626},{"$f":"V50","v":11.055916552099372},null,19.25,0.67647058823529327,5.8823529411764608E-2,null,0.19875282816024986,0.31907330033781717,0.37737403126756752,null,1.1691342832955854E-2,7.439661106439841,null,1.8769017666930392E-2,9.5299185714618524,null,2.2198472427503935E-2,10.785465425598732]
[{"$f":"G49","v":16},null,{"$f":"P49","v":7.5561849401519892},{"$f":"S49","v":9.7291494034981376},{"$f":"V49","v":11.039040341592028},null,19,0.73529411764705788,5.8823529411764608E-2,null,0.19160403456764008,0.310211416087533,0.37074740245191135,null,1.1270825562802339E-2,7.4509319320026437,null,1.8247730358090145E-2,9.5481663018199434,null,2.1808670732465337E-2,10.807274096331197]
[{"$f":"G48","v":16.25},null,{"$f":"P48","v":7.5493595828736666},{"$f":"S48","v":9.7165847742664067},{"$f":"V48","v":11.021797555158338},null,18.75,0.79411764705882248,5.8823529411764608E-2,null,0.18458617126060919,0.30147422817308023,0.36413406721347463,null,1.0858010074153464E-2,7.4617899420767975,null,1.7733778127828219E-2,9.565900079947772,null,2.1419651012557297E-2,10.828693747343754]
[{"$f":"G47","v":16.5},null,{"$f":"P47","v":7.5422061297032466},{"$f":"S47","v":9.7035869229072169},{"$f":"V47","v":11.004185580831885},null,18.5,0.8529411764705872,5.8823529411764719E-2,null,0.17769923823915723,0.29286175326486019,0.35753744613968486,null,1.0452896367009251E-2,7.4722428384438064,null,1.7227161956756484E-2,9.5831272419045277,null,2.1031614478804996E-2,10.849725361822559]
[{"$f":"G46","v":16.75},null,{"$f":"P46","v":7.534716878859224},{"$f":"S46","v":9.6901485082620145},{"$f":"V46","v":10.986201917928456},null,18.25,0.91176470588235181,5.8823529411764608E-2,null,0.17094323550328427,0.28437400598515961,0.3509607836925473,null,1.0055484441369646E-2,7.4822983228851765,null,1.6727882705009359E-2,9.5998551246095367,null,2.0644751981914511E-2,10.870370113804473]
[{"$f":"G45","v":17},null,{"$f":"P45","v":7.526884128560094},{"$f":"S45","v":9.6762621894336522},{"$f":"V45","v":10.967844183310962},null,18,0.97058823529411642,5.8823529411764608E-2,null,0.16431816305299018,0.27601099915677957,0.34440715663364052,null,9.6657742972347006E-3,7.4919640971824109,null,1.6235941126869359E-2,9.6160910657364056,null,2.0259244507861172E-2,10.890629358312333]
[{"$f":"G44","v":17.25},null,{"$f":"P44","v":7.5187001770243524},{"$f":"S44","v":9.6619206258237025},{"$f":"V44","v":10.949110117985223},null,17.75,1.0294117647058811,5.8823529411764719E-2,null,0.15782402088827502,0.26777274402179801,0.33787948209643159,null,9.2837659346044141E-3,7.5012478631170154,null,1.575133788363518E-2,9.6318424036200412,null,1.9875263652731276E-2,10.910504621965064]
[{"$f":"G43","v":17.5},null,{"$f":"P43","v":7.5101573224704943},{"$f":"S43","v":9.6471164771749827},{"$f":"V43","v":10.929997594042478},null,17.5,1.0882352941176456,5.8823529411764497E-2,null,0.15146080900913889,0.25965925043401999,0.3313805253160243,null,8.909459353478727E-3,7.5101573224704943,null,1.5274073554942298E-2,9.6471164771749827,null,1.9492972077413125E-2,10.929997594042478]
[{"$f":"G42","v":17.75},null,{"$f":"P42","v":7.5012478631170154},{"$f":"S42","v":9.6318424036200412},{"$f":"V42","v":10.910504621965064},null,17.25,1.1470588235294104,5.8823529411764719E-2,null,0.14522852741558157,0.25167052702825038,0.32491290702667763,null,8.5428545538577417E-3,7.5187001770243524,null,1.4804148648720613E-2,9.6619206258237025,null,1.9112523942745749E-2,10.949110117985223]
[{"$f":"G41","v":18},null,{"$f":"P41","v":7.4919640971824109},{"$f":"S41","v":9.6160910657364056},{"$f":"V41","v":10.890629358312333},null,17,1.2058823529411749,5.8823529411764497E-2,null,0.13912717610760325,0.24380658136915562,0.31847911053757483,null,8.1839515357413385E-3,7.526884128560094,null,1.4341563609950279E-2,9.6762621894336522,null,1.8734065325739631E-2,10.967844183310962]
[{"$f":"G40","v":18.25},null,{"$f":"P40","v":7.4822983228851765},{"$f":"S40","v":9.5998551246095367},{"$f":"V40","v":10.870370113804473},null,16.75,1.2647058823529396,5.8823529411764719E-2,null,0.13315675508520389,0.23606742008214923,0.31208148849739786,null,7.8327502991296424E-3,7.534716878859224,null,1.3886318828361723E-2,9.6901485082620145,null,1.8357734617493997E-2,10.986201917928456]
[{"$f":"G39","v":18.5},null,{"$f":"P39","v":7.4722428384438064},{"$f":"S39","v":9.5831272419045277},{"$f":"V39","v":10.849725361822559},null,16.5,1.3235294117647043,5.8823529411764719E-2,null,0.12731726434838342,0.2284530489684527,0.30572226935828517,null,7.4892508440225561E-3,7.5422061297032466,null,1.3438414645203104E-2,9.7035869229072169,null,1.7983662903428545E-2,11.004185580831885]
[{"$f":"G38","v":18.75},null,{"$f":"P38","v":7.4617899420767975},{"$f":"S38","v":9.565900079947772},{"$f":"V38","v":10.828693747343754},null,16.25,1.3823529411764688,5.8823529411764497E-2,null,0.12160870389714186,0.22096347310622474,0.29940356354970438,null,7.153453170420084E-3,7.5493595828736666,null,1.2997851359189645E-2,9.7165847742664067,null,1.7611974326453134E-2,11.021797555158338]
[{"$f":"G37","v":19},null,{"$f":"P37","v":7.4509319320026437},{"$f":"S37","v":9.5481663018199434},{"$f":"V37","v":10.807274096331197},null,16,1.4411764705882335,5.8823529411764719E-2,null,0.11603107373147929,0.21359869693942879,0.29312736937270262,null,6.8253572783223129E-3,7.5561849401519892,null,1.2564629231731107E-2,9.7291494034981376,null,1.7242786433688394E-2,11.039040341592028]
[{"$f":"G36","v":19.25},null,{"$f":"P36","v":7.439661106439841},{"$f":"S36","v":9.5299185714618524},{"$f":"V36","v":10.785465425598732},null,15.75,1.4999999999999982,5.8823529411764719E-2,null,0.11058437385139566,0.20635872435590988,0.2868955786248723,null,6.5049631677291577E-3,7.5626899033197184,null,1.2138748491524113E-2,9.7412881519896626,null,1.6876210507345432E-2,11.055916552099372]
[{"$f":"G35","v":19.5},null,{"$f":"P35","v":7.4279697636068853},{"$f":"S35","v":9.5111495537949224},{"$f":"V35","v":10.763266953171227},null,15.5,1.5588235294117627,5.8823529411764497E-2,null,0.10526860425689091,0.19924355875597805,0.28070998196622399,null,6.1922708386406202E-3,7.5688821741583592,null,1.1720209338586902E-2,9.7530083613282503,null,1.6512351880366059E-2,11.072428903979738]
[{"$f":"G34","v":19.75},null,{"$f":"P34","v":7.4158502017222716},{"$f":"S34","v":9.4918519148582821},{"$f":"V34","v":10.740678109161808},null,15.25,1.6176470588235274,5.8823529411764719E-2,null,0.1000837649479651,0.19225320311263966,0.27457227403597939,null,5.8872802910567724E-3,7.5747694544494157,null,1.1309011947802336E-2,9.764317373276052,null,1.6151310237410555E-2,11.088580214217147]
[{"$f":"G33","v":20},null,{"$f":"P33","v":7.4032947190044949},{"$f":"S33","v":9.4720183219647485},{"$f":"V33","v":10.717698547187865},null,15,1.6764705882352919,{"$f":"H53-H52","v":5.8823529411764497E-2},null,9.5029855924618267E-2,0.18538766002448215,0.26848405833009958,null,5.5899915249775249E-3,7.580359445974393,null,1.0905156472028324E-2,9.7752225297480795,null,1.5793179901770506E-2,11.104373394118918]
[{"$f":"G32","v":20.25},null,{"$f":"P32","v":7.390295613672051},{"$f":"S32","v":9.4516414438782501},{"$f":"V32","v":10.694328156348254},null,{"$f":"G53-0.25","v":14.75},1.7352941176470567,5.8823529411764719E-2,null,9.0106877186850329E-2,0.17864693176209925,0.26244685184914474,null,5.3004045404029618E-3,{"$f":"P53+O54","v":7.5856598505147961},null,1.0508643044829371E-2,{"$f":"S53+R54","v":9.785731172792909},null,1.5438050108773223E-2,{"$f":"V53+U54","v":11.119811444227691}]
[{"$f":"G31","v":20.5},null,{"$f":"P31","v":7.376845183943435},{"$f":"S31","v":9.4307139510156208},{"$f":"V31","v":10.670567073784536},null,14.5,1.7941176470588214,5.8823529411764719E-2,null,8.5314828734661369E-2,0.17203102030883713,0.25646208952582694,null,5.0185193373330226E-3,7.590678369852129,null,1.0119471782872775E-2,{"$f":"S54+R55","v":9.7958506445757827},null,1.5086005266225118E-2,{"$f":"V54+U55","v":11.134897449493916}]
[{"$f":"G30","v":20.75},null,{"$f":"P30","v":7.3629357280371419},{"$f":"S30","v":9.4092285156760482},{"$f":"V30","v":10.646415697849598},null,14.25,1.8529411764705859,5.8823529411764497E-2,null,8.065371056805129E-2,0.16553992739654555,0.25053112844137798,null,4.7443359157677062E-3,7.5954227057678967,null,9.7376427880320558E-3,9.8055882873638147,null,1.4737125202433947E-2,11.14963457469635]
[{"$f":"G29","v":21},null,{"$f":"P29","v":7.3485595441716676},{"$f":"S29","v":9.3871778123019389},{"$f":"V29","v":10.62187470190732},null,14,1.9117647058823506,5.8823529411764719E-2,null,7.612352268702019E-2,0.15917365453694315,0.24465525183959377,null,4.4778542757070708E-3,7.5999005600436034,null,9.3631561492319524E-3,9.8149514435130474,null,1.4391485402329049E-2,11.16402606009868]
[{"$f":"G28","v":21.25},null,{"$f":"P28","v":7.333708930565507},{"$f":"S28","v":9.3645545177754403},{"$f":"V28","v":10.59694504878728},null,13.75,1.9705882352941151,5.8823529411764497E-2,null,7.1724265091567985E-2,0.1529322030491248,0.23883567294716018,null,4.2190744171510426E-3,7.604119634460754,null,8.9960119440661325E-3,9.8239474554571142,null,1.4049157232185843E-2,11.178075217330866]
[{"$f":"G27","v":21.5},null,{"$f":"P27","v":7.3183761854371561},{"$f":"S27","v":9.3413513117554423},{"$f":"V27","v":10.571628005918727},null,13.5,2.02941176470588,5.8823529411764941E-2,null,6.745593778169473E-2,0.14681557408368173,0.23307353860860081,null,3.9679963400997059E-3,7.6080876308008536,null,8.6362102402166071E-3,9.8325836656973316,null,1.3710208153447161E-2,11.191785425484314]
[{"$f":"G26","v":21.75},null,{"$f":"P26","v":7.3025536070051098},{"$f":"S26","v":9.3175608770605116},{"$f":"V26","v":10.545925161168162},null,13.25,2.0882352941176445,5.8823529411764497E-2,null,6.3318540757400427E-2,0.14082376864384633,0.22736993274391495,null,3.724620044552953E-3,7.6118122508454062,null,8.2837510966968127E-3,9.840867416794028,null,1.3374701926112597E-2,11.205160127410426]
[{"$f":"G25","v":22},null,{"$f":"P25","v":7.2862334934878632},{"$f":"S25","v":9.2931759001039573},{"$f":"V25","v":10.519838439404879},null,13,2.147058823529409,5.8823529411764497E-2,null,5.9312074018685053E-2,0.13495678760402277,0.22172587963671017,null,3.4889455305108729E-3,7.615301196375917,null,7.9386345649424886E-3,9.8488060513589701,null,1.3042698802159376E-2,11.218202826212586]
[{"$f":"G24","v":22.25},null,{"$f":"P24","v":7.2694081431039121},{"$f":"S24","v":9.2681890713880311},{"$f":"V24","v":10.493370119818739},null,12.75,2.2058823529411735,5.8823529411764497E-2,null,5.5436537565548595E-2,0.12921463172602407,0.21614234706036106,null,3.2609727979734352E-3,7.6185621691738907,null,7.600860689766095E-3,9.8564069120487368,null,1.2714255709432959E-2,11.230917081922019]
[{"$f":"G23","v":22.5},null,{"$f":"P23","v":7.2520698540717516},{"$f":"S23","v":9.2425930860652254},{"$f":"V23","v":10.466522854014151},null,12.5,2.2647058823529385,5.8823529411764941E-2,null,5.1691931397991081E-2,0.12359730167329401,0.21062024924946207,null,3.0407018469406641E-3,7.6216028710208317,null,7.2704295101937945E-3,9.8636773415589314,null,1.2389426426438995E-2,11.243306508348459]

{"sheet":"4th milking (D)","index":17,"n_rows":103,"n_cols":38,"rows_kept":103,"cut":false,"hidden":false,"merged":[]}
[]
["Entry",null,null,null,"Milk cooling curve (4th milking)"]
[]
["Milking",{"$f":"EMCI!F9","v":1},4,null,"T","t"]
["Time",{"$f":"EMCI!F11/60","v":0.5},null,null,15,0]
["Milk T",{"$f":"EMCI!F13","v":20},null,null,5,{"$f":"(E6-25)/-8.5","v":2.3529411764705883}]
["Volume",{"$f":"EMCI!F31","v":0},"D"]
[]
[]
["Outcome",{"$f":"IF(OR(B6>E5,B6<E6,B5>2.35),\"out\",LOOKUP(B6,A23:A103,B23:B103))","v":"out"},null,null,"slope ",-4.25]
[null,null,null,null,"intercept",15]
[]
[]
[null,null,null,null,null,"No (logs)","Nf (logs)","Tmin",null,"N after milk (logs)","GR at 5C","Growth storage","N after stroage (logs)"]
[null,null,null,null,"S aureus",{"$f":"'3rd milking (D)'!M15","v":2.4363449125069034},{"$f":"'3rd milking (D)'!G15","v":5},5.6,null,{"$f":"R63","v":2.50456717754831},0,{"$f":"K15*(12-$F$6)","v":0},{"$f":"J15+L15","v":2.50456717754831}]
[null,null,null,null,"B cereus",{"$f":"'3rd milking (D)'!M16","v":2.2392395398648546},{"$f":"'3rd milking (D)'!G16","v":5},1.5,null,{"$f":"W63","v":2.4285772623252653},1.2233355411136097E-2,{"$f":"K16*(12-$F$6)","v":0.11801589926037176},{"$f":"J16+L16","v":2.546593161585637}]
[null,null,null,null,"Pseudo",{"$f":"'3rd milking (D)'!M17","v":4.5757490718093283},{"$f":"'3rd milking (D)'!G17","v":6},-6.1,null,{"$f":"AB63","v":4.9547899972280405},7.4807226267127047E-2,{"$f":"K17*(12-$F$6)","v":0.72166971222404908},{"$f":"J17+L17","v":5.6764597094520894}]
[]
[]
[]
["Lookup function",null,null,null,"Cooling curve profile",null,null,null,"Growth (log/h) during cooling",null,null,null,"Growth (log/h) to calculate NMTL",null,null,null,"Saureus","Growth acc",null,"Time to NMTL (depending on initial logs)",null,"B cereus","Growth acc",null,"Time to NMTL (depending on initial logs)",null,"Pseudo","Growth acc",null,"Time to NMTL (depending on initial logs)",null,"NMTL","NMTL","NMTL","NMTL","NMTL",null,"NMTL"]
[{"$f":"E22","v":"Temp"},"NMTL",null,null,"Temp","Time","Time interval",null,"S. aureus","B.cereus","Pseudo",null,"S. aureus","B.cereus","Pseudo",null,"Growth interval",{"$f":"F15","v":2.4363449125069034},null,{"$f":"R22","v":2.4363449125069034},null,"Growth interval",{"$f":"F16","v":2.2392395398648546},null,{"$f":"W22","v":2.2392395398648546},null,"Growth interval",{"$f":"F17","v":4.5757490718093283},null,{"$f":"AB22","v":4.5757490718093283},null,"Shorter of 3 microorganisms","B. cereus","S. aureus","Pseudo","Food Safety",null,"Entry"]
[{"$f":"E63","v":5},{"$f":"AL63","v":210.19766460262841},null,null,{"$f":"E5","v":15},{"$f":"(E23-$F$11)/$F$10","v":0},{"$f":"F23","v":0},null,{"$f":"IF(E23>H15,(0.00033*(E23-5.6)*((6.5-2.8)*(1-EXP(0.5*(6.5-9.8)))*(36.7-0.9324)*(1-EXP(0.42*(-5-0.9324)))))^2,0)","v":9.2552000270036947E-2},{"$f":"IF(E23>$H$16,(((0.175*(E23-1.5)*SQRT(0.995-0.92)*(1-EXP(0.4395*(E23-45)))))^2)/2.3,0)","v":0.18200169390981913},{"$f":"IF(E23>$H$17,((0.1709*(E23+6.1)*SQRT(0.995-0.947)*(1-EXP(0.1723*(E23-41.2))))^2)/2.3,0)","v":0.26545898738016671},null,{"$f":"IF(E23>$H$15,(0.00033*(E23-5.6)*((6.5-2.8)*(1-EXP(0.5*(6.5-9.8)))*(36.7-0.9324)*(1-EXP(0.42*(-5-0.9324)))))^2,0)","v":9.2552000270036947E-2},{"$f":"IF(E23>$H$16,(((0.175*(E23-1.5)*SQRT(0.995-0.92)*(1-EXP(0.4395*(E23-45)))))^2)/2.3,0)","v":0.18200169390981913},{"$f":"IF(E23>$H$17,((0.1709*(E23+6.1)*SQRT(0.995-0.947)*(1-EXP(0.1723*(E23-41.2))))^2)/2.3,0)","v":0.26545898738016671},null,{"$f":"G23*I23","v":0},{"$f":"R22","v":2.4363449125069034},null,{"$f":"($G$15-R23)/M23","v":27.699618376838711},null,{"$f":"G23*J23","v":0},{"$f":"W22","v":2.2392395398648546},null,{"$f":"($G$16-W23)/N23","v":15.168872337545867},null,{"$f":"G23*K23","v":0},{"$f":"AB22","v":4.5757490718093283},null,{"$f":"($G$17-AB23)/O23","v":5.365239061019194},null,{"$f":"+MIN(AG23:AI23)","v":5.365239061019194},{"$f":"Y23","v":15.168872337545867},{"$f":"T23","v":27.699618376838711},{"$f":"AD23","v":5.365239061019194},{"$f":"MIN(AG23:AH23)","v":15.168872337545867},null,{"$f":"IF(EMCI!$F$27=\"A\",'4th milking (D)'!AF23,IF(EMCI!$F$27=\"B\",'4th milking (D)'!AG23,IF(EMCI!$F$27=\"S\",'4th milking (D)'!AH23,IF(EMCI!$F$27=\"P\",'4th milking (D)'!AI23,IF(EMCI!$F$27=\"FS\",'4th milking (D)'!AJ23,\"error\")))))","v":15.168872337545867}]
[{"$f":"E62","v":5.25},{"$f":"AL62","v":183.16048947121976},null,null,{"$f":"E23-0.25","v":14.75},{"$f":"(E24-$F$11)/$F$10","v":5.8823529411764705E-2},{"$f":"F24-F23","v":5.8823529411764705E-2},null,{"$f":"IF(E24>$H$15,(0.00033*(((E24+E23)/2)-5.6)*((6.5-2.8)*(1-EXP(0.5*(6.5-9.8)))*(36.7-0.9324)*(1-EXP(0.42*(-5-0.9324)))))^2,0)","v":9.0106877186850329E-2},{"$f":"IF(E24>$H$16,(((0.175*(((E24+E23)/2)-1.5)*SQRT(0.995-0.92)*(1-EXP(0.4395*(((E24+E23)/2)-45)))))^2)/2.3,0)","v":0.17864693176209925},{"$f":"IF(E24>$H$17,((0.1709*(((E24+E23)/2)+6.1)*SQRT(0.995-0.947)*(1-EXP(0.1723*(((E24+E23)/2)-41.2))))^2)/2.3,0)","v":0.26244685184914474},null,{"$f":"IF(E24>$H$15,(0.00033*(E24-5.6)*((6.5-2.8)*(1-EXP(0.5*(6.5-9.8)))*(36.7-0.9324)*(1-EXP(0.42*(-5-0.9324)))))^2,0)","v":8.7694486675058483E-2},{"$f":"IF(E24>$H$16,(((0.175*(E24-1.5)*SQRT(0.995-0.92)*(1-EXP(0.4395*(E24-45)))))^2)/2.3,0)","v":0.17532337382058064},{"$f":"IF(E24>$H$17,((0.1709*(E24+6.1)*SQRT(0.995-0.947)*(1-EXP(0.1723*(E24-41.2))))^2)/2.3,0)","v":0.25944782857356635},null,5.3004045404029601E-3,{"$f":"R23+Q24","v":2.4416453170473065},null,{"$f":"IF(M24=0,T23,($G$15-R24)/M24)","v":29.173495164323992},null,1.0508643044829367E-2,{"$f":"W23+V24","v":2.2497481829096841},null,{"$f":"($G$16-W24)/N24","v":15.686737924087751},null,1.543805010877322E-2,{"$f":"AB23+AA24","v":4.591187121918102},null,{"$f":"($G$17-AB24)/O24","v":5.4300430488375797},null,{"$f":"+MIN(AG24:AI24)","v":5.4300430488375797},15.686737924087751,29.173495164323992,5.4300430488375797,{"$f":"MIN(AG24:AH24)","v":15.686737924087751},null,{"$f":"IF(EMCI!$F$27=\"A\",'4th milking (D)'!AF24,IF(EMCI!$F$27=\"B\",'4th milking (D)'!AG24,IF(EMCI!$F$27=\"S\",'4th milking (D)'!AH24,IF(EMCI!$F$27=\"P\",'4th milking (D)'!AI24,IF(EMCI!$F$27=\"FS\",'4th milking (D)'!AJ24,\"error\")))))","v":15.686737924087751}]
[{"$f":"E61","v":5.5},{"$f":"AL61","v":161.03610442055177},null,null,{"$f":"E24-0.25","v":14.5},0.11764705882352941,{"$f":"F25-F24","v":5.8823529411764705E-2},null,{"$f":"IF(E25>$H$15,(0.00033*(((E25+E24)/2)-5.6)*((6.5-2.8)*(1-EXP(0.5*(6.5-9.8)))*(36.7-0.9324)*(1-EXP(0.42*(-5-0.9324)))))^2,0)","v":8.5314828734661369E-2},{"$f":"IF(E25>$H$16,(((0.175*(((E25+E24)/2)-1.5)*SQRT(0.995-0.92)*(1-EXP(0.4395*(((E25+E24)/2)-45)))))^2)/2.3,0)","v":0.17203102030883713},{"$f":"IF(E25>$H$17,((0.1709*(((E25+E24)/2)+6.1)*SQRT(0.995-0.947)*(1-EXP(0.1723*(((E25+E24)/2)-41.2))))^2)/2.3,0)","v":0.25646208952582694},null,8.2967903365658943E-2,0.16876987143576827,0.25348980194113641,null,5.0185193373330217E-3,{"$f":"R24+Q25","v":2.4466638363846394},null,{"$f":"IF(M25=0,T24,($G$15-R25)/M25)","v":30.774987194291406},null,1.0119471782872771E-2,{"$f":"W24+V25","v":2.2598676546925569},null,{"$f":"($G$16-W25)/N25","v":16.235909419118705},null,1.5086005266225114E-2,{"$f":"AB24+AA25","v":4.6062731271843269},null,{"$f":"($G$17-AB25)/O25","v":5.4981575674563601},null,5.4981575674563601,16.235909419118705,30.774987194291406,5.4981575674563601,16.235909419118705,null,{"$f":"IF(EMCI!$F$27=\"A\",'4th milking (D)'!AF25,IF(EMCI!$F$27=\"B\",'4th milking (D)'!AG25,IF(EMCI!$F$27=\"S\",'4th milking (D)'!AH25,IF(EMCI!$F$27=\"P\",'4th milking (D)'!AI25,IF(EMCI!$F$27=\"FS\",'4th milking (D)'!AJ25,\"error\")))))","v":16.235909419118705}]
[{"$f":"E60","v":5.75},{"$f":"AL60","v":142.70331388964536},null,null,14.25,0.17647058823529413,5.8823529411764719E-2,null,8.065371056805129E-2,0.16553992739654555,0.25053112844137798,null,7.8372250341838381E-2,0.16234118837349831,0.24758622715594111,null,4.7443359157677244E-3,2.4514081723004071,null,{"$f":"IF(M26=0,T25,($G$15-R26)/M26)","v":32.519058934550564},null,9.7376427880320939E-3,2.2696052974805889,null,16.818866055345072,null,1.4737125202434002E-2,4.6210102523867613,null,5.5697352936546345,null,5.5697352936546345,16.818866055345072,32.519058934550564,5.5697352936546345,16.818866055345072,null,{"$f":"IF(EMCI!$F$27=\"A\",'4th milking (D)'!AF26,IF(EMCI!$F$27=\"B\",'4th milking (D)'!AG26,IF(EMCI!$F$27=\"S\",'4th milking (D)'!AH26,IF(EMCI!$F$27=\"P\",'4th milking (D)'!AI26,IF(EMCI!$F$27=\"FS\",'4th milking (D)'!AJ26,\"error\")))))","v":16.818866055345072}]
[{"$f":"E59","v":6},{"$f":"AL59","v":127.34343434815146},null,null,14,0.23529411764705882,5.8823529411764691E-2,null,7.612352268702019E-2,0.15917365453694315,0.24465525183959377,null,7.3907527603596743E-2,0.15603732604596116,0.24173835198745908,null,4.477854275707069E-3,2.4558860265761142,null,34.422934387269038,null,9.3631561492319472E-3,2.2789684536298207,null,17.43833744990409,null,1.4391485402329042E-2,4.6354017377890901,null,5.6449390466668801,null,5.6449390466668801,17.43833744990409,34.422934387269038,5.6449390466668801,17.43833744990409,null,{"$f":"IF(EMCI!$F$27=\"A\",'4th milking (D)'!AF27,IF(EMCI!$F$27=\"B\",'4th milking (D)'!AG27,IF(EMCI!$F$27=\"S\",'4th milking (D)'!AH27,IF(EMCI!$F$27=\"P\",'4th milking (D)'!AI27,IF(EMCI!$F$27=\"FS\",'4th milking (D)'!AJ27,\"error\")))))","v":17.43833744990409}]
[{"$f":"E58","v":6.25},{"$f":"AL58","v":114.34738345312456},null,null,13.75,0.29411764705882354,5.8823529411764719E-2,null,7.1724265091567985E-2,0.1529322030491248,0.23883567294716018,null,6.9573735150934013E-2,0.1498582856851797,0.23594735602819444,null,4.2190744171510591E-3,2.4601051009932653,null,36.506519212985467,null,8.9960119440661672E-3,2.2879644655738867,null,18.097334571967021,null,1.4049157232185897E-2,4.6494508950212756,null,5.7239425256256782,null,5.7239425256256782,18.097334571967021,36.506519212985467,5.7239425256256782,18.097334571967021,null,{"$f":"IF(EMCI!$F$27=\"A\",'4th milking (D)'!AF28,IF(EMCI!$F$27=\"B\",'4th milking (D)'!AG28,IF(EMCI!$F$27=\"S\",'4th milking (D)'!AH28,IF(EMCI!$F$27=\"P\",'4th milking (D)'!AI28,IF(EMCI!$F$27=\"FS\",'4th milking (D)'!AJ28,\"error\")))))","v":18.097334571967021}]
[{"$f":"E57","v":6.5},{"$f":"AL57","v":103.25443364679927},null,null,13.5,0.35294117647058826,5.8823529411764719E-2,null,6.745593778169473E-2,0.14681557408368173,0.23307353860860081,null,6.5370872983850206E-2,0.14380406836559409,0.23021435423897771,null,3.9679963400996911E-3,2.4640730973333649,null,38.792917807494064,null,8.6362102402165741E-3,2.2966006758141031,null,18.799185272790933,null,1.3710208153447109E-2,4.6631611031747227,null,5.8069311153271972,null,5.8069311153271972,18.799185272790933,38.792917807494064,5.8069311153271972,18.799185272790933,null,{"$f":"IF(EMCI!$F$27=\"A\",'4th milking (D)'!AF29,IF(EMCI!$F$27=\"B\",'4th milking (D)'!AG29,IF(EMCI!$F$27=\"S\",'4th milking (D)'!AH29,IF(EMCI!$F$27=\"P\",'4th milking (D)'!AI29,IF(EMCI!$F$27=\"FS\",'4th milking (D)'!AJ29,\"error\")))))","v":18.799185272790933}]
[{"$f":"E56","v":6.75},{"$f":"AL56","v":93.710871829946285},null,null,13.25,0.41176470588235292,5.8823529411764663E-2,null,6.3318540757400427E-2,0.14082376864384633,0.22736993274391495,null,6.1298941102345371E-2,0.13787467502385675,0.22454040032089267,null,3.7246200445529634E-3,2.467797717377918,null,41.309070549755333,null,8.283751096696837E-3,2.3048844269108,null,19.54757516289963,null,1.3374701926112635E-2,4.6765358051008352,null,5.8941027672872695,null,5.8941027672872695,19.54757516289963,41.309070549755333,5.8941027672872695,19.54757516289963,null,{"$f":"IF(EMCI!$F$27=\"A\",'4th milking (D)'!AF30,IF(EMCI!$F$27=\"B\",'4th milking (D)'!AG30,IF(EMCI!$F$27=\"S\",'4th milking (D)'!AH30,IF(EMCI!$F$27=\"P\",'4th milking (D)'!AI30,IF(EMCI!$F$27=\"FS\",'4th milking (D)'!AJ30,\"error\")))))","v":19.54757516289963}]
[{"$f":"E55","v":7},{"$f":"AL55","v":85.441500276396013},null,null,13,0.47058823529411764,5.8823529411764719E-2,null,5.9312074018685053E-2,0.13495678760402277,0.22172587963671017,null,5.7357939506419459E-2,0.13207010647617853,0.21892648992149663,null,3.4889455305108863E-3,2.4712866629084287,null,44.086544231745975,null,7.9386345649425181E-3,2.3128230614757426,null,20.346594776229267,null,1.3042698802159424E-2,4.6895785039029949,null,5.9856689638924019,null,5.9856689638924019,20.346594776229267,44.086544231745975,5.9856689638924019,20.346594776229267,null,{"$f":"IF(EMCI!$F$27=\"A\",'4th milking (D)'!AF31,IF(EMCI!$F$27=\"B\",'4th milking (D)'!AG31,IF(EMCI!$F$27=\"S\",'4th milking (D)'!AH31,IF(EMCI!$F$27=\"P\",'4th milking (D)'!AI31,IF(EMCI!$F$27=\"FS\",'4th milking (D)'!AJ31,\"error\")))))","v":20.346594776229267}]
[{"$f":"E54","v":7.25},{"$f":"AL54","v":78.229614521720663},null,null,12.75,0.52941176470588236,5.8823529411764719E-2,null,5.5436537565548595E-2,0.12921463172602407,0.21614234706036106,null,5.3547868196072462E-2,0.12639036343352611,0.21337356368273519,null,3.2609727979734473E-3,2.474547635706402,null,47.162519244395064,null,7.6008606897661236E-3,2.3204239221655087,null,21.200794151080913,null,1.2714255709433006E-2,4.702292759612428,null,6.0818557743972956,null,6.0818557743972956,21.200794151080913,47.162519244395064,6.0818557743972956,21.200794151080913,null,{"$f":"IF(EMCI!$F$27=\"A\",'4th milking (D)'!AF32,IF(EMCI!$F$27=\"B\",'4th milking (D)'!AG32,IF(EMCI!$F$27=\"S\",'4th milking (D)'!AH32,IF(EMCI!$F$27=\"P\",'4th milking (D)'!AI32,IF(EMCI!$F$27=\"FS\",'4th milking (D)'!AJ32,\"error\")))))","v":21.200794151080913}]
[{"$f":"E53","v":7.5},{"$f":"AL53","v":71.902694401582252},null,null,12.5,0.58823529411764708,5.8823529411764719E-2,null,5.1691931397991081E-2,0.12359730167329401,0.21062024924946207,null,4.9868727171304417E-2,0.12083544651493101,0.20788251013768322,null,3.0407018469406524E-3,2.4775883375533425,null,50.581031550733258,null,7.2704295101937667E-3,2.3276943516757025,null,22.11524619139049,null,1.2389426426438949E-2,4.7146821860388668,null,6.1829050125950999,null,6.1829050125950999,22.11524619139049,50.581031550733258,6.1829050125950999,22.11524619139049,null,{"$f":"IF(EMCI!$F$27=\"A\",'4th milking (D)'!AF33,IF(EMCI!$F$27=\"B\",'4th milking (D)'!AG33,IF(EMCI!$F$27=\"S\",'4th milking (D)'!AH33,IF(EMCI!$F$27=\"P\",'4th milking (D)'!AI33,IF(EMCI!$F$27=\"FS\",'4th milking (D)'!AJ33,\"error\")))))","v":22.11524619139049}]
[{"$f":"E52","v":7.75},{"$f":"AL52","v":66.322018349092957},null,null,12.25,0.6470588235294118,5.8823529411764719E-2,null,4.807825551601249E-2,0.11810479802336256,0.20516044972357486,null,4.6320516432115315E-2,0.11540535625914415,0.2024541684629837,null,2.8281326774124999E-3,2.4804164702307552,null,54.394547467142374,null,6.9473410601977991E-3,2.3346416927359002,null,23.095620460449037,null,1.2068261748445584E-2,4.7267504477873121,null,6.2890755072078752,null,6.2890755072078752,23.095620460449037,54.394547467142374,6.2890755072078752,23.095620460449037,null,{"$f":"IF(EMCI!$F$27=\"A\",'4th milking (D)'!AF34,IF(EMCI!$F$27=\"B\",'4th milking (D)'!AG34,IF(EMCI!$F$27=\"S\",'4th milking (D)'!AH34,IF(EMCI!$F$27=\"P\",'4th milking (D)'!AI34,IF(EMCI!$F$27=\"FS\",'4th milking (D)'!AJ34,\"error\")))))","v":23.095620460449037}]
[{"$f":"E51","v":8},{"$f":"AL51","v":61.375018070896139},null,null,12,0.70588235294117652,5.8823529411764719E-2,null,4.459550991961285E-2,0.11273712127874896,0.19976376397001153,null,4.2903235978505136E-2,0.11010009313483672,0.19708933109359619,null,2.6232652893889916E-3,2.4830397355201441,null,58.665977217682908,null,6.631595369338176E-3,2.3412732881052385,null,24.148269417344526,null,1.1750809645294798E-2,4.7385012574326071,null,6.4006444974351098,null,6.4006444974351098,24.148269417344526,58.665977217682908,6.4006444974351098,24.148269417344526,null,{"$f":"IF(EMCI!$F$27=\"A\",'4th milking (D)'!AF35,IF(EMCI!$F$27=\"B\",'4th milking (D)'!AG35,IF(EMCI!$F$27=\"S\",'4th milking (D)'!AH35,IF(EMCI!$F$27=\"P\",'4th milking (D)'!AI35,IF(EMCI!$F$27=\"FS\",'4th milking (D)'!AJ35,\"error\")))))","v":24.148269417344526}]
[{"$f":"E50","v":8.25},{"$f":"AL50","v":56.969577331743558},null,null,11.75,0.76470588235294112,5.8823529411764608E-2,null,4.1243694608792139E-2,0.10749427187650554,0.19443096199213733,null,3.961688581047388E-2,0.10491965754952723,0.19178874620621136,null,2.4260996828701217E-3,2.4854658352030143,null,63.471272750373409,null,6.3231924633238446E-3,2.3475964805685625,null,25.28032955291884,null,1.1437115411302178E-2,4.7499383728439089,null,6.5179091676840324,null,6.5179091676840324,25.28032955291884,63.471272750373409,6.5179091676840324,25.28032955291884,null,{"$f":"IF(EMCI!$F$27=\"A\",'4th milking (D)'!AF36,IF(EMCI!$F$27=\"B\",'4th milking (D)'!AG36,IF(EMCI!$F$27=\"S\",'4th milking (D)'!AH36,IF(EMCI!$F$27=\"P\",'4th milking (D)'!AI36,IF(EMCI!$F$27=\"FS\",'4th milking (D)'!AJ36,\"error\")))))","v":25.28032955291884}]
[{"$f":"E49","v":8.5},{"$f":"AL49","v":53.029729722359164},null,null,11.5,0.82352941176470584,5.8823529411764719E-2,null,3.8022809583550352E-2,0.10237625019656743,0.18916277072942361,null,3.6461465928021568E-2,9.9864049857391432E-2,0.18655312007743888,null,2.2366358578559033E-3,2.4877024710608704,null,68.902811913778947,null,6.0221323645039682E-3,2.3536186129330665,null,26.499840441540652,null,1.1127221807613157E-2,4.7610655946515221,null,6.641188337317498,null,6.641188337317498,26.499840441540652,68.902811913778947,6.641188337317498,26.499840441540652,null,{"$f":"IF(EMCI!$F$27=\"A\",'4th milking (D)'!AF37,IF(EMCI!$F$27=\"B\",'4th milking (D)'!AG37,IF(EMCI!$F$27=\"S\",'4th milking (D)'!AH37,IF(EMCI!$F$27=\"P\",'4th milking (D)'!AI37,IF(EMCI!$F$27=\"FS\",'4th milking (D)'!AJ37,\"error\")))))","v":26.499840441540652}]
[{"$f":"E48","v":8.75},{"$f":"AL48","v":49.492376405497353},null,null,11.25,0.88235294117647056,5.8823529411764719E-2,null,3.4932854843887522E-2,9.7383056569056464E-2,0.18395987635523695,null,3.3436976331148192E-2,9.4933270366092032E-2,0.18138311932263304,null,2.0548738143463252E-3,2.4897573448752168,null,75.073853277407991,null,5.7284150922974402E-3,2.3593470280253639,null,27.815885429749361,null,1.0821169197366882E-2,4.7718867638488893,null,6.7708243233297747,null,6.7708243233297747,27.815885429749361,75.073853277407991,6.7708243233297747,27.815885429749361,null,{"$f":"IF(EMCI!$F$27=\"A\",'4th milking (D)'!AF38,IF(EMCI!$F$27=\"B\",'4th milking (D)'!AG38,IF(EMCI!$F$27=\"S\",'4th milking (D)'!AH38,IF(EMCI!$F$27=\"P\",'4th milking (D)'!AI38,IF(EMCI!$F$27=\"FS\",'4th milking (D)'!AJ38,\"error\")))))","v":27.815885429749361}]
[{"$f":"E47","v":9},{"$f":"AL47","v":46.304756554370123},null,null,11,0.94117647058823528,5.8823529411764719E-2,null,3.1973830389803601E-2,9.2514691280667832E-2,0.17882292645810682,null,3.054341701985375E-2,9.0127319342750936E-2,0.17627937302097987,null,1.8808135523413886E-3,2.4916381584275582,null,82.124466949521832,null,5.4420406635686969E-3,2.3647890686889328,null,29.238758575404372,null,1.0518995674006286E-2,4.7824057595228959,null,6.9071849962399865,null,6.9071849962399865,29.238758575404372,82.124466949521832,6.9071849962399865,29.238758575404372,null,{"$f":"IF(EMCI!$F$27=\"A\",'4th milking (D)'!AF39,IF(EMCI!$F$27=\"B\",'4th milking (D)'!AG39,IF(EMCI!$F$27=\"S\",'4th milking (D)'!AH39,IF(EMCI!$F$27=\"P\",'4th milking (D)'!AI39,IF(EMCI!$F$27=\"FS\",'4th milking (D)'!AJ39,\"error\")))))","v":29.238758575404372}]
[{"$f":"E46","v":9.25},{"$f":"AL46","v":43.422479489714462},null,null,10.75,1,5.8823529411764719E-2,null,2.9145736221298631E-2,8.7771154580253072E-2,0.1737525321119813,null,2.7780787994138238E-2,8.5446197019167794E-2,0.17124247473224119,null,1.7144550718410964E-3,2.4933526134993995,null,90.229527939578404,null,5.1630090929560644E-3,2.369952077781889,null,30.780163587949072,null,1.0220737183057726E-2,4.792626496705954,null,7.0506660522275446,null,7.0506660522275446,30.780163587949072,90.229527939578404,7.0506660522275446,30.780163587949072,null,{"$f":"IF(EMCI!$F$27=\"A\",'4th milking (D)'!AF40,IF(EMCI!$F$27=\"B\",'4th milking (D)'!AG40,IF(EMCI!$F$27=\"S\",'4th milking (D)'!AH40,IF(EMCI!$F$27=\"P\",'4th milking (D)'!AI40,IF(EMCI!$F$27=\"FS\",'4th milking (D)'!AJ40,\"error\")))))","v":30.780163587949072}]
[{"$f":"E45","v":9.5},{"$f":"AL45","v":40.807980363631671},null,null,10.5,1.0588235294117647,5.8823529411764719E-2,null,2.644857233837258E-2,8.3152446683698977E-2,0.16874926984075,null,2.5149089254001666E-2,8.0889903596380763E-2,0.1662729844103209,null,1.5557983728454463E-3,2.4949084118722449,null,99.609634481262603,null,4.8913203931587644E-3,2.3748433981750479,null,32.453451977440714,null,9.9264276376911792E-3,4.8025529243436456,null,7.2016935276830605,null,7.2016935276830605,32.453451977440714,99.609634481262603,7.2016935276830605,32.453451977440714,null,{"$f":"IF(EMCI!$F$27=\"A\",'4th milking (D)'!AF41,IF(EMCI!$F$27=\"B\",'4th milking (D)'!AG41,IF(EMCI!$F$27=\"S\",'4th milking (D)'!AH41,IF(EMCI!$F$27=\"P\",'4th milking (D)'!AI41,IF(EMCI!$F$27=\"FS\",'4th milking (D)'!AJ41,\"error\")))))","v":32.453451977440714}]
[{"$f":"E44","v":9.75},{"$f":"AL44","v":38.429298321755532},null,null,10.25,1.1176470588235294,5.8823529411764719E-2,null,2.3882338741025473E-2,7.8658567778189678E-2,0.16381368348209219,null,2.2648320799444024E-2,7.6458439248649382E-2,0.16137143021860539,null,1.4048434553544399E-3,2.4963132553275993,null,110.5462416769486,null,4.6269745751876291E-3,2.3794703727502355,null,34.273909499088489,null,9.6360990283583664E-3,4.8121890233720039,null,7.3607265859818032,null,7.3607265859818032,34.273909499088489,110.5462416769486,7.3607265859818032,34.273909499088489,null,{"$f":"IF(EMCI!$F$27=\"A\",'4th milking (D)'!AF42,IF(EMCI!$F$27=\"B\",'4th milking (D)'!AG42,IF(EMCI!$F$27=\"S\",'4th milking (D)'!AH42,IF(EMCI!$F$27=\"P\",'4th milking (D)'!AI42,IF(EMCI!$F$27=\"FS\",'4th milking (D)'!AJ42,\"error\")))))","v":34.273909499088489}]
[{"$f":"E43","v":10},{"$f":"AL43","v":36.259102419652997},null,null,10,1.1764705882352942,5.8823529411764719E-2,null,2.14470354292573E-2,7.428951802592855E-2,0.15894628595549334,null,2.0278482630465319E-2,7.2151804126932312E-2,0.15653831025181383,null,1.2615903193680766E-3,2.4975748456469673,null,123.40297841582691,null,4.3699716485840331E-3,2.3838403443988194,null,36.259102419652997,null,9.3497815267937281E-3,4.8215388048987977,null,7.5282606104887817,null,7.5282606104887817,36.259102419652997,123.40297841582691,7.5282606104887817,36.259102419652997,null,{"$f":"IF(EMCI!$F$27=\"A\",'4th milking (D)'!AF43,IF(EMCI!$F$27=\"B\",'4th milking (D)'!AG43,IF(EMCI!$F$27=\"S\",'4th milking (D)'!AH43,IF(EMCI!$F$27=\"P\",'4th milking (D)'!AI43,IF(EMCI!$F$27=\"FS\",'4th milking (D)'!AJ43,\"error\")))))","v":36.259102419652997}]
[{"$f":"E42","v":10.25},{"$f":"AL42","v":34.273909499088489},null,null,9.75,1.2352941176470589,5.8823529411764719E-2,null,1.9142662403068059E-2,7.0045297567387574E-2,0.15414756093906151,null,1.8039574747065537E-2,6.7969998361922884E-2,0.15177409416889009,null,1.1260389648863568E-3,2.4987008846118535,null,138.6562128242534,null,4.120311621611035E-3,2.3879606560204305,null,38.429298321755532,null,9.0675035846506796E-3,4.8306063084834481,null,7.704830642673989,null,7.704830642673989,38.429298321755532,138.6562128242534,7.704830642673989,38.429298321755532,null,{"$f":"IF(EMCI!$F$27=\"A\",'4th milking (D)'!AF44,IF(EMCI!$F$27=\"B\",'4th milking (D)'!AG44,IF(EMCI!$F$27=\"S\",'4th milking (D)'!AH44,IF(EMCI!$F$27=\"P\",'4th milking (D)'!AI44,IF(EMCI!$F$27=\"FS\",'4th milking (D)'!AJ44,\"error\")))))","v":38.429298321755532}]
[{"$f":"E41","v":10.5},{"$f":"AL41","v":32.453451977440714},null,null,9.5,1.2941176470588236,5.8823529411764719E-2,null,1.6969219662457756E-2,6.5925906524142819E-2,0.14941796445957814,null,1.5931597149244706E-2,6.3913022066697509E-2,0.14707922474126942,null,9.9818939190928001E-4,2.4996990740037628,null,156.9397532823489,null,3.8779945014201667E-3,2.3918386505218505,null,40.807980363631671,null,8.7892920270340093E-3,4.8393956005104819,null,7.8910152098718571,null,7.8910152098718571,40.807980363631671,156.9397532823489,7.8910152098718571,40.807980363631671,null,{"$f":"IF(EMCI!$F$27=\"A\",'4th milking (D)'!AF45,IF(EMCI!$F$27=\"B\",'4th milking (D)'!AG45,IF(EMCI!$F$27=\"S\",'4th milking (D)'!AH45,IF(EMCI!$F$27=\"P\",'4th milking (D)'!AI45,IF(EMCI!$F$27=\"FS\",'4th milking (D)'!AJ45,\"error\")))))","v":40.807980363631671}]
[{"$f":"E40","v":10.75},{"$f":"AL40","v":30.780163587949072},null,null,9.25,1.3529411764705883,5.8823529411764719E-2,null,1.4926707207426384E-2,6.1931345001347733E-2,0.14475792640001692,null,1.3954549837002799E-2,5.9980875339025456E-2,0.1424541193206629,null,8.7804160043684638E-4,2.5005771156041998,null,179.11168139356002,null,3.6430202941969262E-3,2.3954816708160473,null,43.422479489714462,null,8.515172141177467E-3,4.8479107726516597,null,8.0874405938026825,null,8.0874405938026825,43.422479489714462,179.11168139356002,8.0874405938026825,43.422479489714462,null,{"$f":"IF(EMCI!$F$27=\"A\",'4th milking (D)'!AF46,IF(EMCI!$F$27=\"B\",'4th milking (D)'!AG46,IF(EMCI!$F$27=\"S\",'4th milking (D)'!AH46,IF(EMCI!$F$27=\"P\",'4th milking (D)'!AI46,IF(EMCI!$F$27=\"FS\",'4th milking (D)'!AJ46,\"error\")))))","v":43.422479489714462}]
[{"$f":"E39","v":11},{"$f":"AL39","v":29.238758575404372},null,null,9,1.411764705882353,5.8823529411764719E-2,null,1.3015125037973942E-2,5.8061613089890336E-2,0.1401678519285815,null,1.2108432810339827E-2,5.6173558263382765E-2,0.13789917123031473,null,7.6559559046905559E-4,2.5013427111946687,null,206.35678687266926,null,3.4153890052876675E-3,2.3988970598213348,null,46.304756554370123,null,8.2451677605047957E-3,4.8561559404121644,null,8.2947855986561692,null,8.2947855986561692,46.304756554370123,206.35678687266926,8.2947855986561692,46.304756554370123,null,{"$f":"IF(EMCI!$F$27=\"A\",'4th milking (D)'!AF47,IF(EMCI!$F$27=\"B\",'4th milking (D)'!AG47,IF(EMCI!$F$27=\"S\",'4th milking (D)'!AH47,IF(EMCI!$F$27=\"P\",'4th milking (D)'!AI47,IF(EMCI!$F$27=\"FS\",'4th milking (D)'!AJ47,\"error\")))))","v":46.304756554370123}]
[{"$f":"E38","v":11.25},{"$f":"AL38","v":27.815885429749361},null,null,8.75,1.4705882352941178,5.8823529411764719E-2,null,1.1234473154100443E-2,5.4316710868272958E-2,0.13564812285312758,null,1.0393246069255789E-2,5.249107091270714E-2,0.13341475108351158,null,6.6085136200590849E-4,2.5020035625566748,null,240.34805110913678,null,3.1951006393101749E-3,2.4020921604606449,null,49.492376405497353,null,7.9793013443016248E-3,4.8641352417564656,null,8.5137868865230235,null,8.5137868865230235,49.492376405497353,240.34805110913678,8.5137868865230235,49.492376405497353,null,{"$f":"IF(EMCI!$F$27=\"A\",'4th milking (D)'!AF48,IF(EMCI!$F$27=\"B\",'4th milking (D)'!AG48,IF(EMCI!$F$27=\"S\",'4th milking (D)'!AH48,IF(EMCI!$F$27=\"P\",'4th milking (D)'!AI48,IF(EMCI!$F$27=\"FS\",'4th milking (D)'!AJ48,\"error\")))))","v":49.492376405497353}]
[{"$f":"E37","v":11.5},{"$f":"AL37","v":26.499840441540652},null,null,8.5,1.5294117647058822,5.8823529411764497E-2,null,9.5847515558058708E-3,5.0696638404250462E-2,0.13119909890466158,null,8.8089896137506871E-3,4.8933413349926902E-2,0.12900120803295215,null,5.6380891504740217E-4,2.5025673714717223,null,283.50954400375576,null,2.9821552002500164E-3,2.4050743156608947,null,53.029729722359164,null,7.7175940532153596E-3,4.8718528358096806,null,8.7452449584979455,null,8.7452449584979455,53.029729722359164,283.50954400375576,8.7452449584979455,53.029729722359164,null,{"$f":"IF(EMCI!$F$27=\"A\",'4th milking (D)'!AF49,IF(EMCI!$F$27=\"B\",'4th milking (D)'!AG49,IF(EMCI!$F$27=\"S\",'4th milking (D)'!AH49,IF(EMCI!$F$27=\"P\",'4th milking (D)'!AI49,IF(EMCI!$F$27=\"FS\",'4th milking (D)'!AJ49,\"error\")))))","v":53.029729722359164}]
[{"$f":"E36","v":11.75},{"$f":"AL36","v":25.28032955291884},null,null,8.25,1.588235294117647,5.8823529411764719E-2,null,8.0659602430902377E-3,4.7201395756256849E-2,0.12682111895344028,null,7.3556634438245181E-3,4.5500585629291837E-2,0.12465887095441666,null,4.744682495935435E-4,2.5030418397213157,null,339.46063184484296,null,2.7765526915445211E-3,2.4078508683524391,null,56.969577331743558,null,7.4600658207906066E-3,4.8793129016304713,null,8.9900308721657236,null,8.9900308721657236,56.969577331743558,339.46063184484296,8.9900308721657236,56.969577331743558,null,{"$f":"IF(EMCI!$F$27=\"A\",'4th milking (D)'!AF50,IF(EMCI!$F$27=\"B\",'4th milking (D)'!AG50,IF(EMCI!$F$27=\"S\",'4th milking (D)'!AH50,IF(EMCI!$F$27=\"P\",'4th milking (D)'!AI50,IF(EMCI!$F$27=\"FS\",'4th milking (D)'!AJ50,\"error\")))))","v":56.969577331743558}]
[{"$f":"E35","v":12},{"$f":"AL35","v":24.148269417344526},null,null,8,1.6470588235294117,5.8823529411764719E-2,null,6.6780992159535344E-3,4.3830982974647166E-2,0.12251450216103232,null,6.0332675594772841E-3,4.2192587797532113E-2,0.12038804956802177,null,3.9282936564432567E-4,2.50343466908696,null,413.79986985515689,null,2.5782931161557163E-3,2.4104291614685946,null,61.375018070896139,null,7.2067354212371967E-3,4.8865196370517081,null,9.2490938007858681,null,9.2490938007858681,61.375018070896139,413.79986985515689,9.2490938007858681,61.375018070896139,null,{"$f":"IF(EMCI!$F$27=\"A\",'4th milking (D)'!AF51,IF(EMCI!$F$27=\"B\",'4th milking (D)'!AG51,IF(EMCI!$F$27=\"S\",'4th milking (D)'!AH51,IF(EMCI!$F$27=\"P\",'4th milking (D)'!AI51,IF(EMCI!$F$27=\"FS\",'4th milking (D)'!AJ51,\"error\")))))","v":61.375018070896139}]
[{"$f":"E34","v":12.25},{"$f":"AL34","v":23.095620460449037},null,null,7.75,1.7058823529411764,5.8823529411764719E-2,null,5.4211684743957671E-3,4.0585400102778259E-2,0.11827954907154804,null,4.8418019607089843E-3,3.9009419894865949E-2,0.11618903550019019,null,3.1889226319975109E-4,2.5037535613501598,null,515.56144982937622,null,2.3873764766340158E-3,2.4128165379452287,null,66.322018349092957,null,6.9576205336204745E-3,4.8934772575853289,null,9.5234695567539998,null,9.5234695567539998,66.322018349092957,515.56144982937622,9.5234695567539998,66.322018349092957,null,{"$f":"IF(EMCI!$F$27=\"A\",'4th milking (D)'!AF52,IF(EMCI!$F$27=\"B\",'4th milking (D)'!AG52,IF(EMCI!$F$27=\"S\",'4th milking (D)'!AH52,IF(EMCI!$F$27=\"P\",'4th milking (D)'!AI52,IF(EMCI!$F$27=\"FS\",'4th milking (D)'!AJ52,\"error\")))))","v":66.322018349092957}]
[{"$f":"E33","v":12.5},{"$f":"AL33","v":22.11524619139049},null,null,7.5,1.7647058823529411,{"$f":"F53-F52","v":5.8823529411764719E-2},null,4.295168018416934E-3,3.7464647177948653E-2,0.11411654264509592,null,3.7812666475196171E-3,3.595108195587611E-2,0.1120621032893214,null,2.5265694225981973E-4,2.5040062182924196,null,660.09462288116276,null,2.2038027751734505E-3,2.4150203407204023,null,71.902694401582252,null,6.7127378026527029E-3,4.9001899953879819,null,9.8142902223826187,null,9.8142902223826187,71.902694401582252,660.09462288116276,9.8142902223826187,71.902694401582252,null,{"$f":"IF(EMCI!$F$27=\"A\",'4th milking (D)'!AF53,IF(EMCI!$F$27=\"B\",'4th milking (D)'!AG53,IF(EMCI!$F$27=\"S\",'4th milking (D)'!AH53,IF(EMCI!$F$27=\"P\",'4th milking (D)'!AI53,IF(EMCI!$F$27=\"FS\",'4th milking (D)'!AJ53,\"error\")))))","v":71.902694401582252}]
[{"$f":"E32","v":12.75},{"$f":"AL32","v":21.200794151080913},null,null,{"$f":"E53-0.25","v":7.25},1.8235294117647058,5.8823529411764719E-2,null,3.3000978480170352E-3,3.44687242322156E-2,0.11002574923637776,null,2.8516616199091853E-3,3.3017574010271708E-2,0.10800751133800611,null,1.9412340282453153E-4,{"$f":"R53+Q54","v":2.5042003416952441},null,875.20891008949297,null,2.0275720136597418E-3,{"$f":"W53+V54","v":2.4170479127340618},null,78.229614521720663,null,6.4721028962575165E-3,{"$f":"AB53+AA54","v":4.9066620982842393},null,10.122795055375308,null,10.122795055375308,78.229614521720663,875.20891008949297,10.122795055375308,78.229614521720663,null,{"$f":"IF(EMCI!$F$27=\"A\",'4th milking (D)'!AF54,IF(EMCI!$F$27=\"B\",'4th milking (D)'!AG54,IF(EMCI!$F$27=\"S\",'4th milking (D)'!AH54,IF(EMCI!$F$27=\"P\",'4th milking (D)'!AI54,IF(EMCI!$F$27=\"FS\",'4th milking (D)'!AJ54,\"error\")))))","v":78.229614521720663}]
[{"$f":"E31","v":13},{"$f":"AL31","v":20.346594776229267},null,null,7,1.8823529411764706,5.8823529411764719E-2,null,2.4359579631960701E-3,3.1597631293105111E-2,0.10600741952120002,null,2.0529868778776873E-3,3.0208896083549652E-2,0.10402550281449537,null,1.4329164489388651E-4,2.5043436333401381,null,1215.6221715551305,null,1.8586841937120657E-3,{"$f":"W54+V55","v":2.4189065969277741},null,85.441500276396013,null,6.2357305600705907E-3,{"$f":"AB54+AA55","v":4.9128978288443097},null,10.450342865386359,null,10.450342865386359,85.441500276396013,1215.6221715551305,10.450342865386359,85.441500276396013,null,{"$f":"IF(EMCI!$F$27=\"A\",'4th milking (D)'!AF55,IF(EMCI!$F$27=\"B\",'4th milking (D)'!AG55,IF(EMCI!$F$27=\"S\",'4th milking (D)'!AH55,IF(EMCI!$F$27=\"P\",'4th milking (D)'!AI55,IF(EMCI!$F$27=\"FS\",'4th milking (D)'!AJ55,\"error\")))))","v":85.441500276396013}]
[{"$f":"E30","v":13.25},{"$f":"AL30","v":19.54757516289963},null,null,6.75,1.9411764705882353,5.8823529411764719E-2,null,1.7027483639540388E-3,2.8851368384228526E-2,0.1020617893735461,null,1.3852424214251236E-3,2.7525048197569259E-2,0.10011630650600498,null,1.0016166846788466E-4,2.5044437950086058,null,1801.5303071818944,null,1.6971393167193255E-3,2.4206037362444932,null,93.710871829946285,null,6.0036346690321247E-3,4.9189014635133415,null,10.79842609277455,null,10.79842609277455,93.710871829946285,1801.5303071818944,10.79842609277455,93.710871829946285,null,{"$f":"IF(EMCI!$F$27=\"A\",'4th milking (D)'!AF56,IF(EMCI!$F$27=\"B\",'4th milking (D)'!AG56,IF(EMCI!$F$27=\"S\",'4th milking (D)'!AH56,IF(EMCI!$F$27=\"P\",'4th milking (D)'!AI56,IF(EMCI!$F$27=\"FS\",'4th milking (D)'!AJ56,\"error\")))))","v":93.710871829946285}]
[{"$f":"E29","v":13.5},{"$f":"AL29","v":18.799185272790933},null,null,6.5,2,5.8823529411764719E-2,null,1.100469050290942E-3,2.622993552581766E-2,9.8189080695726974E-2,null,8.4842825055149364E-4,2.4966030371050753E-2,9.6280137626312767E-2,null,6.4733473546526012E-5,2.5045085284821522,null,2941.3111478734158,null,1.5429373838716273E-3,2.4221466736283648,null,103.25443364679927,null,5.7758282762192352E-3,4.9246772917895605,null,11.168686862331203,null,11.168686862331203,103.25443364679927,2941.3111478734158,11.168686862331203,103.25443364679927,null,{"$f":"IF(EMCI!$F$27=\"A\",'4th milking (D)'!AF57,IF(EMCI!$F$27=\"B\",'4th milking (D)'!AG57,IF(EMCI!$F$27=\"S\",'4th milking (D)'!AH57,IF(EMCI!$F$27=\"P\",'4th milking (D)'!AI57,IF(EMCI!$F$27=\"FS\",'4th milking (D)'!AJ57,\"error\")))))","v":103.25443364679927}]
[{"$f":"E28","v":13.75},{"$f":"AL28","v":18.097334571967021},null,null,6.25,2.0588235294117645,5.8823529411764497E-2,null,6.2912002220677889E-4,2.3733332735188999E-2,9.4389502204009934E-2,null,4.4254436525679775E-4,2.2531842620007458E-2,9.2517198579988219E-2,null,3.7007060129810392E-5,2.5045455355422819,null,5638.8797606984926,null,1.3960783961875832E-3,2.4235427520245523,null,114.34738345312456,null,5.5523236590593883E-3,4.9302296154486198,null,11.562935334952686,null,11.562935334952686,114.34738345312456,5638.8797606984926,11.562935334952686,114.34738345312456,null,{"$f":"IF(EMCI!$F$27=\"A\",'4th milking (D)'!AF58,IF(EMCI!$F$27=\"B\",'4th milking (D)'!AG58,IF(EMCI!$F$27=\"S\",'4th milking (D)'!AH58,IF(EMCI!$F$27=\"P\",'4th milking (D)'!AI58,IF(EMCI!$F$27=\"FS\",'4th milking (D)'!AJ58,\"error\")))))","v":114.34738345312456}]
[{"$f":"E27","v":14},{"$f":"AL27","v":17.43833744990409},null,null,6,2.1176470588235294,5.8823529411764941E-2,null,2.887012797015501E-4,2.1361560027146304E-2,9.0663250172005841E-2,null,1.6759076554103596E-4,2.0222484958120589E-2,8.8827679685481262E-2,null,1.6982428217738308E-5,2.5045625179704998,null,14890.065535373858,null,1.256562354538023E-3,2.4247993143790905,null,127.34343434815146,null,5.3331323630591886E-3,4.9355627478116793,null,11.983170740891268,null,11.983170740891268,127.34343434815146,14890.065535373858,11.983170740891268,127.34343434815146,null,{"$f":"IF(EMCI!$F$27=\"A\",'4th milking (D)'!AF59,IF(EMCI!$F$27=\"B\",'4th milking (D)'!AG59,IF(EMCI!$F$27=\"S\",'4th milking (D)'!AH59,IF(EMCI!$F$27=\"P\",'4th milking (D)'!AI59,IF(EMCI!$F$27=\"FS\",'4th milking (D)'!AJ59,\"error\")))))","v":127.34343434815146}]
[{"$f":"E26","v":14.25},{"$f":"AL26","v":16.818866055345072},null,null,5.75,2.1764705882352939,5.8823529411764497E-2,null,7.921282277525533E-5,1.911461741432929E-2,8.7010509133988265E-2,null,2.3567451404208249E-5,1.8037957397063781E-2,8.5211759859187261E-2,null,4.6595778103091204E-6,2.50456717754831,null,105884.71276135105,null,1.1243892596664248E-3,2.4259237036387571,null,142.70331388964536,null,5.118265243175762E-3,4.9406810130548546,null,12.431605551812025,null,12.431605551812025,142.70331388964536,105884.71276135105,12.431605551812025,142.70331388964536,null,{"$f":"IF(EMCI!$F$27=\"A\",'4th milking (D)'!AF60,IF(EMCI!$F$27=\"B\",'4th milking (D)'!AG60,IF(EMCI!$F$27=\"S\",'4th milking (D)'!AH60,IF(EMCI!$F$27=\"P\",'4th milking (D)'!AI60,IF(EMCI!$F$27=\"FS\",'4th milking (D)'!AJ60,\"error\")))))","v":142.70331388964536}]
[{"$f":"E25","v":14.5},{"$f":"AL25","v":16.235909419118705},null,null,5.5,2.2352941176470589,5.8823529411764941E-2,null,0,1.6992504907515658E-2,8.3431452550209242E-2,null,0,1.5978259946784049E-2,8.1669607262505536E-2,null,0,2.50456717754831,null,105884.71276135105,null,9.9955911220680734E-4,2.426923262750964,null,161.03610442055177,null,4.9077325029535041E-3,4.9455887455578083,null,12.910693338503064,null,12.910693338503064,161.03610442055177,105884.71276135105,12.910693338503064,161.03610442055177,null,{"$f":"IF(EMCI!$F$27=\"A\",'4th milking (D)'!AF61,IF(EMCI!$F$27=\"B\",'4th milking (D)'!AG61,IF(EMCI!$F$27=\"S\",'4th milking (D)'!AH61,IF(EMCI!$F$27=\"P\",'4th milking (D)'!AI61,IF(EMCI!$F$27=\"FS\",'4th milking (D)'!AJ61,\"error\")))))","v":161.03610442055177}]
[{"$f":"E24","v":14.75},{"$f":"AL24","v":15.686737924087751},null,null,5.25,2.2941176470588234,5.8823529411764497E-2,null,0,1.4995222515882417E-2,7.9926243436178462E-2,null,0,1.4043392615744832E-2,7.8201379913805977E-2,null,0,2.50456717754831,null,105884.71276135105,null,8.8207191269896264E-4,2.4278053346636632,null,183.16048947121976,null,4.7015437315398928E-3,4.9502902892893479,null,13.423160970658682,null,13.423160970658682,183.16048947121976,105884.71276135105,13.423160970658682,183.16048947121976,null,{"$f":"IF(EMCI!$F$27=\"A\",'4th milking (D)'!AF62,IF(EMCI!$F$27=\"B\",'4th milking (D)'!AG62,IF(EMCI!$F$27=\"S\",'4th milking (D)'!AH62,IF(EMCI!$F$27=\"P\",'4th milking (D)'!AI62,IF(EMCI!$F$27=\"FS\",'4th milking (D)'!AJ62,\"error\")))))","v":183.16048947121976}]
[{"$f":"E23","v":15},{"$f":"AL23","v":15.168872337545867},null,null,5,2.3529411764705883,5.8823529411764941E-2,null,0,1.3122770247231881E-2,7.6495034957773558E-2,null,0,1.2233355411136097E-2,7.4807226267127047E-2,null,0,2.50456717754831,null,105884.71276135105,null,7.7192766160187848E-4,2.4285772623252653,null,210.19766460262841,null,4.4997079386925806E-3,4.9547899972280405,null,13.972045949674008,null,13.972045949674008,210.19766460262841,105884.71276135105,13.972045949674008,210.19766460262841,null,{"$f":"IF(EMCI!$F$27=\"A\",'4th milking (D)'!AF63,IF(EMCI!$F$27=\"B\",'4th milking (D)'!AG63,IF(EMCI!$F$27=\"S\",'4th milking (D)'!AH63,IF(EMCI!$F$27=\"P\",'4th milking (D)'!AI63,IF(EMCI!$F$27=\"FS\",'4th milking (D)'!AJ63,\"error\")))))","v":210.19766460262841}]
[null,null,null,null,null,null,null,null,null,null,null,null,null,null,null,null,null,null,null,null,null,null,null,null,null,null,null,null,null,null,null,null,null,null,null,0]
[null,null,null,null,null,null,null,null,null,null,null,null,null,null,null,null,null,null,null,null,null,null,null,null,null,null,null,null,null,null,null,null,null,null,null,0]
[null,null,null,null,null,null,null,null,null,null,null,null,null,null,null,null,null,null,null,null,null,null,null,null,null,null,null,null,null,null,null,null,null,null,null,0]
[null,null,null,null,null,null,null,null,null,null,null,null,null,null,null,null,null,null,null,null,null,null,null,null,null,null,null,null,null,null,null,null,null,null,null,0]
[null,null,null,null,null,null,null,null,null,null,null,null,null,null,null,null,null,null,null,null,null,null,null,null,null,null,null,null,null,null,null,null,null,null,null,0]
[null,null,null,null,null,null,null,null,null,null,null,null,null,null,null,null,null,null,null,null,null,null,null,null,null,null,null,null,null,null,null,null,null,null,null,0]
[null,null,null,null,null,null,null,null,null,null,null,null,null,null,null,null,null,null,null,null,null,null,null,null,null,null,null,null,null,null,null,null,null,null,null,0]
[null,null,null,null,null,null,null,null,null,null,null,null,null,null,null,null,null,null,null,null,null,null,null,null,null,null,null,null,null,null,null,null,null,null,null,0]
[null,null,null,null,null,null,null,null,null,null,null,null,null,null,null,null,null,null,null,null,null,null,null,null,null,null,null,null,null,null,null,null,null,null,null,0]
[null,null,null,null,null,null,null,null,null,null,null,null,null,null,null,null,null,null,null,null,null,null,null,null,null,null,null,null,null,null,null,null,null,null,null,0]
[null,null,null,null,null,null,null,null,null,null,null,null,null,null,null,null,null,null,null,null,null,null,null,null,null,null,null,null,null,null,null,null,null,null,null,0]
[null,null,null,null,null,null,null,null,null,null,null,null,null,null,null,null,null,null,null,null,null,null,null,null,null,null,null,null,null,null,null,null,null,null,null,0]
[null,null,null,null,null,null,null,null,null,null,null,null,null,null,null,null,null,null,null,null,null,null,null,null,null,null,null,null,null,null,null,null,null,null,null,0]
[null,null,null,null,null,null,null,null,null,null,null,null,null,null,null,null,null,null,null,null,null,null,null,null,null,null,null,null,null,null,null,null,null,null,null,0]
[null,null,null,null,null,null,null,null,null,null,null,null,null,null,null,null,null,null,null,null,null,null,null,null,null,null,null,null,null,null,null,null,null,null,null,0]
[null,null,null,null,null,null,null,null,null,null,null,null,null,null,null,null,null,null,null,null,null,null,null,null,null,null,null,null,null,null,null,null,null,null,null,0]
[null,null,null,null,null,null,null,null,null,null,null,null,null,null,null,null,null,null,null,null,null,null,null,null,null,null,null,null,null,null,null,null,null,null,null,0]
[null,null,null,null,null,null,null,null,null,null,null,null,null,null,null,null,null,null,null,null,null,null,null,null,null,null,null,null,null,null,null,null,null,null,null,0]
[null,null,null,null,null,null,null,null,null,null,null,null,null,null,null,null,null,null,null,null,null,null,null,null,null,null,null,null,null,null,null,null,null,null,null,0]
[null,null,null,null,null,null,null,null,null,null,null,null,null,null,null,null,null,null,null,null,null,null,null,null,null,null,null,null,null,null,null,null,null,null,null,0]
[null,null,null,null,null,null,null,null,null,null,null,null,null,null,null,null,null,null,null,null,null,null,null,null,null,null,null,null,null,null,null,null,null,null,null,0]
[null,null,null,null,null,null,null,null,null,null,null,null,null,null,null,null,null,null,null,null,null,null,null,null,null,null,null,null,null,null,null,null,null,null,null,0]
[null,null,null,null,null,null,null,null,null,null,null,null,null,null,null,null,null,null,null,null,null,null,null,null,null,null,null,null,null,null,null,null,null,null,null,0]
[null,null,null,null,null,null,null,null,null,null,null,null,null,null,null,null,null,null,null,null,null,null,null,null,null,null,null,null,null,null,null,null,null,null,null,0]
[null,null,null,null,null,null,null,null,null,null,null,null,null,null,null,null,null,null,null,null,null,null,null,null,null,null,null,null,null,null,null,null,null,null,null,{"$f":"MIN(AG88:AH88)","v":0}]
[null,null,null,null,null,null,null,null,null,null,null,null,null,null,null,null,null,null,null,null,null,null,null,null,null,null,null,null,null,null,null,null,null,null,null,0]
[null,null,null,null,null,null,null,null,null,null,null,null,null,null,null,null,null,null,null,null,null,null,null,null,null,null,null,null,null,null,null,null,null,null,null,0]
[null,null,null,null,null,null,null,null,null,null,null,null,null,null,null,null,null,null,null,null,null,null,null,null,null,null,null,null,null,null,null,null,null,null,null,0]
[null,null,null,null,null,null,null,null,null,null,null,null,null,null,null,null,null,null,null,null,null,null,null,null,null,null,null,null,null,null,null,null,null,null,null,0]
[null,null,null,null,null,null,null,null,null,null,null,null,null,null,null,null,null,null,null,null,null,null,null,null,null,null,null,null,null,null,null,null,null,null,null,0]
[null,null,null,null,null,null,null,null,null,null,null,null,null,null,null,null,null,null,null,null,null,null,null,null,null,null,null,null,null,null,null,null,null,null,null,0]
[null,null,null,null,null,null,null,null,null,null,null,null,null,null,null,null,null,null,null,null,null,null,null,null,null,null,null,null,null,null,null,null,null,null,null,0]
[null,null,null,null,null,null,null,null,null,null,null,null,null,null,null,null,null,null,null,null,null,null,null,null,null,null,null,null,null,null,null,null,null,null,null,0]
[null,null,null,null,null,null,null,null,null,null,null,null,null,null,null,null,null,null,null,null,null,null,null,null,null,null,null,null,null,null,null,null,null,null,null,0]
[null,null,null,null,null,null,null,null,null,null,null,null,null,null,null,null,null,null,null,null,null,null,null,null,null,null,null,null,null,null,null,null,null,null,null,0]
[null,null,null,null,null,null,null,null,null,null,null,null,null,null,null,null,null,null,null,null,null,null,null,null,null,null,null,null,null,null,null,null,null,null,null,0]
[null,null,null,null,null,null,null,null,null,null,null,null,null,null,null,null,null,null,null,null,null,null,null,null,null,null,null,null,null,null,null,null,null,null,null,0]
[null,null,null,null,null,null,null,null,null,null,null,null,null,null,null,null,null,null,null,null,null,null,null,null,null,null,null,null,null,null,null,null,null,null,null,0]
[null,null,null,null,null,null,null,null,null,null,null,null,null,null,null,null,null,null,null,null,null,null,null,null,null,null,null,null,null,null,null,null,null,null,null,0]
[null,null,null,null,null,null,null,null,null,null,null,null,null,null,null,null,null,null,null,null,null,null,null,null,null,null,null,null,null,null,null,null,null,null,null,0]

{"sheet":"4th milking (DF)","index":18,"n_rows":103,"n_cols":38,"rows_kept":103,"cut":false,"hidden":false,"merged":[]}
[]
["Entry",null,null,null,"Milk cooling curve (4th milking)",null,null,null,null,null,null,null,null,null,"Entry: ","Temp","Time"]
[null,null,null,null,null,null,null,null,null,null,null,null,null,null,null,{"$f":"E5","v":15},{"$f":"F5","v":0}]
["Milking",{"$f":"EMCI!F9","v":1},4,null,"T","t",null,null,null,null,null,null,null,null,null,{"$f":"E6","v":20},{"$f":"F6","v":0.5}]
["Time",{"$f":"EMCI!F11/60","v":0.5},"F",null,15,0]
["Milk T",{"$f":"EMCI!F13","v":20},null,null,{"$f":"B6","v":20},{"$f":"B5","v":0.5}]
["Volume",{"$f":"EMCI!F31","v":0},"D",null,null,null,null,null,null,null,null,null,null,null,null,"x","y","xy","xx"]
[null,null,null,null,null,null,null,null,null,null,null,null,null,null,null,{"$f":"Q3","v":0},{"$f":"P3","v":15},{"$f":"P8*Q8","v":0},{"$f":"P8*P8","v":0}]
[null,null,null,null,null,null,"Flexible",null,null,null,null,null,null,null,null,{"$f":"Q4","v":0.5},{"$f":"P4","v":20},{"$f":"P9*Q9","v":10},{"$f":"P9*P9","v":0.25}]
["Outcome",{"$f":"IF(OR(B6>P15,B6<5,B5>2.35),\"out\",LOOKUP(B6,A23:A103,B23:B103))","v":"out"},null,null,"slope ",-4.25,{"$f":"P12","v":10},null,null,null,null,null,null,null,"sum",{"$f":"SUM(P8:P9)","v":0.5},{"$f":"SUM(Q8:Q9)","v":35},10,0.25]
[null,null,null,null,"intercept",15,{"$f":"P13","v":15}]
[null,null,null,null,null,null,null,null,null,null,null,null,null,null,"slope",{"$f":"(2*R10-P10*Q10)/(2*S10-(P10^2))","v":10}]
[null,null,null,null,null,null,null,null,null,null,null,null,null,null,"intercept",{"$f":"(Q10-P12*P10)/2","v":15}]
[null,null,null,null,null,"No (logs)","Nf (logs)","Tmin",null,"N after milk (logs)","GR at 5C","Growth storage","N after stroage (logs)"]
[null,null,null,null,"S aureus",{"$f":"'3rd milking (D)'!M15","v":2.4363449125069034},{"$f":"'3rd milking (D)'!G15","v":5},5.6,null,{"$f":"R63","v":2.407350449864305},0,{"$f":"K15*(12-$F$6)","v":0},{"$f":"J15+L15","v":2.407350449864305},null,"TEST(max)",{"$f":"F10*Q4+F11","v":12.875}]
[null,null,null,null,"B cereus",{"$f":"'3rd milking (D)'!M16","v":2.2392395398648546},{"$f":"'3rd milking (D)'!G16","v":5},1.5,null,{"$f":"W63","v":2.1587710078191797},1.2233355411136097E-2,{"$f":"K16*(12-$F$6)","v":0.14068358722806512},{"$f":"J16+L16","v":2.2994545950472447}]
[null,null,null,null,"Pseudo",{"$f":"'3rd milking (D)'!M17","v":4.5757490718093283},{"$f":"'3rd milking (D)'!G17","v":6},-6.1,null,{"$f":"AB63","v":4.4146566785063728},7.4807226267127047E-2,{"$f":"K17*(12-$F$6)","v":0.86028310207196101},{"$f":"J17+L17","v":5.2749397805783342}]
[]
[]
[]
["Lookup function",null,null,null,"Cooling curve profile",null,null,null,"Growth (log/h) during cooling",null,null,null,"Growth (log/h) to calculate NMTL",null,null,null,"Saureus","Growth acc",null,"Time to NMTL (depending on initial logs)",null,"B cereus","Growth acc",null,"Time to NMTL (depending on initial logs)",null,"Pseudo","Growth acc",null,"Time to NMTL (depending on initial logs)",null,"NMTL","NMTL","NMTL","NMTL","NMTL",null,"NMTL"]
[{"$f":"E22","v":"Temp"},"NMTL",null,null,"Temp","Time","Time interval",null,"S. aureus","B.cereus","Pseudo",null,"S. aureus","B.cereus","Pseudo",null,"Growth interval",{"$f":"F15","v":2.4363449125069034},null,{"$f":"R22","v":2.4363449125069034},null,"Growth interval",{"$f":"F16","v":2.2392395398648546},null,{"$f":"W22","v":2.2392395398648546},null,"Growth interval",{"$f":"F17","v":4.5757490718093283},null,{"$f":"AB22","v":4.5757490718093283},null,"Shorter of 3 microorganisms","B. cereus","S. aureus","Pseudo","Food Safety",null,"Entry"]
[{"$f":"E63","v":5},{"$f":"AL63","v":232.2526319798109},null,null,{"$f":"E5","v":15},{"$f":"(E23-$G$11)/$G$10","v":0},{"$f":"F23","v":0},null,{"$f":"IF(E23>H15,(0.00033*(E23-5.6)*((6.5-2.8)*(1-EXP(0.5*(6.5-9.8)))*(36.7-0.9324)*(1-EXP(0.42*(-5-0.9324)))))^2,0)","v":9.2552000270036947E-2},{"$f":"IF(E23>$H$16,(((0.175*(E23-1.5)*SQRT(0.995-0.92)*(1-EXP(0.4395*(E23-45)))))^2)/2.3,0)","v":0.18200169390981913},{"$f":"IF(E23>$H$17,((0.1709*(E23+6.1)*SQRT(0.995-0.947)*(1-EXP(0.1723*(E23-41.2))))^2)/2.3,0)","v":0.26545898738016671},null,{"$f":"IF(E23>$H$15,(0.00033*(E23-5.6)*((6.5-2.8)*(1-EXP(0.5*(6.5-9.8)))*(36.7-0.9324)*(1-EXP(0.42*(-5-0.9324)))))^2,0)","v":9.2552000270036947E-2},{"$f":"IF(E23>$H$16,(((0.175*(E23-1.5)*SQRT(0.995-0.92)*(1-EXP(0.4395*(E23-45)))))^2)/2.3,0)","v":0.18200169390981913},{"$f":"IF(E23>$H$17,((0.1709*(E23+6.1)*SQRT(0.995-0.947)*(1-EXP(0.1723*(E23-41.2))))^2)/2.3,0)","v":0.26545898738016671},null,{"$f":"G23*I23","v":0},{"$f":"R22","v":2.4363449125069034},null,{"$f":"($G$15-R23)/M23","v":27.699618376838711},null,{"$f":"G23*J23","v":0},{"$f":"W22","v":2.2392395398648546},null,{"$f":"($G$16-W23)/N23","v":15.168872337545867},null,{"$f":"G23*K23","v":0},{"$f":"AB22","v":4.5757490718093283},null,{"$f":"($G$17-AB23)/O23","v":5.365239061019194},null,{"$f":"+MIN(AG23:AI23)","v":5.365239061019194},{"$f":"Y23","v":15.168872337545867},{"$f":"T23","v":27.699618376838711},{"$f":"AD23","v":5.365239061019194},{"$f":"MIN(AG23:AH23)","v":15.168872337545867},null,{"$f":"IF(EMCI!$F$27=\"A\",'4th milking (DF)'!AF23,IF(EMCI!$F$27=\"B\",'4th milking (DF)'!AG23,IF(EMCI!$F$27=\"S\",'4th milking (DF)'!AH23,IF(EMCI!$F$27=\"P\",'4th milking (DF)'!AI23,IF(EMCI!$F$27=\"FS\",'4th milking (DF)'!AJ23,\"error\")))))","v":15.168872337545867}]
[{"$f":"E62","v":5.25},{"$f":"AL62","v":202.2944882805275},null,null,{"$f":"E23-0.25","v":14.75},{"$f":"(E24-$G$11)/$G$10","v":-2.5000000000000001E-2},{"$f":"F24-F23","v":-2.5000000000000001E-2},null,{"$f":"IF(E24>$H$15,(0.00033*(((E24+E23)/2)-5.6)*((6.5-2.8)*(1-EXP(0.5*(6.5-9.8)))*(36.7-0.9324)*(1-EXP(0.42*(-5-0.9324)))))^2,0)","v":9.0106877186850329E-2},{"$f":"IF(E24>$H$16,(((0.175*(((E24+E23)/2)-1.5)*SQRT(0.995-0.92)*(1-EXP(0.4395*(((E24+E23)/2)-45)))))^2)/2.3,0)","v":0.17864693176209925},{"$f":"IF(E24>$H$17,((0.1709*(((E24+E23)/2)+6.1)*SQRT(0.995-0.947)*(1-EXP(0.1723*(((E24+E23)/2)-41.2))))^2)/2.3,0)","v":0.26244685184914474},null,{"$f":"IF(E24>$H$15,(0.00033*(E24-5.6)*((6.5-2.8)*(1-EXP(0.5*(6.5-9.8)))*(36.7-0.9324)*(1-EXP(0.42*(-5-0.9324)))))^2,0)","v":8.7694486675058483E-2},{"$f":"IF(E24>$H$16,(((0.175*(E24-1.5)*SQRT(0.995-0.92)*(1-EXP(0.4395*(E24-45)))))^2)/2.3,0)","v":0.17532337382058064},{"$f":"IF(E24>$H$17,((0.1709*(E24+6.1)*SQRT(0.995-0.947)*(1-EXP(0.1723*(E24-41.2))))^2)/2.3,0)","v":0.25944782857356635},null,-2.2526719296712583E-3,{"$f":"R23+Q24","v":2.4340922405772321},null,{"$f":"IF(M24=0,T23,($G$15-R24)/M24)","v":29.259624597957163},null,-4.4661732940524815E-3,{"$f":"W23+V24","v":2.2347733665708023},null,{"$f":"($G$16-W24)/N24","v":15.772150473553099},null,-6.5611712962286191E-3,{"$f":"AB23+AA24","v":4.5691879005131},null,{"$f":"($G$17-AB24)/O24","v":5.5148355156928739},null,{"$f":"+MIN(AG24:AI24)","v":5.5148355156928739},15.772150473553099,29.259624597957163,5.5148355156928739,{"$f":"MIN(AG24:AH24)","v":15.772150473553099},null,{"$f":"IF(EMCI!$F$27=\"A\",'4th milking (DF)'!AF24,IF(EMCI!$F$27=\"B\",'4th milking (DF)'!AG24,IF(EMCI!$F$27=\"S\",'4th milking (DF)'!AH24,IF(EMCI!$F$27=\"P\",'4th milking (DF)'!AI24,IF(EMCI!$F$27=\"FS\",'4th milking (DF)'!AJ24,\"error\")))))","v":15.772150473553099}]
[{"$f":"E61","v":5.5},{"$f":"AL61","v":177.77442924462224},null,null,{"$f":"E24-0.25","v":14.5},-0.05,{"$f":"F25-F24","v":-2.5000000000000001E-2},null,{"$f":"IF(E25>$H$15,(0.00033*(((E25+E24)/2)-5.6)*((6.5-2.8)*(1-EXP(0.5*(6.5-9.8)))*(36.7-0.9324)*(1-EXP(0.42*(-5-0.9324)))))^2,0)","v":8.5314828734661369E-2},{"$f":"IF(E25>$H$16,(((0.175*(((E25+E24)/2)-1.5)*SQRT(0.995-0.92)*(1-EXP(0.4395*(((E25+E24)/2)-45)))))^2)/2.3,0)","v":0.17203102030883713},{"$f":"IF(E25>$H$17,((0.1709*(((E25+E24)/2)+6.1)*SQRT(0.995-0.947)*(1-EXP(0.1723*(((E25+E24)/2)-41.2))))^2)/2.3,0)","v":0.25646208952582694},null,8.2967903365658943E-2,0.16876987143576827,0.25348980194113641,null,-2.1328707183665345E-3,{"$f":"R24+Q25","v":2.4319593698588657},null,{"$f":"IF(M25=0,T24,($G$15-R25)/M25)","v":30.952217977874877},null,-4.3007755077209284E-3,{"$f":"W24+V25","v":2.2304725910630814},null,16.410081878808366,null,-6.4115522381456742E-3,{"$f":"AB24+AA25","v":4.5627763482749542},null,{"$f":"($G$17-AB25)/O25","v":5.6697493970932511},null,5.6697493970932511,16.410081878808366,30.952217977874877,5.6697493970932511,16.410081878808366,null,{"$f":"IF(EMCI!$F$27=\"A\",'4th milking (DF)'!AF25,IF(EMCI!$F$27=\"B\",'4th milking (DF)'!AG25,IF(EMCI!$F$27=\"S\",'4th milking (DF)'!AH25,IF(EMCI!$F$27=\"P\",'4th milking (DF)'!AI25,IF(EMCI!$F$27=\"FS\",'4th milking (DF)'!AJ25,\"error\")))))","v":16.410081878808366}]
[{"$f":"E60","v":5.75},{"$f":"AL60","v":157.45137696141614},null,null,14.25,-7.4999999999999997E-2,-2.4999999999999994E-2,null,8.065371056805129E-2,0.16553992739654555,0.25053112844137798,null,7.8372250341838381E-2,0.16234118837349831,0.24758622715594111,null,-2.0163427642012816E-3,2.4299430270946645,null,{"$f":"IF(M26=0,T25,($G$15-R26)/M26)","v":32.792945994219231},null,-4.1384981849136382E-3,2.2263340928781679,null,17.085410886240773,null,-6.2632782110344483E-3,4.5565130700639198,null,5.8302392120822866,null,5.8302392120822866,17.085410886240773,32.792945994219231,5.8302392120822866,17.085410886240773,null,{"$f":"IF(EMCI!$F$27=\"A\",'4th milking (DF)'!AF26,IF(EMCI!$F$27=\"B\",'4th milking (DF)'!AG26,IF(EMCI!$F$27=\"S\",'4th milking (DF)'!AH26,IF(EMCI!$F$27=\"P\",'4th milking (DF)'!AI26,IF(EMCI!$F$27=\"FS\",'4th milking (DF)'!AJ26,\"error\")))))","v":17.085410886240773}]
[{"$f":"E59","v":6},{"$f":"AL59","v":140.41911121132571},null,null,14,-0.1,-2.5000000000000008E-2,null,7.612352268702019E-2,0.15917365453694315,0.24465525183959377,null,7.3907527603596743E-2,0.15603732604596116,0.24173835198745908,null,-1.9030880671755054E-3,2.4280399390274892,null,34.799703688739619,null,-3.9793413634235802E-3,2.2223547515147444,null,17.801158984659182,null,-6.1163812959898461E-3,4.5503966887679299,null,5.9965797702934314,null,5.9965797702934314,17.801158984659182,34.799703688739619,5.9965797702934314,17.801158984659182,null,{"$f":"IF(EMCI!$F$27=\"A\",'4th milking (DF)'!AF27,IF(EMCI!$F$27=\"B\",'4th milking (DF)'!AG27,IF(EMCI!$F$27=\"S\",'4th milking (DF)'!AH27,IF(EMCI!$F$27=\"P\",'4th milking (DF)'!AI27,IF(EMCI!$F$27=\"FS\",'4th milking (DF)'!AJ27,\"error\")))))","v":17.801158984659182}]
[{"$f":"E58","v":6.25},{"$f":"AL58","v":126.00342427307783},null,null,13.75,-0.125,-2.4999999999999994E-2,null,7.1724265091567985E-2,0.1529322030491248,0.23883567294716018,null,6.9573735150934013E-2,0.1498582856851797,0.23594735602819444,null,-1.7931066272891991E-3,2.4262468324001998,null,36.993172236854498,null,-3.8233050762281192E-3,2.2185314464385164,null,18.560659097654138,null,-5.9708918236790033E-3,4.5444257969442505,null,6.1690634197308665,null,6.1690634197308665,18.560659097654138,36.993172236854498,6.1690634197308665,18.560659097654138,null,{"$f":"IF(EMCI!$F$27=\"A\",'4th milking (DF)'!AF28,IF(EMCI!$F$27=\"B\",'4th milking (DF)'!AG28,IF(EMCI!$F$27=\"S\",'4th milking (DF)'!AH28,IF(EMCI!$F$27=\"P\",'4th milking (DF)'!AI28,IF(EMCI!$F$27=\"FS\",'4th milking (DF)'!AJ28,\"error\")))))","v":18.560659097654138}]
[{"$f":"E57","v":6.5},{"$f":"AL57","v":113.69432584188485},null,null,13.5,-0.15,-2.4999999999999994E-2,null,6.745593778169473E-2,0.14681557408368173,0.23307353860860081,null,6.5370872983850206E-2,0.14380406836559409,0.23021435423897771,null,-1.686398444542368E-3,2.4245604339556572,null,39.397356169323331,null,-3.6703893520920426E-3,2.2148610570864244,null,19.367594912773242,null,-5.8268384652150193E-3,4.5385989584790352,null,6.3480013935357569,null,6.3480013935357569,19.367594912773242,39.397356169323331,6.3480013935357569,19.367594912773242,null,{"$f":"IF(EMCI!$F$27=\"A\",'4th milking (DF)'!AF29,IF(EMCI!$F$27=\"B\",'4th milking (DF)'!AG29,IF(EMCI!$F$27=\"S\",'4th milking (DF)'!AH29,IF(EMCI!$F$27=\"P\",'4th milking (DF)'!AI29,IF(EMCI!$F$27=\"FS\",'4th milking (DF)'!AJ29,\"error\")))))","v":19.367594912773242}]
[{"$f":"E56","v":6.75},{"$f":"AL56","v":103.10028244917305},null,null,13.25,-0.17499999999999999,-2.4999999999999994E-2,null,6.3318540757400427E-2,0.14082376864384633,0.22736993274391495,null,6.1298941102345371E-2,0.13787467502385675,0.22454040032089267,null,-1.5829635189350104E-3,2.4229774704367224,null,42.040245446665274,null,-3.5205942160961572E-3,2.2113404628703281,null,20.226046129553119,null,-5.6842483185978723E-3,4.532914710160437,null,6.5337252794728187,null,6.5337252794728187,20.226046129553119,42.040245446665274,6.5337252794728187,20.226046129553119,null,{"$f":"IF(EMCI!$F$27=\"A\",'4th milking (DF)'!AF30,IF(EMCI!$F$27=\"B\",'4th milking (DF)'!AG30,IF(EMCI!$F$27=\"S\",'4th milking (DF)'!AH30,IF(EMCI!$F$27=\"P\",'4th milking (DF)'!AI30,IF(EMCI!$F$27=\"FS\",'4th milking (DF)'!AJ30,\"error\")))))","v":20.226046129553119}]
[{"$f":"E55","v":7},{"$f":"AL55","v":93.916671153430485},null,null,13,-0.2,-2.5000000000000022E-2,null,5.9312074018685053E-2,0.13495678760402277,0.22172587963671017,null,5.7357939506419459E-2,0.13207010647617853,0.21892648992149663,null,-1.4828018504671277E-3,2.4214946685862553,null,44.95463668329927,null,-3.3739196901005721E-3,2.2079665431802278,null,21.140540666735745,null,-5.543146990917759E-3,4.5273715631695195,null,6.7265886250610443,null,6.7265886250610443,21.140540666735745,44.95463668329927,6.7265886250610443,21.140540666735745,null,{"$f":"IF(EMCI!$F$27=\"A\",'4th milking (DF)'!AF31,IF(EMCI!$F$27=\"B\",'4th milking (DF)'!AG31,IF(EMCI!$F$27=\"S\",'4th milking (DF)'!AH31,IF(EMCI!$F$27=\"P\",'4th milking (DF)'!AI31,IF(EMCI!$F$27=\"FS\",'4th milking (DF)'!AJ31,\"error\")))))","v":21.140540666735745}]
[{"$f":"E54","v":7.25},{"$f":"AL54","v":85.903616592853922},null,null,12.75,-0.22500000000000001,-2.4999999999999994E-2,null,5.5436537565548595E-2,0.12921463172602407,0.21614234706036106,null,5.3547868196072462E-2,0.12639036343352611,0.21337356368273519,null,-1.3859134391387147E-3,2.4201087551471168,null,48.179158793143301,null,-3.230365793150601E-3,2.2047361773870771,null,22.116115079319851,null,-5.4035586765090252E-3,4.5219680044930106,null,6.9269686928258496,null,6.9269686928258496,22.116115079319851,48.179158793143301,6.9269686928258496,22.116115079319851,null,{"$f":"IF(EMCI!$F$27=\"A\",'4th milking (DF)'!AF32,IF(EMCI!$F$27=\"B\",'4th milking (DF)'!AG32,IF(EMCI!$F$27=\"S\",'4th milking (DF)'!AH32,IF(EMCI!$F$27=\"P\",'4th milking (DF)'!AI32,IF(EMCI!$F$27=\"FS\",'4th milking (DF)'!AJ32,\"error\")))))","v":22.116115079319851}]
[{"$f":"E53","v":7.5},{"$f":"AL53","v":78.870152057699158},null,null,12.5,-0.25,-2.4999999999999994E-2,null,5.1691931397991081E-2,0.12359730167329401,0.21062024924946207,null,4.9868727171304417E-2,0.12083544651493101,0.20788251013768322,null,-1.2922982849497768E-3,2.4188164568621668,null,51.759563348613078,null,-3.0899325418323495E-3,2.2016462448452447,null,23.158384694750783,null,-5.2655062312365504E-3,4.5167024982617745,null,7.1352683819135088,null,7.1352683819135088,23.158384694750783,51.759563348613078,7.1352683819135088,23.158384694750783,null,{"$f":"IF(EMCI!$F$27=\"A\",'4th milking (DF)'!AF33,IF(EMCI!$F$27=\"B\",'4th milking (DF)'!AG33,IF(EMCI!$F$27=\"S\",'4th milking (DF)'!AH33,IF(EMCI!$F$27=\"P\",'4th milking (DF)'!AI33,IF(EMCI!$F$27=\"FS\",'4th milking (DF)'!AJ33,\"error\")))))","v":23.158384694750783}]
[{"$f":"E52","v":7.75},{"$f":"AL52","v":72.662723310385829},null,null,12.25,-0.27500000000000002,-2.5000000000000022E-2,null,4.807825551601249E-2,0.11810479802336256,0.20516044972357486,null,4.6320516432115315E-2,0.11540535625914415,0.2024541684629837,null,-1.2019563879003133E-3,2.4176145004742664,null,55.750360713493542,null,-2.9526199505840664E-3,2.1986936248946605,null,24.273625297035359,null,-5.129011243089376E-3,4.5115734870186852,null,7.351918334314048,null,7.351918334314048,24.273625297035359,55.750360713493542,7.351918334314048,24.273625297035359,null,{"$f":"IF(EMCI!$F$27=\"A\",'4th milking (DF)'!AF34,IF(EMCI!$F$27=\"B\",'4th milking (DF)'!AG34,IF(EMCI!$F$27=\"S\",'4th milking (DF)'!AH34,IF(EMCI!$F$27=\"P\",'4th milking (DF)'!AI34,IF(EMCI!$F$27=\"FS\",'4th milking (DF)'!AJ34,\"error\")))))","v":24.273625297035359}]
[{"$f":"E51","v":8},{"$f":"AL51","v":67.156725795388894},null,null,12,-0.3,-2.4999999999999967E-2,null,4.459550991961285E-2,0.11273712127874896,0.19976376397001153,null,4.2903235978505136E-2,0.11010009313483672,0.19708933109359619,null,-1.1148877479903198E-3,2.4164996127262759,null,60.216912042906934,null,-2.8184280319687202E-3,2.1958751968626919,null,25.468868583999917,null,-4.9940940992502817E-3,4.5065793929194351,null,7.5773792462228764,null,7.5773792462228764,25.468868583999917,60.216912042906934,7.5773792462228764,25.468868583999917,null,{"$f":"IF(EMCI!$F$27=\"A\",'4th milking (DF)'!AF35,IF(EMCI!$F$27=\"B\",'4th milking (DF)'!AG35,IF(EMCI!$F$27=\"S\",'4th milking (DF)'!AH35,IF(EMCI!$F$27=\"P\",'4th milking (DF)'!AI35,IF(EMCI!$F$27=\"FS\",'4th milking (DF)'!AJ35,\"error\")))))","v":25.468868583999917}]
[{"$f":"E50","v":8.25},{"$f":"AL50","v":62.250193828691003},null,null,11.75,-0.32500000000000001,-2.5000000000000022E-2,null,4.1243694608792139E-2,0.10749427187650554,0.19443096199213733,null,3.961688581047388E-2,0.10491965754952723,0.19178874620621136,null,-1.0310923652198044E-3,2.4154685203610562,null,65.238128307289799,null,-2.687356796912641E-3,2.1931878400657792,null,26.752014117175971,null,-4.8607740498034374E-3,4.5017186188696314,null,7.8121444076776836,null,7.8121444076776836,26.752014117175971,65.238128307289799,7.8121444076776836,26.752014117175971,null,{"$f":"IF(EMCI!$F$27=\"A\",'4th milking (DF)'!AF36,IF(EMCI!$F$27=\"B\",'4th milking (DF)'!AG36,IF(EMCI!$F$27=\"S\",'4th milking (DF)'!AH36,IF(EMCI!$F$27=\"P\",'4th milking (DF)'!AI36,IF(EMCI!$F$27=\"FS\",'4th milking (DF)'!AJ36,\"error\")))))","v":26.752014117175971}]
[{"$f":"E49","v":8.5},{"$f":"AL49","v":57.85903835487683},null,null,11.5,-0.35,-2.4999999999999967E-2,null,3.8022809583550352E-2,0.10237625019656743,0.18916277072942361,null,3.6461465928021568E-2,9.9864049857391432E-2,0.18655312007743888,null,-9.5057023958875755E-4,2.4145179501214673,null,70.90998631219388,null,-2.5594062549141824E-3,2.1906284338108648,null,28.131961103129644,null,-4.7290692682355837E-3,4.4969895496013956,null,8.0567424965859544,null,8.0567424965859544,28.131961103129644,70.90998631219388,8.0567424965859544,28.131961103129644,null,{"$f":"IF(EMCI!$F$27=\"A\",'4th milking (DF)'!AF37,IF(EMCI!$F$27=\"B\",'4th milking (DF)'!AG37,IF(EMCI!$F$27=\"S\",'4th milking (DF)'!AH37,IF(EMCI!$F$27=\"P\",'4th milking (DF)'!AI37,IF(EMCI!$F$27=\"FS\",'4th milking (DF)'!AJ37,\"error\")))))","v":28.131961103129644}]
[{"$f":"E48","v":8.75},{"$f":"AL48","v":53.913413742207936},null,null,11.25,-0.375,-2.5000000000000022E-2,null,3.4932854843887522E-2,9.7383056569056464E-2,0.18395987635523695,null,3.3436976331148192E-2,9.4933270366092032E-2,0.18138311932263304,null,-8.7332137109718882E-4,2.4136446287503701,null,77.350157072675032,null,-2.4345764142264139E-3,2.1881938573966382,null,29.618764125160425,null,-4.5989969088809281E-3,4.4923905526925143,null,8.3117406566696186,null,8.3117406566696186,29.618764125160425,77.350157072675032,8.3117406566696186,29.618764125160425,null,{"$f":"IF(EMCI!$F$27=\"A\",'4th milking (DF)'!AF38,IF(EMCI!$F$27=\"B\",'4th milking (DF)'!AG38,IF(EMCI!$F$27=\"S\",'4th milking (DF)'!AH38,IF(EMCI!$F$27=\"P\",'4th milking (DF)'!AI38,IF(EMCI!$F$27=\"FS\",'4th milking (DF)'!AJ38,\"error\")))))","v":29.618764125160425}]
[{"$f":"E47","v":9},{"$f":"AL47","v":50.354917750697439},null,null,11,-0.4,-2.5000000000000022E-2,null,3.1973830389803601E-2,9.2514691280667832E-2,0.17882292645810682,null,3.054341701985375E-2,9.0127319342750936E-2,0.17627937302097987,null,-7.9934575974509076E-4,2.4128452829906251,null,84.704167687841846,null,-2.3128672820166979E-3,2.1858809901146214,null,31.223817932311796,null,-4.4705731614526744E-3,4.4879199795310614,null,8.5777478927666628,null,8.5777478927666628,31.223817932311796,84.704167687841846,8.5777478927666628,31.223817932311796,null,{"$f":"IF(EMCI!$F$27=\"A\",'4th milking (DF)'!AF39,IF(EMCI!$F$27=\"B\",'4th milking (DF)'!AG39,IF(EMCI!$F$27=\"S\",'4th milking (DF)'!AH39,IF(EMCI!$F$27=\"P\",'4th milking (DF)'!AI39,IF(EMCI!$F$27=\"FS\",'4th milking (DF)'!AJ39,\"error\")))))","v":31.223817932311796}]
[{"$f":"E46","v":9.25},{"$f":"AL46","v":47.134413257719842},null,null,10.75,-0.42499999999999999,-2.4999999999999967E-2,null,2.9145736221298631E-2,8.7771154580253072E-2,0.1737525321119813,null,2.7780787994138238E-2,8.5446197019167794E-2,0.17124247473224119,null,-7.2864340553246477E-4,2.4121166395850926,null,93.153706113770141,null,-2.1942788645063238E-3,2.183686711250115,null,32.960077651181045,null,-4.343813302799527E-3,4.4835761662282616,null,8.855418821427655,null,8.855418821427655,32.960077651181045,93.153706113770141,8.855418821427655,32.960077651181045,null,{"$f":"IF(EMCI!$F$27=\"A\",'4th milking (DF)'!AF40,IF(EMCI!$F$27=\"B\",'4th milking (DF)'!AG40,IF(EMCI!$F$27=\"S\",'4th milking (DF)'!AH40,IF(EMCI!$F$27=\"P\",'4th milking (DF)'!AI40,IF(EMCI!$F$27=\"FS\",'4th milking (DF)'!AJ40,\"error\")))))","v":32.960077651181045}]
[{"$f":"E45","v":9.5},{"$f":"AL45","v":44.210318817590107},null,null,10.5,-0.45,-2.5000000000000022E-2,null,2.644857233837258E-2,8.3152446683698977E-2,0.16874926984075,null,2.5149089254001666E-2,8.0889903596380763E-2,0.1662729844103209,null,-6.6121430845931509E-4,2.4114554252766331,null,102.92796484912405,null,-2.0788111670924764E-3,2.1816079000830224,null,34.842322398849788,null,-4.2187317460187536E-3,4.4793574344822424,null,9.1454578199257259,null,9.1454578199257259,34.842322398849788,102.92796484912405,9.1454578199257259,34.842322398849788,null,{"$f":"IF(EMCI!$F$27=\"A\",'4th milking (DF)'!AF41,IF(EMCI!$F$27=\"B\",'4th milking (DF)'!AG41,IF(EMCI!$F$27=\"S\",'4th milking (DF)'!AH41,IF(EMCI!$F$27=\"P\",'4th milking (DF)'!AI41,IF(EMCI!$F$27=\"FS\",'4th milking (DF)'!AJ41,\"error\")))))","v":34.842322398849788}]
[{"$f":"E44","v":9.75},{"$f":"AL44","v":41.547256180062895},null,null,10.25,-0.47499999999999998,-2.4999999999999967E-2,null,2.3882338741025473E-2,7.8658567778189678E-2,0.16381368348209219,null,2.2648320799444024E-2,7.6458439248649382E-2,0.16137143021860539,null,-5.9705846852563607E-4,2.4108583668081076,null,114.31936416475747,null,-1.9664641944547394E-3,2.1796414358885676,null,36.887472355267221,null,-4.0953420870522995E-3,4.47526209239519,null,9.4486236227769052,null,9.4486236227769052,36.887472355267221,114.31936416475747,9.4486236227769052,36.887472355267221,null,{"$f":"IF(EMCI!$F$27=\"A\",'4th milking (DF)'!AF42,IF(EMCI!$F$27=\"B\",'4th milking (DF)'!AG42,IF(EMCI!$F$27=\"S\",'4th milking (DF)'!AH42,IF(EMCI!$F$27=\"P\",'4th milking (DF)'!AI42,IF(EMCI!$F$27=\"FS\",'4th milking (DF)'!AJ42,\"error\")))))","v":36.887472355267221}]
[{"$f":"E43","v":10},{"$f":"AL43","v":39.114972053881381},null,null,10,-0.5,-2.5000000000000022E-2,null,2.14470354292573E-2,7.428951802592855E-2,0.15894628595549334,null,2.0278482630465319E-2,7.2151804126932312E-2,0.15653831025181383,null,-5.3617588573143292E-4,2.410322190922376,null,127.70569949780311,null,-1.8572379506482154E-3,2.1777841979379193,null,39.114972053881381,null,-3.9736571488873367E-3,4.4712884352463025,null,9.7657344217818025,null,9.7657344217818025,39.114972053881381,127.70569949780311,9.7657344217818025,39.114972053881381,null,{"$f":"IF(EMCI!$F$27=\"A\",'4th milking (DF)'!AF43,IF(EMCI!$F$27=\"B\",'4th milking (DF)'!AG43,IF(EMCI!$F$27=\"S\",'4th milking (DF)'!AH43,IF(EMCI!$F$27=\"P\",'4th milking (DF)'!AI43,IF(EMCI!$F$27=\"FS\",'4th milking (DF)'!AJ43,\"error\")))))","v":39.114972053881381}]
[{"$f":"E42","v":10.25},{"$f":"AL42","v":36.887472355267221},null,null,9.75,-0.52500000000000002,-2.5000000000000022E-2,null,1.9142662403068059E-2,7.0045297567387574E-2,0.15414756093906151,null,1.8039574747065537E-2,6.7969998361922884E-2,0.15177409416889009,null,-4.7856656007670191E-4,2.4098436243622992,null,143.58189768630973,null,-1.7511324391846909E-3,2.1760330654987348,null,41.547256180062895,null,-3.853689023476541E-3,4.4674347462228257,null,10.097673533612246,null,10.097673533612246,41.547256180062895,143.58189768630973,10.097673533612246,41.547256180062895,null,{"$f":"IF(EMCI!$F$27=\"A\",'4th milking (DF)'!AF44,IF(EMCI!$F$27=\"B\",'4th milking (DF)'!AG44,IF(EMCI!$F$27=\"S\",'4th milking (DF)'!AH44,IF(EMCI!$F$27=\"P\",'4th milking (DF)'!AI44,IF(EMCI!$F$27=\"FS\",'4th milking (DF)'!AJ44,\"error\")))))","v":41.547256180062895}]
[{"$f":"E41","v":10.5},{"$f":"AL41","v":34.842322398849788},null,null,9.5,-0.55000000000000004,-2.5000000000000022E-2,null,1.6969219662457756E-2,6.5925906524142819E-2,0.14941796445957814,null,1.5931597149244706E-2,6.3913022066697509E-2,0.14707922474126942,null,-4.2423049156144427E-4,2.4094193938707376,null,162.60645946926158,null,-1.648147663103572E-3,2.1743849178356314,null,44.210318817590107,null,-3.7354491114894566E-3,4.4636992971113365,null,10.445395708273598,null,10.445395708273598,44.210318817590107,162.60645946926158,10.445395708273598,44.210318817590107,null,{"$f":"IF(EMCI!$F$27=\"A\",'4th milking (DF)'!AF45,IF(EMCI!$F$27=\"B\",'4th milking (DF)'!AG45,IF(EMCI!$F$27=\"S\",'4th milking (DF)'!AH45,IF(EMCI!$F$27=\"P\",'4th milking (DF)'!AI45,IF(EMCI!$F$27=\"FS\",'4th milking (DF)'!AJ45,\"error\")))))","v":44.210318817590107}]
[{"$f":"E40","v":10.75},{"$f":"AL40","v":32.960077651181045},null,null,9.25,-0.57499999999999996,-2.4999999999999911E-2,null,1.4926707207426384E-2,6.1931345001347733E-2,0.14475792640001692,null,1.3954549837002799E-2,5.9980875339025456E-2,0.1424541193206629,null,-3.7316768018565827E-4,2.4090462261905521,null,185.67089616456886,null,-1.5482836250336879E-3,2.1728366342105976,null,47.134413257719842,null,-3.6189481600004099E-3,4.4600803489513359,null,10.809934162607957,null,10.809934162607957,47.134413257719842,185.67089616456886,10.809934162607957,47.134413257719842,null,{"$f":"IF(EMCI!$F$27=\"A\",'4th milking (DF)'!AF46,IF(EMCI!$F$27=\"B\",'4th milking (DF)'!AG46,IF(EMCI!$F$27=\"S\",'4th milking (DF)'!AH46,IF(EMCI!$F$27=\"P\",'4th milking (DF)'!AI46,IF(EMCI!$F$27=\"FS\",'4th milking (DF)'!AJ46,\"error\")))))","v":47.134413257719842}]
[{"$f":"E39","v":11},{"$f":"AL39","v":31.223817932311796},null,null,9,-0.6,-2.5000000000000022E-2,null,1.3015125037973942E-2,5.8061613089890336E-2,0.1401678519285815,null,1.2108432810339827E-2,5.6173558263382765E-2,0.13789917123031473,null,-3.2537812594934885E-4,2.4087208480646027,null,214.00615525756649,null,-1.4515403272472598E-3,2.1713850938833503,null,50.354917750697439,null,-3.5041962982145405E-3,4.4565761526531213,null,11.192408435646811,null,11.192408435646811,50.354917750697439,214.00615525756649,11.192408435646811,50.354917750697439,null,{"$f":"IF(EMCI!$F$27=\"A\",'4th milking (DF)'!AF47,IF(EMCI!$F$27=\"B\",'4th milking (DF)'!AG47,IF(EMCI!$F$27=\"S\",'4th milking (DF)'!AH47,IF(EMCI!$F$27=\"P\",'4th milking (DF)'!AI47,IF(EMCI!$F$27=\"FS\",'4th milking (DF)'!AJ47,\"error\")))))","v":50.354917750697439}]
[{"$f":"E38","v":11.25},{"$f":"AL38","v":29.618764125160425},null,null,8.75,-0.625,-2.5000000000000022E-2,null,1.1234473154100443E-2,5.4316710868272958E-2,0.13564812285312758,null,1.0393246069255789E-2,5.249107091270714E-2,0.13341475108351158,null,-2.8086182885251129E-4,2.4084399862357504,null,249.35039510228964,null,-1.3579177717068251E-3,2.1700271761116436,null,53.913413742207936,null,-3.3912030713281927E-3,4.453184949581793,null,11.594033177410576,null,11.594033177410576,53.913413742207936,249.35039510228964,11.594033177410576,53.913413742207936,null,{"$f":"IF(EMCI!$F$27=\"A\",'4th milking (DF)'!AF48,IF(EMCI!$F$27=\"B\",'4th milking (DF)'!AG48,IF(EMCI!$F$27=\"S\",'4th milking (DF)'!AH48,IF(EMCI!$F$27=\"P\",'4th milking (DF)'!AI48,IF(EMCI!$F$27=\"FS\",'4th milking (DF)'!AJ48,\"error\")))))","v":53.913413742207936}]
[{"$f":"E37","v":11.5},{"$f":"AL37","v":28.131961103129644},null,null,8.5,-0.65,-2.5000000000000022E-2,null,9.5847515558058708E-3,5.0696638404250462E-2,0.13119909890466158,null,8.8089896137506871E-3,4.8933413349926902E-2,0.12900120803295215,null,-2.3961878889514697E-4,2.4082003674468551,null,294.22212378447904,null,-1.2674159601062628E-3,2.1687597601515374,null,57.85903835487683,null,-3.2799774726165426E-3,4.4499049721091763,null,12.016128000094902,null,12.016128000094902,57.85903835487683,294.22212378447904,12.016128000094902,57.85903835487683,null,{"$f":"IF(EMCI!$F$27=\"A\",'4th milking (DF)'!AF49,IF(EMCI!$F$27=\"B\",'4th milking (DF)'!AG49,IF(EMCI!$F$27=\"S\",'4th milking (DF)'!AH49,IF(EMCI!$F$27=\"P\",'4th milking (DF)'!AI49,IF(EMCI!$F$27=\"FS\",'4th milking (DF)'!AJ49,\"error\")))))","v":57.85903835487683}]
[{"$f":"E36","v":11.75},{"$f":"AL36","v":26.752014117175971},null,null,8.25,-0.67500000000000004,-2.5000000000000022E-2,null,8.0659602430902377E-3,4.7201395756256849E-2,0.12682111895344028,null,7.3556634438245181E-3,4.5500585629291837E-2,0.12465887095441666,null,-2.0164900607725611E-4,2.4079987184407776,null,352.38171258846126,null,-1.1800348939064224E-3,2.1675797252576308,null,62.250193828691003,null,-3.1705279738360099E-3,4.4467344441353402,null,12.460128540973502,null,12.460128540973502,62.250193828691003,352.38171258846126,12.460128540973502,62.250193828691003,null,{"$f":"IF(EMCI!$F$27=\"A\",'4th milking (DF)'!AF50,IF(EMCI!$F$27=\"B\",'4th milking (DF)'!AG50,IF(EMCI!$F$27=\"S\",'4th milking (DF)'!AH50,IF(EMCI!$F$27=\"P\",'4th milking (DF)'!AI50,IF(EMCI!$F$27=\"FS\",'4th milking (DF)'!AJ50,\"error\")))))","v":62.250193828691003}]
[{"$f":"E35","v":12},{"$f":"AL35","v":25.468868583999917},null,null,8,-0.7,-2.4999999999999911E-2,null,6.6780992159535344E-3,4.3830982974647166E-2,0.12251450216103232,null,6.0332675594772841E-3,4.2192587797532113E-2,0.12038804956802177,null,-1.6695248039883776E-4,2.407831765960379,null,429.64582765233831,null,-1.0957745743661752E-3,2.1664839506832645,null,67.156725795388894,null,-3.0628625540257974E-3,4.4436715815813148,null,12.927598910382937,null,12.927598910382937,67.156725795388894,429.64582765233831,12.927598910382937,67.156725795388894,null,{"$f":"IF(EMCI!$F$27=\"A\",'4th milking (DF)'!AF51,IF(EMCI!$F$27=\"B\",'4th milking (DF)'!AG51,IF(EMCI!$F$27=\"S\",'4th milking (DF)'!AH51,IF(EMCI!$F$27=\"P\",'4th milking (DF)'!AI51,IF(EMCI!$F$27=\"FS\",'4th milking (DF)'!AJ51,\"error\")))))","v":67.156725795388894}]
[{"$f":"E34","v":12.25},{"$f":"AL34","v":24.273625297035359},null,null,7.75,-0.72499999999999998,-2.5000000000000022E-2,null,5.4211684743957671E-3,4.0585400102778259E-2,0.11827954907154804,null,4.8418019607089843E-3,3.9009419894865949E-2,0.11618903550019019,null,-1.355292118598943E-4,2.4076962367485191,null,535.40061825905207,null,-1.0146350025694573E-3,2.1654693156806952,null,72.662723310385829,null,-2.9569887267887037E-3,4.4407145928545262,null,13.420245726567904,null,13.420245726567904,72.662723310385829,535.40061825905207,13.420245726567904,72.662723310385829,null,{"$f":"IF(EMCI!$F$27=\"A\",'4th milking (DF)'!AF52,IF(EMCI!$F$27=\"B\",'4th milking (DF)'!AG52,IF(EMCI!$F$27=\"S\",'4th milking (DF)'!AH52,IF(EMCI!$F$27=\"P\",'4th milking (DF)'!AI52,IF(EMCI!$F$27=\"FS\",'4th milking (DF)'!AJ52,\"error\")))))","v":72.662723310385829}]
[{"$f":"E33","v":12.5},{"$f":"AL33","v":23.158384694750783},null,null,7.5,-0.75,{"$f":"F53-F52","v":-2.5000000000000022E-2},null,4.295168018416934E-3,3.7464647177948653E-2,0.11411654264509592,null,3.7812666475196171E-3,3.595108195587611E-2,0.1120621032893214,null,-1.0737920046042345E-4,2.4075888575480588,null,685.59331676661179,null,-9.3661617944871709E-4,2.1645326995012466,null,78.870152057699158,null,-2.8529135661274005E-3,4.4378616792883987,null,13.939933972847896,null,13.939933972847896,78.870152057699158,685.59331676661179,13.939933972847896,78.870152057699158,null,{"$f":"IF(EMCI!$F$27=\"A\",'4th milking (DF)'!AF53,IF(EMCI!$F$27=\"B\",'4th milking (DF)'!AG53,IF(EMCI!$F$27=\"S\",'4th milking (DF)'!AH53,IF(EMCI!$F$27=\"P\",'4th milking (DF)'!AI53,IF(EMCI!$F$27=\"FS\",'4th milking (DF)'!AJ53,\"error\")))))","v":78.870152057699158}]
[{"$f":"E32","v":12.75},{"$f":"AL32","v":22.116115079319851},null,null,{"$f":"E53-0.25","v":7.25},-0.77500000000000002,-2.5000000000000022E-2,null,3.3000978480170352E-3,3.44687242322156E-2,0.11002574923637776,null,2.8516616199091853E-3,3.3017574010271708E-2,0.10800751133800611,null,-8.250244620042595E-5,{"$f":"R53+Q54","v":2.4075063551018583},null,909.1168555197313,null,-8.6171810580539074E-4,{"$f":"W53+V54","v":2.1636709813954411},null,85.903616592853922,null,-2.7506437309094463E-3,{"$f":"AB53+AA54","v":4.4351110355574894},null,14.488704952614265,null,14.488704952614265,85.903616592853922,909.1168555197313,14.488704952614265,85.903616592853922,null,{"$f":"IF(EMCI!$F$27=\"A\",'4th milking (DF)'!AF54,IF(EMCI!$F$27=\"B\",'4th milking (DF)'!AG54,IF(EMCI!$F$27=\"S\",'4th milking (DF)'!AH54,IF(EMCI!$F$27=\"P\",'4th milking (DF)'!AI54,IF(EMCI!$F$27=\"FS\",'4th milking (DF)'!AJ54,\"error\")))))","v":85.903616592853922}]
[{"$f":"E31","v":13},{"$f":"AL31","v":21.140540666735745},null,null,7,-0.8,-2.5000000000000022E-2,null,2.4359579631960701E-3,3.1597631293105111E-2,0.10600741952120002,null,2.0529868778776873E-3,3.0208896083549652E-2,0.10402550281449537,null,-6.0898949079901805E-5,2.4074454561527783,null,1262.8208060089123,null,-7.899407823276285E-4,{"$f":"W54+V55","v":2.1628810406131134},null,93.916671153430485,null,-2.6501854880300029E-3,{"$f":"AB54+AA55","v":4.4324608500694591},null,15.068796665428019,null,15.068796665428019,93.916671153430485,1262.8208060089123,15.068796665428019,93.916671153430485,null,{"$f":"IF(EMCI!$F$27=\"A\",'4th milking (DF)'!AF55,IF(EMCI!$F$27=\"B\",'4th milking (DF)'!AG55,IF(EMCI!$F$27=\"S\",'4th milking (DF)'!AH55,IF(EMCI!$F$27=\"P\",'4th milking (DF)'!AI55,IF(EMCI!$F$27=\"FS\",'4th milking (DF)'!AJ55,\"error\")))))","v":93.916671153430485}]
[{"$f":"E30","v":13.25},{"$f":"AL30","v":20.226046129553119},null,null,6.75,-0.82499999999999996,-2.4999999999999911E-2,null,1.7027483639540388E-3,2.8851368384228526E-2,0.1020617893735461,null,1.3852424214251236E-3,2.7525048197569259E-2,0.10011630650600498,null,-4.2568709098850821E-5,2.4074028874436793,null,1871.5836827239832,null,-7.212842096057106E-4,2.1621597564035078,null,103.10028244917305,null,-2.5515447343386435E-3,4.4299093053351202,null,15.682666984630579,null,15.682666984630579,103.10028244917305,1871.5836827239832,15.682666984630579,103.10028244917305,null,{"$f":"IF(EMCI!$F$27=\"A\",'4th milking (DF)'!AF56,IF(EMCI!$F$27=\"B\",'4th milking (DF)'!AG56,IF(EMCI!$F$27=\"S\",'4th milking (DF)'!AH56,IF(EMCI!$F$27=\"P\",'4th milking (DF)'!AI56,IF(EMCI!$F$27=\"FS\",'4th milking (DF)'!AJ56,\"error\")))))","v":103.10028244917305}]
[{"$f":"E29","v":13.5},{"$f":"AL29","v":19.367594912773242},null,null,6.5,-0.85,-2.5000000000000022E-2,null,1.100469050290942E-3,2.622993552581766E-2,9.8189080695726974E-2,null,8.4842825055149364E-4,2.4966030371050753E-2,9.6280137626312767E-2,null,-2.7511726257273573E-5,2.4073753757174221,null,3055.7971432437866,null,-6.5574838814544205E-4,2.1615040080153625,null,113.69432584188485,null,-2.4547270173931766E-3,4.427454578317727,null,16.333020085468863,null,16.333020085468863,113.69432584188485,3055.7971432437866,16.333020085468863,113.69432584188485,null,{"$f":"IF(EMCI!$F$27=\"A\",'4th milking (DF)'!AF57,IF(EMCI!$F$27=\"B\",'4th milking (DF)'!AG57,IF(EMCI!$F$27=\"S\",'4th milking (DF)'!AH57,IF(EMCI!$F$27=\"P\",'4th milking (DF)'!AI57,IF(EMCI!$F$27=\"FS\",'4th milking (DF)'!AJ57,\"error\")))))","v":113.69432584188485}]
[{"$f":"E28","v":13.75},{"$f":"AL28","v":18.560659097654138},null,null,6.25,-0.875,-2.5000000000000022E-2,null,6.2912002220677889E-4,2.3733332735188999E-2,9.4389502204009934E-2,null,4.4254436525679775E-4,2.2531842620007458E-2,9.2517198579988219E-2,null,-1.5728000555169486E-5,2.4073596477168668,null,5858.4868678164885,null,-5.933333183797255E-4,2.1609106746969826,null,126.00342427307783,null,-2.3597375551002503E-3,4.4250948407626272,null,17.022836655346264,null,17.022836655346264,126.00342427307783,5858.4868678164885,17.022836655346264,126.00342427307783,null,{"$f":"IF(EMCI!$F$27=\"A\",'4th milking (DF)'!AF58,IF(EMCI!$F$27=\"B\",'4th milking (DF)'!AG58,IF(EMCI!$F$27=\"S\",'4th milking (DF)'!AH58,IF(EMCI!$F$27=\"P\",'4th milking (DF)'!AI58,IF(EMCI!$F$27=\"FS\",'4th milking (DF)'!AJ58,\"error\")))))","v":126.00342427307783}]
[{"$f":"E27","v":14},{"$f":"AL27","v":17.801158984659182},null,null,6,-0.9,-2.5000000000000022E-2,null,2.887012797015501E-4,2.1361560027146304E-2,9.0663250172005841E-2,null,1.6759076554103596E-4,2.0222484958120589E-2,8.8827679685481262E-2,null,-7.2175319925387586E-6,2.4073524301848743,null,15470.109951734154,null,-5.3403900067865813E-4,2.1603766356963039,null,140.41911121132571,null,-2.2665812543001479E-3,4.4228282595083268,null,17.755408517661184,null,17.755408517661184,140.41911121132571,15470.109951734154,17.755408517661184,140.41911121132571,null,{"$f":"IF(EMCI!$F$27=\"A\",'4th milking (DF)'!AF59,IF(EMCI!$F$27=\"B\",'4th milking (DF)'!AG59,IF(EMCI!$F$27=\"S\",'4th milking (DF)'!AH59,IF(EMCI!$F$27=\"P\",'4th milking (DF)'!AI59,IF(EMCI!$F$27=\"FS\",'4th milking (DF)'!AJ59,\"error\")))))","v":140.41911121132571}]
[{"$f":"E26","v":14.25},{"$f":"AL26","v":17.085410886240773},null,null,5.75,-0.92500000000000004,-2.5000000000000022E-2,null,7.921282277525533E-5,1.911461741432929E-2,8.7010509133988265E-2,null,2.3567451404208249E-5,1.8037957397063781E-2,8.5211759859187261E-2,null,-1.9803205693813849E-6,2.407350449864305,null,110009.75479566478,null,-4.7786543535823265E-4,2.1598987702609458,null,157.45137696141614,null,-2.1752627283497085E-3,4.4206529967799773,null,18.534378421826979,null,18.534378421826979,157.45137696141614,110009.75479566478,18.534378421826979,157.45137696141614,null,{"$f":"IF(EMCI!$F$27=\"A\",'4th milking (DF)'!AF60,IF(EMCI!$F$27=\"B\",'4th milking (DF)'!AG60,IF(EMCI!$F$27=\"S\",'4th milking (DF)'!AH60,IF(EMCI!$F$27=\"P\",'4th milking (DF)'!AI60,IF(EMCI!$F$27=\"FS\",'4th milking (DF)'!AJ60,\"error\")))))","v":157.45137696141614}]
[{"$f":"E25","v":14.5},{"$f":"AL25","v":16.410081878808366},null,null,5.5,-0.95,-2.4999999999999911E-2,null,0,1.6992504907515658E-2,8.3431452550209242E-2,null,0,1.5978259946784049E-2,8.1669607262505536E-2,null,0,2.407350449864305,null,110009.75479566478,null,-4.2481262268788996E-4,2.1594739576382578,null,177.77442924462224,null,-2.0857863137552237E-3,4.4185672104662217,null,19.363785899578009,null,19.363785899578009,177.77442924462224,110009.75479566478,19.363785899578009,177.77442924462224,null,{"$f":"IF(EMCI!$F$27=\"A\",'4th milking (DF)'!AF61,IF(EMCI!$F$27=\"B\",'4th milking (DF)'!AG61,IF(EMCI!$F$27=\"S\",'4th milking (DF)'!AH61,IF(EMCI!$F$27=\"P\",'4th milking (DF)'!AI61,IF(EMCI!$F$27=\"FS\",'4th milking (DF)'!AJ61,\"error\")))))","v":177.77442924462224}]
[{"$f":"E24","v":14.75},{"$f":"AL24","v":15.772150473553099},null,null,5.25,-0.97499999999999998,-2.5000000000000022E-2,null,0,1.4995222515882417E-2,7.9926243436178462E-2,null,0,1.4043392615744832E-2,7.8201379913805977E-2,null,0,2.407350449864305,null,110009.75479566478,null,-3.7488056289706079E-4,2.1590990770753606,null,202.2944882805275,null,-1.9981560859044633E-3,4.4165690543803171,null,20.248120268017647,null,20.248120268017647,202.2944882805275,110009.75479566478,20.248120268017647,202.2944882805275,null,{"$f":"IF(EMCI!$F$27=\"A\",'4th milking (DF)'!AF62,IF(EMCI!$F$27=\"B\",'4th milking (DF)'!AG62,IF(EMCI!$F$27=\"S\",'4th milking (DF)'!AH62,IF(EMCI!$F$27=\"P\",'4th milking (DF)'!AI62,IF(EMCI!$F$27=\"FS\",'4th milking (DF)'!AJ62,\"error\")))))","v":202.2944882805275}]
[{"$f":"E23","v":15},{"$f":"AL23","v":15.168872337545867},null,null,5,-1,-2.5000000000000022E-2,null,0,1.3122770247231881E-2,7.6495034957773558E-2,null,0,1.2233355411136097E-2,7.4807226267127047E-2,null,0,2.407350449864305,null,110009.75479566478,null,-3.2806925618079734E-4,2.1587710078191797,null,232.2526319798109,null,-1.9123758739443407E-3,4.4146566785063728,null,21.192382081278737,null,21.192382081278737,232.2526319798109,110009.75479566478,21.192382081278737,232.2526319798109,null,{"$f":"IF(EMCI!$F$27=\"A\",'4th milking (DF)'!AF63,IF(EMCI!$F$27=\"B\",'4th milking (DF)'!AG63,IF(EMCI!$F$27=\"S\",'4th milking (DF)'!AH63,IF(EMCI!$F$27=\"P\",'4th milking (DF)'!AI63,IF(EMCI!$F$27=\"FS\",'4th milking (DF)'!AJ63,\"error\")))))","v":232.2526319798109}]
[null,null,null,null,null,null,null,null,null,null,null,null,null,null,null,null,null,null,null,null,null,null,null,null,null,null,null,null,null,null,null,null,null,null,null,0]
[null,null,null,null,null,null,null,null,null,null,null,null,null,null,null,null,null,null,null,null,null,null,null,null,null,null,null,null,null,null,null,null,null,null,null,0]
[null,null,null,null,null,null,null,null,null,null,null,null,null,null,null,null,null,null,null,null,null,null,null,null,null,null,null,null,null,null,null,null,null,null,null,0]
[null,null,null,null,null,null,null,null,null,null,null,null,null,null,null,null,null,null,null,null,null,null,null,null,null,null,null,null,null,null,null,null,null,null,null,0]
[null,null,null,null,null,null,null,null,null,null,null,null,null,null,null,null,null,null,null,null,null,null,null,null,null,null,null,null,null,null,null,null,null,null,null,0]
[null,null,null,null,null,null,null,null,null,null,null,null,null,null,null,null,null,null,null,null,null,null,null,null,null,null,null,null,null,null,null,null,null,null,null,0]
[null,null,null,null,null,null,null,null,null,null,null,null,null,null,null,null,null,null,null,null,null,null,null,null,null,null,null,null,null,null,null,null,null,null,null,0]
[null,null,null,null,null,null,null,null,null,null,null,null,null,null,null,null,null,null,null,null,null,null,null,null,null,null,null,null,null,null,null,null,null,null,null,0]
[null,null,null,null,null,null,null,null,null,null,null,null,null,null,null,null,null,null,null,null,null,null,null,null,null,null,null,null,null,null,null,null,null,null,null,0]
[null,null,null,null,null,null,null,null,null,null,null,null,null,null,null,null,null,null,null,null,null,null,null,null,null,null,null,null,null,null,null,null,null,null,null,0]
[null,null,null,null,null,null,null,null,null,null,null,null,null,null,null,null,null,null,null,null,null,null,null,null,null,null,null,null,null,null,null,null,null,null,null,0]
[null,null,null,null,null,null,null,null,null,null,null,null,null,null,null,null,null,null,null,null,null,null,null,null,null,null,null,null,null,null,null,null,null,null,null,0]
[null,null,null,null,null,null,null,null,null,null,null,null,null,null,null,null,null,null,null,null,null,null,null,null,null,null,null,null,null,null,null,null,null,null,null,0]
[null,null,null,null,null,null,null,null,null,null,null,null,null,null,null,null,null,null,null,null,null,null,null,null,null,null,null,null,null,null,null,null,null,null,null,0]
[null,null,null,null,null,null,null,null,null,null,null,null,null,null,null,null,null,null,null,null,null,null,null,null,null,null,null,null,null,null,null,null,null,null,null,0]
[null,null,null,null,null,null,null,null,null,null,null,null,null,null,null,null,null,null,null,null,null,null,null,null,null,null,null,null,null,null,null,null,null,null,null,0]
[null,null,null,null,null,null,null,null,null,null,null,null,null,null,null,null,null,null,null,null,null,null,null,null,null,null,null,null,null,null,null,null,null,null,null,0]
[null,null,null,null,null,null,null,null,null,null,null,null,null,null,null,null,null,null,null,null,null,null,null,null,null,null,null,null,null,null,null,null,null,null,null,0]
[null,null,null,null,null,null,null,null,null,null,null,null,null,null,null,null,null,null,null,null,null,null,null,null,null,null,null,null,null,null,null,null,null,null,null,0]
[null,null,null,null,null,null,null,null,null,null,null,null,null,null,null,null,null,null,null,null,null,null,null,null,null,null,null,null,null,null,null,null,null,null,null,0]
[null,null,null,null,null,null,null,null,null,null,null,null,null,null,null,null,null,null,null,null,null,null,null,null,null,null,null,null,null,null,null,null,null,null,null,0]
[null,null,null,null,null,null,null,null,null,null,null,null,null,null,null,null,null,null,null,null,null,null,null,null,null,null,null,null,null,null,null,null,null,null,null,0]
[null,null,null,null,null,null,null,null,null,null,null,null,null,null,null,null,null,null,null,null,null,null,null,null,null,null,null,null,null,null,null,null,null,null,null,0]
[null,null,null,null,null,null,null,null,null,null,null,null,null,null,null,null,null,null,null,null,null,null,null,null,null,null,null,null,null,null,null,null,null,null,null,0]
[null,null,null,null,null,null,null,null,null,null,null,null,null,null,null,null,null,null,null,null,null,null,null,null,null,null,null,null,null,null,null,null,null,null,null,{"$f":"MIN(AG88:AH88)","v":0}]
[null,null,null,null,null,null,null,null,null,null,null,null,null,null,null,null,null,null,null,null,null,null,null,null,null,null,null,null,null,null,null,null,null,null,null,0]
[null,null,null,null,null,null,null,null,null,null,null,null,null,null,null,null,null,null,null,null,null,null,null,null,null,null,null,null,null,null,null,null,null,null,null,0]
[null,null,null,null,null,null,null,null,null,null,null,null,null,null,null,null,null,null,null,null,null,null,null,null,null,null,null,null,null,null,null,null,null,null,null,0]
[null,null,null,null,null,null,null,null,null,null,null,null,null,null,null,null,null,null,null,null,null,null,null,null,null,null,null,null,null,null,null,null,null,null,null,0]
[null,null,null,null,null,null,null,null,null,null,null,null,null,null,null,null,null,null,null,null,null,null,null,null,null,null,null,null,null,null,null,null,null,null,null,0]
[null,null,null,null,null,null,null,null,null,null,null,null,null,null,null,null,null,null,null,null,null,null,null,null,null,null,null,null,null,null,null,null,null,null,null,0]
[null,null,null,null,null,null,null,null,null,null,null,null,null,null,null,null,null,null,null,null,null,null,null,null,null,null,null,null,null,null,null,null,null,null,null,0]
[null,null,null,null,null,null,null,null,null,null,null,null,null,null,null,null,null,null,null,null,null,null,null,null,null,null,null,null,null,null,null,null,null,null,null,0]
[null,null,null,null,null,null,null,null,null,null,null,null,null,null,null,null,null,null,null,null,null,null,null,null,null,null,null,null,null,null,null,null,null,null,null,0]
[null,null,null,null,null,null,null,null,null,null,null,null,null,null,null,null,null,null,null,null,null,null,null,null,null,null,null,null,null,null,null,null,null,null,null,0]
[null,null,null,null,null,null,null,null,null,null,null,null,null,null,null,null,null,null,null,null,null,null,null,null,null,null,null,null,null,null,null,null,null,null,null,0]
[null,null,null,null,null,null,null,null,null,null,null,null,null,null,null,null,null,null,null,null,null,null,null,null,null,null,null,null,null,null,null,null,null,null,null,0]
[null,null,null,null,null,null,null,null,null,null,null,null,null,null,null,null,null,null,null,null,null,null,null,null,null,null,null,null,null,null,null,null,null,null,null,0]
[null,null,null,null,null,null,null,null,null,null,null,null,null,null,null,null,null,null,null,null,null,null,null,null,null,null,null,null,null,null,null,null,null,null,null,0]
[null,null,null,null,null,null,null,null,null,null,null,null,null,null,null,null,null,null,null,null,null,null,null,null,null,null,null,null,null,null,null,null,null,null,null,0]

{"sheet":"4th milking (DO)","index":19,"n_rows":103,"n_cols":38,"rows_kept":103,"cut":false,"hidden":false,"merged":[]}
[]
["Entry",null,null,null,"Milk cooling curve (4th milking)",null,null,null,null,null,null,null,null,null,"Entry: ","Temp","Time"]
[null,null,null,null,null,null,null,null,null,null,null,null,null,null,null,{"$f":"E5","v":15},{"$f":"F5","v":1.6764705882352942}]
["Milking",{"$f":"EMCI!F9","v":1},4,null,"T","t",null,null,null,null,null,null,null,null,null,{"$f":"E6","v":20},{"$f":"F6","v":0.5}]
["Time",{"$f":"EMCI!F11/60","v":0.5},"O",null,15,{"$f":"F6-((E6-F11)/F10)","v":1.6764705882352942}]
["Milk T",{"$f":"EMCI!F13","v":20},null,null,{"$f":"B6","v":20},{"$f":"B5","v":0.5}]
["Volume",{"$f":"EMCI!F31","v":0},"D",null,null,null,null,null,null,null,null,null,null,null,null,"x","y","xy","xx"]
[null,null,null,null,null,null,null,null,null,null,null,null,null,null,null,{"$f":"Q3","v":1.6764705882352942},{"$f":"P3","v":15},{"$f":"P8*Q8","v":25.147058823529413},{"$f":"P8*P8","v":2.8105536332179932}]
[null,null,null,null,null,null,"Outside!!!",null,null,null,null,null,null,null,null,{"$f":"Q4","v":0.5},{"$f":"P4","v":20},{"$f":"P9*Q9","v":10},{"$f":"P9*P9","v":0.25}]
["Outcome",{"$f":"IF(OR(B6>E5,B6<5,B5>2.35),\"out\",LOOKUP(B6,A23:A103,B23:B103))","v":"out"},null,null,"slope ",-4.25,{"$f":"P12","v":-4.2500000000000089},null,null,null,null,null,null,null,"sum",{"$f":"SUM(P8:P9)","v":2.1764705882352944},{"$f":"SUM(Q8:Q9)","v":35},35.147058823529413,3.0605536332179932]
[null,null,null,null,"intercept",15,{"$f":"P13","v":22.125000000000011}]
[null,null,null,null,null,null,null,null,null,null,null,null,null,null,"slope",{"$f":"(2*R10-P10*Q10)/(2*S10-(P10^2))","v":-4.2500000000000089}]
[null,null,null,null,null,null,null,null,null,null,null,null,null,null,"intercept",{"$f":"(Q10-P12*P10)/2","v":22.125000000000011}]
[null,null,null,null,null,"No (logs)","Nf (logs)","Tmin",null,"N after milk (logs)","GR at 5C","Growth storage","N after stroage (logs)"]
[null,null,null,null,"S aureus",{"$f":"'3rd milking (D)'!M15","v":2.4363449125069034},{"$f":"'3rd milking (D)'!G15","v":5},5.6,null,{"$f":"R63","v":2.6597278838833716},0,{"$f":"K15*(12-$F$6)","v":0},{"$f":"J15+L15","v":2.6597278838833716},null,"TEST(max)",{"$f":"F10*Q4+F11","v":12.875}]
[null,null,null,null,"B cereus",{"$f":"'3rd milking (D)'!M16","v":2.2392395398648546},{"$f":"'3rd milking (D)'!G16","v":5},1.5,null,{"$f":"W63","v":2.7336977491740795},1.2233355411136097E-2,{"$f":"K16*(12-$F$6)","v":0.14068358722806512},{"$f":"J16+L16","v":2.8743813364021444}]
[null,null,null,null,"Pseudo",{"$f":"'3rd milking (D)'!M17","v":4.5757490718093283},{"$f":"'3rd milking (D)'!G17","v":6},-6.1,null,{"$f":"AB63","v":5.3998241819536146},7.4807226267127047E-2,{"$f":"K17*(12-$F$6)","v":0.86028310207196101},{"$f":"J17+L17","v":6.260107284025576}]
[]
[]
[]
["Lookup function",null,null,null,"Cooling curve profile",null,null,null,"Growth (log/h) during cooling",null,null,null,"Growth (log/h) to calculate NMTL",null,null,null,"Saureus","Growth acc ",null,"Time to NMTL (depending on initial logs)",null,"B cereus","Growth acc",null,"Time to NMTL (depending on initial logs)",null,"Pseudo","Growth acc",null,"Time to NMTL (depending on initial logs)",null,"NMTL","NMTL","NMTL","NMTL","NMTL",null,"NMTL"]
[{"$f":"E22","v":"Temp"},"NMTL",null,null,"Temp","Time","Time interval",null,"S. aureus","B.cereus","Pseudo",null,"S. aureus","B.cereus","Pseudo",null,"Growth interval",{"$f":"F15","v":2.4363449125069034},null,{"$f":"R22","v":2.4363449125069034},null,"Growth interval",{"$f":"F16","v":2.2392395398648546},null,{"$f":"W22","v":2.2392395398648546},null,"Growth interval",{"$f":"F17","v":4.5757490718093283},null,{"$f":"AB22","v":4.5757490718093283},null,"Shorter of 3 microorganisms","B. cereus","S. aureus","Pseudo","Food Safety",null,"Entry"]
[{"$f":"E63","v":5},{"$f":"AL63","v":185.2559804453071},null,null,{"$f":"E5","v":15},{"$f":"(E23-$G$11)/$G$10","v":1.676470588235293},{"$f":"IF(E6=E5,F5,F23)","v":1.676470588235293},null,{"$f":"IF(E23>H15,(0.00033*(E23-5.6)*((6.5-2.8)*(1-EXP(0.5*(6.5-9.8)))*(36.7-0.9324)*(1-EXP(0.42*(-5-0.9324)))))^2,0)","v":9.2552000270036947E-2},{"$f":"IF(E23>$H$16,(((0.175*(E23-1.5)*SQRT(0.995-0.92)*(1-EXP(0.4395*(E23-45)))))^2)/2.3,0)","v":0.18200169390981913},{"$f":"IF(E23>$H$17,((0.1709*(E23+6.1)*SQRT(0.995-0.947)*(1-EXP(0.1723*(E23-41.2))))^2)/2.3,0)","v":0.26545898738016671},null,{"$f":"IF(E23>$H$15,(0.00033*(E23-5.6)*((6.5-2.8)*(1-EXP(0.5*(6.5-9.8)))*(36.7-0.9324)*(1-EXP(0.42*(-5-0.9324)))))^2,0)","v":9.2552000270036947E-2},{"$f":"IF(E23>$H$16,(((0.175*(E23-1.5)*SQRT(0.995-0.92)*(1-EXP(0.4395*(E23-45)))))^2)/2.3,0)","v":0.18200169390981913},{"$f":"IF(E23>$H$17,((0.1709*(E23+6.1)*SQRT(0.995-0.947)*(1-EXP(0.1723*(E23-41.2))))^2)/2.3,0)","v":0.26545898738016671},null,{"$f":"G23*I23","v":0.15516070633506185},{"$f":"R22+Q23","v":2.5915056188419654},null,{"$f":"($G$15-R23)/M23","v":26.023147788603413},null,{"$f":"G23*J23","v":0.30512048684881421},{"$f":"W22+V23","v":2.5443600267136688},null,{"$f":"($G$16-W23)/N23","v":13.492401749310574},null,{"$f":"G23*K23","v":0.44503418472557332},{"$f":"AB22+AA23","v":5.0207832565349015},null,{"$f":"($G$17-AB23)/O23","v":3.6887684727839014},null,{"$f":"+MIN(AG23:AI23)","v":3.6887684727839014},{"$f":"Y23","v":13.492401749310574},{"$f":"T23","v":26.023147788603413},{"$f":"AD23","v":3.6887684727839014},{"$f":"MIN(AG23:AH23)","v":13.492401749310574},null,{"$f":"IF(EMCI!$F$27=\"A\",'4th milking (DO)'!AF23,IF(EMCI!$F$27=\"B\",'4th milking (DO)'!AG23,IF(EMCI!$F$27=\"S\",'4th milking (DO)'!AH23,IF(EMCI!$F$27=\"P\",'4th milking (DO)'!AI23,IF(EMCI!$F$27=\"FS\",'4th milking (DO)'!AJ23,\"error\")))))","v":13.492401749310574}]
[{"$f":"E62","v":5.25},{"$f":"AL62","v":161.43351115497398},null,null,{"$f":"E23-0.25","v":14.75},{"$f":"(E24-$G$11)/$G$10","v":1.7352941176470578},{"$f":"F24-F23","v":5.8823529411764719E-2},null,{"$f":"IF(E24>$H$15,(0.00033*(((E24+E23)/2)-5.6)*((6.5-2.8)*(1-EXP(0.5*(6.5-9.8)))*(36.7-0.9324)*(1-EXP(0.42*(-5-0.9324)))))^2,0)","v":9.0106877186850329E-2},{"$f":"IF(E24>$H$16,(((0.175*(((E24+E23)/2)-1.5)*SQRT(0.995-0.92)*(1-EXP(0.4395*(((E24+E23)/2)-45)))))^2)/2.3,0)","v":0.17864693176209925},{"$f":"IF(E24>$H$17,((0.1709*(((E24+E23)/2)+6.1)*SQRT(0.995-0.947)*(1-EXP(0.1723*(((E24+E23)/2)-41.2))))^2)/2.3,0)","v":0.26244685184914474},null,{"$f":"IF(E24>$H$15,(0.00033*(E24-5.6)*((6.5-2.8)*(1-EXP(0.5*(6.5-9.8)))*(36.7-0.9324)*(1-EXP(0.42*(-5-0.9324)))))^2,0)","v":8.7694486675058483E-2},{"$f":"IF(E24>$H$16,(((0.175*(E24-1.5)*SQRT(0.995-0.92)*(1-EXP(0.4395*(E24-45)))))^2)/2.3,0)","v":0.17532337382058064},{"$f":"IF(E24>$H$17,((0.1709*(E24+6.1)*SQRT(0.995-0.947)*(1-EXP(0.1723*(E24-41.2))))^2)/2.3,0)","v":0.25944782857356635},null,5.3004045404029618E-3,{"$f":"R23+Q24","v":2.5968060233823684},null,{"$f":"IF(M24=0,T23,($G$15-R24)/M24)","v":27.404162653034071},null,1.0508643044829371E-2,{"$f":"W23+V24","v":2.5548686697584984},null,{"$f":"($G$16-W24)/N24","v":13.946408154019197},null,1.5438050108773223E-2,{"$f":"AB23+AA24","v":5.0362213066436752},null,{"$f":"($G$17-AB24)/O24","v":3.7147302355743004},null,{"$f":"+MIN(AG24:AI24)","v":3.7147302355743004},13.946408154019197,27.404162653034071,3.7147302355743004,{"$f":"MIN(AG24:AH24)","v":13.946408154019197},null,{"$f":"IF(EMCI!$F$27=\"A\",'4th milking (DO)'!AF24,IF(EMCI!$F$27=\"B\",'4th milking (DO)'!AG24,IF(EMCI!$F$27=\"S\",'4th milking (DO)'!AH24,IF(EMCI!$F$27=\"P\",'4th milking (DO)'!AI24,IF(EMCI!$F$27=\"FS\",'4th milking (DO)'!AJ24,\"error\")))))","v":13.946408154019197}]
[{"$f":"E61","v":5.5},{"$f":"AL61","v":141.94012727003445},null,null,{"$f":"E24-0.25","v":14.5},1.7941176470588223,{"$f":"F25-F24","v":5.8823529411764497E-2},null,{"$f":"IF(E25>$H$15,(0.00033*(((E25+E24)/2)-5.6)*((6.5-2.8)*(1-EXP(0.5*(6.5-9.8)))*(36.7-0.9324)*(1-EXP(0.42*(-5-0.9324)))))^2,0)","v":8.5314828734661369E-2},{"$f":"IF(E25>$H$16,(((0.175*(((E25+E24)/2)-1.5)*SQRT(0.995-0.92)*(1-EXP(0.4395*(((E25+E24)/2)-45)))))^2)/2.3,0)","v":0.17203102030883713},{"$f":"IF(E25>$H$17,((0.1709*(((E25+E24)/2)+6.1)*SQRT(0.995-0.947)*(1-EXP(0.1723*(((E25+E24)/2)-41.2))))^2)/2.3,0)","v":0.25646208952582694},null,8.2967903365658943E-2,0.16876987143576827,0.25348980194113641,null,5.0185193373330035E-3,{"$f":"R24+Q25","v":2.6018245427197013},null,{"$f":"IF(M25=0,T24,($G$15-R25)/M25)","v":28.904857902832362},null,1.0119471782872737E-2,{"$f":"W24+V25","v":2.5649881415413711},null,{"$f":"($G$16-W25)/N25","v":14.428000908831434},null,1.5086005266225061E-2,{"$f":"AB24+AA25","v":5.0513073119099001},null,{"$f":"($G$17-AB25)/O25","v":3.742528026079718},null,3.742528026079718,14.428000908831434,28.904857902832362,3.742528026079718,14.428000908831434,null,{"$f":"IF(EMCI!$F$27=\"A\",'4th milking (DO)'!AF25,IF(EMCI!$F$27=\"B\",'4th milking (DO)'!AG25,IF(EMCI!$F$27=\"S\",'4th milking (DO)'!AH25,IF(EMCI!$F$27=\"P\",'4th milking (DO)'!AI25,IF(EMCI!$F$27=\"FS\",'4th milking (DO)'!AJ25,\"error\")))))","v":14.428000908831434}]
[{"$f":"E60","v":5.75},{"$f":"AL60","v":125.78784612728764},null,null,14.25,1.852941176470587,5.8823529411764719E-2,null,8.065371056805129E-2,0.16553992739654555,0.25053112844137798,null,7.8372250341838381E-2,0.16234118837349831,0.24758622715594111,null,4.7443359157677244E-3,2.606568878635469,null,{"$f":"IF(M26=0,T25,($G$15-R26)/M26)","v":30.539267545911176},null,9.7376427880320939E-3,2.5747257843294031,null,14.939364679841873,null,1.4737125202434002E-2,5.0660444371123345,null,3.7722436082820456,null,3.7722436082820456,14.939364679841873,30.539267545911176,3.7722436082820456,14.939364679841873,null,{"$f":"IF(EMCI!$F$27=\"A\",'4th milking (DO)'!AF26,IF(EMCI!$F$27=\"B\",'4th milking (DO)'!AG26,IF(EMCI!$F$27=\"S\",'4th milking (DO)'!AH26,IF(EMCI!$F$27=\"P\",'4th milking (DO)'!AI26,IF(EMCI!$F$27=\"FS\",'4th milking (DO)'!AJ26,\"error\")))))","v":14.939364679841873}]
[{"$f":"E59","v":6},{"$f":"AL59","v":112.25525465704533},null,null,14,1.9117647058823515,5.8823529411764497E-2,null,7.612352268702019E-2,0.15917365453694315,0.24465525183959377,null,7.3907527603596743E-2,0.15603732604596116,0.24173835198745908,null,4.4778542757070543E-3,2.6110467329111762,null,32.323544631366673,null,9.3631561492319177E-3,2.5840889404786349,null,15.482904768630506,null,1.4391485402328994E-2,5.0804359225146634,null,3.8039643686039599,null,3.8039643686039599,15.482904768630506,32.323544631366673,3.8039643686039599,15.482904768630506,null,{"$f":"IF(EMCI!$F$27=\"A\",'4th milking (DO)'!AF27,IF(EMCI!$F$27=\"B\",'4th milking (DO)'!AG27,IF(EMCI!$F$27=\"S\",'4th milking (DO)'!AH27,IF(EMCI!$F$27=\"P\",'4th milking (DO)'!AI27,IF(EMCI!$F$27=\"FS\",'4th milking (DO)'!AJ27,\"error\")))))","v":15.482904768630506}]
[{"$f":"E58","v":6.25},{"$f":"AL58","v":100.80563757842729},null,null,13.75,1.970588235294116,5.8823529411764497E-2,null,7.1724265091567985E-2,0.1529322030491248,0.23883567294716018,null,6.9573735150934013E-2,0.1498582856851797,0.23594735602819444,null,4.2190744171510426E-3,2.6152658073283273,null,34.276357126697377,null,8.9960119440661325E-3,2.5930849524227009,null,16.061274400494039,null,1.4049157232185843E-2,5.0944850797468488,null,3.8377837136897055,null,3.8377837136897055,16.061274400494039,34.276357126697377,3.8377837136897055,16.061274400494039,null,{"$f":"IF(EMCI!$F$27=\"A\",'4th milking (DO)'!AF28,IF(EMCI!$F$27=\"B\",'4th milking (DO)'!AG28,IF(EMCI!$F$27=\"S\",'4th milking (DO)'!AH28,IF(EMCI!$F$27=\"P\",'4th milking (DO)'!AI28,IF(EMCI!$F$27=\"FS\",'4th milking (DO)'!AJ28,\"error\")))))","v":16.061274400494039}]
[{"$f":"E57","v":6.5},{"$f":"AL57","v":91.033007880906766},null,null,13.5,2.0294117647058805,5.8823529411764497E-2,null,6.745593778169473E-2,0.14681557408368173,0.23307353860860081,null,6.5370872983850206E-2,0.14380406836559409,0.23021435423897771,null,3.9679963400996755E-3,2.6192338036684268,null,36.419372843922986,null,8.6362102402165412E-3,2.6017211626629173,null,16.677406033047141,null,1.3710208153447057E-2,5.1081952879002959,null,3.8738015057651527,null,3.8738015057651527,16.677406033047141,36.419372843922986,3.8738015057651527,16.677406033047141,null,{"$f":"IF(EMCI!$F$27=\"A\",'4th milking (DO)'!AF29,IF(EMCI!$F$27=\"B\",'4th milking (DO)'!AG29,IF(EMCI!$F$27=\"S\",'4th milking (DO)'!AH29,IF(EMCI!$F$27=\"P\",'4th milking (DO)'!AI29,IF(EMCI!$F$27=\"FS\",'4th milking (DO)'!AJ29,\"error\")))))","v":16.677406033047141}]
[{"$f":"E56","v":6.75},{"$f":"AL56","v":82.625678276106854},null,null,13.25,2.0882352941176454,5.8823529411764941E-2,null,6.3318540757400427E-2,0.14082376864384633,0.22736993274391495,null,6.1298941102345371E-2,0.13787467502385675,0.22454040032089267,null,3.7246200445529812E-3,2.6229584237129799,null,38.777857064745795,null,8.2837510966968751E-3,2.6100049137596142,null,17.334547376643606,null,1.3374701926112698E-2,5.1215699898264084,null,3.9121245393622681,null,3.9121245393622681,17.334547376643606,38.777857064745795,3.9121245393622681,17.334547376643606,null,{"$f":"IF(EMCI!$F$27=\"A\",'4th milking (DO)'!AF30,IF(EMCI!$F$27=\"B\",'4th milking (DO)'!AG30,IF(EMCI!$F$27=\"S\",'4th milking (DO)'!AH30,IF(EMCI!$F$27=\"P\",'4th milking (DO)'!AI30,IF(EMCI!$F$27=\"FS\",'4th milking (DO)'!AJ30,\"error\")))))","v":17.334547376643606}]
[{"$f":"E55","v":7},{"$f":"AL55","v":75.341148181273667},null,null,13,2.1470588235294099,5.8823529411764497E-2,null,5.9312074018685053E-2,0.13495678760402277,0.22172587963671017,null,5.7357939506419459E-2,0.13207010647617853,0.21892648992149663,null,3.4889455305108729E-3,2.6264473692434906,null,41.381413823117953,null,7.9386345649424886E-3,2.6179435483245568,null,18.036302954787839,null,1.3042698802159376E-2,5.1346126886285681,null,3.9528670636511154,null,3.9528670636511154,18.036302954787839,41.381413823117953,3.9528670636511154,18.036302954787839,null,{"$f":"IF(EMCI!$F$27=\"A\",'4th milking (DO)'!AF31,IF(EMCI!$F$27=\"B\",'4th milking (DO)'!AG31,IF(EMCI!$F$27=\"S\",'4th milking (DO)'!AH31,IF(EMCI!$F$27=\"P\",'4th milking (DO)'!AI31,IF(EMCI!$F$27=\"FS\",'4th milking (DO)'!AJ31,\"error\")))))","v":18.036302954787839}]
[{"$f":"E54","v":7.25},{"$f":"AL54","v":68.988460500111088},null,null,12.75,2.2058823529411744,5.8823529411764497E-2,null,5.5436537565548595E-2,0.12921463172602407,0.21614234706036106,null,5.3547868196072462E-2,0.12639036343352611,0.21337356368273519,null,3.2609727979734352E-3,2.629708342041464,null,44.264911710012541,null,7.600860689766095E-3,2.625544409014323,null,18.786682200138628,null,1.2714255709432959E-2,5.1473269443380012,null,3.9961513551408694,null,3.9961513551408694,18.786682200138628,44.264911710012541,3.9961513551408694,18.786682200138628,null,{"$f":"IF(EMCI!$F$27=\"A\",'4th milking (DO)'!AF32,IF(EMCI!$F$27=\"B\",'4th milking (DO)'!AG32,IF(EMCI!$F$27=\"S\",'4th milking (DO)'!AH32,IF(EMCI!$F$27=\"P\",'4th milking (DO)'!AI32,IF(EMCI!$F$27=\"FS\",'4th milking (DO)'!AJ32,\"error\")))))","v":18.786682200138628}]
[{"$f":"E53","v":7.5},{"$f":"AL53","v":63.415592755426012},null,null,12.5,2.2647058823529389,5.8823529411764497E-2,null,5.1691931397991081E-2,0.12359730167329401,0.21062024924946207,null,4.9868727171304417E-2,0.12083544651493101,0.20788251013768322,null,3.0407018469406411E-3,2.6327490438884045,null,47.469648623271155,null,7.2704295101937398E-3,2.6328148385245167,null,19.590155287612419,null,1.2389426426438902E-2,5.15971637076444,null,4.0421083460990994,null,4.0421083460990994,19.590155287612419,47.469648623271155,4.0421083460990994,19.590155287612419,null,{"$f":"IF(EMCI!$F$27=\"A\",'4th milking (DO)'!AF33,IF(EMCI!$F$27=\"B\",'4th milking (DO)'!AG33,IF(EMCI!$F$27=\"S\",'4th milking (DO)'!AH33,IF(EMCI!$F$27=\"P\",'4th milking (DO)'!AI33,IF(EMCI!$F$27=\"FS\",'4th milking (DO)'!AJ33,\"error\")))))","v":19.590155287612419}]
[{"$f":"E52","v":7.75},{"$f":"AL52","v":58.500305345640406},null,null,12.25,2.3235294117647034,5.8823529411764497E-2,null,4.807825551601249E-2,0.11810479802336256,0.20516044972357486,null,4.6320516432115315E-2,0.11540535625914415,0.2024541684629837,null,2.8281326774124895E-3,2.6355771765658171,null,51.044828632239991,null,6.9473410601977731E-3,2.6397621795847144,null,20.451718160423528,null,1.2068261748445537E-2,5.1717846325128853,null,4.090878314706293,null,4.090878314706293,20.451718160423528,51.044828632239991,4.090878314706293,20.451718160423528,null,{"$f":"IF(EMCI!$F$27=\"A\",'4th milking (DO)'!AF34,IF(EMCI!$F$27=\"B\",'4th milking (DO)'!AG34,IF(EMCI!$F$27=\"S\",'4th milking (DO)'!AH34,IF(EMCI!$F$27=\"P\",'4th milking (DO)'!AI34,IF(EMCI!$F$27=\"FS\",'4th milking (DO)'!AJ34,\"error\")))))","v":20.451718160423528}]
[{"$f":"E51","v":8},{"$f":"AL51","v":54.14340458672249},null,null,12,2.3823529411764679,5.8823529411764497E-2,null,4.459550991961285E-2,0.11273712127874896,0.19976376397001153,null,4.2903235978505136E-2,0.11010009313483672,0.19708933109359619,null,2.623265289388982E-3,2.6382004418552061,null,55.049450333491727,null,6.6315953693381509E-3,2.6463937749540527,null,21.37696852048569,null,1.1750809645294754E-2,5.1835354421581803,null,4.1426116437225469,null,4.1426116437225469,21.37696852048569,55.049450333491727,4.1426116437225469,21.37696852048569,null,{"$f":"IF(EMCI!$F$27=\"A\",'4th milking (DO)'!AF35,IF(EMCI!$F$27=\"B\",'4th milking (DO)'!AG35,IF(EMCI!$F$27=\"S\",'4th milking (DO)'!AH35,IF(EMCI!$F$27=\"P\",'4th milking (DO)'!AI35,IF(EMCI!$F$27=\"FS\",'4th milking (DO)'!AJ35,\"error\")))))","v":21.37696852048569}]
[{"$f":"E50","v":8.25},{"$f":"AL50","v":50.263718876761672},null,null,11.75,2.4411764705882328,5.8823529411764941E-2,null,4.1243694608792139E-2,0.10749427187650554,0.19443096199213733,null,3.961688581047388E-2,0.10491965754952723,0.19178874620621136,null,2.4260996828701356E-3,2.6406265415380763,null,59.554743140314031,null,6.3231924633238802E-3,2.6527169674173767,null,22.372194948068625,null,1.1437115411302242E-2,5.194972557569483,null,4.1974696553099689,null,4.1974696553099689,22.372194948068625,59.554743140314031,4.1974696553099689,22.372194948068625,null,{"$f":"IF(EMCI!$F$27=\"A\",'4th milking (DO)'!AF36,IF(EMCI!$F$27=\"B\",'4th milking (DO)'!AG36,IF(EMCI!$F$27=\"S\",'4th milking (DO)'!AH36,IF(EMCI!$F$27=\"P\",'4th milking (DO)'!AI36,IF(EMCI!$F$27=\"FS\",'4th milking (DO)'!AJ36,\"error\")))))","v":22.372194948068625}]
[{"$f":"E49","v":8.5},{"$f":"AL49","v":46.794307626073504},null,null,11.5,2.4999999999999973,5.8823529411764497E-2,null,3.8022809583550352E-2,0.10237625019656743,0.18916277072942361,null,3.6461465928021568E-2,9.9864049857391432E-2,0.18655312007743888,null,2.2366358578558951E-3,2.6428631773959324,null,64.647341038269886,null,6.0221323645039447E-3,2.6587390997818807,null,23.444481808633871,null,1.1127221807613115E-2,5.2060997793770962,null,4.2556255306443171,null,4.2556255306443171,23.444481808633871,64.647341038269886,4.2556255306443171,23.444481808633871,null,{"$f":"IF(EMCI!$F$27=\"A\",'4th milking (DO)'!AF37,IF(EMCI!$F$27=\"B\",'4th milking (DO)'!AG37,IF(EMCI!$F$27=\"S\",'4th milking (DO)'!AH37,IF(EMCI!$F$27=\"P\",'4th milking (DO)'!AI37,IF(EMCI!$F$27=\"FS\",'4th milking (DO)'!AJ37,\"error\")))))","v":23.444481808633871}]
[{"$f":"E48","v":8.75},{"$f":"AL48","v":43.679568978568867},null,null,11.25,2.5588235294117618,5.8823529411764497E-2,null,3.4932854843887522E-2,9.7383056569056464E-2,0.18395987635523695,null,3.3436976331148192E-2,9.4933270366092032E-2,0.18138311932263304,null,2.0548738143463174E-3,2.6449180512102788,null,70.433460414177645,null,5.7284150922974186E-3,2.6644675148741781,null,24.601833225794149,null,1.082116919736684E-2,5.2169209485744634,null,4.3172653240825802,null,4.3172653240825802,24.601833225794149,70.433460414177645,4.3172653240825802,24.601833225794149,null,{"$f":"IF(EMCI!$F$27=\"A\",'4th milking (DO)'!AF38,IF(EMCI!$F$27=\"B\",'4th milking (DO)'!AG38,IF(EMCI!$F$27=\"S\",'4th milking (DO)'!AH38,IF(EMCI!$F$27=\"P\",'4th milking (DO)'!AI38,IF(EMCI!$F$27=\"FS\",'4th milking (DO)'!AJ38,\"error\")))))","v":24.601833225794149}]
[{"$f":"E47","v":9},{"$f":"AL47","v":40.873010795659496},null,null,11,2.6176470588235263,5.8823529411764497E-2,null,3.1973830389803601E-2,9.2514691280667832E-2,0.17882292645810682,null,3.054341701985375E-2,9.0127319342750936E-2,0.17627937302097987,null,1.8808135523413817E-3,2.6467988647626202,null,77.044462108079074,null,5.442040663568677E-3,2.6699095555377466,null,25.853320185869546,null,1.0518995674006246E-2,5.22743994424847,null,4.3825890829529088,null,4.3825890829529088,25.853320185869546,77.044462108079074,4.3825890829529088,25.853320185869546,null,{"$f":"IF(EMCI!$F$27=\"A\",'4th milking (DO)'!AF39,IF(EMCI!$F$27=\"B\",'4th milking (DO)'!AG39,IF(EMCI!$F$27=\"S\",'4th milking (DO)'!AH39,IF(EMCI!$F$27=\"P\",'4th milking (DO)'!AI39,IF(EMCI!$F$27=\"FS\",'4th milking (DO)'!AJ39,\"error\")))))","v":25.853320185869546}]
[{"$f":"E46","v":9.25},{"$f":"AL46","v":38.335516601557124},null,null,10.75,2.6764705882352908,5.8823529411764497E-2,null,2.9145736221298631E-2,8.7771154580253072E-2,0.1737525321119813,null,2.7780787994138238E-2,8.5446197019167794E-2,0.17124247473224119,null,1.7144550718410899E-3,2.648513319834461,null,84.644347765142726,null,5.1630090929560444E-3,2.6750725646307028,null,27.20925584140106,null,1.0220737183057688E-2,5.2376606814315281,null,4.4518120855265835,null,4.4518120855265835,27.20925584140106,84.644347765142726,4.4518120855265835,27.20925584140106,null,{"$f":"IF(EMCI!$F$27=\"A\",'4th milking (DO)'!AF40,IF(EMCI!$F$27=\"B\",'4th milking (DO)'!AG40,IF(EMCI!$F$27=\"S\",'4th milking (DO)'!AH40,IF(EMCI!$F$27=\"P\",'4th milking (DO)'!AI40,IF(EMCI!$F$27=\"FS\",'4th milking (DO)'!AJ40,\"error\")))))","v":27.20925584140106}]
[{"$f":"E45","v":9.5},{"$f":"AL45","v":36.033984752371097},null,null,10.5,2.7352941176470558,5.8823529411764941E-2,null,2.644857233837258E-2,8.3152446683698977E-2,0.16874926984075,null,2.5149089254001666E-2,8.0889903596380763E-2,0.1662729844103209,null,1.5557983728454522E-3,2.6500691182073064,null,93.439999280243441,null,4.8913203931587827E-3,2.6799638850238616,null,28.681405364908152,null,9.9264276376912156E-3,5.2475871090692197,null,4.5251662114514648,null,4.5251662114514648,28.681405364908152,93.439999280243441,4.5251662114514648,28.681405364908152,null,{"$f":"IF(EMCI!$F$27=\"A\",'4th milking (DO)'!AF41,IF(EMCI!$F$27=\"B\",'4th milking (DO)'!AG41,IF(EMCI!$F$27=\"S\",'4th milking (DO)'!AH41,IF(EMCI!$F$27=\"P\",'4th milking (DO)'!AI41,IF(EMCI!$F$27=\"FS\",'4th milking (DO)'!AJ41,\"error\")))))","v":28.681405364908152}]
[{"$f":"E44","v":9.75},{"$f":"AL44","v":33.940251768831921},null,null,10.25,2.7941176470588203,5.8823529411764497E-2,null,2.3882338741025473E-2,7.8658567778189678E-2,0.16381368348209219,null,2.2648320799444024E-2,7.6458439248649382E-2,0.16137143021860539,null,1.4048434553544345E-3,2.6514739616626608,null,103.69537146413924,null,4.6269745751876118E-3,2.6845908595990493,null,30.28323836000683,null,9.63609902835833E-3,5.257223208097578,null,4.6029014609104157,null,4.6029014609104157,30.28323836000683,103.69537146413924,4.6029014609104157,30.28323836000683,null,{"$f":"IF(EMCI!$F$27=\"A\",'4th milking (DO)'!AF42,IF(EMCI!$F$27=\"B\",'4th milking (DO)'!AG42,IF(EMCI!$F$27=\"S\",'4th milking (DO)'!AH42,IF(EMCI!$F$27=\"P\",'4th milking (DO)'!AI42,IF(EMCI!$F$27=\"FS\",'4th milking (DO)'!AJ42,\"error\")))))","v":30.28323836000683}]
[{"$f":"E43","v":10},{"$f":"AL43","v":32.030233986757906},null,null,10,2.8529411764705848,5.8823529411764497E-2,null,2.14470354292573E-2,7.428951802592855E-2,0.15894628595549334,null,2.0278482630465319E-2,7.2151804126932312E-2,0.15653831025181383,null,1.2615903193680721E-3,2.6527355519820288,null,115.75148352034807,null,4.3699716485840166E-3,2.6889608312476332,null,32.030233986757906,null,9.3497815267936935E-3,5.2665729896243718,null,4.6852876410624846,null,4.6852876410624846,32.030233986757906,115.75148352034807,4.6852876410624846,32.030233986757906,null,{"$f":"IF(EMCI!$F$27=\"A\",'4th milking (DO)'!AF43,IF(EMCI!$F$27=\"B\",'4th milking (DO)'!AG43,IF(EMCI!$F$27=\"S\",'4th milking (DO)'!AH43,IF(EMCI!$F$27=\"P\",'4th milking (DO)'!AI43,IF(EMCI!$F$27=\"FS\",'4th milking (DO)'!AJ43,\"error\")))))","v":32.030233986757906}]
[{"$f":"E42","v":10.25},{"$f":"AL42","v":30.28323836000683},null,null,9.75,2.9117647058823493,5.8823529411764497E-2,null,1.9142662403068059E-2,7.0045297567387574E-2,0.15414756093906151,null,1.8039574747065537E-2,6.7969998361922884E-2,0.15177409416889009,null,1.1260389648863525E-3,2.653861590946915,null,130.05508399995554,null,4.1203116216110194E-3,2.6930811428692443,null,33.940251768831921,null,9.0675035846506449E-3,5.2756404932090222,null,4.7726162409833277,null,4.7726162409833277,33.940251768831921,130.05508399995554,4.7726162409833277,33.940251768831921,null,{"$f":"IF(EMCI!$F$27=\"A\",'4th milking (DO)'!AF44,IF(EMCI!$F$27=\"B\",'4th milking (DO)'!AG44,IF(EMCI!$F$27=\"S\",'4th milking (DO)'!AH44,IF(EMCI!$F$27=\"P\",'4th milking (DO)'!AI44,IF(EMCI!$F$27=\"FS\",'4th milking (DO)'!AJ44,\"error\")))))","v":33.940251768831921}]
[{"$f":"E41","v":10.5},{"$f":"AL41","v":28.681405364908152},null,null,9.5,2.9705882352941138,5.8823529411764497E-2,null,1.6969219662457756E-2,6.5925906524142819E-2,0.14941796445957814,null,1.5931597149244706E-2,6.3913022066697509E-2,0.14707922474126942,null,9.9818939190927632E-4,2.6548597803388243,null,147.20057240289657,null,3.877994501420152E-3,2.6969591373706643,null,36.033984752371097,null,8.7892920270339764E-3,5.284429785236056,null,4.8652025194089834,null,4.8652025194089834,36.033984752371097,147.20057240289657,4.8652025194089834,36.033984752371097,null,{"$f":"IF(EMCI!$F$27=\"A\",'4th milking (DO)'!AF45,IF(EMCI!$F$27=\"B\",'4th milking (DO)'!AG45,IF(EMCI!$F$27=\"S\",'4th milking (DO)'!AH45,IF(EMCI!$F$27=\"P\",'4th milking (DO)'!AI45,IF(EMCI!$F$27=\"FS\",'4th milking (DO)'!AJ45,\"error\")))))","v":36.033984752371097}]
[{"$f":"E40","v":10.75},{"$f":"AL40","v":27.20925584140106},null,null,9.25,3.0294117647058787,5.8823529411764941E-2,null,1.4926707207426384E-2,6.1931345001347733E-2,0.14475792640001692,null,1.3954549837002799E-2,5.9980875339025456E-2,0.1424541193206629,null,8.7804160043684963E-4,2.6557378219392613,null,167.99267661394131,null,3.6430202941969401E-3,2.7006021576648611,null,38.335516601557124,null,8.5151721411774999E-3,5.2929449573772338,null,4.9633878331815158,null,4.9633878331815158,38.335516601557124,167.99267661394131,4.9633878331815158,38.335516601557124,null,{"$f":"IF(EMCI!$F$27=\"A\",'4th milking (DO)'!AF46,IF(EMCI!$F$27=\"B\",'4th milking (DO)'!AG46,IF(EMCI!$F$27=\"S\",'4th milking (DO)'!AH46,IF(EMCI!$F$27=\"P\",'4th milking (DO)'!AI46,IF(EMCI!$F$27=\"FS\",'4th milking (DO)'!AJ46,\"error\")))))","v":38.335516601557124}]
[{"$f":"E39","v":11},{"$f":"AL39","v":25.853320185869546},null,null,9,3.0882352941176432,5.8823529411764497E-2,null,1.3015125037973942E-2,5.8061613089890336E-2,0.1401678519285815,null,1.2108432810339827E-2,5.6173558263382765E-2,0.13789917123031473,null,7.6559559046905277E-4,2.6565034175297302,null,193.54251860480852,null,3.4153890052876549E-3,2.7040175466701486,null,40.873010795659496,null,8.2451677605047645E-3,5.3011901251377385,null,5.0675422384891053,null,5.0675422384891053,40.873010795659496,193.54251860480852,5.0675422384891053,40.873010795659496,null,{"$f":"IF(EMCI!$F$27=\"A\",'4th milking (DO)'!AF47,IF(EMCI!$F$27=\"B\",'4th milking (DO)'!AG47,IF(EMCI!$F$27=\"S\",'4th milking (DO)'!AH47,IF(EMCI!$F$27=\"P\",'4th milking (DO)'!AI47,IF(EMCI!$F$27=\"FS\",'4th milking (DO)'!AJ47,\"error\")))))","v":40.873010795659496}]
[{"$f":"E38","v":11.25},{"$f":"AL38","v":24.601833225794149},null,null,8.75,3.1470588235294077,5.8823529411764497E-2,null,1.1234473154100443E-2,5.4316710868272958E-2,0.13564812285312758,null,1.0393246069255789E-2,5.249107091270714E-2,0.13341475108351158,null,6.60851362005906E-4,2.6571642688917363,null,225.4190572893867,null,3.1951006393101627E-3,2.7072126473094587,null,43.679568978568867,null,7.9793013443015936E-3,5.3091694264820397,null,5.1780674018986979,null,5.1780674018986979,43.679568978568867,225.4190572893867,5.1780674018986979,43.679568978568867,null,{"$f":"IF(EMCI!$F$27=\"A\",'4th milking (DO)'!AF48,IF(EMCI!$F$27=\"B\",'4th milking (DO)'!AG48,IF(EMCI!$F$27=\"S\",'4th milking (DO)'!AH48,IF(EMCI!$F$27=\"P\",'4th milking (DO)'!AI48,IF(EMCI!$F$27=\"FS\",'4th milking (DO)'!AJ48,\"error\")))))","v":43.679568978568867}]
[{"$f":"E37","v":11.5},{"$f":"AL37","v":23.444481808633871},null,null,8.5,3.2058823529411722,5.8823529411764497E-2,null,9.5847515558058708E-3,5.0696638404250462E-2,0.13119909890466158,null,8.8089896137506871E-3,4.8933413349926902E-2,0.12900120803295215,null,5.6380891504740217E-4,2.6577280778067838,null,265.89563898871768,null,2.9821552002500164E-3,2.7101948025097085,null,46.794307626073504,null,7.7175940532153596E-3,5.3168870205352547,null,5.2953998639318982,null,5.2953998639318982,46.794307626073504,265.89563898871768,5.2953998639318982,46.794307626073504,null,{"$f":"IF(EMCI!$F$27=\"A\",'4th milking (DO)'!AF49,IF(EMCI!$F$27=\"B\",'4th milking (DO)'!AG49,IF(EMCI!$F$27=\"S\",'4th milking (DO)'!AH49,IF(EMCI!$F$27=\"P\",'4th milking (DO)'!AI49,IF(EMCI!$F$27=\"FS\",'4th milking (DO)'!AJ49,\"error\")))))","v":46.794307626073504}]
[{"$f":"E36","v":11.75},{"$f":"AL36","v":22.372194948068625},null,null,8.25,3.2647058823529367,5.8823529411764497E-2,null,8.0659602430902377E-3,4.7201395756256849E-2,0.12682111895344028,null,7.3556634438245181E-3,4.5500585629291837E-2,0.12465887095441666,null,4.7446824959354171E-4,2.6582025460563772,null,318.36658539749936,null,2.7765526915445107E-3,2.7129713552012529,null,50.263718876761672,null,7.460065820790578E-3,5.3243470863560454,null,5.4200147046977269,null,5.4200147046977269,50.263718876761672,318.36658539749936,5.4200147046977269,50.263718876761672,null,{"$f":"IF(EMCI!$F$27=\"A\",'4th milking (DO)'!AF50,IF(EMCI!$F$27=\"B\",'4th milking (DO)'!AG50,IF(EMCI!$F$27=\"S\",'4th milking (DO)'!AH50,IF(EMCI!$F$27=\"P\",'4th milking (DO)'!AI50,IF(EMCI!$F$27=\"FS\",'4th milking (DO)'!AJ50,\"error\")))))","v":50.263718876761672}]
[{"$f":"E35","v":12},{"$f":"AL35","v":21.37696852048569},null,null,8,3.3235294117647016,5.8823529411764941E-2,null,6.6780992159535344E-3,4.3830982974647166E-2,0.12251450216103232,null,6.0332675594772841E-3,4.2192587797532113E-2,0.12038804956802177,null,3.9282936564432713E-4,2.6585953754220215,null,388.08234534535302,null,2.5782931161557258E-3,2.7155496483174084,null,54.14340458672249,null,7.2067354212372245E-3,5.3315538217772822,null,5.5524296690680393,null,5.5524296690680393,54.14340458672249,388.08234534535302,5.5524296690680393,54.14340458672249,null,{"$f":"IF(EMCI!$F$27=\"A\",'4th milking (DO)'!AF51,IF(EMCI!$F$27=\"B\",'4th milking (DO)'!AG51,IF(EMCI!$F$27=\"S\",'4th milking (DO)'!AH51,IF(EMCI!$F$27=\"P\",'4th milking (DO)'!AI51,IF(EMCI!$F$27=\"FS\",'4th milking (DO)'!AJ51,\"error\")))))","v":54.14340458672249}]
[{"$f":"E34","v":12.25},{"$f":"AL34","v":20.451718160423528},null,null,7.75,3.3823529411764661,5.8823529411764497E-2,null,5.4211684743957671E-3,4.0585400102778259E-2,0.11827954907154804,null,4.8418019607089843E-3,3.9009419894865949E-2,0.11618903550019019,null,3.188922631997499E-4,2.6589142676852213,null,483.51538359325497,null,2.3873764766340067E-3,2.7179370247940424,null,58.500305345640406,null,6.9576205336204485E-3,5.338511442310903,null,5.693209818305224,null,5.693209818305224,58.500305345640406,483.51538359325497,5.693209818305224,58.500305345640406,null,{"$f":"IF(EMCI!$F$27=\"A\",'4th milking (DO)'!AF52,IF(EMCI!$F$27=\"B\",'4th milking (DO)'!AG52,IF(EMCI!$F$27=\"S\",'4th milking (DO)'!AH52,IF(EMCI!$F$27=\"P\",'4th milking (DO)'!AI52,IF(EMCI!$F$27=\"FS\",'4th milking (DO)'!AJ52,\"error\")))))","v":58.500305345640406}]
[{"$f":"E33","v":12.5},{"$f":"AL33","v":19.590155287612419},null,null,7.5,3.4411764705882306,{"$f":"F53-F52","v":5.8823529411764497E-2},null,4.295168018416934E-3,3.7464647177948653E-2,0.11411654264509592,null,3.7812666475196171E-3,3.595108195587611E-2,0.1120621032893214,null,2.5265694225981876E-4,2.6591669246274812,null,619.06056715360876,null,2.2038027751734423E-3,2.720140827569216,null,63.415592755426012,null,6.7127378026526777E-3,5.345224180113556,null,5.8429727862232506,null,5.8429727862232506,63.415592755426012,619.06056715360876,5.8429727862232506,63.415592755426012,null,{"$f":"IF(EMCI!$F$27=\"A\",'4th milking (DO)'!AF53,IF(EMCI!$F$27=\"B\",'4th milking (DO)'!AG53,IF(EMCI!$F$27=\"S\",'4th milking (DO)'!AH53,IF(EMCI!$F$27=\"P\",'4th milking (DO)'!AI53,IF(EMCI!$F$27=\"FS\",'4th milking (DO)'!AJ53,\"error\")))))","v":63.415592755426012}]
[{"$f":"E32","v":12.75},{"$f":"AL32","v":18.786682200138628},null,null,{"$f":"E53-0.25","v":7.25},3.4999999999999951,5.8823529411764497E-2,null,3.3000978480170352E-3,3.44687242322156E-2,0.11002574923637776,null,2.8516616199091853E-3,3.3017574010271708E-2,0.10800751133800611,null,1.941234028245308E-4,{"$f":"R53+Q54","v":2.6593610480303056},null,820.79827972164344,null,2.027572013659734E-3,{"$f":"W53+V54","v":2.7221683995828756},null,68.988460500111088,null,6.4721028962574922E-3,{"$f":"AB53+AA54","v":5.3516962830098134},null,6.0023947312455013,null,6.0023947312455013,68.988460500111088,820.79827972164344,6.0023947312455013,68.988460500111088,null,{"$f":"IF(EMCI!$F$27=\"A\",'4th milking (DO)'!AF54,IF(EMCI!$F$27=\"B\",'4th milking (DO)'!AG54,IF(EMCI!$F$27=\"S\",'4th milking (DO)'!AH54,IF(EMCI!$F$27=\"P\",'4th milking (DO)'!AI54,IF(EMCI!$F$27=\"FS\",'4th milking (DO)'!AJ54,\"error\")))))","v":68.988460500111088}]
[{"$f":"E31","v":13},{"$f":"AL31","v":18.036302954787839},null,null,7,3.5588235294117596,5.8823529411764497E-2,null,2.4359579631960701E-3,3.1597631293105111E-2,0.10600741952120002,null,2.0529868778776873E-3,3.0208896083549652E-2,0.10402550281449537,null,1.4329164489388597E-4,2.6595043396751996,null,1140.0441403426457,null,1.8586841937120588E-3,{"$f":"W54+V55","v":2.7240270837765879},null,75.341148181273667,null,6.2357305600705673E-3,{"$f":"AB54+AA55","v":5.3579320135698838},null,6.1722170915635086,null,6.1722170915635086,75.341148181273667,1140.0441403426457,6.1722170915635086,75.341148181273667,null,{"$f":"IF(EMCI!$F$27=\"A\",'4th milking (DO)'!AF55,IF(EMCI!$F$27=\"B\",'4th milking (DO)'!AG55,IF(EMCI!$F$27=\"S\",'4th milking (DO)'!AH55,IF(EMCI!$F$27=\"P\",'4th milking (DO)'!AI55,IF(EMCI!$F$27=\"FS\",'4th milking (DO)'!AJ55,\"error\")))))","v":75.341148181273667}]
[{"$f":"E30","v":13.25},{"$f":"AL30","v":17.334547376643606},null,null,6.75,3.6176470588235246,5.8823529411764941E-2,null,1.7027483639540388E-3,2.8851368384228526E-2,0.1020617893735461,null,1.3852424214251236E-3,2.7525048197569259E-2,0.10011630650600498,null,1.0016166846788504E-4,2.6596045013436673,null,1689.5205217932591,null,1.6971393167193318E-3,2.7257242230933074,null,82.625678276106854,null,6.0036346690321473E-3,5.3639356482389156,null,6.3532542695523162,null,6.3532542695523162,82.625678276106854,1689.5205217932591,6.3532542695523162,82.625678276106854,null,{"$f":"IF(EMCI!$F$27=\"A\",'4th milking (DO)'!AF56,IF(EMCI!$F$27=\"B\",'4th milking (DO)'!AG56,IF(EMCI!$F$27=\"S\",'4th milking (DO)'!AH56,IF(EMCI!$F$27=\"P\",'4th milking (DO)'!AI56,IF(EMCI!$F$27=\"FS\",'4th milking (DO)'!AJ56,\"error\")))))","v":82.625678276106854}]
[{"$f":"E29","v":13.5},{"$f":"AL29","v":16.677406033047141},null,null,6.5,3.676470588235289,5.8823529411764497E-2,null,1.100469050290942E-3,2.622993552581766E-2,9.8189080695726974E-2,null,8.4842825055149364E-4,2.4966030371050753E-2,9.6280137626312767E-2,null,6.4733473546525768E-5,2.6596692348172137,null,2758.4309735814772,null,1.5429373838716216E-3,2.727267160477179,null,91.033007880906766,null,5.7758282762192135E-3,5.3697114765151346,null,6.5464023943460949,null,6.5464023943460949,91.033007880906766,2758.4309735814772,6.5464023943460949,91.033007880906766,null,{"$f":"IF(EMCI!$F$27=\"A\",'4th milking (DO)'!AF57,IF(EMCI!$F$27=\"B\",'4th milking (DO)'!AG57,IF(EMCI!$F$27=\"S\",'4th milking (DO)'!AH57,IF(EMCI!$F$27=\"P\",'4th milking (DO)'!AI57,IF(EMCI!$F$27=\"FS\",'4th milking (DO)'!AJ57,\"error\")))))","v":91.033007880906766}]
[{"$f":"E28","v":13.75},{"$f":"AL28","v":16.061274400494039},null,null,6.25,3.7352941176470535,5.8823529411764497E-2,null,6.2912002220677889E-4,2.3733332735188999E-2,9.4389502204009934E-2,null,4.4254436525679775E-4,2.2531842620007458E-2,9.2517198579988219E-2,null,3.7007060129810392E-5,2.6597062418773434,null,5288.2692490382087,null,1.3960783961875832E-3,2.7286632388733665,null,100.80563757842729,null,5.5523236590593883E-3,5.3752638001741939,null,6.752649338875881,null,6.752649338875881,100.80563757842729,5288.2692490382087,6.752649338875881,100.80563757842729,null,{"$f":"IF(EMCI!$F$27=\"A\",'4th milking (DO)'!AF58,IF(EMCI!$F$27=\"B\",'4th milking (DO)'!AG58,IF(EMCI!$F$27=\"S\",'4th milking (DO)'!AH58,IF(EMCI!$F$27=\"P\",'4th milking (DO)'!AI58,IF(EMCI!$F$27=\"FS\",'4th milking (DO)'!AJ58,\"error\")))))","v":100.80563757842729}]
[{"$f":"E27","v":14},{"$f":"AL27","v":15.482904768630506},null,null,6,3.794117647058818,5.8823529411764497E-2,null,2.887012797015501E-4,2.1361560027146304E-2,9.0663250172005841E-2,null,1.6759076554103596E-4,2.0222484958120589E-2,8.8827679685481262E-2,null,1.6982428217738179E-5,2.6597232243055613,null,13964.23465302092,null,1.2565623545380134E-3,2.7299198012279047,null,112.25525465704533,null,5.3331323630591478E-3,5.3805969325372534,null,6.9730862007868826,null,6.9730862007868826,112.25525465704533,13964.23465302092,6.9730862007868826,112.25525465704533,null,{"$f":"IF(EMCI!$F$27=\"A\",'4th milking (DO)'!AF59,IF(EMCI!$F$27=\"B\",'4th milking (DO)'!AG59,IF(EMCI!$F$27=\"S\",'4th milking (DO)'!AH59,IF(EMCI!$F$27=\"P\",'4th milking (DO)'!AI59,IF(EMCI!$F$27=\"FS\",'4th milking (DO)'!AJ59,\"error\")))))","v":112.25525465704533}]
[{"$f":"E26","v":14.25},{"$f":"AL26","v":14.939364679841873},null,null,5.75,3.8529411764705825,5.8823529411764497E-2,null,7.921282277525533E-5,1.911461741432929E-2,8.7010509133988265E-2,null,2.3567451404208249E-5,1.8037957397063781E-2,8.5211759859187261E-2,null,4.6595778103091204E-6,2.6597278838833716,null,99301.026486841292,null,1.1243892596664248E-3,2.7310441904875713,null,125.78784612728764,null,5.118265243175762E-3,5.3857151977804287,null,7.2089204968267184,null,7.2089204968267184,125.78784612728764,99301.026486841292,7.2089204968267184,125.78784612728764,null,{"$f":"IF(EMCI!$F$27=\"A\",'4th milking (DO)'!AF60,IF(EMCI!$F$27=\"B\",'4th milking (DO)'!AG60,IF(EMCI!$F$27=\"S\",'4th milking (DO)'!AH60,IF(EMCI!$F$27=\"P\",'4th milking (DO)'!AI60,IF(EMCI!$F$27=\"FS\",'4th milking (DO)'!AJ60,\"error\")))))","v":125.78784612728764}]
[{"$f":"E25","v":14.5},{"$f":"AL25","v":14.428000908831434},null,null,5.5,3.9117647058823475,5.8823529411764941E-2,null,0,1.6992504907515658E-2,8.3431452550209242E-2,null,0,1.5978259946784049E-2,8.1669607262505536E-2,null,0,2.6597278838833716,null,99301.026486841292,null,9.9955911220680734E-4,2.7320437495997782,null,141.94012727003445,null,4.9077325029535041E-3,5.3906229302833824,null,7.4614913692181091,null,7.4614913692181091,141.94012727003445,99301.026486841292,7.4614913692181091,141.94012727003445,null,{"$f":"IF(EMCI!$F$27=\"A\",'4th milking (DO)'!AF61,IF(EMCI!$F$27=\"B\",'4th milking (DO)'!AG61,IF(EMCI!$F$27=\"S\",'4th milking (DO)'!AH61,IF(EMCI!$F$27=\"P\",'4th milking (DO)'!AI61,IF(EMCI!$F$27=\"FS\",'4th milking (DO)'!AJ61,\"error\")))))","v":141.94012727003445}]
[{"$f":"E24","v":14.75},{"$f":"AL24","v":13.946408154019197},null,null,5.25,3.970588235294112,5.8823529411764497E-2,null,0,1.4995222515882417E-2,7.9926243436178462E-2,null,0,1.4043392615744832E-2,7.8201379913805977E-2,null,0,2.6597278838833716,null,99301.026486841292,null,8.8207191269896264E-4,2.7329258215124774,null,161.43351115497398,null,4.7015437315398928E-3,5.395324474014922,null,7.732287162343618,null,7.732287162343618,161.43351115497398,99301.026486841292,7.732287162343618,161.43351115497398,null,{"$f":"IF(EMCI!$F$27=\"A\",'4th milking (DO)'!AF62,IF(EMCI!$F$27=\"B\",'4th milking (DO)'!AG62,IF(EMCI!$F$27=\"S\",'4th milking (DO)'!AH62,IF(EMCI!$F$27=\"P\",'4th milking (DO)'!AI62,IF(EMCI!$F$27=\"FS\",'4th milking (DO)'!AJ62,\"error\")))))","v":161.43351115497398}]
[{"$f":"E23","v":15},{"$f":"AL23","v":13.492401749310574},null,null,5,4.029411764705876,5.8823529411764053E-2,null,0,1.3122770247231881E-2,7.6495034957773558E-2,null,0,1.2233355411136097E-2,7.4807226267127047E-2,null,0,2.6597278838833716,null,99301.026486841292,null,7.7192766160186677E-4,2.7336977491740795,null,185.2559804453071,null,4.4997079386925121E-3,5.3998241819536146,null,8.0229658015020409,null,8.0229658015020409,185.2559804453071,99301.026486841292,8.0229658015020409,185.2559804453071,null,{"$f":"IF(EMCI!$F$27=\"A\",'4th milking (DO)'!AF63,IF(EMCI!$F$27=\"B\",'4th milking (DO)'!AG63,IF(EMCI!$F$27=\"S\",'4th milking (DO)'!AH63,IF(EMCI!$F$27=\"P\",'4th milking (DO)'!AI63,IF(EMCI!$F$27=\"FS\",'4th milking (DO)'!AJ63,\"error\")))))","v":185.2559804453071}]
[null,null,null,null,null,null,null,null,null,null,null,null,null,null,null,null,null,null,null,null,null,null,null,null,null,null,null,null,null,null,null,null,null,null,null,0]
[null,null,null,null,null,null,null,null,null,null,null,null,null,null,null,null,null,null,null,null,null,null,null,null,null,null,null,null,null,null,null,null,null,null,null,0]
[null,null,null,null,null,null,null,null,null,null,null,null,null,null,null,null,null,null,null,null,null,null,null,null,null,null,null,null,null,null,null,null,null,null,null,0]
[null,null,null,null,null,null,null,null,null,null,null,null,null,null,null,null,null,null,null,null,null,null,null,null,null,null,null,null,null,null,null,null,null,null,null,0]
[null,null,null,null,null,null,null,null,null,null,null,null,null,null,null,null,null,null,null,null,null,null,null,null,null,null,null,null,null,null,null,null,null,null,null,0]
[null,null,null,null,null,null,null,null,null,null,null,null,null,null,null,null,null,null,null,null,null,null,null,null,null,null,null,null,null,null,null,null,null,null,null,0]
[null,null,null,null,null,null,null,null,null,null,null,null,null,null,null,null,null,null,null,null,null,null,null,null,null,null,null,null,null,null,null,null,null,null,null,0]
[null,null,null,null,null,null,null,null,null,null,null,null,null,null,null,null,null,null,null,null,null,null,null,null,null,null,null,null,null,null,null,null,null,null,null,0]
[null,null,null,null,null,null,null,null,null,null,null,null,null,null,null,null,null,null,null,null,null,null,null,null,null,null,null,null,null,null,null,null,null,null,null,0]
[null,null,null,null,null,null,null,null,null,null,null,null,null,null,null,null,null,null,null,null,null,null,null,null,null,null,null,null,null,null,null,null,null,null,null,0]
[null,null,null,null,null,null,null,null,null,null,null,null,null,null,null,null,null,null,null,null,null,null,null,null,null,null,null,null,null,null,null,null,null,null,null,0]
[null,null,null,null,null,null,null,null,null,null,null,null,null,null,null,null,null,null,null,null,null,null,null,null,null,null,null,null,null,null,null,null,null,null,null,0]
[null,null,null,null,null,null,null,null,null,null,null,null,null,null,null,null,null,null,null,null,null,null,null,null,null,null,null,null,null,null,null,null,null,null,null,0]
[null,null,null,null,null,null,null,null,null,null,null,null,null,null,null,null,null,null,null,null,null,null,null,null,null,null,null,null,null,null,null,null,null,null,null,0]
[null,null,null,null,null,null,null,null,null,null,null,null,null,null,null,null,null,null,null,null,null,null,null,null,null,null,null,null,null,null,null,null,null,null,null,0]
[null,null,null,null,null,null,null,null,null,null,null,null,null,null,null,null,null,null,null,null,null,null,null,null,null,null,null,null,null,null,null,null,null,null,null,0]
[null,null,null,null,null,null,null,null,null,null,null,null,null,null,null,null,null,null,null,null,null,null,null,null,null,null,null,null,null,null,null,null,null,null,null,0]
[null,null,null,null,null,null,null,null,null,null,null,null,null,null,null,null,null,null,null,null,null,null,null,null,null,null,null,null,null,null,null,null,null,null,null,0]
[null,null,null,null,null,null,null,null,null,null,null,null,null,null,null,null,null,null,null,null,null,null,null,null,null,null,null,null,null,null,null,null,null,null,null,0]
[null,null,null,null,null,null,null,null,null,null,null,null,null,null,null,null,null,null,null,null,null,null,null,null,null,null,null,null,null,null,null,null,null,null,null,0]
[null,null,null,null,null,null,null,null,null,null,null,null,null,null,null,null,null,null,null,null,null,null,null,null,null,null,null,null,null,null,null,null,null,null,null,0]
[null,null,null,null,null,null,null,null,null,null,null,null,null,null,null,null,null,null,null,null,null,null,null,null,null,null,null,null,null,null,null,null,null,null,null,0]
[null,null,null,null,null,null,null,null,null,null,null,null,null,null,null,null,null,null,null,null,null,null,null,null,null,null,null,null,null,null,null,null,null,null,null,0]
[null,null,null,null,null,null,null,null,null,null,null,null,null,null,null,null,null,null,null,null,null,null,null,null,null,null,null,null,null,null,null,null,null,null,null,0]
[null,null,null,null,null,null,null,null,null,null,null,null,null,null,null,null,null,null,null,null,null,null,null,null,null,null,null,null,null,null,null,null,null,null,null,{"$f":"MIN(AG88:AH88)","v":0}]
[null,null,null,null,null,null,null,null,null,null,null,null,null,null,null,null,null,null,null,null,null,null,null,null,null,null,null,null,null,null,null,null,null,null,null,0]
[null,null,null,null,null,null,null,null,null,null,null,null,null,null,null,null,null,null,null,null,null,null,null,null,null,null,null,null,null,null,null,null,null,null,null,0]
[null,null,null,null,null,null,null,null,null,null,null,null,null,null,null,null,null,null,null,null,null,null,null,null,null,null,null,null,null,null,null,null,null,null,null,0]
[null,null,null,null,null,null,null,null,null,null,null,null,null,null,null,null,null,null,null,null,null,null,null,null,null,null,null,null,null,null,null,null,null,null,null,0]
[null,null,null,null,null,null,null,null,null,null,null,null,null,null,null,null,null,null,null,null,null,null,null,null,null,null,null,null,null,null,null,null,null,null,null,0]
[null,null,null,null,null,null,null,null,null,null,null,null,null,null,null,null,null,null,null,null,null,null,null,null,null,null,null,null,null,null,null,null,null,null,null,0]
[null,null,null,null,null,null,null,null,null,null,null,null,null,null,null,null,null,null,null,null,null,null,null,null,null,null,null,null,null,null,null,null,null,null,null,0]
[null,null,null,null,null,null,null,null,null,null,null,null,null,null,null,null,null,null,null,null,null,null,null,null,null,null,null,null,null,null,null,null,null,null,null,0]
[null,null,null,null,null,null,null,null,null,null,null,null,null,null,null,null,null,null,null,null,null,null,null,null,null,null,null,null,null,null,null,null,null,null,null,0]
[null,null,null,null,null,null,null,null,null,null,null,null,null,null,null,null,null,null,null,null,null,null,null,null,null,null,null,null,null,null,null,null,null,null,null,0]
[null,null,null,null,null,null,null,null,null,null,null,null,null,null,null,null,null,null,null,null,null,null,null,null,null,null,null,null,null,null,null,null,null,null,null,0]
[null,null,null,null,null,null,null,null,null,null,null,null,null,null,null,null,null,null,null,null,null,null,null,null,null,null,null,null,null,null,null,null,null,null,null,0]
[null,null,null,null,null,null,null,null,null,null,null,null,null,null,null,null,null,null,null,null,null,null,null,null,null,null,null,null,null,null,null,null,null,null,null,0]
[null,null,null,null,null,null,null,null,null,null,null,null,null,null,null,null,null,null,null,null,null,null,null,null,null,null,null,null,null,null,null,null,null,null,null,0]
[null,null,null,null,null,null,null,null,null,null,null,null,null,null,null,null,null,null,null,null,null,null,null,null,null,null,null,null,null,null,null,null,null,null,null,0]

{"sheet":"ControlSheet","index":20,"n_rows":2,"n_cols":8,"rows_kept":2,"cut":false,"hidden":true,"merged":[]}
[null,"mCode","sep","yLow","yUp",null,null,"Ribbon pointer"]
[null,2,1,0,9999]

{"sheet":"4th milking (DO2)","index":21,"n_rows":63,"n_cols":22,"rows_kept":63,"cut":false,"hidden":false,"merged":[]}
[]
["Entry",null,null,null,null,null,"Milk cooling curve (4th milking)",null,null,null,null,null,null,null,null,null,"Entry: ","Temp","Time"]
[null,null,null,null,null,null,null,null,null,null,null,null,null,null,null,null,null,{"$f":"G5","v":22.5},{"$f":"H5","v":-8.8235294117647078E-2}]
["Milking",{"$f":"EMCI!F9","v":1},4,null,null,null,"T","t",null,null,null,null,null,null,null,null,null,{"$f":"G6","v":20},{"$f":"H6","v":0.5}]
["Time",{"$f":"EMCI!F11/60","v":0.5},"O2",null,null,null,{"$f":"(25+B6)/2","v":22.5},{"$f":"H6-((G6-G5)/H10)","v":-8.8235294117647078E-2}]
["Milk T",{"$f":"EMCI!F13","v":20},null,null,null,null,{"$f":"B6","v":20},{"$f":"B5","v":0.5}]
["Volume",{"$f":"EMCI!F31","v":0},"D",null,null,null,null,null,null,null,null,null,null,null,null,null,null,"x","y","xy","xx"]
[null,null,null,null,null,null,null,null,null,null,null,null,null,null,null,null,null,{"$f":"S3","v":-8.8235294117647078E-2},{"$f":"R3","v":22.5},{"$f":"R8*S8","v":-1.9852941176470593},{"$f":"R8*R8","v":7.7854671280276847E-3}]
[null,null,null,null,null,null,null,null,"Outside!!!",null,null,null,null,null,null,null,null,{"$f":"S4","v":0.5},{"$f":"R4","v":20},{"$f":"R9*S9","v":10},{"$f":"R9*R9","v":0.25}]
["Outcome",{"$f":"IF(EMCI!F27=\"A\",'4th milking (DO2)'!N18,(IF(EMCI!F27=\"B\",'4th milking (DO2)'!N16,(IF(EMCI!F27=\"S\",'4th milking (DO2)'!N15,(IF(EMCI!F27=\"P\",'4th milking (DO2)'!N17,(IF(EMCI!F27=\"FS\",'4th milking (DO2)'!N19,\"error\")))))))))","v":0},null,null,null,null,"slope ",-4.25,{"$f":"R12","v":-4.2500000000000053},null,null,null,null,null,null,null,"sum",{"$f":"SUM(R8:R9)","v":0.41176470588235292},{"$f":"SUM(S8:S9)","v":42.5},8.0147058823529402,0.25778546712802769]
[null,null,null,null,null,null,"intercept",15,{"$f":"R13","v":22.125}]
[null,null,null,null,null,null,null,null,null,null,null,null,null,null,null,null,"slope",{"$f":"(2*T10-R10*S10)/(2*U10-(R10^2))","v":-4.2500000000000053}]
[null,null,null,null,null,null,null,null,null,null,null,null,null,null,null,null,"intercept",{"$f":"(S10-R12*R10)/2","v":22.125}]
[null,null,null,null,null,null,null,"No (logs)","Nf (logs)","Tmin","N after milk (logs)","GR","Time to NMTL","Time to NMTL corr","Growth storage","N after storage"]
[null,null,null,null,null,null,"S aureus",{"$f":"'3rd milking (DO2)'!P15","v":9.9010674886280903},{"$f":"'3rd milking (D)'!G15","v":5},5.6,{"$f":"LOOKUP(B6,A23:A63,C23:C63)","v":10.025895883774337},{"$f":"IF(B6>J15,(0.00033*(B6-5.6)*((6.5-2.8)*(1-EXP(0.5*(6.5-9.8)))*(36.7-0.9324)*(1-EXP(0.42*(-5-0.9324)))))^2,(0.00033*(5.61-5.6)*((6.5-2.8)*(1-EXP(0.5*(6.5-9.8)))*(36.7-0.9324)*(1-EXP(0.42*(-5-0.9324)))))^2)","v":0.21719763214118218},{"$f":"(I15-K15)/L15","v":-23.139736074596886},{"$f":"IF(M15>0,M15,0)","v":0},{"$f":"(12-$H$6)*L15","v":2.497772769623595},{"$f":"K15+O15","v":12.523668653397932},"TEST(max)",{"$f":"H10*S4+H11","v":12.875}]
[null,null,null,null,null,null,"B cereus",{"$f":"'3rd milking (DO2)'!P16","v":13.402412722393194},{"$f":"'3rd milking (D)'!G16","v":5},1.5,{"$f":"LOOKUP(B6,A23:A63,D23:D63)","v":13.592983006314432},{"$f":"IF(B6>$J$16,(((0.175*(B6-1.5)*SQRT(0.995-0.92)*(1-EXP(0.4395*(B6-45)))))^2)/2.3,0)","v":0.34177342612421274},{"$f":"(I16-K16)/L16","v":-25.142338021304891},{"$f":"IF(M16>0,M16,0)","v":0},{"$f":"(12-$H$6)*L16","v":3.9303944004284466},{"$f":"K16+O16","v":17.523377406742878}]
[null,null,null,null,null,null,"Pseudo",{"$f":"'3rd milking (DO2)'!P17","v":15.24840669641274},{"$f":"'3rd milking (D)'!G17","v":6},-6.1,{"$f":"LOOKUP(B6,A23:A63,E23:E63)","v":15.459028955028408},{"$f":"IF(B6>$J$17,((0.1709*(B6+6.1)*SQRT(0.995-0.947)*(1-EXP(0.1723*(B6-41.2))))^2)/2.3,0)","v":0.39397462167172831},-24.009234185926729,0,{"$f":"(12-$H$6)*L17","v":4.5307081492248757},{"$f":"K17+O17","v":19.989737104253283}]
[null,null,null,null,null,null,"All",null,null,null,null,null,{"$f":"MIN(M15:M17)","v":-25.142338021304891},0]
[null,null,null,null,null,null,"FS",null,null,null,null,null,{"$f":"MIN(M15:M16)","v":-25.142338021304891},0]
[]
["Lookup function",null,"Accumulated growth",null,null,null,"Cooling curve profile",null,null,null,"Growth (log/h)",null,null,null,"Saureus","Growth acc",null,"B cereus","Growth acc",null,"Pseudo","Growth acc"]
[{"$f":"G22","v":"Temp"},"NMTL","S.aureus","B.cereus","Pseudomonas",null,"Temp","Time","Time interval",null,"S. aureus","B.cereus","Pseudo",null,"Growth interval",{"$f":"H15","v":9.9010674886280903},null,"Growth interval",{"$f":"H16","v":13.402412722393194},null,"Growth interval",{"$f":"H17","v":15.24840669641274}]
[{"$f":"G63","v":12.5},null,{"$f":"P63","v":10.244204035790675},{"$f":"S63","v":13.984642025908615},{"$f":"V63","v":15.984636916189002},null,{"$f":"G5","v":22.5},{"$f":"(G23-$I$11)/$I$10","v":-8.8235294117646954E-2},{"$f":"IF(G6=G5,H5,H23)","v":-8.8235294117646954E-2},null,{"$f":"IF(G23>J15,(0.00033*(G23-5.6)*((6.5-2.8)*(1-EXP(0.5*(6.5-9.8)))*(36.7-0.9324)*(1-EXP(0.42*(-5-0.9324)))))^2,0)","v":0.29915999091359485},{"$f":"IF(G23>$J$16,(((0.175*(G23-1.5)*SQRT(0.995-0.92)*(1-EXP(0.4395*(G23-45)))))^2)/2.3,0)","v":0.44035612242055694},{"$f":"IF(G23>$J$17,((0.1709*(G23+6.1)*SQRT(0.995-0.947)*(1-EXP(0.1723*(G23-41.2))))^2)/2.3,0)","v":0.45960559165784953},null,{"$f":"I23*K23","v":-2.6396469786493633E-2},{"$f":"P22+O23","v":9.874671018841596},null,{"$f":"I23*L23","v":-3.885495197828439E-2},{"$f":"S22+R23","v":13.363557770414909},null,{"$f":"I23*M23","v":-4.0553434558045498E-2},{"$f":"V22+U23","v":15.207853261854694}]
[{"$f":"G62","v":12.75},null,{"$f":"P62","v":10.241163333943735},{"$f":"S62","v":13.97737159639842},{"$f":"V62","v":15.972247489762562},null,{"$f":"G23-0.25","v":22.25},{"$f":"(G24-$I$11)/$I$10","v":-2.9411764705882314E-2},{"$f":"H24-H23","v":5.8823529411764636E-2},null,{"$f":"IF(G24>$J$15,(0.00033*(((G24+G23)/2)-5.6)*((6.5-2.8)*(1-EXP(0.5*(6.5-9.8)))*(36.7-0.9324)*(1-EXP(0.42*(-5-0.9324)))))^2,0)","v":0.29475091354672428},{"$f":"IF(G24>$J$16,(((0.175*(((G24+G23)/2)-1.5)*SQRT(0.995-0.92)*(1-EXP(0.4395*(((G24+G23)/2)-45)))))^2)/2.3,0)","v":0.43513175048769465},{"$f":"IF(G24>$J$17,((0.1709*(((G24+G23)/2)+6.1)*SQRT(0.995-0.947)*(1-EXP(0.1723*(((G24+G23)/2)-41.2))))^2)/2.3,0)","v":0.45640351867799828},null,{"$f":"I24*K24","v":1.7338289032160233E-2},{"$f":"P23+O24","v":9.8920093078737565},null,2.5595985322805537E-2,{"$f":"S23+R24","v":13.389153755737714},null,2.6847265804588103E-2,{"$f":"V23+U24","v":15.234700527659282}]
[{"$f":"G61","v":13},null,{"$f":"P61","v":10.237902361145762},{"$f":"S61","v":13.969770735708654},{"$f":"V61","v":15.959533234053129},null,{"$f":"G24-0.25","v":22},2.9411764705882314E-2,{"$f":"H25-H24","v":5.8823529411764629E-2},null,{"$f":"IF(G25>$J$15,(0.00033*(((G25+G24)/2)-5.6)*((6.5-2.8)*(1-EXP(0.5*(6.5-9.8)))*(36.7-0.9324)*(1-EXP(0.42*(-5-0.9324)))))^2,0)","v":0.28603095652716731},{"$f":"IF(G25>$J$16,(((0.175*(((G25+G24)/2)-1.5)*SQRT(0.995-0.92)*(1-EXP(0.4395*(((G25+G24)/2)-45)))))^2)/2.3,0)","v":0.42477608817075047},{"$f":"IF(G25>$J$17,((0.1709*(((G25+G24)/2)+6.1)*SQRT(0.995-0.947)*(1-EXP(0.1723*(((G25+G24)/2)-41.2))))^2)/2.3,0)","v":0.44996143296436864},null,1.6825350383950995E-2,{"$f":"P24+O25","v":9.9088346582577067},null,2.4986828715926467E-2,{"$f":"S24+R25","v":13.414140584453641},null,2.6468319586139297E-2,{"$f":"V24+U25","v":15.261168847245422}]
[{"$f":"G60","v":13.25},null,{"$f":"P60","v":10.234413415615251},{"$f":"S60","v":13.961832101143711},{"$f":"V60","v":15.94649053525097},null,21.75,8.8235294117646954E-2,5.8823529411764636E-2,null,0.27744192979318916,0.41454460826142248,0.44347426997580658,null,1.6320113517246403E-2,9.9251547717749524,null,2.4384976956554234E-2,13.438525561410195,null,2.6086721763282708E-2,15.287255569008705]
[{"$f":"G59","v":13.5},null,{"$f":"P59","v":10.230688795570698},{"$f":"S59","v":13.953548350047015},{"$f":"V59","v":15.933115833324857},null,21.5,0.14705882352941158,5.8823529411764622E-2,null,0.26898383334479004,0.40443738981380772,0.43694836075960397,null,1.5822578432046451E-2,9.9409773502069996,null,2.3790434694929832E-2,13.462315996105126,null,2.5702844750564904E-2,15.31295841375927]
[{"$f":"G58","v":13.75},null,{"$f":"P58","v":10.226720799230598},{"$f":"S58","v":13.944912139806798},{"$f":"V58","v":15.919405625171409},null,21.25,0.20588235294117621,5.8823529411764636E-2,null,0.26065666718196989,0.39445450233996598,0.43038972876538417,null,1.5332745128351153E-2,9.9563100953353505,null,2.3203206019997973E-2,13.485519202125124,null,2.5317042868551978E-2,15.338275456627823]
[{"$f":"G57","v":14},null,{"$f":"P57","v":10.222501724813448},{"$f":"S57","v":13.935916127862731},{"$f":"V57","v":15.905356467939223},null,21,0.26470588235294085,5.8823529411764636E-2,null,0.25246043130472862,0.38459600695047985,0.42380410304068805,null,1.4850613606160488E-2,9.9711607089415111,null,2.2623294526498788E-2,13.508142496651622,null,2.4929653120040442E-2,15.363205109747863]
[{"$f":"G56","v":14.25},null,{"$f":"P56","v":10.21802387053774},{"$f":"S56","v":13.926552971713498},{"$f":"V56","v":15.890964982536893},null,20.75,0.32352941176470545,5.8823529411764608E-2,null,0.24439512571306626,0.37486195735986705,0.41719693101874022,null,1.4376183865474462E-2,9.9855368928069854,null,2.205070337410979E-2,13.530193200025732,null,2.4540995942278796E-2,15.387746105690141]
[{"$f":"G55","v":14.5},null,{"$f":"P55","v":10.213279534621973},{"$f":"S55","v":13.916815328925466},{"$f":"V55","v":15.87622785733446},null,20.5,0.38235294117647012,5.8823529411764663E-2,null,0.23646075040698289,0.3652524007727313,0.41057339089394834,null,1.3909455906293101E-2,9.9994463487132776,null,2.1485435339572412E-2,13.551678635365304,null,2.4151375934938119E-2,15.411897481625079]
[{"$f":"G54","v":14.75},null,{"$f":"P54","v":10.20826101528464},{"$f":"S54","v":13.906695857142592},{"$f":"V54","v":15.861141852068235},null,20.25,0.44117647058823473,5.8823529411764608E-2,null,0.22865730538647838,0.35576737866468883,0.40393840358322086,null,1.3450429728616353E-2,10.012896778441894,null,2.0927492862628721E-2,13.572606128227934,null,2.3761082563718835E-2,15.435658564188797]
[{"$f":"G53","v":15},null,{"$f":"P53","v":10.202960610744237},{"$f":"S53","v":13.896187214097763},{"$f":"V53","v":15.845703801959461},null,20,0.49999999999999939,5.8823529411764663E-2,null,0.22098479065155283,0.34640692747046126,0.39729664427340144,null,1.2999105332444274E-2,10.025895883774337,null,2.0376878086497706E-2,13.592983006314432,null,2.3370390839611833E-2,15.459028955028408]
[{"$f":"G52","v":15.25},null,{"$f":"P52","v":10.197370619219258},{"$f":"S52","v":13.885282057625735},{"$f":"V52","v":15.829910622057691},null,19.75,0.55882352941176405,5.8823529411764663E-2,null,0.21344320620220619,0.33717107919008338,0.39065255355701073,null,1.2555482717776826E-2,10.038451366492115,null,1.9833592893534303E-2,13.612816599207965,null,2.2979561973941791E-2,15.482008517002351]
[{"$f":"G51","v":15.5},null,{"$f":"P51","v":10.191483338928201},{"$f":"S51","v":13.873973045677934},{"$f":"V51","v":15.813759311820281},null,19.5,0.61764705882352866,5.8823529411764608E-2,null,0.20603255203843862,0.32805986192289105,0.38401034816011931,null,1.2119561884614017E-2,10.050570928376729,null,1.9297638936640618E-2,13.632114238144606,null,2.2588844009418744E-2,15.50459736101177]
[{"$f":"G50","v":15.75},null,{"$f":"P50","v":10.18529106808956},{"$f":"S50","v":13.862252836339346},{"$f":"V50","v":15.797246959939915},null,19.25,0.67647058823529327,5.8823529411764608E-2,null,0.19875282816024986,0.31907330033781717,0.37737403126756752,null,1.1691342832955854E-2,10.062262271209685,null,1.8769017666930392E-2,13.650883255811536,null,2.2198472427503935E-2,15.526795833439275]
[{"$f":"G49","v":16},null,{"$f":"P49","v":10.178786104921832},{"$f":"S49","v":13.850114087847821},{"$f":"V49","v":15.780370749432571},null,19,0.73529411764705788,5.8823529411764608E-2,null,0.19160403456764008,0.310211416087533,0.37074740245191135,null,1.1270825562802339E-2,10.073533096772486,null,1.8247730358090145E-2,13.669130986169627,null,2.1808670732465337E-2,15.54860450417174]
[{"$f":"G48","v":16.25},null,{"$f":"P48","v":10.17196074764351},{"$f":"S48","v":13.83754945861609},{"$f":"V48","v":15.763127962998881},null,18.75,0.79411764705882248,5.8823529411764608E-2,null,0.18458617126060919,0.30147422817308023,0.36413406721347463,null,1.0858010074153464E-2,10.08439110684664,null,1.7733778127828219E-2,13.686864764297455,null,2.1419651012557297E-2,15.570024155184297]
[{"$f":"G47","v":16.5},null,{"$f":"P47","v":10.164807294473089},{"$f":"S47","v":13.8245516072569},{"$f":"V47","v":15.745515988672429},null,18.5,0.8529411764705872,5.8823529411764719E-2,null,0.17769923823915723,0.29286175326486019,0.35753744613968486,null,1.0452896367009251E-2,10.09484400321365,null,1.7227161956756484E-2,13.704091926254211,null,2.1031614478804996E-2,15.591055769663102]
[{"$f":"G46","v":16.75},null,{"$f":"P46","v":10.157318043629067},{"$f":"S46","v":13.811113192611698},{"$f":"V46","v":15.727532325768999},null,18.25,0.91176470588235181,5.8823529411764608E-2,null,0.17094323550328427,0.28437400598515961,0.3509607836925473,null,1.0055484441369646E-2,10.10489948765502,null,1.6727882705009359E-2,13.72081980895922,null,2.0644751981914511E-2,15.611700521645016]
[{"$f":"G45","v":17},null,{"$f":"P45","v":10.149485293329937},{"$f":"S45","v":13.797226873783336},{"$f":"V45","v":15.709174591151505},null,18,0.97058823529411642,5.8823529411764608E-2,null,0.16431816305299018,0.27601099915677957,0.34440715663364052,null,9.6657742972347006E-3,10.114565261952254,null,1.6235941126869359E-2,13.737055750086089,null,2.0259244507861172E-2,15.631959766152876]
[{"$f":"G44","v":17.25},null,{"$f":"P44","v":10.141301341794195},{"$f":"S44","v":13.782885310173386},{"$f":"V44","v":15.690440525825766},null,17.75,1.0294117647058811,5.8823529411764719E-2,null,0.15782402088827502,0.26777274402179801,0.33787948209643159,null,9.2837659346044141E-3,10.123849027886859,null,1.575133788363518E-2,13.752807087969725,null,1.9875263652731276E-2,15.651835029805607]
[{"$f":"G43","v":17.5},null,{"$f":"P43","v":10.132758487240338},{"$f":"S43","v":13.768081161524666},{"$f":"V43","v":15.671328001883021},null,17.5,1.0882352941176456,5.8823529411764497E-2,null,0.15146080900913889,0.25965925043401999,0.3313805253160243,null,8.909459353478727E-3,10.132758487240338,null,1.5274073554942298E-2,13.768081161524666,null,1.9492972077413125E-2,15.671328001883021]
[{"$f":"G42","v":17.75},null,{"$f":"P42","v":10.123849027886859},{"$f":"S42","v":13.752807087969725},{"$f":"V42","v":15.651835029805607},null,17.25,1.1470588235294104,5.8823529411764719E-2,null,0.14522852741558157,0.25167052702825038,0.32491290702667763,null,8.5428545538577417E-3,10.141301341794195,null,1.4804148648720613E-2,13.782885310173386,null,1.9112523942745749E-2,15.690440525825766]
[{"$f":"G41","v":18},null,{"$f":"P41","v":10.114565261952254},{"$f":"S41","v":13.737055750086089},{"$f":"V41","v":15.631959766152876},null,17,1.2058823529411749,5.8823529411764497E-2,null,0.13912717610760325,0.24380658136915562,0.31847911053757483,null,8.1839515357413385E-3,10.149485293329937,null,1.4341563609950279E-2,13.797226873783336,null,1.8734065325739631E-2,15.709174591151505]
[{"$f":"G40","v":18.25},null,{"$f":"P40","v":10.10489948765502},{"$f":"S40","v":13.72081980895922},{"$f":"V40","v":15.611700521645016},null,16.75,1.2647058823529396,5.8823529411764719E-2,null,0.13315675508520389,0.23606742008214923,0.31208148849739786,null,7.8327502991296424E-3,10.157318043629067,null,1.3886318828361723E-2,13.811113192611698,null,1.8357734617493997E-2,15.727532325768999]
[{"$f":"G39","v":18.5},null,{"$f":"P39","v":10.09484400321365},{"$f":"S39","v":13.704091926254211},{"$f":"V39","v":15.591055769663102},null,16.5,1.3235294117647043,5.8823529411764719E-2,null,0.12731726434838342,0.2284530489684527,0.30572226935828517,null,7.4892508440225561E-3,10.164807294473089,null,1.3438414645203104E-2,13.8245516072569,null,1.7983662903428545E-2,15.745515988672429]
[{"$f":"G38","v":18.75},null,{"$f":"P38","v":10.08439110684664},{"$f":"S38","v":13.686864764297455},{"$f":"V38","v":15.570024155184297},null,16.25,1.3823529411764688,5.8823529411764497E-2,null,0.12160870389714186,0.22096347310622474,0.29940356354970438,null,7.153453170420084E-3,10.17196074764351,null,1.2997851359189645E-2,13.83754945861609,null,1.7611974326453134E-2,15.763127962998881]
[{"$f":"G37","v":19},null,{"$f":"P37","v":10.073533096772486},{"$f":"S37","v":13.669130986169627},{"$f":"V37","v":15.54860450417174},null,16,1.4411764705882335,5.8823529411764719E-2,null,0.11603107373147929,0.21359869693942879,0.29312736937270262,null,6.8253572783223129E-3,10.178786104921832,null,1.2564629231731107E-2,13.850114087847821,null,1.7242786433688394E-2,15.780370749432571]
[{"$f":"G36","v":19.25},null,{"$f":"P36","v":10.062262271209685},{"$f":"S36","v":13.650883255811536},{"$f":"V36","v":15.526795833439275},null,15.75,1.4999999999999982,5.8823529411764719E-2,null,0.11058437385139566,0.20635872435590988,0.2868955786248723,null,6.5049631677291577E-3,10.18529106808956,null,1.2138748491524113E-2,13.862252836339346,null,1.6876210507345432E-2,15.797246959939915]
[{"$f":"G35","v":19.5},null,{"$f":"P35","v":10.050570928376729},{"$f":"S35","v":13.632114238144606},{"$f":"V35","v":15.50459736101177},null,15.5,1.5588235294117627,5.8823529411764497E-2,null,0.10526860425689091,0.19924355875597805,0.28070998196622399,null,6.1922708386406202E-3,10.191483338928201,null,1.1720209338586902E-2,13.873973045677934,null,1.6512351880366059E-2,15.813759311820281]
[{"$f":"G34","v":19.75},null,{"$f":"P34","v":10.038451366492115},{"$f":"S34","v":13.612816599207965},{"$f":"V34","v":15.482008517002351},null,15.25,1.6176470588235274,5.8823529411764719E-2,null,0.1000837649479651,0.19225320311263966,0.27457227403597939,null,5.8872802910567724E-3,10.197370619219258,null,1.1309011947802336E-2,13.885282057625735,null,1.6151310237410555E-2,15.829910622057691]
[{"$f":"G33","v":20},null,{"$f":"P33","v":10.025895883774337},{"$f":"S33","v":13.592983006314432},{"$f":"V33","v":15.459028955028408},null,15,1.6764705882352919,{"$f":"H53-H52","v":5.8823529411764497E-2},null,9.5029855924618267E-2,0.18538766002448215,0.26848405833009958,null,5.5899915249775249E-3,10.202960610744237,null,1.0905156472028324E-2,13.896187214097763,null,1.5793179901770506E-2,15.845703801959461]
[{"$f":"G32","v":20.25},null,{"$f":"P32","v":10.012896778441894},{"$f":"S32","v":13.572606128227934},{"$f":"V32","v":15.435658564188797},null,{"$f":"G53-0.25","v":14.75},1.7352941176470567,5.8823529411764719E-2,null,9.0106877186850329E-2,0.17864693176209925,0.26244685184914474,null,5.3004045404029618E-3,{"$f":"P53+O54","v":10.20826101528464},null,1.0508643044829371E-2,{"$f":"S53+R54","v":13.906695857142592},null,1.5438050108773223E-2,{"$f":"V53+U54","v":15.861141852068235}]
[{"$f":"G31","v":20.5},null,{"$f":"P31","v":9.9994463487132776},{"$f":"S31","v":13.551678635365304},{"$f":"V31","v":15.411897481625079},null,14.5,1.7941176470588214,5.8823529411764719E-2,null,8.5314828734661369E-2,0.17203102030883713,0.25646208952582694,null,5.0185193373330226E-3,10.213279534621973,null,1.0119471782872775E-2,{"$f":"S54+R55","v":13.916815328925466},null,1.5086005266225118E-2,{"$f":"V54+U55","v":15.87622785733446}]
[{"$f":"G30","v":20.75},null,{"$f":"P30","v":9.9855368928069854},{"$f":"S30","v":13.530193200025732},{"$f":"V30","v":15.387746105690141},null,14.25,1.8529411764705859,5.8823529411764497E-2,null,8.065371056805129E-2,0.16553992739654555,0.25053112844137798,null,4.7443359157677062E-3,10.21802387053774,null,9.7376427880320558E-3,13.926552971713498,null,1.4737125202433947E-2,15.890964982536893]
[{"$f":"G29","v":21},null,{"$f":"P29","v":9.9711607089415111},{"$f":"S29","v":13.508142496651622},{"$f":"V29","v":15.363205109747863},null,14,1.9117647058823506,5.8823529411764719E-2,null,7.612352268702019E-2,0.15917365453694315,0.24465525183959377,null,4.4778542757070708E-3,10.222501724813448,null,9.3631561492319524E-3,13.935916127862731,null,1.4391485402329049E-2,15.905356467939223]
[{"$f":"G28","v":21.25},null,{"$f":"P28","v":9.9563100953353505},{"$f":"S28","v":13.485519202125124},{"$f":"V28","v":15.338275456627823},null,13.75,1.9705882352941151,5.8823529411764497E-2,null,7.1724265091567985E-2,0.1529322030491248,0.23883567294716018,null,4.2190744171510426E-3,10.226720799230598,null,8.9960119440661325E-3,13.944912139806798,null,1.4049157232185843E-2,15.919405625171409]
[{"$f":"G27","v":21.5},null,{"$f":"P27","v":9.9409773502069996},{"$f":"S27","v":13.462315996105126},{"$f":"V27","v":15.31295841375927},null,13.5,2.02941176470588,5.8823529411764941E-2,null,6.745593778169473E-2,0.14681557408368173,0.23307353860860081,null,3.9679963400997059E-3,10.230688795570698,null,8.6362102402166071E-3,13.953548350047015,null,1.3710208153447161E-2,15.933115833324857]
[{"$f":"G26","v":21.75},null,{"$f":"P26","v":9.9251547717749524},{"$f":"S26","v":13.438525561410195},{"$f":"V26","v":15.287255569008705},null,13.25,2.0882352941176445,5.8823529411764497E-2,null,6.3318540757400427E-2,0.14082376864384633,0.22736993274391495,null,3.724620044552953E-3,10.234413415615251,null,8.2837510966968127E-3,13.961832101143711,null,1.3374701926112597E-2,15.94649053525097]
[{"$f":"G25","v":22},null,{"$f":"P25","v":9.9088346582577067},{"$f":"S25","v":13.414140584453641},{"$f":"V25","v":15.261168847245422},null,13,2.147058823529409,5.8823529411764497E-2,null,5.9312074018685053E-2,0.13495678760402277,0.22172587963671017,null,3.4889455305108729E-3,10.237902361145762,null,7.9386345649424886E-3,13.969770735708654,null,1.3042698802159376E-2,15.959533234053129]
[{"$f":"G24","v":22.25},null,{"$f":"P24","v":9.8920093078737565},{"$f":"S24","v":13.389153755737714},{"$f":"V24","v":15.234700527659282},null,12.75,2.2058823529411735,5.8823529411764497E-2,null,5.5436537565548595E-2,0.12921463172602407,0.21614234706036106,null,3.2609727979734352E-3,10.241163333943735,null,7.600860689766095E-3,13.97737159639842,null,1.2714255709432959E-2,15.972247489762562]
[{"$f":"G23","v":22.5},null,{"$f":"P23","v":9.874671018841596},{"$f":"S23","v":13.363557770414909},{"$f":"V23","v":15.207853261854694},null,12.5,2.2647058823529385,5.8823529411764941E-2,null,5.1691931397991081E-2,0.12359730167329401,0.21062024924946207,null,3.0407018469406641E-3,10.244204035790675,null,7.2704295101937945E-3,13.984642025908615,null,1.2389426426438995E-2,15.984636916189002]

{"sheet":"Sheet1","index":22,"n_rows":0,"n_cols":0,"rows_kept":0,"cut":false,"hidden":false,"merged":[]}

{"sheet":"Sheet2","index":23,"n_rows":0,"n_cols":0,"rows_kept":0,"cut":false,"hidden":false,"merged":[]}